{"text_format":"1","workbook":"xlsx","n_sheets":3,"sheets":["relatorio","memoria","equipamentos"],"not_rendered":{"charts":0,"images":1,"macros":1,"external_links":0,"defined_names":2,"comments":0,"pivot_tables":0},"unopened":[],"bounds":{"document_bytes":16777216,"sheet_cells":100000,"rows_first":2000,"rows_last":500,"rows_between":2000,"halvings":0,"cell_chars":16384,"cell_head_chars":4096},"cells_cut":0,"cells_raw":0,"read":"whole","date_system":"1900"}

{"sheet":"relatorio","index":0,"n_rows":46,"n_cols":27,"rows_kept":46,"cut":false,"hidden":false,"merged":[[10,4,10,5],[10,2,10,3],[4,1,4,5],[42,8,46,13],[18,1,18,4],[40,1,40,4],[12,1,12,5],[45,3,45,5],[35,1,35,5],[41,1,44,5],[17,1,17,4],[22,1,22,4],[27,1,27,4],[33,1,33,4],[1,8,2,13],[1,2,2,5],[9,4,9,5],[7,1,7,4],[3,1,3,5],[9,1,9,3]]}
[]
[null,null,"Simulação Ressarcimento",null,null,null,null,null,"                Descrição dos equipamentos"]
[]
[null,"Dados do Projeto",null,null,null,null,null,null,"Equipamento","horas/mês","insumo","manutenção","depreciação","Total"]
[null,"Projeto: fsdff",null,null,null,null,null,null,null,null,null,null,null,{"$f":"SUM(K5:M5)","v":0}]
[null,"Número: 01011",null,null,null,null,null,null,null,null,null,null,null,{"$f":"SUM(K6:M6)","v":0}]
[null,"Campus: Diadema",null,null,null,null,null,null,null,null,null,null,null,{"$f":"SUM(K7:M7)","v":0}]
[null,"Unidade Administrativa: sfsfsf",null,null,null,null,null,null,null,null,null,null,null,0]
[null,null,null,null,null,null,null,null,null,null,null,null,null,0]
[null,"Coordenador: dadad",null,null,"RF: 11551",null,null,null,null,null,null,null,null,0]
[null,"Vigência: 01/12/2018  à  31/12/2019","(X)Novo Projeto",null,"( )Prorrogação de Vigência",null,null,null,null,null,null,null,null,0]
[null,null,null,null,null,null,null,null,null,null,null,null,null,0]
[null,"Grupo de Despesas",null,null,null,null,null,null,null,null,null,null,null,0]
[null,"1. Apoio","Unidade","Vr. unitário","Qtd/mês","Valor",null,null,null,null,null,null,null,0,null,null,null,null,null,null,null,null,null,null,null,null,"  "]
[null,"1.1 administrativo","hora",{"$f":"memoria!B11","v":"16,67"},9,{"$f":"D15*E15","v":150.03000000000003},null,null,null,null,null,null,null,0]
[null,"1.2 TI","hora",{"$f":"memoria!B11","v":"16,67"},0,{"$f":"D16*E16","v":0},null,null,null,null,null,null,null,0]
[null,"1.3 laboratorial e outros","hora",{"$f":"memoria!B11","v":"16,67"},0,0,null,null,null,null,null,null,null,0]
[null,"Subtotal grupo 1 (mensal)",null,null,null,{"$f":"SUM(F15:F17)","v":150.03000000000003},null,null,null,null,null,null,null,0]
[null,null,null,null,null,null,null,null,null,null,null,null,null,0]
[null,"2. Espaço Físico","Unidade","Vr. unitário","Qtd","Valor",null,null,null,null,null,null,null,0]
[null,"Sala de aula, auditório e anfiteatros","m²",16.46,0,{"$f":"D21*E21","v":0},null,null,null,null,null,null,null,0]
[null,"Laboratórios ","m²",16.46,15,{"$f":"D22*E22","v":246.9},null,null,null,null,null,null,null,0]
[null,"Subtotal grupo 2 (mensal)",null,null,null,{"$f":"F21+F22","v":246.9},null,null,null,null,null,null,null,0]
[null,null,null,null,null,null,null,null,null,null,null,null,null,0]
[null,"3.Infraestrutura","Unidade","Vr. unitário","Qtd","Valor",null,null,null,null,null,null,null,0]
[null,"Custo operacional m²","m²",{"$f":"(memoria!B28)","v":"18,02"},{"$f":"E21+E22","v":15},{"$f":"D26*E26","v":270.3},null,null,null,null,null,null,null,0]
[null,"Custo de depreciação m²","m²",{"$f":"(memoria!B36)","v":"22,74"},{"$f":"E21+E22","v":15},{"$f":"D27*E27","v":341.09999999999997},null,null,null,null,null,null,null,0]
[null,"Subtotal grupo 3 (mensal)",null,null,null,{"$f":"F26+F27","v":611.4},null,null,null,null,null,null,null,0]
[null,null,null,null,null,null,null,null,null,null,null,null,null,0]
[null,"4. Equipamentos","Unidade",null,null,"Valor total",null,null,null,null,null,null,null,0]
[null,"4.1 insumos ou matéria prima","Consumo/mês",null,null,{"$f":"K41","v":0},null,null,null,null,null,null,null,0]
[null,"4.2 manutenção operacional","R$/mês",null,null,{"$f":"L41","v":0},null,null,null,null,null,null,null,0]
[null,"4.3 depreciação","R$/mês",null,null,{"$f":"M41","v":0},null,null,null,null,null,null,null,0]
[null,"Subtotal grupo 4 (mensal)",null,null,null,{"$f":"SUM(F31:F33)","v":0},null,null,null,null,null,null,null,0]
[null,null,null,null,null,null,null,null,null,null,null,null,null,0]
[null,"Ressarcimento",null,null,null,null,null,null,null,null,null,null,null,0]
[null,"Abatimento:",null,null,null,0,null,null,null,null,null,null,null,0]
[null,"Total mensal (R$/mês):",null,null,null,{"$f":"F18+F23+F28+F34","v":1008.33},null,null,null,null,null,null,null,0]
[null,"Total mensal com abatimento (R$/mês):",null,null,null,{"$f":"F38*(1-F37)","v":1008.33},null,null,null,null,null,null,null,0]
[null,"Vigência (meses):",null,null,null,12,null,null,null,null,null,null,null,0]
[null,"Valor Total de Ressarcimento do Projeto",null,null,null,{"$f":"F39*F40","v":12099.960000000001},null,null,"Total",null,{"$f":"SUM(K5:K40)","v":0},{"$f":"SUM(L5:L40)","v":0},0,0]
[null,"Observações: "]
[null,null,null,null,null,null,null,null,"Observações:  Enviar este documento por e-mail para a divisão ou diretoria responsável, você receberá retorno da proposta após análise."]
[]
[]
[null,null,null,"Diadema, 6 de março de 2018."]

{"sheet":"memoria","index":1,"n_rows":57,"n_cols":6,"rows_kept":57,"cut":false,"hidden":false,"merged":[]}
["Celebração de Convênios - apoio administrativo"]
["Setor","Horas"]
["Setor Acadêmico Proponente",40]
["Núcleo de Convênios",24]
["Coordenadoria de Convênios",12]
["Procuradoria",24]
["Trimestral",100]
["Mês (mínimo de horas necessárias)",33.333333333333336]
[]
["Vr hora servidores - TAE"]
["Salarios nível (D e E/2)/220 ","16,67"]
[]
["Espaço físico","m² avaliado de cada campus- referência RU/reprografia"]
["metragem","soma da metragem de todos os espaços utilizados na pesquisa"]
[]
["Custo operacional"]
["vigilância ostensiva",11334666.570000002,null,"Metragem unifesp p/campus","m²","R$/m2"]
["manutenção e conserv. De bens imoveis",1838894.57,null,"Diadema",17301.57,"16,46"]
["manutenção e conserv. De maquinas e equip.",2217369.02,null,"Guarulhos",35578.730000000003,"11,29"]
["serviços de energia elétrica",15386820.280000003,null,"Osasco",8000,"28,95"]
["serviços de agua e esgoto",6838855.7000000002,null,"Reitoria",9065.33,"21,91"]
["serviços de telecomunicações",1381963.65,null,"Baixada Santista",25443.89,"24,12"]
["limpeza e conservação",8843383.0599999987,null,"São José dos Campos",30416.720000000001,"18,25"]
["comunicação de dados",1724305.69,null,"São Paulo",103359.03,"21,91"]
["Total",49566258.540000007,null,"Total da metragem útil",229165.27000000002]
["Total de metragem unifesp",229165.27]
["VR m² ano",216.29044636650227]
["VR m² mês","18,02"]
[]
["Custo de amortização/depreciação"]
["Edificações",1173063108.6300001]
["Mobiliário",390368487.33999997]
["Total",1173063108.6300001]
["Metragem Unifesp",229165.27]
["VR m² ano",{"$f":"B33/B34","v":5118.852034734583}]
["VR m² mês","22,74"]
[]
["Insumos","valor indicado pelo coordenador"]
[]
[]
["Equipamentos - manutenção"]
["Exemplo: 200.000,00*0,40/(10*12*160)  "]
["200.000,00 - Vr do equipamento de aquisição"]
["0,40 - percentual de manutenção (40%)",0.4]
["10 - vida útil do equipamento"]
["12 - meses ano"]
["160 - horas mês",160]
[]
["Depreciação"]
["Exemplo: 200.000,00/(10*12*160)"]
["200.000,00 - Vr do equipamento de aquisição"]
["10 - vida útil do equipamento"]
["12 - meses ano"]
["160 - horas mês"]
[]
["** só é cobrado o valor do m2 útil, mas o valor é calculado com base no m2 total."]
["***incluir taxa de juros (depreciação e manutenção)"]

{"sheet":"equipamentos","index":2,"n_rows":12739,"n_cols":9,"rows_kept":4500,"cut":true,"hidden":false,"merged":[],"bounds":{"rows_first":2000,"rows_last":500,"rows_between":2000,"halvings":0}}
["Campus","Departamento","Descrição do equipamento","patrimonio","data de aquisição","valor de compra","vida útil","Manutenção","Uso/depreciação"]
["Diadema","01691-Pavimento Térreo - Prédio Principal","Fonte De Eletroforese Mod.40001p Serie:7j410115-1-B \"Life Te","01-051891-00","1998-01-19",4028.17,10,{"$f":"F2*memoria!$B$44/(G2*12*memoria!$B$47)","v":8.3920208333333329E-2},{"$f":"F2/(G2*12*memoria!$B$47)","v":0.20980052083333334}]
["Diadema","01899-primeiro andar","Analisador De Cintilizacao Liquida \"Packard\"","01-052358-00","1998-04-22",26820.97,10,{"$f":"F3*memoria!$B$44/(G3*12*memoria!$B$47)","v":0.55877020833333335},{"$f":"F3/(G3*12*memoria!$B$47)","v":1.3969255208333333}]
["Diadema","01691-Pavimento Térreo - Prédio Principal","Camara De Fluxo Laminar Portatil","01-052608-00","1998-06-23",2881.5,10,{"$f":"F4*memoria!$B$44/(G4*12*memoria!$B$47)","v":6.0031250000000008E-2},{"$f":"F4/(G4*12*memoria!$B$47)","v":0.15007812500000001}]
["Diadema","01691-Pavimento Térreo - Prédio Principal","Centrifugador(Sistema Universal De Speedvac Plus) \"Savant\"","01-053548-00","1999-01-04",37200.57,10,{"$f":"F5*memoria!$B$44/(G5*12*memoria!$B$47)","v":0.77501187500000002},{"$f":"F5/(G5*12*memoria!$B$47)","v":1.9375296874999999}]
["Diadema","01691-Pavimento Térreo - Prédio Principal","Placa Agitadora \"Evlab\", Serie:214","01-058502-00","2002-05-16",280,10,{"$f":"F6*memoria!$B$44/(G6*12*memoria!$B$47)","v":5.8333333333333336E-3},{"$f":"F6/(G6*12*memoria!$B$47)","v":1.4583333333333334E-2}]
["Diadema","01691-Pavimento Térreo - Prédio Principal","Retroprojetor Portatil Com Sistema Triplo De Lentes","01-060586-00","2003-03-27",1460.01,10,{"$f":"F7*memoria!$B$44/(G7*12*memoria!$B$47)","v":3.0416874999999999E-2},{"$f":"F7/(G7*12*memoria!$B$47)","v":7.6042187499999997E-2}]
["Diadema","01691-Pavimento Térreo - Prédio Principal","Retroprojetor Portatil Com Sistema Triplo De Lentes","01-060594-00","2003-03-27",1460.01,10,{"$f":"F8*memoria!$B$44/(G8*12*memoria!$B$47)","v":3.0416874999999999E-2},{"$f":"F8/(G8*12*memoria!$B$47)","v":7.6042187499999997E-2}]
["Diadema","01691-Pavimento Térreo - Prédio Principal","Máquina De Fabricar Gelo","01-060777-00","2001-10-31",2680,10,{"$f":"F9*memoria!$B$44/(G9*12*memoria!$B$47)","v":5.5833333333333332E-2},{"$f":"F9/(G9*12*memoria!$B$47)","v":0.13958333333333334}]
["Diadema","01691-Pavimento Térreo - Prédio Principal","Depositor De Gelo Em Aço Inox","01-060778-00","2001-10-31",828,10,{"$f":"F10*memoria!$B$44/(G10*12*memoria!$B$47)","v":1.7250000000000001E-2},{"$f":"F10/(G10*12*memoria!$B$47)","v":4.3124999999999997E-2}]
["Diadema","01691-Pavimento Térreo - Prédio Principal","Maquina De Gelo Em Escamas, De 115volts, 60hz","01-072832-00","2007-03-22",8420,10,{"$f":"F11*memoria!$B$44/(G11*12*memoria!$B$47)","v":0.17541666666666667},{"$f":"F11/(G11*12*memoria!$B$47)","v":0.43854166666666666}]
["Diadema","01691-Pavimento Térreo - Prédio Principal","Refrigerador","01-072833-00","2007-03-28",1200,10,{"$f":"F12*memoria!$B$44/(G12*12*memoria!$B$47)","v":2.5000000000000001E-2},{"$f":"F12/(G12*12*memoria!$B$47)","v":6.25E-2}]
["Diadema","01691-Pavimento Térreo - Prédio Principal","Freezer","01-072834-00","2007-03-28",1395,10,{"$f":"F13*memoria!$B$44/(G13*12*memoria!$B$47)","v":2.9062500000000002E-2},{"$f":"F13/(G13*12*memoria!$B$47)","v":7.2656250000000006E-2}]
["Diadema","01691-Pavimento Térreo - Prédio Principal","Mesa Agitadora, Com Timer","01-072835-00","2007-03-21",2416,10,{"$f":"F14*memoria!$B$44/(G14*12*memoria!$B$47)","v":5.0333333333333341E-2},{"$f":"F14/(G14*12*memoria!$B$47)","v":0.12583333333333332}]
["Diadema","01691-Pavimento Térreo - Prédio Principal","Centrifuga","01-072836-00","2007-02-28",3299,10,{"$f":"F15*memoria!$B$44/(G15*12*memoria!$B$47)","v":6.8729166666666675E-2},{"$f":"F15/(G15*12*memoria!$B$47)","v":0.17182291666666666}]
["Diadema","01691-Pavimento Térreo - Prédio Principal","Balança Analítica","01-072837-00","2007-02-01",2995,10,{"$f":"F16*memoria!$B$44/(G16*12*memoria!$B$47)","v":6.2395833333333331E-2},{"$f":"F16/(G16*12*memoria!$B$47)","v":0.15598958333333332}]
["Diadema","01691-Pavimento Térreo - Prédio Principal","Balança Analítica","01-072838-00","2007-02-01",2995,10,{"$f":"F17*memoria!$B$44/(G17*12*memoria!$B$47)","v":6.2395833333333331E-2},{"$f":"F17/(G17*12*memoria!$B$47)","v":0.15598958333333332}]
["Diadema","01691-Pavimento Térreo - Prédio Principal","Balança Semi-Analítica","01-072839-00","2007-02-01",1750,10,{"$f":"F18*memoria!$B$44/(G18*12*memoria!$B$47)","v":3.6458333333333336E-2},{"$f":"F18/(G18*12*memoria!$B$47)","v":9.1145833333333329E-2}]
["Diadema","01691-Pavimento Térreo - Prédio Principal","Balança Semi-Analítica","01-072840-00","2007-02-01",1750,10,{"$f":"F19*memoria!$B$44/(G19*12*memoria!$B$47)","v":3.6458333333333336E-2},{"$f":"F19/(G19*12*memoria!$B$47)","v":9.1145833333333329E-2}]
["Diadema","01691-Pavimento Térreo - Prédio Principal","Microscópio","01-072841-00","2007-02-01",2506.6999999999998,10,{"$f":"F20*memoria!$B$44/(G20*12*memoria!$B$47)","v":5.2222916666666667E-2},{"$f":"F20/(G20*12*memoria!$B$47)","v":0.13055729166666666}]
["Diadema","01691-Pavimento Térreo - Prédio Principal","Microscópio","01-072842-00","2007-02-01",2506.6999999999998,10,{"$f":"F21*memoria!$B$44/(G21*12*memoria!$B$47)","v":5.2222916666666667E-2},{"$f":"F21/(G21*12*memoria!$B$47)","v":0.13055729166666666}]
["Diadema","01691-Pavimento Térreo - Prédio Principal","Microscópio","01-072843-00","2007-02-01",2506.6999999999998,10,{"$f":"F22*memoria!$B$44/(G22*12*memoria!$B$47)","v":5.2222916666666667E-2},{"$f":"F22/(G22*12*memoria!$B$47)","v":0.13055729166666666}]
["Diadema","01691-Pavimento Térreo - Prédio Principal","Microscópio","01-072844-00","2007-02-01",2506.6999999999998,10,{"$f":"F23*memoria!$B$44/(G23*12*memoria!$B$47)","v":5.2222916666666667E-2},{"$f":"F23/(G23*12*memoria!$B$47)","v":0.13055729166666666}]
["Diadema","01691-Pavimento Térreo - Prédio Principal","Microscópio","01-072845-00","2007-02-01",2506.6999999999998,10,{"$f":"F24*memoria!$B$44/(G24*12*memoria!$B$47)","v":5.2222916666666667E-2},{"$f":"F24/(G24*12*memoria!$B$47)","v":0.13055729166666666}]
["Diadema","01691-Pavimento Térreo - Prédio Principal","Microscópio","01-072846-00","2007-02-01",2506.6999999999998,10,{"$f":"F25*memoria!$B$44/(G25*12*memoria!$B$47)","v":5.2222916666666667E-2},{"$f":"F25/(G25*12*memoria!$B$47)","v":0.13055729166666666}]
["Diadema","01691-Pavimento Térreo - Prédio Principal","Microscópio","01-072847-00","2007-02-01",2506.6999999999998,10,{"$f":"F26*memoria!$B$44/(G26*12*memoria!$B$47)","v":5.2222916666666667E-2},{"$f":"F26/(G26*12*memoria!$B$47)","v":0.13055729166666666}]
["Diadema","01691-Pavimento Térreo - Prédio Principal","Microscópio","01-072848-00","2007-02-01",2506.6999999999998,10,{"$f":"F27*memoria!$B$44/(G27*12*memoria!$B$47)","v":5.2222916666666667E-2},{"$f":"F27/(G27*12*memoria!$B$47)","v":0.13055729166666666}]
["Diadema","01691-Pavimento Térreo - Prédio Principal","Microscópio","01-072849-00","2007-02-01",2506.6999999999998,10,{"$f":"F28*memoria!$B$44/(G28*12*memoria!$B$47)","v":5.2222916666666667E-2},{"$f":"F28/(G28*12*memoria!$B$47)","v":0.13055729166666666}]
["Diadema","01691-Pavimento Térreo - Prédio Principal","Microscópio","01-072850-00","2007-02-01",2506.6999999999998,10,{"$f":"F29*memoria!$B$44/(G29*12*memoria!$B$47)","v":5.2222916666666667E-2},{"$f":"F29/(G29*12*memoria!$B$47)","v":0.13055729166666666}]
["Diadema","01691-Pavimento Térreo - Prédio Principal","Capela De Fluxo Laminar","01-072851-00","2007-03-16",12450,10,{"$f":"F30*memoria!$B$44/(G30*12*memoria!$B$47)","v":0.25937500000000002},{"$f":"F30/(G30*12*memoria!$B$47)","v":0.6484375}]
["Diadema","01691-Pavimento Térreo - Prédio Principal","Desumidificador","01-072852-00","2007-03-13",1243,10,{"$f":"F31*memoria!$B$44/(G31*12*memoria!$B$47)","v":2.5895833333333337E-2},{"$f":"F31/(G31*12*memoria!$B$47)","v":6.4739583333333336E-2}]
["Diadema","01691-Pavimento Térreo - Prédio Principal","Liquidificador","01-072853-00","2007-03-02",360,10,{"$f":"F32*memoria!$B$44/(G32*12*memoria!$B$47)","v":7.4999999999999997E-3},{"$f":"F32/(G32*12*memoria!$B$47)","v":1.8749999999999999E-2}]
["Diadema","01691-Pavimento Térreo - Prédio Principal","Forno Mufla, Painel De Comando Lateral 220volts.","01-072854-00","2007-03-14",1999.99,10,{"$f":"F33*memoria!$B$44/(G33*12*memoria!$B$47)","v":4.1666458333333337E-2},{"$f":"F33/(G33*12*memoria!$B$47)","v":0.10416614583333333}]
["Diadema","01691-Pavimento Térreo - Prédio Principal","Estufa Bacteriológica","01-072855-00","2007-03-22",2170,10,{"$f":"F34*memoria!$B$44/(G34*12*memoria!$B$47)","v":4.5208333333333336E-2},{"$f":"F34/(G34*12*memoria!$B$47)","v":0.11302083333333333}]
["Diadema","01691-Pavimento Térreo - Prédio Principal","Refrigerador Branco","01-072860-00","2007-03-01",560,10,{"$f":"F35*memoria!$B$44/(G35*12*memoria!$B$47)","v":1.1666666666666667E-2},{"$f":"F35/(G35*12*memoria!$B$47)","v":2.9166666666666667E-2}]
["Diadema","01691-Pavimento Térreo - Prédio Principal","Balança Tipo Analitica 110/220v","01-072861-00","2007-03-01",5500,10,{"$f":"F36*memoria!$B$44/(G36*12*memoria!$B$47)","v":0.11458333333333333},{"$f":"F36/(G36*12*memoria!$B$47)","v":0.28645833333333331}]
["Diadema","01691-Pavimento Térreo - Prédio Principal","Lavadora Ultra Sonica","01-072862-00","2007-03-01",3200,10,{"$f":"F37*memoria!$B$44/(G37*12*memoria!$B$47)","v":6.6666666666666666E-2},{"$f":"F37/(G37*12*memoria!$B$47)","v":0.16666666666666666}]
["Diadema","01691-Pavimento Térreo - Prédio Principal","Banho Termostatizado Digital","01-072863-00","2007-03-01",3181,10,{"$f":"F38*memoria!$B$44/(G38*12*memoria!$B$47)","v":6.6270833333333334E-2},{"$f":"F38/(G38*12*memoria!$B$47)","v":0.16567708333333334}]
["Diadema","01691-Pavimento Térreo - Prédio Principal","Banho Tipo Termostatico","01-072864-00","2007-03-01",6243.68,10,{"$f":"F39*memoria!$B$44/(G39*12*memoria!$B$47)","v":0.13007666666666667},{"$f":"F39/(G39*12*memoria!$B$47)","v":0.32519166666666666}]
["Diadema","01691-Pavimento Térreo - Prédio Principal","Agitador Tipo Magnetico 220v","01-072865-00","2007-03-01",525,10,{"$f":"F40*memoria!$B$44/(G40*12*memoria!$B$47)","v":1.0937499999999999E-2},{"$f":"F40/(G40*12*memoria!$B$47)","v":2.734375E-2}]
["Diadema","01691-Pavimento Térreo - Prédio Principal","Agitador Tipo Magnetico 220v","01-072866-00","2007-03-01",525,10,{"$f":"F41*memoria!$B$44/(G41*12*memoria!$B$47)","v":1.0937499999999999E-2},{"$f":"F41/(G41*12*memoria!$B$47)","v":2.734375E-2}]
["Diadema","01691-Pavimento Térreo - Prédio Principal","Agitador Tipo Mecanico 220v","01-072867-00","2007-03-01",1197,10,{"$f":"F42*memoria!$B$44/(G42*12*memoria!$B$47)","v":2.4937500000000001E-2},{"$f":"F42/(G42*12*memoria!$B$47)","v":6.2343750000000003E-2}]
["Diadema","01691-Pavimento Térreo - Prédio Principal","Estufa Tipo P/ Esterilização E Secagem","01-072868-00","2007-03-01",3566,10,{"$f":"F43*memoria!$B$44/(G43*12*memoria!$B$47)","v":7.4291666666666673E-2},{"$f":"F43/(G43*12*memoria!$B$47)","v":0.18572916666666667}]
["Diadema","01707-Pavimento Térreo - Biblioteca","Manta Tipo Aquecedora Com Registro De Temperatura","01-072869-00","2007-03-01",280,10,{"$f":"F44*memoria!$B$44/(G44*12*memoria!$B$47)","v":5.8333333333333336E-3},{"$f":"F44/(G44*12*memoria!$B$47)","v":1.4583333333333334E-2}]
["Diadema","01691-Pavimento Térreo - Prédio Principal","Prensa Tipo Para Extração E Esmagamento. Capac. 15 Ton","01-072870-00","2007-03-01",9786,10,{"$f":"F45*memoria!$B$44/(G45*12*memoria!$B$47)","v":0.203875},{"$f":"F45/(G45*12*memoria!$B$47)","v":0.50968749999999996}]
["Diadema","01691-Pavimento Térreo - Prédio Principal","Frigobar Branco 110v","01-073007-00","2007-03-09",616,10,{"$f":"F46*memoria!$B$44/(G46*12*memoria!$B$47)","v":1.2833333333333334E-2},{"$f":"F46/(G46*12*memoria!$B$47)","v":3.2083333333333332E-2}]
["Diadema","01707-Pavimento Térreo - Biblioteca","Forno Microondas Branco 110v","01-073008-00","2007-03-09",408,10,{"$f":"F47*memoria!$B$44/(G47*12*memoria!$B$47)","v":8.5000000000000006E-3},{"$f":"F47/(G47*12*memoria!$B$47)","v":2.1250000000000002E-2}]
["Diadema","01707-Pavimento Térreo - Biblioteca","Refrigerador Branco, 110v","01-073012-00","2007-06-04",819,10,{"$f":"F48*memoria!$B$44/(G48*12*memoria!$B$47)","v":1.7062500000000001E-2},{"$f":"F48/(G48*12*memoria!$B$47)","v":4.265625E-2}]
["Diadema","01691-Pavimento Térreo - Prédio Principal","Aparelho De Sistema De Posicionamento Global - Gps","01-073023-00","2007-05-30",430,10,{"$f":"F49*memoria!$B$44/(G49*12*memoria!$B$47)","v":8.9583333333333338E-3},{"$f":"F49/(G49*12*memoria!$B$47)","v":2.2395833333333334E-2}]
["Diadema","01699-2º Pavimento - Prédio Principal","Console Kvt 87 Teclas E Monitor De Video. Cor Preto","01-073036-00","2006-11-24",2833.43,10,{"$f":"F50*memoria!$B$44/(G50*12*memoria!$B$47)","v":5.9029791666666671E-2},{"$f":"F50/(G50*12*memoria!$B$47)","v":0.14757447916666666}]
["Diadema","01707-Pavimento Térreo - Biblioteca","Mini Rack 12u X 450mm. Cor Bege","01-073039-00","2006-12-01",460,10,{"$f":"F51*memoria!$B$44/(G51*12*memoria!$B$47)","v":9.5833333333333326E-3},{"$f":"F51/(G51*12*memoria!$B$47)","v":2.3958333333333335E-2}]
["Diadema","01707-Pavimento Térreo - Biblioteca","Mini Rack 12u X 450mm. Cor Bege","01-073040-00","2006-12-01",460,10,{"$f":"F52*memoria!$B$44/(G52*12*memoria!$B$47)","v":9.5833333333333326E-3},{"$f":"F52/(G52*12*memoria!$B$47)","v":2.3958333333333335E-2}]
["Diadema","01691-Pavimento Térreo - Prédio Principal","Estufa De Esterilização E Secagem, Bege","01-073101-00","2007-07-01",1134.9000000000001,10,{"$f":"F53*memoria!$B$44/(G53*12*memoria!$B$47)","v":2.3643750000000002E-2},{"$f":"F53/(G53*12*memoria!$B$47)","v":5.9109375000000006E-2}]
["Diadema","01691-Pavimento Térreo - Prédio Principal","Estufa De Esterilização E Secagem, Cinza","01-073102-00","2007-06-28",4800,10,{"$f":"F54*memoria!$B$44/(G54*12*memoria!$B$47)","v":0.1},{"$f":"F54/(G54*12*memoria!$B$47)","v":0.25}]
["Diadema","01691-Pavimento Térreo - Prédio Principal","Estufa De Esterilização E Secagem, Cinza","01-073103-00","2007-06-28",1088,10,{"$f":"F55*memoria!$B$44/(G55*12*memoria!$B$47)","v":2.2666666666666668E-2},{"$f":"F55/(G55*12*memoria!$B$47)","v":5.6666666666666664E-2}]
["Diadema","01691-Pavimento Térreo - Prédio Principal","Plano Inclinado Kersting Com Meio Viscoso. Base De Ferro. Cor Bege","01-075340-00","2007-08-15",290,10,{"$f":"F56*memoria!$B$44/(G56*12*memoria!$B$47)","v":6.0416666666666665E-3},{"$f":"F56/(G56*12*memoria!$B$47)","v":1.5104166666666667E-2}]
["Diadema","01691-Pavimento Térreo - Prédio Principal","Conjunto Para Molas E Lei De Hooke. Base De Ferro. Cor Bege","01-075347-00","2007-08-15",125,10,{"$f":"F57*memoria!$B$44/(G57*12*memoria!$B$47)","v":2.6041666666666665E-3},{"$f":"F57/(G57*12*memoria!$B$47)","v":6.510416666666667E-3}]
["Diadema","01691-Pavimento Térreo - Prédio Principal","Medidor De Ph Portatil. Cor Preto","01-075991-00","2007-10-09",639,10,{"$f":"F58*memoria!$B$44/(G58*12*memoria!$B$47)","v":1.3312500000000001E-2},{"$f":"F58/(G58*12*memoria!$B$47)","v":3.3281249999999998E-2}]
["Diadema","01691-Pavimento Térreo - Prédio Principal","Medidor De Ph Portatil. Cor Preto","01-075992-00","2007-10-09",639,10,{"$f":"F59*memoria!$B$44/(G59*12*memoria!$B$47)","v":1.3312500000000001E-2},{"$f":"F59/(G59*12*memoria!$B$47)","v":3.3281249999999998E-2}]
["Diadema","01691-Pavimento Térreo - Prédio Principal","Medidor De Ph Portatil. Cor Preto","01-075993-00","2007-10-09",639,10,{"$f":"F60*memoria!$B$44/(G60*12*memoria!$B$47)","v":1.3312500000000001E-2},{"$f":"F60/(G60*12*memoria!$B$47)","v":3.3281249999999998E-2}]
["Diadema","01691-Pavimento Térreo - Prédio Principal","Medidor De Ph Portatil. Cor Preto","01-075994-00","2007-10-09",639,10,{"$f":"F61*memoria!$B$44/(G61*12*memoria!$B$47)","v":1.3312500000000001E-2},{"$f":"F61/(G61*12*memoria!$B$47)","v":3.3281249999999998E-2}]
["Diadema","01691-Pavimento Térreo - Prédio Principal","Medidor De Ph Portatil. Cor Preto","01-075995-00","2007-10-09",639,10,{"$f":"F62*memoria!$B$44/(G62*12*memoria!$B$47)","v":1.3312500000000001E-2},{"$f":"F62/(G62*12*memoria!$B$47)","v":3.3281249999999998E-2}]
["Diadema","01691-Pavimento Térreo - Prédio Principal","Conjunto Emilia Com Manometro. Base De Ferro. Cor Bege.","01-077504-00","2007-09-15",385,10,{"$f":"F63*memoria!$B$44/(G63*12*memoria!$B$47)","v":8.0208333333333329E-3},{"$f":"F63/(G63*12*memoria!$B$47)","v":2.0052083333333335E-2}]
["Diadema","01691-Pavimento Térreo - Prédio Principal","Conjunto Emilia Com Manometro. Base De Ferro. Cor Bege.","01-077505-00","2007-09-15",385,10,{"$f":"F64*memoria!$B$44/(G64*12*memoria!$B$47)","v":8.0208333333333329E-3},{"$f":"F64/(G64*12*memoria!$B$47)","v":2.0052083333333335E-2}]
["Diadema","01691-Pavimento Térreo - Prédio Principal","Conjunto Emilia Com Manometro. Base De Ferro. Cor Bege.","01-077506-00","2007-09-15",385,10,{"$f":"F65*memoria!$B$44/(G65*12*memoria!$B$47)","v":8.0208333333333329E-3},{"$f":"F65/(G65*12*memoria!$B$47)","v":2.0052083333333335E-2}]
["Diadema","01691-Pavimento Térreo - Prédio Principal","Conjunto Emilia Com Manometro. Base De Ferro. Cor Bege.","01-077507-00","2007-09-15",385,10,{"$f":"F66*memoria!$B$44/(G66*12*memoria!$B$47)","v":8.0208333333333329E-3},{"$f":"F66/(G66*12*memoria!$B$47)","v":2.0052083333333335E-2}]
["Diadema","01691-Pavimento Térreo - Prédio Principal","Conjunto Emilia Com Manometro. Base De Ferro. Cor Bege.","01-077508-00","2007-09-15",385,10,{"$f":"F67*memoria!$B$44/(G67*12*memoria!$B$47)","v":8.0208333333333329E-3},{"$f":"F67/(G67*12*memoria!$B$47)","v":2.0052083333333335E-2}]
["Diadema","01691-Pavimento Térreo - Prédio Principal","Conjunto Emilia Com Manometro. Base De Ferro. Cor Bege.","01-077509-00","2007-09-15",385,10,{"$f":"F68*memoria!$B$44/(G68*12*memoria!$B$47)","v":8.0208333333333329E-3},{"$f":"F68/(G68*12*memoria!$B$47)","v":2.0052083333333335E-2}]
["Diadema","01691-Pavimento Térreo - Prédio Principal","Banco Optico Linear Com Luz Branca E Laser.","01-077510-00","2007-08-15",1566.66,10,{"$f":"F69*memoria!$B$44/(G69*12*memoria!$B$47)","v":3.2638750000000008E-2},{"$f":"F69/(G69*12*memoria!$B$47)","v":8.1596874999999999E-2}]
["Diadema","01691-Pavimento Térreo - Prédio Principal","Banco Optico Linear Com Luz Branca E Laser.","01-077511-00","2007-08-15",1566.66,10,{"$f":"F70*memoria!$B$44/(G70*12*memoria!$B$47)","v":3.2638750000000008E-2},{"$f":"F70/(G70*12*memoria!$B$47)","v":8.1596874999999999E-2}]
["Diadema","01691-Pavimento Térreo - Prédio Principal","Banco Optico Linear Com Luz Branca E Laser.","01-077512-00","2007-08-15",1566.66,10,{"$f":"F71*memoria!$B$44/(G71*12*memoria!$B$47)","v":3.2638750000000008E-2},{"$f":"F71/(G71*12*memoria!$B$47)","v":8.1596874999999999E-2}]
["Diadema","01691-Pavimento Térreo - Prédio Principal","Banco Optico Linear Com Luz Branca E Laser.","01-077513-00","2007-08-15",1566.66,10,{"$f":"F72*memoria!$B$44/(G72*12*memoria!$B$47)","v":3.2638750000000008E-2},{"$f":"F72/(G72*12*memoria!$B$47)","v":8.1596874999999999E-2}]
["Diadema","01691-Pavimento Térreo - Prédio Principal","Banco Optico Linear Com Luz Branca E Laser.","01-077514-00","2007-08-15",1566.66,10,{"$f":"F73*memoria!$B$44/(G73*12*memoria!$B$47)","v":3.2638750000000008E-2},{"$f":"F73/(G73*12*memoria!$B$47)","v":8.1596874999999999E-2}]
["Diadema","01691-Pavimento Térreo - Prédio Principal","Aparelho Para Dinamica Das Rotações","01-077515-00","2007-08-15",1190,10,{"$f":"F74*memoria!$B$44/(G74*12*memoria!$B$47)","v":2.4791666666666667E-2},{"$f":"F74/(G74*12*memoria!$B$47)","v":6.1979166666666669E-2}]
["Diadema","01691-Pavimento Térreo - Prédio Principal","Painel Dias Blanco. Painel Com Entradas Para Resistor","01-077522-00","2007-08-15",331.7,10,{"$f":"F75*memoria!$B$44/(G75*12*memoria!$B$47)","v":6.9104166666666671E-3},{"$f":"F75/(G75*12*memoria!$B$47)","v":1.7276041666666665E-2}]
["Diadema","01691-Pavimento Térreo - Prédio Principal","Painel Dias Blanco. Painel Com Entradas Para Resistor","01-077523-00","2007-08-15",331.66,10,{"$f":"F76*memoria!$B$44/(G76*12*memoria!$B$47)","v":6.9095833333333344E-3},{"$f":"F76/(G76*12*memoria!$B$47)","v":1.7273958333333336E-2}]
["Diadema","01691-Pavimento Térreo - Prédio Principal","Painel Dias Blanco. Painel Com Entradas Para Resistor","01-077524-00","2007-08-15",331.66,10,{"$f":"F77*memoria!$B$44/(G77*12*memoria!$B$47)","v":6.9095833333333344E-3},{"$f":"F77/(G77*12*memoria!$B$47)","v":1.7273958333333336E-2}]
["Diadema","01691-Pavimento Térreo - Prédio Principal","Painel Dias Blanco. Painel Com Entradas Para Resistor","01-077525-00","2007-08-15",331.66,10,{"$f":"F78*memoria!$B$44/(G78*12*memoria!$B$47)","v":6.9095833333333344E-3},{"$f":"F78/(G78*12*memoria!$B$47)","v":1.7273958333333336E-2}]
["Diadema","01691-Pavimento Térreo - Prédio Principal","Painel Dias Blanco. Painel Com Entradas Para Resistor","01-077526-00","2007-08-15",331.66,10,{"$f":"F79*memoria!$B$44/(G79*12*memoria!$B$47)","v":6.9095833333333344E-3},{"$f":"F79/(G79*12*memoria!$B$47)","v":1.7273958333333336E-2}]
["Diadema","01691-Pavimento Térreo - Prédio Principal","Painel Dias Blanco. Painel Com Entradas Para Resistor","01-077527-00","2007-08-15",331.66,10,{"$f":"F80*memoria!$B$44/(G80*12*memoria!$B$47)","v":6.9095833333333344E-3},{"$f":"F80/(G80*12*memoria!$B$47)","v":1.7273958333333336E-2}]
["Diadema","01691-Pavimento Térreo - Prédio Principal","Conjunto Para Termometria Termoeletrica. Com Suporte E Dois Frascos","01-077528-00","2007-08-15",360,10,{"$f":"F81*memoria!$B$44/(G81*12*memoria!$B$47)","v":7.4999999999999997E-3},{"$f":"F81/(G81*12*memoria!$B$47)","v":1.8749999999999999E-2}]
["Diadema","01691-Pavimento Térreo - Prédio Principal","Conjunto Para Termometria Termoeletrica. Com Suporte E Dois Frascos","01-077529-00","2007-08-15",360,10,{"$f":"F82*memoria!$B$44/(G82*12*memoria!$B$47)","v":7.4999999999999997E-3},{"$f":"F82/(G82*12*memoria!$B$47)","v":1.8749999999999999E-2}]
["Diadema","01691-Pavimento Térreo - Prédio Principal","Conjunto Para Termometria Termoeletrica. Com Suporte E Dois Frascos","01-077530-00","2007-08-15",360,10,{"$f":"F83*memoria!$B$44/(G83*12*memoria!$B$47)","v":7.4999999999999997E-3},{"$f":"F83/(G83*12*memoria!$B$47)","v":1.8749999999999999E-2}]
["Diadema","01691-Pavimento Térreo - Prédio Principal","Conjunto Para Termometria Termoeletrica. Com Suporte E Dois Frascos","01-077531-00","2007-08-15",360,10,{"$f":"F84*memoria!$B$44/(G84*12*memoria!$B$47)","v":7.4999999999999997E-3},{"$f":"F84/(G84*12*memoria!$B$47)","v":1.8749999999999999E-2}]
["Diadema","01691-Pavimento Térreo - Prédio Principal","Conjunto Para Termometria Termoeletrica. Com Suporte E Dois Frascos","01-077532-00","2007-08-15",360,10,{"$f":"F85*memoria!$B$44/(G85*12*memoria!$B$47)","v":7.4999999999999997E-3},{"$f":"F85/(G85*12*memoria!$B$47)","v":1.8749999999999999E-2}]
["Diadema","01691-Pavimento Térreo - Prédio Principal","Conjunto Para Termometria Termoeletrica. Com Suporte E Dois Frascos","01-077533-00","2007-08-15",360,10,{"$f":"F86*memoria!$B$44/(G86*12*memoria!$B$47)","v":7.4999999999999997E-3},{"$f":"F86/(G86*12*memoria!$B$47)","v":1.8749999999999999E-2}]
["Diadema","01691-Pavimento Térreo - Prédio Principal","Conjunto Para Equilibrio De Um Corpo Rigido","01-077534-00","2007-08-15",570,10,{"$f":"F87*memoria!$B$44/(G87*12*memoria!$B$47)","v":1.1875E-2},{"$f":"F87/(G87*12*memoria!$B$47)","v":2.9687499999999999E-2}]
["Diadema","01691-Pavimento Térreo - Prédio Principal","Conjunto Hidrostatico Fr2 - Iii","01-077537-00","2007-08-23",360,10,{"$f":"F88*memoria!$B$44/(G88*12*memoria!$B$47)","v":7.4999999999999997E-3},{"$f":"F88/(G88*12*memoria!$B$47)","v":1.8749999999999999E-2}]
["Diadema","01691-Pavimento Térreo - Prédio Principal","Conjunto Hidrostatico Fr2 - Iii","01-077538-00","2007-08-23",360,10,{"$f":"F89*memoria!$B$44/(G89*12*memoria!$B$47)","v":7.4999999999999997E-3},{"$f":"F89/(G89*12*memoria!$B$47)","v":1.8749999999999999E-2}]
["Diadema","01691-Pavimento Térreo - Prédio Principal","Conjunto Hidrostatico Fr2 - Iii","01-077539-00","2007-08-23",360,10,{"$f":"F90*memoria!$B$44/(G90*12*memoria!$B$47)","v":7.4999999999999997E-3},{"$f":"F90/(G90*12*memoria!$B$47)","v":1.8749999999999999E-2}]
["Diadema","01691-Pavimento Térreo - Prédio Principal","Conjunto Hidrostatico Fr2 - Iii","01-077540-00","2007-08-23",360,10,{"$f":"F91*memoria!$B$44/(G91*12*memoria!$B$47)","v":7.4999999999999997E-3},{"$f":"F91/(G91*12*memoria!$B$47)","v":1.8749999999999999E-2}]
["Diadema","01691-Pavimento Térreo - Prédio Principal","Conjunto Hidrostatico Fr2 - Iii","01-077541-00","2007-08-23",360,10,{"$f":"F92*memoria!$B$44/(G92*12*memoria!$B$47)","v":7.4999999999999997E-3},{"$f":"F92/(G92*12*memoria!$B$47)","v":1.8749999999999999E-2}]
["Diadema","01691-Pavimento Térreo - Prédio Principal","Conjunto Hidrostatico Fr2 - Iii","01-077542-00","2007-08-23",360,10,{"$f":"F93*memoria!$B$44/(G93*12*memoria!$B$47)","v":7.4999999999999997E-3},{"$f":"F93/(G93*12*memoria!$B$47)","v":1.8749999999999999E-2}]
["Diadema","01691-Pavimento Térreo - Prédio Principal","Banco Optico Linear Com Luz Branca E Laser.","01-077543-00","2007-08-23",1566.7,10,{"$f":"F94*memoria!$B$44/(G94*12*memoria!$B$47)","v":3.263958333333334E-2},{"$f":"F94/(G94*12*memoria!$B$47)","v":8.1598958333333332E-2}]
["Diadema","01691-Pavimento Térreo - Prédio Principal","Conjunto Basico Para Mecanica Dos Solidos","01-077550-00","2007-08-23",1900,10,{"$f":"F95*memoria!$B$44/(G95*12*memoria!$B$47)","v":3.9583333333333331E-2},{"$f":"F95/(G95*12*memoria!$B$47)","v":9.8958333333333329E-2}]
["Diadema","01691-Pavimento Térreo - Prédio Principal","Conjunto Basico Para Mecanica Dos Solidos","01-077551-00","2007-08-23",1900,10,{"$f":"F96*memoria!$B$44/(G96*12*memoria!$B$47)","v":3.9583333333333331E-2},{"$f":"F96/(G96*12*memoria!$B$47)","v":9.8958333333333329E-2}]
["Diadema","01691-Pavimento Térreo - Prédio Principal","Conjunto Basico Para Mecanica Dos Solidos","01-077552-00","2007-08-23",1900,10,{"$f":"F97*memoria!$B$44/(G97*12*memoria!$B$47)","v":3.9583333333333331E-2},{"$f":"F97/(G97*12*memoria!$B$47)","v":9.8958333333333329E-2}]
["Diadema","01691-Pavimento Térreo - Prédio Principal","Conjunto Basico Para Mecanica Dos Solidos","01-077553-00","2007-08-23",1900,10,{"$f":"F98*memoria!$B$44/(G98*12*memoria!$B$47)","v":3.9583333333333331E-2},{"$f":"F98/(G98*12*memoria!$B$47)","v":9.8958333333333329E-2}]
["Diadema","01691-Pavimento Térreo - Prédio Principal","Conjunto Basico Para Mecanica Dos Solidos","01-077554-00","2007-08-23",1900,10,{"$f":"F99*memoria!$B$44/(G99*12*memoria!$B$47)","v":3.9583333333333331E-2},{"$f":"F99/(G99*12*memoria!$B$47)","v":9.8958333333333329E-2}]
["Diadema","01691-Pavimento Térreo - Prédio Principal","Conjunto Basico Para Mecanica Dos Solidos","01-077555-00","2007-08-23",1900,10,{"$f":"F100*memoria!$B$44/(G100*12*memoria!$B$47)","v":3.9583333333333331E-2},{"$f":"F100/(G100*12*memoria!$B$47)","v":9.8958333333333329E-2}]
["Diadema","01691-Pavimento Térreo - Prédio Principal","Conjunto Para Interferometria Nunes. Base De Madeira.","01-077556-00","2007-08-23",13200,10,{"$f":"F101*memoria!$B$44/(G101*12*memoria!$B$47)","v":0.27500000000000002},{"$f":"F101/(G101*12*memoria!$B$47)","v":0.6875}]
["Diadema","01691-Pavimento Térreo - Prédio Principal","Conjunto Para Interferometria Nunes. Base De Madeira.","01-077557-00","2007-08-23",13200,10,{"$f":"F102*memoria!$B$44/(G102*12*memoria!$B$47)","v":0.27500000000000002},{"$f":"F102/(G102*12*memoria!$B$47)","v":0.6875}]
["Diadema","01691-Pavimento Térreo - Prédio Principal","Conjunto Para Interferometria Nunes. Base De Madeira.","01-077558-00","2007-08-23",13200,10,{"$f":"F103*memoria!$B$44/(G103*12*memoria!$B$47)","v":0.27500000000000002},{"$f":"F103/(G103*12*memoria!$B$47)","v":0.6875}]
["Diadema","01691-Pavimento Térreo - Prédio Principal","Conjunto Para Interferometria Nunes. Base De Madeira.","01-077559-00","2007-08-23",13200,10,{"$f":"F104*memoria!$B$44/(G104*12*memoria!$B$47)","v":0.27500000000000002},{"$f":"F104/(G104*12*memoria!$B$47)","v":0.6875}]
["Diadema","01691-Pavimento Térreo - Prédio Principal","Conjunto Para Interferometria Nunes. Base De Madeira.","01-077560-00","2007-08-23",13200,10,{"$f":"F105*memoria!$B$44/(G105*12*memoria!$B$47)","v":0.27500000000000002},{"$f":"F105/(G105*12*memoria!$B$47)","v":0.6875}]
["Diadema","01691-Pavimento Térreo - Prédio Principal","Conjunto Para Interferometria Nunes. Base De Madeira.","01-077561-00","2007-08-23",13200,10,{"$f":"F106*memoria!$B$44/(G106*12*memoria!$B$47)","v":0.27500000000000002},{"$f":"F106/(G106*12*memoria!$B$47)","v":0.6875}]
["Diadema","01691-Pavimento Térreo - Prédio Principal","Balança De Torção Com Laser. Cor Bege","01-077562-00","2007-08-23",890,10,{"$f":"F107*memoria!$B$44/(G107*12*memoria!$B$47)","v":1.8541666666666668E-2},{"$f":"F107/(G107*12*memoria!$B$47)","v":4.6354166666666669E-2}]
["Diadema","01691-Pavimento Térreo - Prédio Principal","Balança De Torção Com Laser. Cor Bege","01-077563-00","2007-08-23",890,10,{"$f":"F108*memoria!$B$44/(G108*12*memoria!$B$47)","v":1.8541666666666668E-2},{"$f":"F108/(G108*12*memoria!$B$47)","v":4.6354166666666669E-2}]
["Diadema","01691-Pavimento Térreo - Prédio Principal","Balança De Torção Com Laser. Cor Bege","01-077564-00","2007-08-23",890,10,{"$f":"F109*memoria!$B$44/(G109*12*memoria!$B$47)","v":1.8541666666666668E-2},{"$f":"F109/(G109*12*memoria!$B$47)","v":4.6354166666666669E-2}]
["Diadema","01691-Pavimento Térreo - Prédio Principal","Balança De Torção Com Laser. Cor Bege","01-077565-00","2007-08-23",890,10,{"$f":"F110*memoria!$B$44/(G110*12*memoria!$B$47)","v":1.8541666666666668E-2},{"$f":"F110/(G110*12*memoria!$B$47)","v":4.6354166666666669E-2}]
["Diadema","01691-Pavimento Térreo - Prédio Principal","Balança De Torção Com Laser. Cor Bege","01-077566-00","2007-08-23",890,10,{"$f":"F111*memoria!$B$44/(G111*12*memoria!$B$47)","v":1.8541666666666668E-2},{"$f":"F111/(G111*12*memoria!$B$47)","v":4.6354166666666669E-2}]
["Diadema","01691-Pavimento Térreo - Prédio Principal","Balança De Torção Com Laser. Cor Bege","01-077567-00","2007-08-23",890,10,{"$f":"F112*memoria!$B$44/(G112*12*memoria!$B$47)","v":1.8541666666666668E-2},{"$f":"F112/(G112*12*memoria!$B$47)","v":4.6354166666666669E-2}]
["Diadema","01691-Pavimento Térreo - Prédio Principal","Conjunto Para Dilatação Com Gerador Eletrico. Cor Bege","01-077568-00","2007-08-23",633.35,10,{"$f":"F113*memoria!$B$44/(G113*12*memoria!$B$47)","v":1.3194791666666669E-2},{"$f":"F113/(G113*12*memoria!$B$47)","v":3.2986979166666666E-2}]
["Diadema","01691-Pavimento Térreo - Prédio Principal","Conjunto Para Dilatação Com Gerador Eletrico. Cor Bege","01-077569-00","2007-08-23",633.33000000000004,10,{"$f":"F114*memoria!$B$44/(G114*12*memoria!$B$47)","v":1.3194375000000001E-2},{"$f":"F114/(G114*12*memoria!$B$47)","v":3.29859375E-2}]
["Diadema","01691-Pavimento Térreo - Prédio Principal","Conjunto Para Dilatação Com Gerador Eletrico. Cor Bege","01-077570-00","2007-08-23",633.33000000000004,10,{"$f":"F115*memoria!$B$44/(G115*12*memoria!$B$47)","v":1.3194375000000001E-2},{"$f":"F115/(G115*12*memoria!$B$47)","v":3.29859375E-2}]
["Diadema","01691-Pavimento Térreo - Prédio Principal","Conjunto Para Dilatação Com Gerador Eletrico. Cor Bege","01-077571-00","2007-08-23",633.33000000000004,10,{"$f":"F116*memoria!$B$44/(G116*12*memoria!$B$47)","v":1.3194375000000001E-2},{"$f":"F116/(G116*12*memoria!$B$47)","v":3.29859375E-2}]
["Diadema","01691-Pavimento Térreo - Prédio Principal","Conjunto Para Dilatação Com Gerador Eletrico. Cor Bege","01-077572-00","2007-08-23",633.33000000000004,10,{"$f":"F117*memoria!$B$44/(G117*12*memoria!$B$47)","v":1.3194375000000001E-2},{"$f":"F117/(G117*12*memoria!$B$47)","v":3.29859375E-2}]
["Diadema","01691-Pavimento Térreo - Prédio Principal","Conjunto Para Dilatação Com Gerador Eletrico. Cor Bege","01-077573-00","2007-08-23",633.33000000000004,10,{"$f":"F118*memoria!$B$44/(G118*12*memoria!$B$47)","v":1.3194375000000001E-2},{"$f":"F118/(G118*12*memoria!$B$47)","v":3.29859375E-2}]
["Diadema","01691-Pavimento Térreo - Prédio Principal","Conjunto Para Acustica Schuller-Mac Ii. Cor Bege","01-077574-00","2007-08-29",1783.35,10,{"$f":"F119*memoria!$B$44/(G119*12*memoria!$B$47)","v":3.7153125000000002E-2},{"$f":"F119/(G119*12*memoria!$B$47)","v":9.2882812499999995E-2}]
["Diadema","01691-Pavimento Térreo - Prédio Principal","Conjunto Para Acustica Schuller-Mac Ii. Cor Bege","01-077575-00","2007-08-29",1783.33,10,{"$f":"F120*memoria!$B$44/(G120*12*memoria!$B$47)","v":3.7152708333333333E-2},{"$f":"F120/(G120*12*memoria!$B$47)","v":9.2881770833333335E-2}]
["Diadema","01691-Pavimento Térreo - Prédio Principal","Conjunto Para Acustica Schuller-Mac Ii. Cor Bege","01-077576-00","2007-08-29",1783.33,10,{"$f":"F121*memoria!$B$44/(G121*12*memoria!$B$47)","v":3.7152708333333333E-2},{"$f":"F121/(G121*12*memoria!$B$47)","v":9.2881770833333335E-2}]
["Diadema","01691-Pavimento Térreo - Prédio Principal","Conjunto Para Acustica Schuller-Mac Ii. Cor Bege","01-077577-00","2007-08-29",1783.33,10,{"$f":"F122*memoria!$B$44/(G122*12*memoria!$B$47)","v":3.7152708333333333E-2},{"$f":"F122/(G122*12*memoria!$B$47)","v":9.2881770833333335E-2}]
["Diadema","01691-Pavimento Térreo - Prédio Principal","Conjunto Para Acustica Schuller-Mac Ii. Cor Bege","01-077578-00","2007-08-29",1783.33,10,{"$f":"F123*memoria!$B$44/(G123*12*memoria!$B$47)","v":3.7152708333333333E-2},{"$f":"F123/(G123*12*memoria!$B$47)","v":9.2881770833333335E-2}]
["Diadema","01691-Pavimento Térreo - Prédio Principal","Conjunto Para Acustica Schuller-Mac Ii. Cor Bege","01-077579-00","2007-08-29",1783.33,10,{"$f":"F124*memoria!$B$44/(G124*12*memoria!$B$47)","v":3.7152708333333333E-2},{"$f":"F124/(G124*12*memoria!$B$47)","v":9.2881770833333335E-2}]
["Diadema","01691-Pavimento Térreo - Prédio Principal","Gerador Van De Graaff Iii 127 Vac. Com Duas Hastes Com 2 Esferas Cromadas","01-077580-00","2008-08-29",1331.7,10,{"$f":"F125*memoria!$B$44/(G125*12*memoria!$B$47)","v":2.7743750000000005E-2},{"$f":"F125/(G125*12*memoria!$B$47)","v":6.9359375000000001E-2}]
["Diadema","01691-Pavimento Térreo - Prédio Principal","Gerador Van De Graaff Iii 127 Vac. Com Duas Hastes Com 2 Esferas Cromadas","01-077581-00","2008-08-29",1331.66,10,{"$f":"F126*memoria!$B$44/(G126*12*memoria!$B$47)","v":2.7742916666666673E-2},{"$f":"F126/(G126*12*memoria!$B$47)","v":6.9357291666666668E-2}]
["Diadema","01691-Pavimento Térreo - Prédio Principal","Gerador Van De Graaff Iii 127 Vac. Com Duas Hastes Com 2 Esferas Cromadas","01-077582-00","2008-08-29",1331.66,10,{"$f":"F127*memoria!$B$44/(G127*12*memoria!$B$47)","v":2.7742916666666673E-2},{"$f":"F127/(G127*12*memoria!$B$47)","v":6.9357291666666668E-2}]
["Diadema","01691-Pavimento Térreo - Prédio Principal","Gerador Van De Graaff Iii 127 Vac. Com Duas Hastes Com 2 Esferas Cromadas","01-077583-00","2008-08-29",1331.66,10,{"$f":"F128*memoria!$B$44/(G128*12*memoria!$B$47)","v":2.7742916666666673E-2},{"$f":"F128/(G128*12*memoria!$B$47)","v":6.9357291666666668E-2}]
["Diadema","01691-Pavimento Térreo - Prédio Principal","Gerador Van De Graaff Iii 127 Vac. Com Duas Hastes Com 2 Esferas Cromadas","01-077584-00","2008-08-29",1331.66,10,{"$f":"F129*memoria!$B$44/(G129*12*memoria!$B$47)","v":2.7742916666666673E-2},{"$f":"F129/(G129*12*memoria!$B$47)","v":6.9357291666666668E-2}]
["Diadema","01691-Pavimento Térreo - Prédio Principal","Gerador Van De Graaff Iii 127 Vac. Com Duas Hastes Com 2 Esferas Cromadas","01-077585-00","2008-08-29",1331.66,10,{"$f":"F130*memoria!$B$44/(G130*12*memoria!$B$47)","v":2.7742916666666673E-2},{"$f":"F130/(G130*12*memoria!$B$47)","v":6.9357291666666668E-2}]
["Diadema","01691-Pavimento Térreo - Prédio Principal","Determinador De Ponto De Fusão. 110v. Cor Branco","01-077587-00","2007-09-05",1000,10,{"$f":"F131*memoria!$B$44/(G131*12*memoria!$B$47)","v":2.0833333333333332E-2},{"$f":"F131/(G131*12*memoria!$B$47)","v":5.2083333333333336E-2}]
["Diadema","01691-Pavimento Térreo - Prédio Principal","Incubadora Co2, 185 Litros. Cor Bege","01-077590-00","2007-08-27",24130,10,{"$f":"F132*memoria!$B$44/(G132*12*memoria!$B$47)","v":0.50270833333333331},{"$f":"F132/(G132*12*memoria!$B$47)","v":1.2567708333333334}]
["Diadema","01691-Pavimento Térreo - Prédio Principal","Banho Incubador Seco Com Capacidade Para 100 Tubos. Cor Cinza","01-077730-00","2007-09-20",1513.4,10,{"$f":"F133*memoria!$B$44/(G133*12*memoria!$B$47)","v":3.1529166666666671E-2},{"$f":"F133/(G133*12*memoria!$B$47)","v":7.8822916666666673E-2}]
["Diadema","01691-Pavimento Térreo - Prédio Principal","Banho Incubador Seco Com Capacidade Para 100 Tubos. Cor Cinza","01-077731-00","2007-09-20",1513.4,10,{"$f":"F134*memoria!$B$44/(G134*12*memoria!$B$47)","v":3.1529166666666671E-2},{"$f":"F134/(G134*12*memoria!$B$47)","v":7.8822916666666673E-2}]
["Diadema","01691-Pavimento Térreo - Prédio Principal","Banho Incubador Seco Com Capacidade Para 100 Tubos. Cor Cinza","01-077732-00","2007-09-20",1513.4,10,{"$f":"F135*memoria!$B$44/(G135*12*memoria!$B$47)","v":3.1529166666666671E-2},{"$f":"F135/(G135*12*memoria!$B$47)","v":7.8822916666666673E-2}]
["Diadema","01691-Pavimento Térreo - Prédio Principal","Banho Incubador Seco Com Capacidade Para 100 Tubos. Cor Cinza","01-077733-00","2007-09-20",1513.4,10,{"$f":"F136*memoria!$B$44/(G136*12*memoria!$B$47)","v":3.1529166666666671E-2},{"$f":"F136/(G136*12*memoria!$B$47)","v":7.8822916666666673E-2}]
["Diadema","01691-Pavimento Térreo - Prédio Principal","Espectrofotometro. Cor Cinza","01-077738-00","2007-09-21",4887.5,10,{"$f":"F137*memoria!$B$44/(G137*12*memoria!$B$47)","v":0.10182291666666667},{"$f":"F137/(G137*12*memoria!$B$47)","v":0.25455729166666669}]
["Diadema","01691-Pavimento Térreo - Prédio Principal","Espectrofotometro. Cor Cinza","01-077739-00","2007-09-21",4887.5,10,{"$f":"F138*memoria!$B$44/(G138*12*memoria!$B$47)","v":0.10182291666666667},{"$f":"F138/(G138*12*memoria!$B$47)","v":0.25455729166666669}]
["Diadema","01691-Pavimento Térreo - Prédio Principal","Espectrofotometro. Cor Cinza","01-077740-00","2007-09-21",4887.5,10,{"$f":"F139*memoria!$B$44/(G139*12*memoria!$B$47)","v":0.10182291666666667},{"$f":"F139/(G139*12*memoria!$B$47)","v":0.25455729166666669}]
["Diadema","01691-Pavimento Térreo - Prédio Principal","Espectrofotometro. Cor Cinza","01-077741-00","2007-09-21",4887.5,10,{"$f":"F140*memoria!$B$44/(G140*12*memoria!$B$47)","v":0.10182291666666667},{"$f":"F140/(G140*12*memoria!$B$47)","v":0.25455729166666669}]
["Diadema","01691-Pavimento Térreo - Prédio Principal","Bomba De Infusão Programavel. Cor Vermelha","01-077744-00","2007-09-26",11750,10,{"$f":"F141*memoria!$B$44/(G141*12*memoria!$B$47)","v":0.24479166666666666},{"$f":"F141/(G141*12*memoria!$B$47)","v":0.61197916666666663}]
["Diadema","01691-Pavimento Térreo - Prédio Principal","Bomba De Infusão Programavel. Cor Vermelha","01-077745-00","2007-09-26",11750,10,{"$f":"F142*memoria!$B$44/(G142*12*memoria!$B$47)","v":0.24479166666666666},{"$f":"F142/(G142*12*memoria!$B$47)","v":0.61197916666666663}]
["Diadema","01691-Pavimento Térreo - Prédio Principal","Banho Maria Sorologico Digital. 220v. Cor Branco Gelo","01-077943-00","2007-09-28",746,10,{"$f":"F143*memoria!$B$44/(G143*12*memoria!$B$47)","v":1.5541666666666669E-2},{"$f":"F143/(G143*12*memoria!$B$47)","v":3.8854166666666669E-2}]
["Diadema","01691-Pavimento Térreo - Prédio Principal","Banho Maria Sorologico Digital. 220v. Cor Branco Gelo","01-077944-00","2007-09-28",746,10,{"$f":"F144*memoria!$B$44/(G144*12*memoria!$B$47)","v":1.5541666666666669E-2},{"$f":"F144/(G144*12*memoria!$B$47)","v":3.8854166666666669E-2}]
["Diadema","01691-Pavimento Térreo - Prédio Principal","Banho Maria Sorologico Digital. 220v. Cor Branco Gelo","01-077945-00","2007-09-28",746,10,{"$f":"F145*memoria!$B$44/(G145*12*memoria!$B$47)","v":1.5541666666666669E-2},{"$f":"F145/(G145*12*memoria!$B$47)","v":3.8854166666666669E-2}]
["Diadema","01691-Pavimento Térreo - Prédio Principal","Banho Maria Sorologico Digital. 220v. Cor Branco Gelo","01-077946-00","2007-09-28",746,10,{"$f":"F146*memoria!$B$44/(G146*12*memoria!$B$47)","v":1.5541666666666669E-2},{"$f":"F146/(G146*12*memoria!$B$47)","v":3.8854166666666669E-2}]
["Diadema","01691-Pavimento Térreo - Prédio Principal","Banho Maria Sorologico Digital. 220v. Cor Branco Gelo","01-077947-00","2007-09-28",746,10,{"$f":"F147*memoria!$B$44/(G147*12*memoria!$B$47)","v":1.5541666666666669E-2},{"$f":"F147/(G147*12*memoria!$B$47)","v":3.8854166666666669E-2}]
["Diadema","01691-Pavimento Térreo - Prédio Principal","Agitador Magnetico Com Aquecimento Plataforma. Cor Branco","01-077986-00","2007-09-21",595.99,10,{"$f":"F148*memoria!$B$44/(G148*12*memoria!$B$47)","v":1.2416458333333335E-2},{"$f":"F148/(G148*12*memoria!$B$47)","v":3.1041145833333336E-2}]
["Diadema","01691-Pavimento Térreo - Prédio Principal","Agitador Magnetico Com Aquecimento Plataforma. Cor Branco","01-077987-00","2007-09-21",595.99,10,{"$f":"F149*memoria!$B$44/(G149*12*memoria!$B$47)","v":1.2416458333333335E-2},{"$f":"F149/(G149*12*memoria!$B$47)","v":3.1041145833333336E-2}]
["Diadema","01691-Pavimento Térreo - Prédio Principal","Agitador Magnetico Com Aquecimento Plataforma. Cor Branco","01-077988-00","2007-09-21",595.99,10,{"$f":"F150*memoria!$B$44/(G150*12*memoria!$B$47)","v":1.2416458333333335E-2},{"$f":"F150/(G150*12*memoria!$B$47)","v":3.1041145833333336E-2}]
["Diadema","01691-Pavimento Térreo - Prédio Principal","Agitador Magnetico Com Aquecimento Plataforma. Cor Branco","01-077989-00","2007-09-21",595.99,10,{"$f":"F151*memoria!$B$44/(G151*12*memoria!$B$47)","v":1.2416458333333335E-2},{"$f":"F151/(G151*12*memoria!$B$47)","v":3.1041145833333336E-2}]
["Diadema","01691-Pavimento Térreo - Prédio Principal","Agitador Magnetico Com Aquecimento Plataforma. Cor Branco","01-077990-00","2007-09-21",595.99,10,{"$f":"F152*memoria!$B$44/(G152*12*memoria!$B$47)","v":1.2416458333333335E-2},{"$f":"F152/(G152*12*memoria!$B$47)","v":3.1041145833333336E-2}]
["Diadema","01691-Pavimento Térreo - Prédio Principal","Agitador Magnetico Com Aquecimento Plataforma. Cor Branco","01-077991-00","2007-09-21",595.99,10,{"$f":"F153*memoria!$B$44/(G153*12*memoria!$B$47)","v":1.2416458333333335E-2},{"$f":"F153/(G153*12*memoria!$B$47)","v":3.1041145833333336E-2}]
["Diadema","01691-Pavimento Térreo - Prédio Principal","Agitador Magnetico Com Aquecimento Plataforma. Cor Branco","01-077992-00","2007-09-21",595.99,10,{"$f":"F154*memoria!$B$44/(G154*12*memoria!$B$47)","v":1.2416458333333335E-2},{"$f":"F154/(G154*12*memoria!$B$47)","v":3.1041145833333336E-2}]
["Diadema","01691-Pavimento Térreo - Prédio Principal","Agitador Magnetico Com Aquecimento Plataforma. Cor Branco","01-077993-00","2007-09-21",595.99,10,{"$f":"F155*memoria!$B$44/(G155*12*memoria!$B$47)","v":1.2416458333333335E-2},{"$f":"F155/(G155*12*memoria!$B$47)","v":3.1041145833333336E-2}]
["Diadema","01691-Pavimento Térreo - Prédio Principal","Agitador Magnetico Com Aquecimento Plataforma. Cor Branco","01-077994-00","2007-09-21",595.99,10,{"$f":"F156*memoria!$B$44/(G156*12*memoria!$B$47)","v":1.2416458333333335E-2},{"$f":"F156/(G156*12*memoria!$B$47)","v":3.1041145833333336E-2}]
["Diadema","01691-Pavimento Térreo - Prédio Principal","Agitador Magnetico Com Aquecimento Plataforma. Cor Branco","01-077995-00","2007-09-21",595.99,10,{"$f":"F157*memoria!$B$44/(G157*12*memoria!$B$47)","v":1.2416458333333335E-2},{"$f":"F157/(G157*12*memoria!$B$47)","v":3.1041145833333336E-2}]
["Diadema","01691-Pavimento Térreo - Prédio Principal","Agitador Magnetico Com Aquecimento Plataforma. Cor Branco","01-077996-00","2007-09-21",595.99,10,{"$f":"F158*memoria!$B$44/(G158*12*memoria!$B$47)","v":1.2416458333333335E-2},{"$f":"F158/(G158*12*memoria!$B$47)","v":3.1041145833333336E-2}]
["Diadema","01691-Pavimento Térreo - Prédio Principal","Agitador Magnetico Com Aquecimento Plataforma. Cor Branco","01-077997-00","2007-09-21",595.99,10,{"$f":"F159*memoria!$B$44/(G159*12*memoria!$B$47)","v":1.2416458333333335E-2},{"$f":"F159/(G159*12*memoria!$B$47)","v":3.1041145833333336E-2}]
["Diadema","01691-Pavimento Térreo - Prédio Principal","Agitador Magnetico Com Aquecimento Plataforma. Cor Branco","01-077998-00","2007-09-21",595.99,10,{"$f":"F160*memoria!$B$44/(G160*12*memoria!$B$47)","v":1.2416458333333335E-2},{"$f":"F160/(G160*12*memoria!$B$47)","v":3.1041145833333336E-2}]
["Diadema","01691-Pavimento Térreo - Prédio Principal","Agitador Magnetico Com Aquecimento Plataforma. Cor Branco","01-077999-00","2007-09-21",595.99,10,{"$f":"F161*memoria!$B$44/(G161*12*memoria!$B$47)","v":1.2416458333333335E-2},{"$f":"F161/(G161*12*memoria!$B$47)","v":3.1041145833333336E-2}]
["Diadema","01691-Pavimento Térreo - Prédio Principal","Agitador Magnetico Com Aquecimento Plataforma. Cor Branco","01-078000-00","2007-09-21",595.99,10,{"$f":"F162*memoria!$B$44/(G162*12*memoria!$B$47)","v":1.2416458333333335E-2},{"$f":"F162/(G162*12*memoria!$B$47)","v":3.1041145833333336E-2}]
["Diadema","01691-Pavimento Térreo - Prédio Principal","Coletor De Fraçoes Digital, Microprocessado. Cor Argila","01-078351-00","2007-06-22",16340,10,{"$f":"F163*memoria!$B$44/(G163*12*memoria!$B$47)","v":0.34041666666666665},{"$f":"F163/(G163*12*memoria!$B$47)","v":0.8510416666666667}]
["Diadema","01691-Pavimento Térreo - Prédio Principal","Chapa Aquecedora. Cor Branca","01-078352-00","2007-04-11",640,10,{"$f":"F164*memoria!$B$44/(G164*12*memoria!$B$47)","v":1.3333333333333334E-2},{"$f":"F164/(G164*12*memoria!$B$47)","v":3.3333333333333333E-2}]
["Diadema","01691-Pavimento Térreo - Prédio Principal","Chapa Aquecedora. Cor Branca","01-078353-00","2007-04-11",640,10,{"$f":"F165*memoria!$B$44/(G165*12*memoria!$B$47)","v":1.3333333333333334E-2},{"$f":"F165/(G165*12*memoria!$B$47)","v":3.3333333333333333E-2}]
["Diadema","01691-Pavimento Térreo - Prédio Principal","Chapa Aquecedora. Cor Branca","01-078354-00","2007-04-11",640,10,{"$f":"F166*memoria!$B$44/(G166*12*memoria!$B$47)","v":1.3333333333333334E-2},{"$f":"F166/(G166*12*memoria!$B$47)","v":3.3333333333333333E-2}]
["Diadema","01691-Pavimento Térreo - Prédio Principal","Manta Aquecedora. Cor Branco E Azul","01-078355-00","2007-04-11",250,10,{"$f":"F167*memoria!$B$44/(G167*12*memoria!$B$47)","v":5.208333333333333E-3},{"$f":"F167/(G167*12*memoria!$B$47)","v":1.3020833333333334E-2}]
["Diadema","01691-Pavimento Térreo - Prédio Principal","Manta Aquecedora. Cor Branco E Azul","01-078356-00","2007-04-11",250,10,{"$f":"F168*memoria!$B$44/(G168*12*memoria!$B$47)","v":5.208333333333333E-3},{"$f":"F168/(G168*12*memoria!$B$47)","v":1.3020833333333334E-2}]
["Diadema","01691-Pavimento Térreo - Prédio Principal","Manta Aquecedora. Cor Branco E Azul","01-078357-00","2007-04-11",250,10,{"$f":"F169*memoria!$B$44/(G169*12*memoria!$B$47)","v":5.208333333333333E-3},{"$f":"F169/(G169*12*memoria!$B$47)","v":1.3020833333333334E-2}]
["Diadema","01691-Pavimento Térreo - Prédio Principal","Manta Aquecedora. Cor Branco E Azul","01-078358-00","2007-04-11",250,10,{"$f":"F170*memoria!$B$44/(G170*12*memoria!$B$47)","v":5.208333333333333E-3},{"$f":"F170/(G170*12*memoria!$B$47)","v":1.3020833333333334E-2}]
["Diadema","01691-Pavimento Térreo - Prédio Principal","Manta Aquecedora. Cor Branco E Azul","01-078359-00","2007-04-11",250,10,{"$f":"F171*memoria!$B$44/(G171*12*memoria!$B$47)","v":5.208333333333333E-3},{"$f":"F171/(G171*12*memoria!$B$47)","v":1.3020833333333334E-2}]
["Diadema","01691-Pavimento Térreo - Prédio Principal","Manta Aquecedora. Cor Branco E Azul","01-078360-00","2007-04-11",250,10,{"$f":"F172*memoria!$B$44/(G172*12*memoria!$B$47)","v":5.208333333333333E-3},{"$f":"F172/(G172*12*memoria!$B$47)","v":1.3020833333333334E-2}]
["Diadema","01691-Pavimento Térreo - Prédio Principal","Manta Aquecedora. Cor Branco E Azul","01-078361-00","2007-04-11",250,10,{"$f":"F173*memoria!$B$44/(G173*12*memoria!$B$47)","v":5.208333333333333E-3},{"$f":"F173/(G173*12*memoria!$B$47)","v":1.3020833333333334E-2}]
["Diadema","01691-Pavimento Térreo - Prédio Principal","Manta Aquecedora. Cor Branco E Azul","01-078362-00","2007-04-11",250,10,{"$f":"F174*memoria!$B$44/(G174*12*memoria!$B$47)","v":5.208333333333333E-3},{"$f":"F174/(G174*12*memoria!$B$47)","v":1.3020833333333334E-2}]
["Diadema","01691-Pavimento Térreo - Prédio Principal","Manta Aquecedora. Cor Branco E Azul","01-078363-00","2007-04-11",250,10,{"$f":"F175*memoria!$B$44/(G175*12*memoria!$B$47)","v":5.208333333333333E-3},{"$f":"F175/(G175*12*memoria!$B$47)","v":1.3020833333333334E-2}]
["Diadema","01691-Pavimento Térreo - Prédio Principal","Manta Aquecedora. Cor Branco E Azul","01-078364-00","2007-04-11",250,10,{"$f":"F176*memoria!$B$44/(G176*12*memoria!$B$47)","v":5.208333333333333E-3},{"$f":"F176/(G176*12*memoria!$B$47)","v":1.3020833333333334E-2}]
["Diadema","01691-Pavimento Térreo - Prédio Principal","Agitador Magnetico Branco. Cor Branca","01-078365-00","2007-04-11",399.75,10,{"$f":"F177*memoria!$B$44/(G177*12*memoria!$B$47)","v":8.3281250000000005E-3},{"$f":"F177/(G177*12*memoria!$B$47)","v":2.08203125E-2}]
["Diadema","01691-Pavimento Térreo - Prédio Principal","Agitador Magnetico Branco. Cor Branca","01-078366-00","2007-04-11",399.75,10,{"$f":"F178*memoria!$B$44/(G178*12*memoria!$B$47)","v":8.3281250000000005E-3},{"$f":"F178/(G178*12*memoria!$B$47)","v":2.08203125E-2}]
["Diadema","01691-Pavimento Térreo - Prédio Principal","Agitador Magnetico Branco. Cor Branca","01-078367-00","2007-04-11",399.75,10,{"$f":"F179*memoria!$B$44/(G179*12*memoria!$B$47)","v":8.3281250000000005E-3},{"$f":"F179/(G179*12*memoria!$B$47)","v":2.08203125E-2}]
["Diadema","01691-Pavimento Térreo - Prédio Principal","Agitador Magnetico Branco. Cor Branca","01-078368-00","2007-04-11",399.75,10,{"$f":"F180*memoria!$B$44/(G180*12*memoria!$B$47)","v":8.3281250000000005E-3},{"$f":"F180/(G180*12*memoria!$B$47)","v":2.08203125E-2}]
["Diadema","01691-Pavimento Térreo - Prédio Principal","Agitador Magnetico Com Placa Aquecedora. Cor Branco","01-078369-00","2007-04-11",584,10,{"$f":"F181*memoria!$B$44/(G181*12*memoria!$B$47)","v":1.2166666666666668E-2},{"$f":"F181/(G181*12*memoria!$B$47)","v":3.0416666666666668E-2}]
["Diadema","01691-Pavimento Térreo - Prédio Principal","Agitador Magnetico Com Placa Aquecedora. Cor Branco","01-078370-00","2007-04-11",584,10,{"$f":"F182*memoria!$B$44/(G182*12*memoria!$B$47)","v":1.2166666666666668E-2},{"$f":"F182/(G182*12*memoria!$B$47)","v":3.0416666666666668E-2}]
["Diadema","01691-Pavimento Térreo - Prédio Principal","Agitador Magnetico Com Placa Aquecedora. Cor Branco","01-078371-00","2007-04-11",584,10,{"$f":"F183*memoria!$B$44/(G183*12*memoria!$B$47)","v":1.2166666666666668E-2},{"$f":"F183/(G183*12*memoria!$B$47)","v":3.0416666666666668E-2}]
["Diadema","01691-Pavimento Térreo - Prédio Principal","Agitador Magnetico Com Placa Aquecedora. Cor Branco","01-078372-00","2007-04-11",584,10,{"$f":"F184*memoria!$B$44/(G184*12*memoria!$B$47)","v":1.2166666666666668E-2},{"$f":"F184/(G184*12*memoria!$B$47)","v":3.0416666666666668E-2}]
["Diadema","01691-Pavimento Térreo - Prédio Principal","Agitador De Tubos. Cor Branco","01-078373-00","2007-04-11",420,10,{"$f":"F185*memoria!$B$44/(G185*12*memoria!$B$47)","v":8.7500000000000008E-3},{"$f":"F185/(G185*12*memoria!$B$47)","v":2.1874999999999999E-2}]
["Diadema","01691-Pavimento Térreo - Prédio Principal","Agitador De Tubos. Cor Branco","01-078374-00","2007-04-11",420,10,{"$f":"F186*memoria!$B$44/(G186*12*memoria!$B$47)","v":8.7500000000000008E-3},{"$f":"F186/(G186*12*memoria!$B$47)","v":2.1874999999999999E-2}]
["Diadema","01691-Pavimento Térreo - Prédio Principal","Agitador De Tubos. Cor Branco","01-078375-00","2007-04-11",420,10,{"$f":"F187*memoria!$B$44/(G187*12*memoria!$B$47)","v":8.7500000000000008E-3},{"$f":"F187/(G187*12*memoria!$B$47)","v":2.1874999999999999E-2}]
["Diadema","01691-Pavimento Térreo - Prédio Principal","Agitador De Tubos. Cor Branco","01-078376-00","2007-04-11",420,10,{"$f":"F188*memoria!$B$44/(G188*12*memoria!$B$47)","v":8.7500000000000008E-3},{"$f":"F188/(G188*12*memoria!$B$47)","v":2.1874999999999999E-2}]
["Diadema","01691-Pavimento Térreo - Prédio Principal","Agitador De Tubos. Cor Branco","01-078377-00","2007-04-11",420,10,{"$f":"F189*memoria!$B$44/(G189*12*memoria!$B$47)","v":8.7500000000000008E-3},{"$f":"F189/(G189*12*memoria!$B$47)","v":2.1874999999999999E-2}]
["Diadema","01691-Pavimento Térreo - Prédio Principal","Agitador De Tubos. Cor Branco","01-078378-00","2007-04-11",420,10,{"$f":"F190*memoria!$B$44/(G190*12*memoria!$B$47)","v":8.7500000000000008E-3},{"$f":"F190/(G190*12*memoria!$B$47)","v":2.1874999999999999E-2}]
["Diadema","01691-Pavimento Térreo - Prédio Principal","Agitador De Tubos. Cor Branco","01-078379-00","2007-04-11",420,10,{"$f":"F191*memoria!$B$44/(G191*12*memoria!$B$47)","v":8.7500000000000008E-3},{"$f":"F191/(G191*12*memoria!$B$47)","v":2.1874999999999999E-2}]
["Diadema","01691-Pavimento Térreo - Prédio Principal","Agitador De Tubos. Cor Branco","01-078380-00","2007-04-11",420,10,{"$f":"F192*memoria!$B$44/(G192*12*memoria!$B$47)","v":8.7500000000000008E-3},{"$f":"F192/(G192*12*memoria!$B$47)","v":2.1874999999999999E-2}]
["Diadema","01691-Pavimento Térreo - Prédio Principal","Autoclave Vertical. 137 Litros. Cor Branca. Tampa Dourada","01-078384-00","2007-05-02",6275,10,{"$f":"F193*memoria!$B$44/(G193*12*memoria!$B$47)","v":0.13072916666666667},{"$f":"F193/(G193*12*memoria!$B$47)","v":0.32682291666666669}]
["Diadema","01707-Pavimento Térreo - Biblioteca","Guilhotina","01-078385-00","2007-06-21",97,10,{"$f":"F194*memoria!$B$44/(G194*12*memoria!$B$47)","v":2.0208333333333337E-3},{"$f":"F194/(G194*12*memoria!$B$47)","v":5.0520833333333329E-3}]
["Diadema","01707-Pavimento Térreo - Biblioteca","Plastificadora Oficio. Cor Preto E Bege Escuro","01-078420-00","2007-04-13",320,10,{"$f":"F195*memoria!$B$44/(G195*12*memoria!$B$47)","v":6.6666666666666671E-3},{"$f":"F195/(G195*12*memoria!$B$47)","v":1.6666666666666666E-2}]
["Diadema","01691-Pavimento Térreo - Prédio Principal","Estereomicroscopio. Cor Branco E Azul","01-078428-00","2007-10-24",4550,10,{"$f":"F196*memoria!$B$44/(G196*12*memoria!$B$47)","v":9.4791666666666663E-2},{"$f":"F196/(G196*12*memoria!$B$47)","v":0.23697916666666666}]
["Diadema","01691-Pavimento Térreo - Prédio Principal","Estereomicroscopio. Cor Branco E Azul","01-078429-00","2007-10-24",4550,10,{"$f":"F197*memoria!$B$44/(G197*12*memoria!$B$47)","v":9.4791666666666663E-2},{"$f":"F197/(G197*12*memoria!$B$47)","v":0.23697916666666666}]
["Diadema","01691-Pavimento Térreo - Prédio Principal","Estereomicroscopio. Cor Branco E Azul","01-078430-00","2007-10-24",4550,10,{"$f":"F198*memoria!$B$44/(G198*12*memoria!$B$47)","v":9.4791666666666663E-2},{"$f":"F198/(G198*12*memoria!$B$47)","v":0.23697916666666666}]
["Diadema","01691-Pavimento Térreo - Prédio Principal","Estereomicroscopio. Cor Branco E Azul","01-078431-00","2007-10-24",4550,10,{"$f":"F199*memoria!$B$44/(G199*12*memoria!$B$47)","v":9.4791666666666663E-2},{"$f":"F199/(G199*12*memoria!$B$47)","v":0.23697916666666666}]
["Diadema","01691-Pavimento Térreo - Prédio Principal","Estereomicroscopio. Cor Branco E Azul","01-078432-00","2007-10-24",4550,10,{"$f":"F200*memoria!$B$44/(G200*12*memoria!$B$47)","v":9.4791666666666663E-2},{"$f":"F200/(G200*12*memoria!$B$47)","v":0.23697916666666666}]
["Diadema","01691-Pavimento Térreo - Prédio Principal","Estereomicroscopio. Cor Branco E Azul","01-078433-00","2007-10-24",4550,10,{"$f":"F201*memoria!$B$44/(G201*12*memoria!$B$47)","v":9.4791666666666663E-2},{"$f":"F201/(G201*12*memoria!$B$47)","v":0.23697916666666666}]
["Diadema","01691-Pavimento Térreo - Prédio Principal","Estereomicroscopio. Cor Branco E Azul","01-078434-00","2007-10-24",4550,10,{"$f":"F202*memoria!$B$44/(G202*12*memoria!$B$47)","v":9.4791666666666663E-2},{"$f":"F202/(G202*12*memoria!$B$47)","v":0.23697916666666666}]
["Diadema","01691-Pavimento Térreo - Prédio Principal","Estereomicroscopio. Cor Branco E Azul","01-078435-00","2007-10-24",4550,10,{"$f":"F203*memoria!$B$44/(G203*12*memoria!$B$47)","v":9.4791666666666663E-2},{"$f":"F203/(G203*12*memoria!$B$47)","v":0.23697916666666666}]
["Diadema","01691-Pavimento Térreo - Prédio Principal","Estereomicroscopio. Cor Branco E Azul","01-078436-00","2007-10-24",4550,10,{"$f":"F204*memoria!$B$44/(G204*12*memoria!$B$47)","v":9.4791666666666663E-2},{"$f":"F204/(G204*12*memoria!$B$47)","v":0.23697916666666666}]
["Diadema","01691-Pavimento Térreo - Prédio Principal","Estereomicroscopio. Cor Branco E Azul","01-078437-00","2007-10-24",4550,10,{"$f":"F205*memoria!$B$44/(G205*12*memoria!$B$47)","v":9.4791666666666663E-2},{"$f":"F205/(G205*12*memoria!$B$47)","v":0.23697916666666666}]
["Diadema","01691-Pavimento Térreo - Prédio Principal","Estereomicroscopio. Cor Branco E Azul","01-078438-00","2007-10-24",4550,10,{"$f":"F206*memoria!$B$44/(G206*12*memoria!$B$47)","v":9.4791666666666663E-2},{"$f":"F206/(G206*12*memoria!$B$47)","v":0.23697916666666666}]
["Diadema","01691-Pavimento Térreo - Prédio Principal","Estereomicroscopio. Cor Branco E Azul","01-078439-00","2007-10-24",4550,10,{"$f":"F207*memoria!$B$44/(G207*12*memoria!$B$47)","v":9.4791666666666663E-2},{"$f":"F207/(G207*12*memoria!$B$47)","v":0.23697916666666666}]
["Diadema","01691-Pavimento Térreo - Prédio Principal","Estereomicroscopio. Cor Branco E Azul","01-078440-00","2007-10-24",4550,10,{"$f":"F208*memoria!$B$44/(G208*12*memoria!$B$47)","v":9.4791666666666663E-2},{"$f":"F208/(G208*12*memoria!$B$47)","v":0.23697916666666666}]
["Diadema","01691-Pavimento Térreo - Prédio Principal","Estereomicroscopio. Cor Branco E Azul","01-078441-00","2007-10-24",4550,10,{"$f":"F209*memoria!$B$44/(G209*12*memoria!$B$47)","v":9.4791666666666663E-2},{"$f":"F209/(G209*12*memoria!$B$47)","v":0.23697916666666666}]
["Diadema","01691-Pavimento Térreo - Prédio Principal","Estereomicroscopio. Cor Branco E Azul","01-078442-00","2007-10-24",4550,10,{"$f":"F210*memoria!$B$44/(G210*12*memoria!$B$47)","v":9.4791666666666663E-2},{"$f":"F210/(G210*12*memoria!$B$47)","v":0.23697916666666666}]
["Diadema","01691-Pavimento Térreo - Prédio Principal","Microscopio Trinocular. Cor Branco E Azul","01-078443-00","2007-10-24",18000,10,{"$f":"F211*memoria!$B$44/(G211*12*memoria!$B$47)","v":0.375},{"$f":"F211/(G211*12*memoria!$B$47)","v":0.9375}]
["Diadema","01691-Pavimento Térreo - Prédio Principal","Microscopio Trinocular. Cor Branco E Azul","01-078444-00","2007-10-24",18000,10,{"$f":"F212*memoria!$B$44/(G212*12*memoria!$B$47)","v":0.375},{"$f":"F212/(G212*12*memoria!$B$47)","v":0.9375}]
["Diadema","01691-Pavimento Térreo - Prédio Principal","Transiluminador Uv-B 110v. Cor Cinza","01-078445-00","2007-10-26",3580,10,{"$f":"F213*memoria!$B$44/(G213*12*memoria!$B$47)","v":7.4583333333333335E-2},{"$f":"F213/(G213*12*memoria!$B$47)","v":0.18645833333333334}]
["Diadema","01691-Pavimento Térreo - Prédio Principal","Fonte De Eletroforese Programavel. 110v. Cor Cinza Claro E Escuro","01-078446-00","2007-10-26",642.33000000000004,10,{"$f":"F214*memoria!$B$44/(G214*12*memoria!$B$47)","v":1.3381875000000001E-2},{"$f":"F214/(G214*12*memoria!$B$47)","v":3.3454687500000004E-2}]
["Diadema","01691-Pavimento Térreo - Prédio Principal","Fonte De Eletroforese Programavel. 110v. Cor Cinza Claro E Escuro","01-078447-00","2007-10-26",642.33000000000004,10,{"$f":"F215*memoria!$B$44/(G215*12*memoria!$B$47)","v":1.3381875000000001E-2},{"$f":"F215/(G215*12*memoria!$B$47)","v":3.3454687500000004E-2}]
["Diadema","01691-Pavimento Térreo - Prédio Principal","Fonte De Eletroforese Programavel. Cor Cinza Claro E Escuro","01-078448-00","2007-10-26",642.34,10,{"$f":"F216*memoria!$B$44/(G216*12*memoria!$B$47)","v":1.3382083333333334E-2},{"$f":"F216/(G216*12*memoria!$B$47)","v":3.3455208333333333E-2}]
["Diadema","01691-Pavimento Térreo - Prédio Principal","Sistema (Cuba) De Eletroforese Digital. Cor Cinza","01-078449-00","2007-10-26",933.33,10,{"$f":"F217*memoria!$B$44/(G217*12*memoria!$B$47)","v":1.9444375000000003E-2},{"$f":"F217/(G217*12*memoria!$B$47)","v":4.86109375E-2}]
["Diadema","01691-Pavimento Térreo - Prédio Principal","Sistema (Cuba) De Eletroforese Digital. Cor Cinza","01-078450-00","2007-10-26",933.33,10,{"$f":"F218*memoria!$B$44/(G218*12*memoria!$B$47)","v":1.9444375000000003E-2},{"$f":"F218/(G218*12*memoria!$B$47)","v":4.86109375E-2}]
["Diadema","01691-Pavimento Térreo - Prédio Principal","Sistema (Cuba) De Eletroforese Digital. Cor Cinza","01-078451-00","2007-10-26",933.34,10,{"$f":"F219*memoria!$B$44/(G219*12*memoria!$B$47)","v":1.9444583333333335E-2},{"$f":"F219/(G219*12*memoria!$B$47)","v":4.8611458333333336E-2}]
["Diadema","01691-Pavimento Térreo - Prédio Principal","Sistema Vertical De Eletroforese. Acrilico Azul Claro.","01-078452-00","2007-10-31",2425,10,{"$f":"F220*memoria!$B$44/(G220*12*memoria!$B$47)","v":5.0520833333333334E-2},{"$f":"F220/(G220*12*memoria!$B$47)","v":0.12630208333333334}]
["Diadema","01691-Pavimento Térreo - Prédio Principal","Sistema Vertical De Eletroforese. Acrilico Azul Claro.","01-078453-00","2007-10-31",2425,10,{"$f":"F221*memoria!$B$44/(G221*12*memoria!$B$47)","v":5.0520833333333334E-2},{"$f":"F221/(G221*12*memoria!$B$47)","v":0.12630208333333334}]
["Diadema","01691-Pavimento Térreo - Prédio Principal","Microscopio Binocular. Cor Branco E Azul","01-078454-00","2007-10-31",3600,10,{"$f":"F222*memoria!$B$44/(G222*12*memoria!$B$47)","v":7.4999999999999997E-2},{"$f":"F222/(G222*12*memoria!$B$47)","v":0.1875}]
["Diadema","01691-Pavimento Térreo - Prédio Principal","Microscopio Binocular. Cor Branco E Azul","01-078455-00","2007-10-31",3600,10,{"$f":"F223*memoria!$B$44/(G223*12*memoria!$B$47)","v":7.4999999999999997E-2},{"$f":"F223/(G223*12*memoria!$B$47)","v":0.1875}]
["Diadema","01691-Pavimento Térreo - Prédio Principal","Microscopio Binocular. Cor Branco E Azul","01-078456-00","2007-10-31",3600,10,{"$f":"F224*memoria!$B$44/(G224*12*memoria!$B$47)","v":7.4999999999999997E-2},{"$f":"F224/(G224*12*memoria!$B$47)","v":0.1875}]
["Diadema","01691-Pavimento Térreo - Prédio Principal","Microscopio Binocular. Cor Branco E Azul","01-078457-00","2007-10-31",3600,10,{"$f":"F225*memoria!$B$44/(G225*12*memoria!$B$47)","v":7.4999999999999997E-2},{"$f":"F225/(G225*12*memoria!$B$47)","v":0.1875}]
["Diadema","01691-Pavimento Térreo - Prédio Principal","Microscopio Binocular. Cor Branco E Azul","01-078458-00","2007-10-31",3600,10,{"$f":"F226*memoria!$B$44/(G226*12*memoria!$B$47)","v":7.4999999999999997E-2},{"$f":"F226/(G226*12*memoria!$B$47)","v":0.1875}]
["Diadema","01691-Pavimento Térreo - Prédio Principal","Microscopio Binocular. Cor Branco E Azul","01-078459-00","2007-10-31",3600,10,{"$f":"F227*memoria!$B$44/(G227*12*memoria!$B$47)","v":7.4999999999999997E-2},{"$f":"F227/(G227*12*memoria!$B$47)","v":0.1875}]
["Diadema","01691-Pavimento Térreo - Prédio Principal","Microscopio Binocular. Cor Branco E Azul","01-078460-00","2007-10-31",3600,10,{"$f":"F228*memoria!$B$44/(G228*12*memoria!$B$47)","v":7.4999999999999997E-2},{"$f":"F228/(G228*12*memoria!$B$47)","v":0.1875}]
["Diadema","01691-Pavimento Térreo - Prédio Principal","Microscopio Binocular. Cor Branco E Azul","01-078461-00","2007-10-31",3600,10,{"$f":"F229*memoria!$B$44/(G229*12*memoria!$B$47)","v":7.4999999999999997E-2},{"$f":"F229/(G229*12*memoria!$B$47)","v":0.1875}]
["Diadema","01691-Pavimento Térreo - Prédio Principal","Microscopio Binocular. Cor Branco E Azul","01-078462-00","2007-10-31",3600,10,{"$f":"F230*memoria!$B$44/(G230*12*memoria!$B$47)","v":7.4999999999999997E-2},{"$f":"F230/(G230*12*memoria!$B$47)","v":0.1875}]
["Diadema","01691-Pavimento Térreo - Prédio Principal","Microscopio Binocular. Cor Branco E Azul","01-078463-00","2007-10-31",3600,10,{"$f":"F231*memoria!$B$44/(G231*12*memoria!$B$47)","v":7.4999999999999997E-2},{"$f":"F231/(G231*12*memoria!$B$47)","v":0.1875}]
["Diadema","01691-Pavimento Térreo - Prédio Principal","Capela De Exaustao De Gases Para Laboratorio. Cor Branco","01-078464-00","2007-03-29",9250,10,{"$f":"F232*memoria!$B$44/(G232*12*memoria!$B$47)","v":0.19270833333333334},{"$f":"F232/(G232*12*memoria!$B$47)","v":0.48177083333333331}]
["Diadema","01691-Pavimento Térreo - Prédio Principal","Lavador De Gases. 220v. Cor Branco","01-078467-00","2007-05-07",7500,10,{"$f":"F233*memoria!$B$44/(G233*12*memoria!$B$47)","v":0.15625},{"$f":"F233/(G233*12*memoria!$B$47)","v":0.390625}]
["Diadema","01691-Pavimento Térreo - Prédio Principal","Barrilete Para Armazenamento De Agua Destilada. 50 Litros","01-078468-00","2007-05-23",365,10,{"$f":"F234*memoria!$B$44/(G234*12*memoria!$B$47)","v":7.6041666666666671E-3},{"$f":"F234/(G234*12*memoria!$B$47)","v":1.9010416666666665E-2}]
["Diadema","01691-Pavimento Térreo - Prédio Principal","Osmose Reversa. Cor Branco","01-078469-00","2007-05-15",3845,10,{"$f":"F235*memoria!$B$44/(G235*12*memoria!$B$47)","v":8.0104166666666671E-2},{"$f":"F235/(G235*12*memoria!$B$47)","v":0.20026041666666666}]
["Diadema","01707-Pavimento Térreo - Biblioteca","Fogão 4 Bocas. Cor Branco","01-078485-00","2007-07-25",293,10,{"$f":"F236*memoria!$B$44/(G236*12*memoria!$B$47)","v":6.1041666666666666E-3},{"$f":"F236/(G236*12*memoria!$B$47)","v":1.5260416666666667E-2}]
["Diadema","01691-Pavimento Térreo - Prédio Principal","Capela De Exaustao De Gases Para Laboratorio. Cor Branco","01-078486-00","2007-03-29",9250,10,{"$f":"F237*memoria!$B$44/(G237*12*memoria!$B$47)","v":0.19270833333333334},{"$f":"F237/(G237*12*memoria!$B$47)","v":0.48177083333333331}]
["Diadema","01691-Pavimento Térreo - Prédio Principal","Capela De Exaustao De Gases Para Laboratorio. Cor Branco","01-078487-00","2007-03-29",9250,10,{"$f":"F238*memoria!$B$44/(G238*12*memoria!$B$47)","v":0.19270833333333334},{"$f":"F238/(G238*12*memoria!$B$47)","v":0.48177083333333331}]
["Diadema","01691-Pavimento Térreo - Prédio Principal","Capela De Exaustao De Gases Para Laboratorio. Cor Branco","01-078488-00","2007-03-29",9250,10,{"$f":"F239*memoria!$B$44/(G239*12*memoria!$B$47)","v":0.19270833333333334},{"$f":"F239/(G239*12*memoria!$B$47)","v":0.48177083333333331}]
["Diadema","01691-Pavimento Térreo - Prédio Principal","Banho Maria Digital. 110v. Cor Cinza Claro","01-078509-00","2007-11-09",672.5,10,{"$f":"F240*memoria!$B$44/(G240*12*memoria!$B$47)","v":1.4010416666666666E-2},{"$f":"F240/(G240*12*memoria!$B$47)","v":3.5026041666666667E-2}]
["Diadema","01691-Pavimento Térreo - Prédio Principal","Banho Maria Digital. 110v. Cor Cinza Claro","01-078510-00","2007-11-09",672.5,10,{"$f":"F241*memoria!$B$44/(G241*12*memoria!$B$47)","v":1.4010416666666666E-2},{"$f":"F241/(G241*12*memoria!$B$47)","v":3.5026041666666667E-2}]
["Diadema","01691-Pavimento Térreo - Prédio Principal","Banho Maria Digital. 110v. Cor Cinza Claro","01-078511-00","2007-11-09",672.5,10,{"$f":"F242*memoria!$B$44/(G242*12*memoria!$B$47)","v":1.4010416666666666E-2},{"$f":"F242/(G242*12*memoria!$B$47)","v":3.5026041666666667E-2}]
["Diadema","01691-Pavimento Térreo - Prédio Principal","Banho Maria Digital. 110v. Cor Cinza Claro","01-078512-00","2007-11-09",672.5,10,{"$f":"F243*memoria!$B$44/(G243*12*memoria!$B$47)","v":1.4010416666666666E-2},{"$f":"F243/(G243*12*memoria!$B$47)","v":3.5026041666666667E-2}]
["Diadema","01691-Pavimento Térreo - Prédio Principal","Banho Maria Digital. 110v. Cor Cinza Claro","01-078513-00","2007-11-09",672.5,10,{"$f":"F244*memoria!$B$44/(G244*12*memoria!$B$47)","v":1.4010416666666666E-2},{"$f":"F244/(G244*12*memoria!$B$47)","v":3.5026041666666667E-2}]
["Diadema","01691-Pavimento Térreo - Prédio Principal","Banho Maria Digital. 110v. Cor Cinza Claro","01-078514-00","2007-11-09",672.5,10,{"$f":"F245*memoria!$B$44/(G245*12*memoria!$B$47)","v":1.4010416666666666E-2},{"$f":"F245/(G245*12*memoria!$B$47)","v":3.5026041666666667E-2}]
["Diadema","01707-Pavimento Térreo - Biblioteca","Carro Para Transportes De Materiais. Cor Verde","01-078515-00","2007-07-23",186,10,{"$f":"F246*memoria!$B$44/(G246*12*memoria!$B$47)","v":3.8750000000000004E-3},{"$f":"F246/(G246*12*memoria!$B$47)","v":9.6874999999999999E-3}]
["Diadema","01707-Pavimento Térreo - Biblioteca","Carro Para Transporte De Materiais. Cor Verde","01-078516-00","2007-07-23",480,10,{"$f":"F247*memoria!$B$44/(G247*12*memoria!$B$47)","v":0.01},{"$f":"F247/(G247*12*memoria!$B$47)","v":2.5000000000000001E-2}]
["Diadema","01691-Pavimento Térreo - Prédio Principal","Frigobar 79 Litros. 110 V. Cor Branco","01-078520-00","2007-04-05",616,10,{"$f":"F248*memoria!$B$44/(G248*12*memoria!$B$47)","v":1.2833333333333334E-2},{"$f":"F248/(G248*12*memoria!$B$47)","v":3.2083333333333332E-2}]
["Diadema","01691-Pavimento Térreo - Prédio Principal","Forno De Microondas. 110v. Cor Branco","01-078521-00","2007-04-05",408,10,{"$f":"F249*memoria!$B$44/(G249*12*memoria!$B$47)","v":8.5000000000000006E-3},{"$f":"F249/(G249*12*memoria!$B$47)","v":2.1250000000000002E-2}]
["Diadema","01691-Pavimento Térreo - Prédio Principal","Forno De Microondas. 110v. Cor Branco","01-078522-00","2007-04-05",408,10,{"$f":"F250*memoria!$B$44/(G250*12*memoria!$B$47)","v":8.5000000000000006E-3},{"$f":"F250/(G250*12*memoria!$B$47)","v":2.1250000000000002E-2}]
["Diadema","01691-Pavimento Térreo - Prédio Principal","Sistema De Exaustão Tipo Axial. 110/220v","01-078564-00","2007-11-22",1673,10,{"$f":"F251*memoria!$B$44/(G251*12*memoria!$B$47)","v":3.4854166666666672E-2},{"$f":"F251/(G251*12*memoria!$B$47)","v":8.7135416666666674E-2}]
["Diadema","01691-Pavimento Térreo - Prédio Principal","Centrifuga (Mini) Digital Programavel De Bancada. Cor Bege","01-078565-00","2007-11-29",8367.5,10,{"$f":"F252*memoria!$B$44/(G252*12*memoria!$B$47)","v":0.17432291666666666},{"$f":"F252/(G252*12*memoria!$B$47)","v":0.43580729166666665}]
["Diadema","01691-Pavimento Térreo - Prédio Principal","Centrifuga Digital Refrigerada Microprocessada De Bancada. Cor Cinza","01-078566-00","2007-11-29",8367.5,10,{"$f":"F253*memoria!$B$44/(G253*12*memoria!$B$47)","v":0.17432291666666666},{"$f":"F253/(G253*12*memoria!$B$47)","v":0.43580729166666665}]
["Diadema","01691-Pavimento Térreo - Prédio Principal","Estufa Incubadora De Bod, Digital, Microprocessada. Cor Branca","01-078567-00","2007-11-29",3500,10,{"$f":"F254*memoria!$B$44/(G254*12*memoria!$B$47)","v":7.2916666666666671E-2},{"$f":"F254/(G254*12*memoria!$B$47)","v":0.18229166666666666}]
["Diadema","01707-Pavimento Térreo - Biblioteca","Refrigerado 1 Porta. Cor Branco. 110v","01-078569-00","2007-12-03",875,10,{"$f":"F255*memoria!$B$44/(G255*12*memoria!$B$47)","v":1.8229166666666668E-2},{"$f":"F255/(G255*12*memoria!$B$47)","v":4.5572916666666664E-2}]
["Diadema","01707-Pavimento Térreo - Biblioteca","Impressora Termica. Cor Bege","01-078624-00","2007-12-11",830,10,{"$f":"F256*memoria!$B$44/(G256*12*memoria!$B$47)","v":1.7291666666666667E-2},{"$f":"F256/(G256*12*memoria!$B$47)","v":4.3229166666666666E-2}]
["Diadema","01707-Pavimento Térreo - Biblioteca","Impressora Termica. Cor Bege","01-078625-00","2007-12-11",830,10,{"$f":"F257*memoria!$B$44/(G257*12*memoria!$B$47)","v":1.7291666666666667E-2},{"$f":"F257/(G257*12*memoria!$B$47)","v":4.3229166666666666E-2}]
["Diadema","01691-Pavimento Térreo - Prédio Principal","Refrigerador 2 Portas. 460 Lts. Cor Branco","01-078626-00","2007-12-14",1595,10,{"$f":"F258*memoria!$B$44/(G258*12*memoria!$B$47)","v":3.3229166666666664E-2},{"$f":"F258/(G258*12*memoria!$B$47)","v":8.3072916666666663E-2}]
["Diadema","01691-Pavimento Térreo - Prédio Principal","Manta Aquecedora Cor Branca. 250 Ml","01-078627-00","2007-12-18",258,10,{"$f":"F259*memoria!$B$44/(G259*12*memoria!$B$47)","v":5.3750000000000004E-3},{"$f":"F259/(G259*12*memoria!$B$47)","v":1.34375E-2}]
["Diadema","01691-Pavimento Térreo - Prédio Principal","Manta Aquecedora Cor Branca. 250 Ml","01-078628-00","2007-12-18",258,10,{"$f":"F260*memoria!$B$44/(G260*12*memoria!$B$47)","v":5.3750000000000004E-3},{"$f":"F260/(G260*12*memoria!$B$47)","v":1.34375E-2}]
["Diadema","01691-Pavimento Térreo - Prédio Principal","Manta Aquecedora Cor Branca. 250 Ml","01-078629-00","2007-12-18",258,10,{"$f":"F261*memoria!$B$44/(G261*12*memoria!$B$47)","v":5.3750000000000004E-3},{"$f":"F261/(G261*12*memoria!$B$47)","v":1.34375E-2}]
["Diadema","01691-Pavimento Térreo - Prédio Principal","Manta Aquecedora Cor Branca. 250 Ml","01-078630-00","2007-12-18",258,10,{"$f":"F262*memoria!$B$44/(G262*12*memoria!$B$47)","v":5.3750000000000004E-3},{"$f":"F262/(G262*12*memoria!$B$47)","v":1.34375E-2}]
["Diadema","01691-Pavimento Térreo - Prédio Principal","Manta Aquecedora Cor Branca. 250 Ml","01-078631-00","2007-12-18",258,10,{"$f":"F263*memoria!$B$44/(G263*12*memoria!$B$47)","v":5.3750000000000004E-3},{"$f":"F263/(G263*12*memoria!$B$47)","v":1.34375E-2}]
["Diadema","01691-Pavimento Térreo - Prédio Principal","Manta Aquecedora Cor Branca. 250 Ml","01-078632-00","2007-12-18",258,10,{"$f":"F264*memoria!$B$44/(G264*12*memoria!$B$47)","v":5.3750000000000004E-3},{"$f":"F264/(G264*12*memoria!$B$47)","v":1.34375E-2}]
["Diadema","01691-Pavimento Térreo - Prédio Principal","Manta Aquecedora Cor Branca. 250 Ml","01-078633-00","2007-12-18",258,10,{"$f":"F265*memoria!$B$44/(G265*12*memoria!$B$47)","v":5.3750000000000004E-3},{"$f":"F265/(G265*12*memoria!$B$47)","v":1.34375E-2}]
["Diadema","01691-Pavimento Térreo - Prédio Principal","Manta Aquecedora Cor Branca. 250 Ml","01-078634-00","2007-12-18",258,10,{"$f":"F266*memoria!$B$44/(G266*12*memoria!$B$47)","v":5.3750000000000004E-3},{"$f":"F266/(G266*12*memoria!$B$47)","v":1.34375E-2}]
["Diadema","01691-Pavimento Térreo - Prédio Principal","Manta Aquecedora Cor Branca. 250 Ml","01-078635-00","2007-12-18",258,10,{"$f":"F267*memoria!$B$44/(G267*12*memoria!$B$47)","v":5.3750000000000004E-3},{"$f":"F267/(G267*12*memoria!$B$47)","v":1.34375E-2}]
["Diadema","01691-Pavimento Térreo - Prédio Principal","Manta Aquecedora Cor Branca. 250 Ml","01-078636-00","2007-12-18",258,10,{"$f":"F268*memoria!$B$44/(G268*12*memoria!$B$47)","v":5.3750000000000004E-3},{"$f":"F268/(G268*12*memoria!$B$47)","v":1.34375E-2}]
["Diadema","01691-Pavimento Térreo - Prédio Principal","Manta Aquecedora Cor Branca. 250 Ml","01-078637-00","2007-12-18",258,10,{"$f":"F269*memoria!$B$44/(G269*12*memoria!$B$47)","v":5.3750000000000004E-3},{"$f":"F269/(G269*12*memoria!$B$47)","v":1.34375E-2}]
["Diadema","01691-Pavimento Térreo - Prédio Principal","Manta Aquecedora Cor Branca. 250 Ml","01-078638-00","2007-12-18",258,10,{"$f":"F270*memoria!$B$44/(G270*12*memoria!$B$47)","v":5.3750000000000004E-3},{"$f":"F270/(G270*12*memoria!$B$47)","v":1.34375E-2}]
["Diadema","01691-Pavimento Térreo - Prédio Principal","Manta Aquecedora Cor Branca. 250 Ml","01-078639-00","2007-12-18",258,10,{"$f":"F271*memoria!$B$44/(G271*12*memoria!$B$47)","v":5.3750000000000004E-3},{"$f":"F271/(G271*12*memoria!$B$47)","v":1.34375E-2}]
["Diadema","01691-Pavimento Térreo - Prédio Principal","Manta Aquecedora Cor Branca. 250 Ml","01-078640-00","2007-12-18",258,10,{"$f":"F272*memoria!$B$44/(G272*12*memoria!$B$47)","v":5.3750000000000004E-3},{"$f":"F272/(G272*12*memoria!$B$47)","v":1.34375E-2}]
["Diadema","01691-Pavimento Térreo - Prédio Principal","Manta Aquecedora Cor Branca. 250 Ml","01-078641-00","2007-12-18",258,10,{"$f":"F273*memoria!$B$44/(G273*12*memoria!$B$47)","v":5.3750000000000004E-3},{"$f":"F273/(G273*12*memoria!$B$47)","v":1.34375E-2}]
["Diadema","01691-Pavimento Térreo - Prédio Principal","Manta Aquecedora Cor Branca. 250 Ml","01-078642-00","2007-12-18",258,10,{"$f":"F274*memoria!$B$44/(G274*12*memoria!$B$47)","v":5.3750000000000004E-3},{"$f":"F274/(G274*12*memoria!$B$47)","v":1.34375E-2}]
["Diadema","01691-Pavimento Térreo - Prédio Principal","Manta Aquecedora Cor Branca. 250 Ml","01-078643-00","2007-12-18",258,10,{"$f":"F275*memoria!$B$44/(G275*12*memoria!$B$47)","v":5.3750000000000004E-3},{"$f":"F275/(G275*12*memoria!$B$47)","v":1.34375E-2}]
["Diadema","01691-Pavimento Térreo - Prédio Principal","Manta Aquecedora Cor Branca. 250 Ml","01-078644-00","2007-12-18",258,10,{"$f":"F276*memoria!$B$44/(G276*12*memoria!$B$47)","v":5.3750000000000004E-3},{"$f":"F276/(G276*12*memoria!$B$47)","v":1.34375E-2}]
["Diadema","01691-Pavimento Térreo - Prédio Principal","Manta Aquecedora Cor Branca. 250 Ml","01-078645-00","2007-12-18",258,10,{"$f":"F277*memoria!$B$44/(G277*12*memoria!$B$47)","v":5.3750000000000004E-3},{"$f":"F277/(G277*12*memoria!$B$47)","v":1.34375E-2}]
["Diadema","01691-Pavimento Térreo - Prédio Principal","Manta Aquecedora Cor Branca. 250 Ml","01-078646-00","2007-12-18",258,10,{"$f":"F278*memoria!$B$44/(G278*12*memoria!$B$47)","v":5.3750000000000004E-3},{"$f":"F278/(G278*12*memoria!$B$47)","v":1.34375E-2}]
["Diadema","01691-Pavimento Térreo - Prédio Principal","Manta Aquecedora. Cor Branca. 500 Ml","01-078647-00","2007-12-18",251,10,{"$f":"F279*memoria!$B$44/(G279*12*memoria!$B$47)","v":5.2291666666666667E-3},{"$f":"F279/(G279*12*memoria!$B$47)","v":1.3072916666666667E-2}]
["Diadema","01691-Pavimento Térreo - Prédio Principal","Manta Aquecedora. Cor Branca. 500 Ml","01-078648-00","2007-12-18",251,10,{"$f":"F280*memoria!$B$44/(G280*12*memoria!$B$47)","v":5.2291666666666667E-3},{"$f":"F280/(G280*12*memoria!$B$47)","v":1.3072916666666667E-2}]
["Diadema","01691-Pavimento Térreo - Prédio Principal","Manta Aquecedora. Cor Branca. 500 Ml","01-078649-00","2007-12-18",251,10,{"$f":"F281*memoria!$B$44/(G281*12*memoria!$B$47)","v":5.2291666666666667E-3},{"$f":"F281/(G281*12*memoria!$B$47)","v":1.3072916666666667E-2}]
["Diadema","01691-Pavimento Térreo - Prédio Principal","Manta Aquecedora. Cor Branca. 500 Ml","01-078650-00","2007-12-18",251,10,{"$f":"F282*memoria!$B$44/(G282*12*memoria!$B$47)","v":5.2291666666666667E-3},{"$f":"F282/(G282*12*memoria!$B$47)","v":1.3072916666666667E-2}]
["Diadema","01691-Pavimento Térreo - Prédio Principal","Manta Aquecedora. Cor Branca. 500 Ml","01-078651-00","2007-12-18",251,10,{"$f":"F283*memoria!$B$44/(G283*12*memoria!$B$47)","v":5.2291666666666667E-3},{"$f":"F283/(G283*12*memoria!$B$47)","v":1.3072916666666667E-2}]
["Diadema","01691-Pavimento Térreo - Prédio Principal","Manta Aquecedora. Cor Branca. 500 Ml","01-078652-00","2007-12-18",251,10,{"$f":"F284*memoria!$B$44/(G284*12*memoria!$B$47)","v":5.2291666666666667E-3},{"$f":"F284/(G284*12*memoria!$B$47)","v":1.3072916666666667E-2}]
["Diadema","01691-Pavimento Térreo - Prédio Principal","Manta Aquecedora. Cor Branca. 500 Ml","01-078653-00","2007-12-18",251,10,{"$f":"F285*memoria!$B$44/(G285*12*memoria!$B$47)","v":5.2291666666666667E-3},{"$f":"F285/(G285*12*memoria!$B$47)","v":1.3072916666666667E-2}]
["Diadema","01691-Pavimento Térreo - Prédio Principal","Manta Aquecedora. Cor Branca. 500 Ml","01-078654-00","2007-12-18",251,10,{"$f":"F286*memoria!$B$44/(G286*12*memoria!$B$47)","v":5.2291666666666667E-3},{"$f":"F286/(G286*12*memoria!$B$47)","v":1.3072916666666667E-2}]
["Diadema","01691-Pavimento Térreo - Prédio Principal","Manta Aquecedora. Cor Branca. 500 Ml","01-078655-00","2007-12-18",251,10,{"$f":"F287*memoria!$B$44/(G287*12*memoria!$B$47)","v":5.2291666666666667E-3},{"$f":"F287/(G287*12*memoria!$B$47)","v":1.3072916666666667E-2}]
["Diadema","01691-Pavimento Térreo - Prédio Principal","Manta Aquecedora. Cor Branca. 500 Ml","01-078656-00","2007-12-18",251,10,{"$f":"F288*memoria!$B$44/(G288*12*memoria!$B$47)","v":5.2291666666666667E-3},{"$f":"F288/(G288*12*memoria!$B$47)","v":1.3072916666666667E-2}]
["Diadema","01691-Pavimento Térreo - Prédio Principal","Manta Aquecedora. Cor Branca. 500 Ml","01-078657-00","2007-12-18",251,10,{"$f":"F289*memoria!$B$44/(G289*12*memoria!$B$47)","v":5.2291666666666667E-3},{"$f":"F289/(G289*12*memoria!$B$47)","v":1.3072916666666667E-2}]
["Diadema","01691-Pavimento Térreo - Prédio Principal","Manta Aquecedora. Cor Branca. 500 Ml","01-078658-00","2007-12-18",251,10,{"$f":"F290*memoria!$B$44/(G290*12*memoria!$B$47)","v":5.2291666666666667E-3},{"$f":"F290/(G290*12*memoria!$B$47)","v":1.3072916666666667E-2}]
["Diadema","01691-Pavimento Térreo - Prédio Principal","Manta Aquecedora. Cor Branca. 500 Ml","01-078659-00","2007-12-18",251,10,{"$f":"F291*memoria!$B$44/(G291*12*memoria!$B$47)","v":5.2291666666666667E-3},{"$f":"F291/(G291*12*memoria!$B$47)","v":1.3072916666666667E-2}]
["Diadema","01691-Pavimento Térreo - Prédio Principal","Manta Aquecedora. Cor Branca. 500 Ml","01-078660-00","2007-12-18",251,10,{"$f":"F292*memoria!$B$44/(G292*12*memoria!$B$47)","v":5.2291666666666667E-3},{"$f":"F292/(G292*12*memoria!$B$47)","v":1.3072916666666667E-2}]
["Diadema","01691-Pavimento Térreo - Prédio Principal","Manta Aquecedora. Cor Branca. 500 Ml","01-078661-00","2007-12-18",251,10,{"$f":"F293*memoria!$B$44/(G293*12*memoria!$B$47)","v":5.2291666666666667E-3},{"$f":"F293/(G293*12*memoria!$B$47)","v":1.3072916666666667E-2}]
["Diadema","01691-Pavimento Térreo - Prédio Principal","Manta Aquecedora. Cor Branca. 500 Ml","01-078662-00","2007-12-18",251,10,{"$f":"F294*memoria!$B$44/(G294*12*memoria!$B$47)","v":5.2291666666666667E-3},{"$f":"F294/(G294*12*memoria!$B$47)","v":1.3072916666666667E-2}]
["Diadema","01691-Pavimento Térreo - Prédio Principal","Manta Aquecedora. Cor Branca. 500 Ml","01-078663-00","2007-12-18",251,10,{"$f":"F295*memoria!$B$44/(G295*12*memoria!$B$47)","v":5.2291666666666667E-3},{"$f":"F295/(G295*12*memoria!$B$47)","v":1.3072916666666667E-2}]
["Diadema","01691-Pavimento Térreo - Prédio Principal","Manta Aquecedora. Cor Branca. 500 Ml","01-078664-00","2007-12-18",251,10,{"$f":"F296*memoria!$B$44/(G296*12*memoria!$B$47)","v":5.2291666666666667E-3},{"$f":"F296/(G296*12*memoria!$B$47)","v":1.3072916666666667E-2}]
["Diadema","01691-Pavimento Térreo - Prédio Principal","Manta Aquecedora. Cor Branca. 500 Ml","01-078665-00","2007-12-18",251,10,{"$f":"F297*memoria!$B$44/(G297*12*memoria!$B$47)","v":5.2291666666666667E-3},{"$f":"F297/(G297*12*memoria!$B$47)","v":1.3072916666666667E-2}]
["Diadema","01691-Pavimento Térreo - Prédio Principal","Manta Aquecedora. Cor Branca. 500 Ml","01-078666-00","2007-12-18",251,10,{"$f":"F298*memoria!$B$44/(G298*12*memoria!$B$47)","v":5.2291666666666667E-3},{"$f":"F298/(G298*12*memoria!$B$47)","v":1.3072916666666667E-2}]
["Diadema","01691-Pavimento Térreo - Prédio Principal","Ponto De Fusão A Seco. Cor Bege","01-078667-00","2007-12-18",920,10,{"$f":"F299*memoria!$B$44/(G299*12*memoria!$B$47)","v":1.9166666666666665E-2},{"$f":"F299/(G299*12*memoria!$B$47)","v":4.791666666666667E-2}]
["Diadema","01691-Pavimento Térreo - Prédio Principal","Estufa Microporcessada De Secagem. Cor Cinza E Bege","01-078668-00","2007-12-18",1660,10,{"$f":"F300*memoria!$B$44/(G300*12*memoria!$B$47)","v":3.4583333333333334E-2},{"$f":"F300/(G300*12*memoria!$B$47)","v":8.6458333333333331E-2}]
["Diadema","01691-Pavimento Térreo - Prédio Principal","Estufa Microporcessada De Secagem. Cor Cinza E Bege","01-078669-00","2007-12-18",1660,10,{"$f":"F301*memoria!$B$44/(G301*12*memoria!$B$47)","v":3.4583333333333334E-2},{"$f":"F301/(G301*12*memoria!$B$47)","v":8.6458333333333331E-2}]
["Diadema","01691-Pavimento Térreo - Prédio Principal","Evaporador Rotativo. 110 V. Cor Branco","01-078670-00","2007-12-18",2920,10,{"$f":"F302*memoria!$B$44/(G302*12*memoria!$B$47)","v":6.0833333333333336E-2},{"$f":"F302/(G302*12*memoria!$B$47)","v":0.15208333333333332}]
["Diadema","01691-Pavimento Térreo - Prédio Principal","Evaporador Rotativo. 110 V. Cor Branco","01-078671-00","2007-12-18",2920,10,{"$f":"F303*memoria!$B$44/(G303*12*memoria!$B$47)","v":6.0833333333333336E-2},{"$f":"F303/(G303*12*memoria!$B$47)","v":0.15208333333333332}]
["Diadema","01691-Pavimento Térreo - Prédio Principal","Osmose Reversa. Cor Branco","01-078672-00","2007-12-20",9000,10,{"$f":"F304*memoria!$B$44/(G304*12*memoria!$B$47)","v":0.1875},{"$f":"F304/(G304*12*memoria!$B$47)","v":0.46875}]
["Diadema","01691-Pavimento Térreo - Prédio Principal","Triturador (Liquidificador) Corpo Cromado","01-078673-00","2007-12-20",1300,10,{"$f":"F305*memoria!$B$44/(G305*12*memoria!$B$47)","v":2.7083333333333334E-2},{"$f":"F305/(G305*12*memoria!$B$47)","v":6.7708333333333329E-2}]
["Diadema","01691-Pavimento Térreo - Prédio Principal","Triturador (Liquidificador) Corpo Cromado","01-078674-00","2007-12-20",1300,10,{"$f":"F306*memoria!$B$44/(G306*12*memoria!$B$47)","v":2.7083333333333334E-2},{"$f":"F306/(G306*12*memoria!$B$47)","v":6.7708333333333329E-2}]
["Diadema","01691-Pavimento Térreo - Prédio Principal","Balanca Eletronica Analitica. Cor Argila","01-078675-00","2007-12-21",2900,10,{"$f":"F307*memoria!$B$44/(G307*12*memoria!$B$47)","v":6.0416666666666667E-2},{"$f":"F307/(G307*12*memoria!$B$47)","v":0.15104166666666666}]
["Diadema","01691-Pavimento Térreo - Prédio Principal","Balanca Eletronica Analitica. Cor Argila","01-078676-00","2007-12-21",2900,10,{"$f":"F308*memoria!$B$44/(G308*12*memoria!$B$47)","v":6.0416666666666667E-2},{"$f":"F308/(G308*12*memoria!$B$47)","v":0.15104166666666666}]
["Diadema","01691-Pavimento Térreo - Prédio Principal","Balanca Eletronica Analitica. Cor Argila","01-078677-00","2007-12-21",2900,10,{"$f":"F309*memoria!$B$44/(G309*12*memoria!$B$47)","v":6.0416666666666667E-2},{"$f":"F309/(G309*12*memoria!$B$47)","v":0.15104166666666666}]
["Diadema","01691-Pavimento Térreo - Prédio Principal","Balanca Eletronica Analitica. Cor Argila","01-078678-00","2007-12-21",2900,10,{"$f":"F310*memoria!$B$44/(G310*12*memoria!$B$47)","v":6.0416666666666667E-2},{"$f":"F310/(G310*12*memoria!$B$47)","v":0.15104166666666666}]
["Diadema","01691-Pavimento Térreo - Prédio Principal","Balanca Eletronica Analitica. Cor Argila","01-078679-00","2007-12-21",2900,10,{"$f":"F311*memoria!$B$44/(G311*12*memoria!$B$47)","v":6.0416666666666667E-2},{"$f":"F311/(G311*12*memoria!$B$47)","v":0.15104166666666666}]
["Diadema","01691-Pavimento Térreo - Prédio Principal","Balanca Eletronica De Precisao. 5k. Cor Cinza","01-078680-00","2007-12-21",1200,10,{"$f":"F312*memoria!$B$44/(G312*12*memoria!$B$47)","v":2.5000000000000001E-2},{"$f":"F312/(G312*12*memoria!$B$47)","v":6.25E-2}]
["Diadema","01691-Pavimento Térreo - Prédio Principal","Balanca Semi Analitica. 8 Kg. Cor Cinza","01-078681-00","2007-12-21",1798,10,{"$f":"F313*memoria!$B$44/(G313*12*memoria!$B$47)","v":3.7458333333333337E-2},{"$f":"F313/(G313*12*memoria!$B$47)","v":9.3645833333333331E-2}]
["Diadema","01691-Pavimento Térreo - Prédio Principal","Balanca Semi Analitica. 8 Kg. Cor Cinza","01-078682-00","2007-12-21",1798,10,{"$f":"F314*memoria!$B$44/(G314*12*memoria!$B$47)","v":3.7458333333333337E-2},{"$f":"F314/(G314*12*memoria!$B$47)","v":9.3645833333333331E-2}]
["Diadema","01691-Pavimento Térreo - Prédio Principal","Balanca Semi Analitica. 8 Kg. Cor Cinza","01-078683-00","2007-12-21",1798,10,{"$f":"F315*memoria!$B$44/(G315*12*memoria!$B$47)","v":3.7458333333333337E-2},{"$f":"F315/(G315*12*memoria!$B$47)","v":9.3645833333333331E-2}]
["Diadema","01691-Pavimento Térreo - Prédio Principal","Balanca Semi Analitica. 8 Kg. Cor Cinza","01-078684-00","2007-12-21",1798,10,{"$f":"F316*memoria!$B$44/(G316*12*memoria!$B$47)","v":3.7458333333333337E-2},{"$f":"F316/(G316*12*memoria!$B$47)","v":9.3645833333333331E-2}]
["Diadema","01691-Pavimento Térreo - Prédio Principal","Balanca Semi Analitica. 8 Kg. Cor Cinza","01-078685-00","2007-12-21",1798,10,{"$f":"F317*memoria!$B$44/(G317*12*memoria!$B$47)","v":3.7458333333333337E-2},{"$f":"F317/(G317*12*memoria!$B$47)","v":9.3645833333333331E-2}]
["Diadema","01691-Pavimento Térreo - Prédio Principal","Balanca Semi Analitica. 4 Kg. Cor Cinza","01-078686-00","2007-12-21",1880,10,{"$f":"F318*memoria!$B$44/(G318*12*memoria!$B$47)","v":3.9166666666666669E-2},{"$f":"F318/(G318*12*memoria!$B$47)","v":9.7916666666666666E-2}]
["Diadema","01691-Pavimento Térreo - Prédio Principal","Balanca Semi Analitica. 4 Kg. Cor Cinza","01-078687-00","2007-12-21",1880,10,{"$f":"F319*memoria!$B$44/(G319*12*memoria!$B$47)","v":3.9166666666666669E-2},{"$f":"F319/(G319*12*memoria!$B$47)","v":9.7916666666666666E-2}]
["Diadema","01691-Pavimento Térreo - Prédio Principal","Balanca Semi Analitica. 4 Kg. Cor Cinza","01-078688-00","2007-12-21",1880,10,{"$f":"F320*memoria!$B$44/(G320*12*memoria!$B$47)","v":3.9166666666666669E-2},{"$f":"F320/(G320*12*memoria!$B$47)","v":9.7916666666666666E-2}]
["Diadema","01691-Pavimento Térreo - Prédio Principal","Balanca Semi Analitica. 4 Kg. Cor Cinza","01-078689-00","2007-12-21",1880,10,{"$f":"F321*memoria!$B$44/(G321*12*memoria!$B$47)","v":3.9166666666666669E-2},{"$f":"F321/(G321*12*memoria!$B$47)","v":9.7916666666666666E-2}]
["Diadema","01691-Pavimento Térreo - Prédio Principal","Balanca Semi Analitica. 4 Kg. Cor Cinza","01-078690-00","2007-12-21",1880,10,{"$f":"F322*memoria!$B$44/(G322*12*memoria!$B$47)","v":3.9166666666666669E-2},{"$f":"F322/(G322*12*memoria!$B$47)","v":9.7916666666666666E-2}]
["Diadema","01691-Pavimento Térreo - Prédio Principal","Condutivimetro De Bancada. Cor Azul/Cinza","01-078691-00","2007-12-21",3000,10,{"$f":"F323*memoria!$B$44/(G323*12*memoria!$B$47)","v":6.25E-2},{"$f":"F323/(G323*12*memoria!$B$47)","v":0.15625}]
["Diadema","01691-Pavimento Térreo - Prédio Principal","Condutivimetro De Bancada. Cor Azul/Cinza","01-078692-00","2007-12-21",3000,10,{"$f":"F324*memoria!$B$44/(G324*12*memoria!$B$47)","v":6.25E-2},{"$f":"F324/(G324*12*memoria!$B$47)","v":0.15625}]
["Diadema","01691-Pavimento Térreo - Prédio Principal","Conjunto Pinho - Lei De Lens Cor Cinza","01-078693-00","2007-12-21",490,10,{"$f":"F325*memoria!$B$44/(G325*12*memoria!$B$47)","v":1.0208333333333333E-2},{"$f":"F325/(G325*12*memoria!$B$47)","v":2.5520833333333333E-2}]
["Diadema","01691-Pavimento Térreo - Prédio Principal","Conjunto Pinho - Lei De Lens Cor Cinza","01-078694-00","2007-12-21",490,10,{"$f":"F326*memoria!$B$44/(G326*12*memoria!$B$47)","v":1.0208333333333333E-2},{"$f":"F326/(G326*12*memoria!$B$47)","v":2.5520833333333333E-2}]
["Diadema","01691-Pavimento Térreo - Prédio Principal","Conjunto Pinho - Lei De Lens Cor Cinza","01-078695-00","2007-12-21",490,10,{"$f":"F327*memoria!$B$44/(G327*12*memoria!$B$47)","v":1.0208333333333333E-2},{"$f":"F327/(G327*12*memoria!$B$47)","v":2.5520833333333333E-2}]
["Diadema","01691-Pavimento Térreo - Prédio Principal","Conjunto Pinho - Lei De Lens Cor Cinza","01-078696-00","2007-12-21",490,10,{"$f":"F328*memoria!$B$44/(G328*12*memoria!$B$47)","v":1.0208333333333333E-2},{"$f":"F328/(G328*12*memoria!$B$47)","v":2.5520833333333333E-2}]
["Diadema","01691-Pavimento Térreo - Prédio Principal","Conjunto Pinho - Lei De Lens Cor Cinza","01-078697-00","2007-12-21",490,10,{"$f":"F329*memoria!$B$44/(G329*12*memoria!$B$47)","v":1.0208333333333333E-2},{"$f":"F329/(G329*12*memoria!$B$47)","v":2.5520833333333333E-2}]
["Diadema","01691-Pavimento Térreo - Prédio Principal","Conjunto Pinho - Lei De Lens Cor Cinza","01-078698-00","2007-12-21",490,10,{"$f":"F330*memoria!$B$44/(G330*12*memoria!$B$47)","v":1.0208333333333333E-2},{"$f":"F330/(G330*12*memoria!$B$47)","v":2.5520833333333333E-2}]
["Diadema","01691-Pavimento Térreo - Prédio Principal","Conjunto Para Fisica Moderna Iv. Cor Cinza","01-078699-00","2007-12-21",1780,10,{"$f":"F331*memoria!$B$44/(G331*12*memoria!$B$47)","v":3.7083333333333336E-2},{"$f":"F331/(G331*12*memoria!$B$47)","v":9.2708333333333337E-2}]
["Diadema","01691-Pavimento Térreo - Prédio Principal","Conjunto Para Fisica Moderna Iv. Cor Cinza","01-078700-00","2007-12-21",1780,10,{"$f":"F332*memoria!$B$44/(G332*12*memoria!$B$47)","v":3.7083333333333336E-2},{"$f":"F332/(G332*12*memoria!$B$47)","v":9.2708333333333337E-2}]
["Diadema","01826-Prédio Administrativo - pavimento térreo","Relógio Protocolador","01-079015-00","2007-05-25",850,10,{"$f":"F333*memoria!$B$44/(G333*12*memoria!$B$47)","v":1.7708333333333333E-2},{"$f":"F333/(G333*12*memoria!$B$47)","v":4.4270833333333336E-2}]
["Diadema","01691-Pavimento Térreo - Prédio Principal","Conjunto Para Fisica Moderna Iv. Cor Cinza","01-080101-00","2007-12-21",1780,10,{"$f":"F334*memoria!$B$44/(G334*12*memoria!$B$47)","v":3.7083333333333336E-2},{"$f":"F334/(G334*12*memoria!$B$47)","v":9.2708333333333337E-2}]
["Diadema","01691-Pavimento Térreo - Prédio Principal","Conjunto Para Fisica Moderna Iv. Cor Cinza","01-080102-00","2007-12-21",1780,10,{"$f":"F335*memoria!$B$44/(G335*12*memoria!$B$47)","v":3.7083333333333336E-2},{"$f":"F335/(G335*12*memoria!$B$47)","v":9.2708333333333337E-2}]
["Diadema","01691-Pavimento Térreo - Prédio Principal","Conjunto Para Fisica Moderna Iv. Cor Cinza","01-080103-00","2007-12-21",1780,10,{"$f":"F336*memoria!$B$44/(G336*12*memoria!$B$47)","v":3.7083333333333336E-2},{"$f":"F336/(G336*12*memoria!$B$47)","v":9.2708333333333337E-2}]
["Diadema","01691-Pavimento Térreo - Prédio Principal","Conjunto Para Fisica Moderna Iv. Cor Cinza","01-080104-00","2007-12-21",1780,10,{"$f":"F337*memoria!$B$44/(G337*12*memoria!$B$47)","v":3.7083333333333336E-2},{"$f":"F337/(G337*12*memoria!$B$47)","v":9.2708333333333337E-2}]
["Diadema","01707-Pavimento Térreo - Biblioteca","Sistema De Detecção Eletromagnetica","01-080105-00","2007-12-14",37100,10,{"$f":"F338*memoria!$B$44/(G338*12*memoria!$B$47)","v":0.7729166666666667},{"$f":"F338/(G338*12*memoria!$B$47)","v":1.9322916666666667}]
["Diadema","01691-Pavimento Térreo - Prédio Principal","Sistema De Catracas Eletronicas Composto De: 4 Catracas Na Cor Preto E Prata,","01-080106-00","2007-12-18",14250,10,{"$f":"F339*memoria!$B$44/(G339*12*memoria!$B$47)","v":0.296875},{"$f":"F339/(G339*12*memoria!$B$47)","v":0.7421875}]
["Diadema","01691-Pavimento Térreo - Prédio Principal","Medidor De Ph De Bancada. Cor Verde E Branco","01-080107-00","2008-01-03",680,10,{"$f":"F340*memoria!$B$44/(G340*12*memoria!$B$47)","v":1.4166666666666666E-2},{"$f":"F340/(G340*12*memoria!$B$47)","v":3.5416666666666666E-2}]
["Diadema","01691-Pavimento Térreo - Prédio Principal","Medidor De Ph De Bancada. Cor Verde E Branco","01-080108-00","2008-01-03",680,10,{"$f":"F341*memoria!$B$44/(G341*12*memoria!$B$47)","v":1.4166666666666666E-2},{"$f":"F341/(G341*12*memoria!$B$47)","v":3.5416666666666666E-2}]
["Diadema","01691-Pavimento Térreo - Prédio Principal","Medidor De Ph De Bancada. Cor Verde E Branco","01-080109-00","2008-01-03",680,10,{"$f":"F342*memoria!$B$44/(G342*12*memoria!$B$47)","v":1.4166666666666666E-2},{"$f":"F342/(G342*12*memoria!$B$47)","v":3.5416666666666666E-2}]
["Diadema","01691-Pavimento Térreo - Prédio Principal","Medidor De Ph De Bancada. Cor Verde E Branco","01-080110-00","2008-01-03",680,10,{"$f":"F343*memoria!$B$44/(G343*12*memoria!$B$47)","v":1.4166666666666666E-2},{"$f":"F343/(G343*12*memoria!$B$47)","v":3.5416666666666666E-2}]
["Diadema","01691-Pavimento Térreo - Prédio Principal","Medidor De Ph De Bancada. Cor Verde E Branco","01-080111-00","2008-01-03",680,10,{"$f":"F344*memoria!$B$44/(G344*12*memoria!$B$47)","v":1.4166666666666666E-2},{"$f":"F344/(G344*12*memoria!$B$47)","v":3.5416666666666666E-2}]
["Diadema","01691-Pavimento Térreo - Prédio Principal","Medidor De Ph De Bancada. Cor Verde E Branco","01-080112-00","2008-01-03",680,10,{"$f":"F345*memoria!$B$44/(G345*12*memoria!$B$47)","v":1.4166666666666666E-2},{"$f":"F345/(G345*12*memoria!$B$47)","v":3.5416666666666666E-2}]
["Diadema","01691-Pavimento Térreo - Prédio Principal","Medidor De Ph De Bancada. Cor Verde E Branco","01-080113-00","2008-01-03",680,10,{"$f":"F346*memoria!$B$44/(G346*12*memoria!$B$47)","v":1.4166666666666666E-2},{"$f":"F346/(G346*12*memoria!$B$47)","v":3.5416666666666666E-2}]
["Diadema","01691-Pavimento Térreo - Prédio Principal","Medidor De Ph De Bancada. Cor Verde E Branco","01-080114-00","2008-01-03",680,10,{"$f":"F347*memoria!$B$44/(G347*12*memoria!$B$47)","v":1.4166666666666666E-2},{"$f":"F347/(G347*12*memoria!$B$47)","v":3.5416666666666666E-2}]
["Diadema","01691-Pavimento Térreo - Prédio Principal","Barrilete Pvc, 100 Litros, Cor Branco","01-080165-00","2008-01-09",490,10,{"$f":"F348*memoria!$B$44/(G348*12*memoria!$B$47)","v":1.0208333333333333E-2},{"$f":"F348/(G348*12*memoria!$B$47)","v":2.5520833333333333E-2}]
["Diadema","01691-Pavimento Térreo - Prédio Principal","Incubadora De Bancada Com Agitação Orbital - Shaker, Cor Cinza","01-080166-00","2007-12-31",9770,10,{"$f":"F349*memoria!$B$44/(G349*12*memoria!$B$47)","v":0.20354166666666668},{"$f":"F349/(G349*12*memoria!$B$47)","v":0.50885416666666672}]
["Diadema","01691-Pavimento Térreo - Prédio Principal","Incubadora Para B.O.D.. Cor Cinza","01-080167-00","2007-12-31",3790,10,{"$f":"F350*memoria!$B$44/(G350*12*memoria!$B$47)","v":7.8958333333333339E-2},{"$f":"F350/(G350*12*memoria!$B$47)","v":0.19739583333333333}]
["Diadema","01691-Pavimento Térreo - Prédio Principal","Banho Agitador Dubnoff Microprocessado. Cor Argila","01-080168-00","2008-01-18",2599.8000000000002,10,{"$f":"F351*memoria!$B$44/(G351*12*memoria!$B$47)","v":5.4162500000000002E-2},{"$f":"F351/(G351*12*memoria!$B$47)","v":0.13540625000000001}]
["Diadema","01691-Pavimento Térreo - Prédio Principal","Banho Agitador Dubnoff Microprocessado. Cor Argila","01-080169-00","2008-01-18",2599.8000000000002,10,{"$f":"F352*memoria!$B$44/(G352*12*memoria!$B$47)","v":5.4162500000000002E-2},{"$f":"F352/(G352*12*memoria!$B$47)","v":0.13540625000000001}]
["Diadema","01691-Pavimento Térreo - Prédio Principal","Banho Agitador Dubnoff Microprocessado. Cor Argila","01-080170-00","2008-01-18",2599.8000000000002,10,{"$f":"F353*memoria!$B$44/(G353*12*memoria!$B$47)","v":5.4162500000000002E-2},{"$f":"F353/(G353*12*memoria!$B$47)","v":0.13540625000000001}]
["Diadema","01691-Pavimento Térreo - Prédio Principal","Banho Agitador Dubnoff Microprocessado. Cor Argila","01-080171-00","2008-01-18",2599.8000000000002,10,{"$f":"F354*memoria!$B$44/(G354*12*memoria!$B$47)","v":5.4162500000000002E-2},{"$f":"F354/(G354*12*memoria!$B$47)","v":0.13540625000000001}]
["Diadema","01691-Pavimento Térreo - Prédio Principal","Banho Agitador Dubnoff Microprocessado. Cor Argila","01-080172-00","2008-01-18",2599.8000000000002,10,{"$f":"F355*memoria!$B$44/(G355*12*memoria!$B$47)","v":5.4162500000000002E-2},{"$f":"F355/(G355*12*memoria!$B$47)","v":0.13540625000000001}]
["Diadema","01691-Pavimento Térreo - Prédio Principal","Condutivimetro De Bancada Faixa De 0 A 20, 0 A 200, O A 2000. Cor Branco E Cinza","01-080173-00","2008-01-18",912,10,{"$f":"F356*memoria!$B$44/(G356*12*memoria!$B$47)","v":1.9E-2},{"$f":"F356/(G356*12*memoria!$B$47)","v":4.7500000000000001E-2}]
["Diadema","01691-Pavimento Térreo - Prédio Principal","Condutivimetro De Bancada Faixa De 0 A 20, 0 A 200, O A 2000. Cor Branco E Cinza","01-080174-00","2008-01-18",912,10,{"$f":"F357*memoria!$B$44/(G357*12*memoria!$B$47)","v":1.9E-2},{"$f":"F357/(G357*12*memoria!$B$47)","v":4.7500000000000001E-2}]
["Diadema","01691-Pavimento Térreo - Prédio Principal","Condutivimetro De Bancada Faixa De 0 A 20, 0 A 200, O A 2000. Cor Branco E Cinza","01-080175-00","2008-01-18",912,10,{"$f":"F358*memoria!$B$44/(G358*12*memoria!$B$47)","v":1.9E-2},{"$f":"F358/(G358*12*memoria!$B$47)","v":4.7500000000000001E-2}]
["Diadema","01691-Pavimento Térreo - Prédio Principal","Condutivimetro De Bancada Faixa De 0 A 20, 0 A 200, O A 2000. Cor Branco E Cinza","01-080176-00","2008-01-18",912,10,{"$f":"F359*memoria!$B$44/(G359*12*memoria!$B$47)","v":1.9E-2},{"$f":"F359/(G359*12*memoria!$B$47)","v":4.7500000000000001E-2}]
["Diadema","01691-Pavimento Térreo - Prédio Principal","Condutivimetro De Bancada Faixa De 0 A 20, 0 A 200, O A 2000. Cor Branco E Cinza","01-080177-00","2008-01-18",912,10,{"$f":"F360*memoria!$B$44/(G360*12*memoria!$B$47)","v":1.9E-2},{"$f":"F360/(G360*12*memoria!$B$47)","v":4.7500000000000001E-2}]
["Diadema","01691-Pavimento Térreo - Prédio Principal","Condutivimetro De Bancada Faixa De 0 A 20, 0 A 200, O A 2000. Cor Branco E Cinza","01-080178-00","2008-01-18",912,10,{"$f":"F361*memoria!$B$44/(G361*12*memoria!$B$47)","v":1.9E-2},{"$f":"F361/(G361*12*memoria!$B$47)","v":4.7500000000000001E-2}]
["Diadema","01691-Pavimento Térreo - Prédio Principal","Condutivimetro De Bancada Faixa De 0 A 20, 0 A 200, O A 2000. Cor Branco E Cinza","01-080179-00","2008-01-18",912,10,{"$f":"F362*memoria!$B$44/(G362*12*memoria!$B$47)","v":1.9E-2},{"$f":"F362/(G362*12*memoria!$B$47)","v":4.7500000000000001E-2}]
["Diadema","01691-Pavimento Térreo - Prédio Principal","Condutivimetro De Bancada Faixa De 0 A 20, 0 A 200, O A 2000. Cor Branco E Cinza","01-080180-00","2008-01-18",912,10,{"$f":"F363*memoria!$B$44/(G363*12*memoria!$B$47)","v":1.9E-2},{"$f":"F363/(G363*12*memoria!$B$47)","v":4.7500000000000001E-2}]
["Diadema","01691-Pavimento Térreo - Prédio Principal","Condutivimetro De Bancada Faixa De 0 A 20, 0 A 200, O A 2000. Cor Branco E Cinza","01-080181-00","2008-01-18",912,10,{"$f":"F364*memoria!$B$44/(G364*12*memoria!$B$47)","v":1.9E-2},{"$f":"F364/(G364*12*memoria!$B$47)","v":4.7500000000000001E-2}]
["Diadema","01691-Pavimento Térreo - Prédio Principal","Condutivimetro De Bancada Faixa De 0 A 20, 0 A 200, O A 2000. Cor Branco E Cinza","01-080182-00","2008-01-18",912,10,{"$f":"F365*memoria!$B$44/(G365*12*memoria!$B$47)","v":1.9E-2},{"$f":"F365/(G365*12*memoria!$B$47)","v":4.7500000000000001E-2}]
["Diadema","01691-Pavimento Térreo - Prédio Principal","Condutivimetro De Bancada Faixa De 0 A 20, 0 A 200, O A 2000. Cor Branco E Cinza","01-080183-00","2008-01-18",912,10,{"$f":"F366*memoria!$B$44/(G366*12*memoria!$B$47)","v":1.9E-2},{"$f":"F366/(G366*12*memoria!$B$47)","v":4.7500000000000001E-2}]
["Diadema","01691-Pavimento Térreo - Prédio Principal","Condutivimetro De Bancada Faixa De 0 A 20, 0 A 200, O A 2000. Cor Branco E Cinza","01-080184-00","2008-01-18",912,10,{"$f":"F367*memoria!$B$44/(G367*12*memoria!$B$47)","v":1.9E-2},{"$f":"F367/(G367*12*memoria!$B$47)","v":4.7500000000000001E-2}]
["Diadema","01691-Pavimento Térreo - Prédio Principal","Condutivimetro De Bancada Faixa De 0 A 20, 0 A 200, O A 2000. Cor Branco E Cinza","01-080185-00","2008-01-18",912,10,{"$f":"F368*memoria!$B$44/(G368*12*memoria!$B$47)","v":1.9E-2},{"$f":"F368/(G368*12*memoria!$B$47)","v":4.7500000000000001E-2}]
["Diadema","01691-Pavimento Térreo - Prédio Principal","Condutivimetro De Bancada Faixa De 0 A 20, 0 A 200, O A 2000. Cor Branco E Cinza","01-080186-00","2008-01-18",912,10,{"$f":"F369*memoria!$B$44/(G369*12*memoria!$B$47)","v":1.9E-2},{"$f":"F369/(G369*12*memoria!$B$47)","v":4.7500000000000001E-2}]
["Diadema","01691-Pavimento Térreo - Prédio Principal","Condutivimetro De Bancada Faixa De 0 A 20, 0 A 200, O A 2000. Cor Branco E Cinza","01-080187-00","2008-01-18",912,10,{"$f":"F370*memoria!$B$44/(G370*12*memoria!$B$47)","v":1.9E-2},{"$f":"F370/(G370*12*memoria!$B$47)","v":4.7500000000000001E-2}]
["Diadema","01691-Pavimento Térreo - Prédio Principal","Condutivimetro De Bancada Faixa De 0 A 20, 0 A 200, O A 2000. Cor Branco E Cinza","01-080188-00","2008-01-18",912,10,{"$f":"F371*memoria!$B$44/(G371*12*memoria!$B$47)","v":1.9E-2},{"$f":"F371/(G371*12*memoria!$B$47)","v":4.7500000000000001E-2}]
["Diadema","01691-Pavimento Térreo - Prédio Principal","Condutivimetro De Bancada Faixa De 0 A 20, 0 A 200, O A 2000. Cor Branco E Cinza","01-080189-00","2008-01-18",912,10,{"$f":"F372*memoria!$B$44/(G372*12*memoria!$B$47)","v":1.9E-2},{"$f":"F372/(G372*12*memoria!$B$47)","v":4.7500000000000001E-2}]
["Diadema","01691-Pavimento Térreo - Prédio Principal","Condutivimetro De Bancada Faixa De 0 A 20, 0 A 200, O A 2000. Cor Branco E Cinza","01-080190-00","2008-01-18",912,10,{"$f":"F373*memoria!$B$44/(G373*12*memoria!$B$47)","v":1.9E-2},{"$f":"F373/(G373*12*memoria!$B$47)","v":4.7500000000000001E-2}]
["Diadema","01691-Pavimento Térreo - Prédio Principal","Condutivimetro De Bancada Faixa De 0 A 20, 0 A 200, O A 2000. Cor Branco E Cinza","01-080191-00","2008-01-18",912,10,{"$f":"F374*memoria!$B$44/(G374*12*memoria!$B$47)","v":1.9E-2},{"$f":"F374/(G374*12*memoria!$B$47)","v":4.7500000000000001E-2}]
["Diadema","01691-Pavimento Térreo - Prédio Principal","Condutivimetro De Bancada Faixa De 0 A 20, 0 A 200, O A 2000. Cor Branco E Cinza","01-080192-00","2008-01-18",912,10,{"$f":"F375*memoria!$B$44/(G375*12*memoria!$B$47)","v":1.9E-2},{"$f":"F375/(G375*12*memoria!$B$47)","v":4.7500000000000001E-2}]
["Diadema","01691-Pavimento Térreo - Prédio Principal","Condutivimetro De Bancada Faixa De 0 A 20, 0 A 200, O A 2000. Cor Branco E Cinza","01-080193-00","2008-01-18",912,10,{"$f":"F376*memoria!$B$44/(G376*12*memoria!$B$47)","v":1.9E-2},{"$f":"F376/(G376*12*memoria!$B$47)","v":4.7500000000000001E-2}]
["Diadema","01691-Pavimento Térreo - Prédio Principal","Condutivimetro De Bancada Faixa De 0 A 20, 0 A 200, O A 2000. Cor Branco E Cinza","01-080194-00","2008-01-18",912,10,{"$f":"F377*memoria!$B$44/(G377*12*memoria!$B$47)","v":1.9E-2},{"$f":"F377/(G377*12*memoria!$B$47)","v":4.7500000000000001E-2}]
["Diadema","01691-Pavimento Térreo - Prédio Principal","Condutivimetro De Bancada Faixa De 0 A 20, 0 A 200, O A 2000. Cor Branco E Cinza","01-080195-00","2008-01-18",912,10,{"$f":"F378*memoria!$B$44/(G378*12*memoria!$B$47)","v":1.9E-2},{"$f":"F378/(G378*12*memoria!$B$47)","v":4.7500000000000001E-2}]
["Diadema","01691-Pavimento Térreo - Prédio Principal","Condutivimetro De Bancada Faixa De 0 A 20, 0 A 200, O A 2000. Cor Branco E Cinza","01-080196-00","2008-01-18",912,10,{"$f":"F379*memoria!$B$44/(G379*12*memoria!$B$47)","v":1.9E-2},{"$f":"F379/(G379*12*memoria!$B$47)","v":4.7500000000000001E-2}]
["Diadema","01691-Pavimento Térreo - Prédio Principal","Condutivimetro De Bancada Faixa De 0 A 20, 0 A 200, O A 2000. Cor Branco E Cinza","01-080197-00","2008-01-18",912,10,{"$f":"F380*memoria!$B$44/(G380*12*memoria!$B$47)","v":1.9E-2},{"$f":"F380/(G380*12*memoria!$B$47)","v":4.7500000000000001E-2}]
["Diadema","01691-Pavimento Térreo - Prédio Principal","Colchão De Ar Master Com Cronometro Microcontrolado E Sensores","01-080198-00","2008-01-25",3333.3,10,{"$f":"F381*memoria!$B$44/(G381*12*memoria!$B$47)","v":6.9443750000000012E-2},{"$f":"F381/(G381*12*memoria!$B$47)","v":0.17360937500000001}]
["Diadema","01691-Pavimento Térreo - Prédio Principal","Colchão De Ar Master Com Cronometro Microcontrolado E Sensores","01-080199-00","2008-01-25",3333.3,10,{"$f":"F382*memoria!$B$44/(G382*12*memoria!$B$47)","v":6.9443750000000012E-2},{"$f":"F382/(G382*12*memoria!$B$47)","v":0.17360937500000001}]
["Diadema","01691-Pavimento Térreo - Prédio Principal","Colchão De Ar Master Com Cronometro Microcontrolado E Sensores","01-080200-00","2008-01-25",3333.3,10,{"$f":"F383*memoria!$B$44/(G383*12*memoria!$B$47)","v":6.9443750000000012E-2},{"$f":"F383/(G383*12*memoria!$B$47)","v":0.17360937500000001}]
["Diadema","01691-Pavimento Térreo - Prédio Principal","Colchão De Ar Master Com Cronometro Microcontrolado E Sensores","01-080201-00","2008-01-25",3333.3,10,{"$f":"F384*memoria!$B$44/(G384*12*memoria!$B$47)","v":6.9443750000000012E-2},{"$f":"F384/(G384*12*memoria!$B$47)","v":0.17360937500000001}]
["Diadema","01691-Pavimento Térreo - Prédio Principal","Colchão De Ar Master Com Cronometro Microcontrolado E Sensores","01-080202-00","2008-01-25",3333.3,10,{"$f":"F385*memoria!$B$44/(G385*12*memoria!$B$47)","v":6.9443750000000012E-2},{"$f":"F385/(G385*12*memoria!$B$47)","v":0.17360937500000001}]
["Diadema","01691-Pavimento Térreo - Prédio Principal","Colchão De Ar Master Com Cronometro Microcontrolado E Sensores","01-080203-00","2008-01-25",3333.3,10,{"$f":"F386*memoria!$B$44/(G386*12*memoria!$B$47)","v":6.9443750000000012E-2},{"$f":"F386/(G386*12*memoria!$B$47)","v":0.17360937500000001}]
["Diadema","01691-Pavimento Térreo - Prédio Principal","Polarimetro Circular De Bancada. Cor Branco","01-080204-00","2008-01-30",1238,10,{"$f":"F387*memoria!$B$44/(G387*12*memoria!$B$47)","v":2.5791666666666668E-2},{"$f":"F387/(G387*12*memoria!$B$47)","v":6.4479166666666671E-2}]
["Diadema","01691-Pavimento Térreo - Prédio Principal","Microscopio Binocular. Cor Branco E Azul","01-080205-00","2008-02-01",3320,10,{"$f":"F388*memoria!$B$44/(G388*12*memoria!$B$47)","v":6.9166666666666668E-2},{"$f":"F388/(G388*12*memoria!$B$47)","v":0.17291666666666666}]
["Diadema","01691-Pavimento Térreo - Prédio Principal","Microscopio Binocular. Cor Branco E Azul","01-080206-00","2008-02-01",3320,10,{"$f":"F389*memoria!$B$44/(G389*12*memoria!$B$47)","v":6.9166666666666668E-2},{"$f":"F389/(G389*12*memoria!$B$47)","v":0.17291666666666666}]
["Diadema","01691-Pavimento Térreo - Prédio Principal","Microscopio Binocular. Cor Branco E Azul","01-080207-00","2008-02-01",3320,10,{"$f":"F390*memoria!$B$44/(G390*12*memoria!$B$47)","v":6.9166666666666668E-2},{"$f":"F390/(G390*12*memoria!$B$47)","v":0.17291666666666666}]
["Diadema","01691-Pavimento Térreo - Prédio Principal","Microscopio Binocular. Cor Branco E Azul","01-080208-00","2008-02-01",3320,10,{"$f":"F391*memoria!$B$44/(G391*12*memoria!$B$47)","v":6.9166666666666668E-2},{"$f":"F391/(G391*12*memoria!$B$47)","v":0.17291666666666666}]
["Diadema","01691-Pavimento Térreo - Prédio Principal","Microscopio Binocular. Cor Branco E Azul","01-080209-00","2008-02-01",3320,10,{"$f":"F392*memoria!$B$44/(G392*12*memoria!$B$47)","v":6.9166666666666668E-2},{"$f":"F392/(G392*12*memoria!$B$47)","v":0.17291666666666666}]
["Diadema","01691-Pavimento Térreo - Prédio Principal","Microscopio Binocular. Cor Branco E Azul","01-080210-00","2008-02-01",3320,10,{"$f":"F393*memoria!$B$44/(G393*12*memoria!$B$47)","v":6.9166666666666668E-2},{"$f":"F393/(G393*12*memoria!$B$47)","v":0.17291666666666666}]
["Diadema","01691-Pavimento Térreo - Prédio Principal","Microscopio Binocular. Cor Branco E Azul","01-080211-00","2008-02-01",3320,10,{"$f":"F394*memoria!$B$44/(G394*12*memoria!$B$47)","v":6.9166666666666668E-2},{"$f":"F394/(G394*12*memoria!$B$47)","v":0.17291666666666666}]
["Diadema","01691-Pavimento Térreo - Prédio Principal","Microscopio Binocular. Cor Branco E Azul","01-080212-00","2008-02-01",3320,10,{"$f":"F395*memoria!$B$44/(G395*12*memoria!$B$47)","v":6.9166666666666668E-2},{"$f":"F395/(G395*12*memoria!$B$47)","v":0.17291666666666666}]
["Diadema","01691-Pavimento Térreo - Prédio Principal","Microscopio Binocular. Cor Branco E Azul","01-080213-00","2008-02-01",3320,10,{"$f":"F396*memoria!$B$44/(G396*12*memoria!$B$47)","v":6.9166666666666668E-2},{"$f":"F396/(G396*12*memoria!$B$47)","v":0.17291666666666666}]
["Diadema","01691-Pavimento Térreo - Prédio Principal","Microscopio Binocular. Cor Branco E Azul","01-080214-00","2008-02-01",3320,10,{"$f":"F397*memoria!$B$44/(G397*12*memoria!$B$47)","v":6.9166666666666668E-2},{"$f":"F397/(G397*12*memoria!$B$47)","v":0.17291666666666666}]
["Diadema","01691-Pavimento Térreo - Prédio Principal","Estereomicroscopio. Cor Branco E Azul","01-080215-00","2008-02-01",4300,10,{"$f":"F398*memoria!$B$44/(G398*12*memoria!$B$47)","v":8.9583333333333334E-2},{"$f":"F398/(G398*12*memoria!$B$47)","v":0.22395833333333334}]
["Diadema","01691-Pavimento Térreo - Prédio Principal","Estereomicroscopio. Cor Branco E Azul","01-080216-00","2008-02-01",4300,10,{"$f":"F399*memoria!$B$44/(G399*12*memoria!$B$47)","v":8.9583333333333334E-2},{"$f":"F399/(G399*12*memoria!$B$47)","v":0.22395833333333334}]
["Diadema","01691-Pavimento Térreo - Prédio Principal","Estereomicroscopio. Cor Branco E Azul","01-080217-00","2008-02-01",4300,10,{"$f":"F400*memoria!$B$44/(G400*12*memoria!$B$47)","v":8.9583333333333334E-2},{"$f":"F400/(G400*12*memoria!$B$47)","v":0.22395833333333334}]
["Diadema","01691-Pavimento Térreo - Prédio Principal","Estereomicroscopio. Cor Branco E Azul","01-080218-00","2008-02-01",4300,10,{"$f":"F401*memoria!$B$44/(G401*12*memoria!$B$47)","v":8.9583333333333334E-2},{"$f":"F401/(G401*12*memoria!$B$47)","v":0.22395833333333334}]
["Diadema","01691-Pavimento Térreo - Prédio Principal","Estereomicroscopio. Cor Branco E Azul","01-080219-00","2008-02-01",4300,10,{"$f":"F402*memoria!$B$44/(G402*12*memoria!$B$47)","v":8.9583333333333334E-2},{"$f":"F402/(G402*12*memoria!$B$47)","v":0.22395833333333334}]
["Diadema","01691-Pavimento Térreo - Prédio Principal","Estereomicroscopio. Cor Branco E Azul","01-080220-00","2008-02-01",4300,10,{"$f":"F403*memoria!$B$44/(G403*12*memoria!$B$47)","v":8.9583333333333334E-2},{"$f":"F403/(G403*12*memoria!$B$47)","v":0.22395833333333334}]
["Diadema","01691-Pavimento Térreo - Prédio Principal","Estereomicroscopio. Cor Branco E Azul","01-080221-00","2008-02-01",4300,10,{"$f":"F404*memoria!$B$44/(G404*12*memoria!$B$47)","v":8.9583333333333334E-2},{"$f":"F404/(G404*12*memoria!$B$47)","v":0.22395833333333334}]
["Diadema","01691-Pavimento Térreo - Prédio Principal","Estereomicroscopio. Cor Branco E Azul","01-080222-00","2008-02-01",4300,10,{"$f":"F405*memoria!$B$44/(G405*12*memoria!$B$47)","v":8.9583333333333334E-2},{"$f":"F405/(G405*12*memoria!$B$47)","v":0.22395833333333334}]
["Diadema","01691-Pavimento Térreo - Prédio Principal","Estereomicroscopio. Cor Branco E Azul","01-080223-00","2008-02-01",4300,10,{"$f":"F406*memoria!$B$44/(G406*12*memoria!$B$47)","v":8.9583333333333334E-2},{"$f":"F406/(G406*12*memoria!$B$47)","v":0.22395833333333334}]
["Diadema","01691-Pavimento Térreo - Prédio Principal","Estereomicroscopio. Cor Branco E Azul","01-080224-00","2008-02-01",4300,10,{"$f":"F407*memoria!$B$44/(G407*12*memoria!$B$47)","v":8.9583333333333334E-2},{"$f":"F407/(G407*12*memoria!$B$47)","v":0.22395833333333334}]
["Diadema","01691-Pavimento Térreo - Prédio Principal","Estereomicroscopio. Cor Branco E Azul","01-080225-00","2008-02-01",4300,10,{"$f":"F408*memoria!$B$44/(G408*12*memoria!$B$47)","v":8.9583333333333334E-2},{"$f":"F408/(G408*12*memoria!$B$47)","v":0.22395833333333334}]
["Diadema","01691-Pavimento Térreo - Prédio Principal","Estereomicroscopio. Cor Branco E Azul","01-080226-00","2008-02-01",4300,10,{"$f":"F409*memoria!$B$44/(G409*12*memoria!$B$47)","v":8.9583333333333334E-2},{"$f":"F409/(G409*12*memoria!$B$47)","v":0.22395833333333334}]
["Diadema","01691-Pavimento Térreo - Prédio Principal","Estereomicroscopio. Cor Branco E Azul","01-080227-00","2008-02-01",4300,10,{"$f":"F410*memoria!$B$44/(G410*12*memoria!$B$47)","v":8.9583333333333334E-2},{"$f":"F410/(G410*12*memoria!$B$47)","v":0.22395833333333334}]
["Diadema","01691-Pavimento Térreo - Prédio Principal","Estereomicroscopio. Cor Branco E Azul","01-080228-00","2008-02-01",4300,10,{"$f":"F411*memoria!$B$44/(G411*12*memoria!$B$47)","v":8.9583333333333334E-2},{"$f":"F411/(G411*12*memoria!$B$47)","v":0.22395833333333334}]
["Diadema","01691-Pavimento Térreo - Prédio Principal","Estereomicroscopio. Cor Branco E Azul","01-080229-00","2008-02-01",4300,10,{"$f":"F412*memoria!$B$44/(G412*12*memoria!$B$47)","v":8.9583333333333334E-2},{"$f":"F412/(G412*12*memoria!$B$47)","v":0.22395833333333334}]
["Diadema","01691-Pavimento Térreo - Prédio Principal","Estereomicroscopio. Cor Branco E Azul","01-080230-00","2008-02-01",4300,10,{"$f":"F413*memoria!$B$44/(G413*12*memoria!$B$47)","v":8.9583333333333334E-2},{"$f":"F413/(G413*12*memoria!$B$47)","v":0.22395833333333334}]
["Diadema","01691-Pavimento Térreo - Prédio Principal","Estereomicroscopio. Cor Branco E Azul","01-080231-00","2008-02-01",4300,10,{"$f":"F414*memoria!$B$44/(G414*12*memoria!$B$47)","v":8.9583333333333334E-2},{"$f":"F414/(G414*12*memoria!$B$47)","v":0.22395833333333334}]
["Diadema","01691-Pavimento Térreo - Prédio Principal","Estereomicroscopio. Cor Branco E Azul","01-080232-00","2008-02-01",4300,10,{"$f":"F415*memoria!$B$44/(G415*12*memoria!$B$47)","v":8.9583333333333334E-2},{"$f":"F415/(G415*12*memoria!$B$47)","v":0.22395833333333334}]
["Diadema","01691-Pavimento Térreo - Prédio Principal","Estereomicroscopio. Cor Branco E Azul","01-080233-00","2008-02-01",4300,10,{"$f":"F416*memoria!$B$44/(G416*12*memoria!$B$47)","v":8.9583333333333334E-2},{"$f":"F416/(G416*12*memoria!$B$47)","v":0.22395833333333334}]
["Diadema","01691-Pavimento Térreo - Prédio Principal","Estereomicroscopio. Cor Branco E Azul","01-080234-00","2008-02-01",4300,10,{"$f":"F417*memoria!$B$44/(G417*12*memoria!$B$47)","v":8.9583333333333334E-2},{"$f":"F417/(G417*12*memoria!$B$47)","v":0.22395833333333334}]
["Diadema","01691-Pavimento Térreo - Prédio Principal","Concentrador De Dna. 110v. Cor Bege E Cinza","01-080386-00","2008-02-27",28700,10,{"$f":"F418*memoria!$B$44/(G418*12*memoria!$B$47)","v":0.59791666666666665},{"$f":"F418/(G418*12*memoria!$B$47)","v":1.4947916666666667}]
["Diadema","01691-Pavimento Térreo - Prédio Principal","Agitador De Tubos. Cor Azul E Cinza","01-080387-00","2008-02-27",662.5,10,{"$f":"F419*memoria!$B$44/(G419*12*memoria!$B$47)","v":1.3802083333333333E-2},{"$f":"F419/(G419*12*memoria!$B$47)","v":3.4505208333333336E-2}]
["Diadema","01691-Pavimento Térreo - Prédio Principal","Agitador De Tubos. Cor Azul E Cinza","01-080388-00","2008-02-27",662.5,10,{"$f":"F420*memoria!$B$44/(G420*12*memoria!$B$47)","v":1.3802083333333333E-2},{"$f":"F420/(G420*12*memoria!$B$47)","v":3.4505208333333336E-2}]
["Diadema","01691-Pavimento Térreo - Prédio Principal","Agitador De Tubos. Cor Azul E Cinza","01-080389-00","2008-02-27",662.5,10,{"$f":"F421*memoria!$B$44/(G421*12*memoria!$B$47)","v":1.3802083333333333E-2},{"$f":"F421/(G421*12*memoria!$B$47)","v":3.4505208333333336E-2}]
["Diadema","01691-Pavimento Térreo - Prédio Principal","Agitador De Tubos. Cor Azul E Cinza","01-080390-00","2008-02-27",662.5,10,{"$f":"F422*memoria!$B$44/(G422*12*memoria!$B$47)","v":1.3802083333333333E-2},{"$f":"F422/(G422*12*memoria!$B$47)","v":3.4505208333333336E-2}]
["Diadema","01691-Pavimento Térreo - Prédio Principal","Agitador De Tubos. Cor Azul E Cinza","01-080391-00","2008-02-27",662.5,10,{"$f":"F423*memoria!$B$44/(G423*12*memoria!$B$47)","v":1.3802083333333333E-2},{"$f":"F423/(G423*12*memoria!$B$47)","v":3.4505208333333336E-2}]
["Diadema","01691-Pavimento Térreo - Prédio Principal","Agitador De Tubos. Cor Azul E Cinza","01-080392-00","2008-02-27",662.5,10,{"$f":"F424*memoria!$B$44/(G424*12*memoria!$B$47)","v":1.3802083333333333E-2},{"$f":"F424/(G424*12*memoria!$B$47)","v":3.4505208333333336E-2}]
["Diadema","01691-Pavimento Térreo - Prédio Principal","Agitador De Tubos. Cor Azul E Cinza","01-080393-00","2008-02-27",662.5,10,{"$f":"F425*memoria!$B$44/(G425*12*memoria!$B$47)","v":1.3802083333333333E-2},{"$f":"F425/(G425*12*memoria!$B$47)","v":3.4505208333333336E-2}]
["Diadema","01691-Pavimento Térreo - Prédio Principal","Agitador De Tubos. Cor Azul E Cinza","01-080394-00","2008-02-27",662.5,10,{"$f":"F426*memoria!$B$44/(G426*12*memoria!$B$47)","v":1.3802083333333333E-2},{"$f":"F426/(G426*12*memoria!$B$47)","v":3.4505208333333336E-2}]
["Diadema","01691-Pavimento Térreo - Prédio Principal","Agitador De Tubos. Cor Azul E Cinza","01-080395-00","2008-02-27",662.5,10,{"$f":"F427*memoria!$B$44/(G427*12*memoria!$B$47)","v":1.3802083333333333E-2},{"$f":"F427/(G427*12*memoria!$B$47)","v":3.4505208333333336E-2}]
["Diadema","01691-Pavimento Térreo - Prédio Principal","Agitador De Tubos. Cor Azul E Cinza","01-080396-00","2008-02-27",662.5,10,{"$f":"F428*memoria!$B$44/(G428*12*memoria!$B$47)","v":1.3802083333333333E-2},{"$f":"F428/(G428*12*memoria!$B$47)","v":3.4505208333333336E-2}]
["Diadema","01691-Pavimento Térreo - Prédio Principal","Agitador Magnetico Com Aquecimento Para 15 Litros. Cor Azul","01-080397-00","2008-02-27",1114,10,{"$f":"F429*memoria!$B$44/(G429*12*memoria!$B$47)","v":2.3208333333333334E-2},{"$f":"F429/(G429*12*memoria!$B$47)","v":5.8020833333333334E-2}]
["Diadema","01691-Pavimento Térreo - Prédio Principal","Agitador Magnetico Com Aquecimento Para 15 Litros. Cor Azul","01-080398-00","2008-02-27",1114,10,{"$f":"F430*memoria!$B$44/(G430*12*memoria!$B$47)","v":2.3208333333333334E-2},{"$f":"F430/(G430*12*memoria!$B$47)","v":5.8020833333333334E-2}]
["Diadema","01691-Pavimento Térreo - Prédio Principal","Agitador Magnetico Com Aquecimento Para 15 Litros. Cor Azul","01-080399-00","2008-02-27",1114,10,{"$f":"F431*memoria!$B$44/(G431*12*memoria!$B$47)","v":2.3208333333333334E-2},{"$f":"F431/(G431*12*memoria!$B$47)","v":5.8020833333333334E-2}]
["Diadema","01691-Pavimento Térreo - Prédio Principal","Agitador Magnetico Com Aquecimento Até 10 Litros. Cor Azul","01-080400-00","2008-02-27",549,10,{"$f":"F432*memoria!$B$44/(G432*12*memoria!$B$47)","v":1.1437500000000001E-2},{"$f":"F432/(G432*12*memoria!$B$47)","v":2.8593750000000001E-2}]
["Diadema","01691-Pavimento Térreo - Prédio Principal","Agitador Magnetico Com Aquecimento Até 10 Litros. Cor Azul","01-080401-00","2008-02-27",549,10,{"$f":"F433*memoria!$B$44/(G433*12*memoria!$B$47)","v":1.1437500000000001E-2},{"$f":"F433/(G433*12*memoria!$B$47)","v":2.8593750000000001E-2}]
["Diadema","01691-Pavimento Térreo - Prédio Principal","Agitador Magnetico Com Aquecimento Até 10 Litros. Cor Azul","01-080402-00","2008-02-27",549,10,{"$f":"F434*memoria!$B$44/(G434*12*memoria!$B$47)","v":1.1437500000000001E-2},{"$f":"F434/(G434*12*memoria!$B$47)","v":2.8593750000000001E-2}]
["Diadema","01691-Pavimento Térreo - Prédio Principal","Agitador Magnetico Com Aquecimento Até 10 Litros. Cor Azul","01-080403-00","2008-02-27",549,10,{"$f":"F435*memoria!$B$44/(G435*12*memoria!$B$47)","v":1.1437500000000001E-2},{"$f":"F435/(G435*12*memoria!$B$47)","v":2.8593750000000001E-2}]
["Diadema","01691-Pavimento Térreo - Prédio Principal","Agitador Magnetico Com Aquecimento Até 10 Litros. Cor Azul","01-080404-00","2008-02-27",549,10,{"$f":"F436*memoria!$B$44/(G436*12*memoria!$B$47)","v":1.1437500000000001E-2},{"$f":"F436/(G436*12*memoria!$B$47)","v":2.8593750000000001E-2}]
["Diadema","01691-Pavimento Térreo - Prédio Principal","Agitador Magnetico Com Aquecimento Até 10 Litros. Cor Azul","01-080405-00","2008-02-27",549,10,{"$f":"F437*memoria!$B$44/(G437*12*memoria!$B$47)","v":1.1437500000000001E-2},{"$f":"F437/(G437*12*memoria!$B$47)","v":2.8593750000000001E-2}]
["Diadema","01691-Pavimento Térreo - Prédio Principal","Agitador Magnetico Com Aquecimento Até 10 Litros. Cor Azul","01-080406-00","2008-02-27",549,10,{"$f":"F438*memoria!$B$44/(G438*12*memoria!$B$47)","v":1.1437500000000001E-2},{"$f":"F438/(G438*12*memoria!$B$47)","v":2.8593750000000001E-2}]
["Diadema","01691-Pavimento Térreo - Prédio Principal","Agitador Magnetico Com Aquecimento Até 10 Litros. Cor Azul","01-080407-00","2008-02-27",549,10,{"$f":"F439*memoria!$B$44/(G439*12*memoria!$B$47)","v":1.1437500000000001E-2},{"$f":"F439/(G439*12*memoria!$B$47)","v":2.8593750000000001E-2}]
["Diadema","01691-Pavimento Térreo - Prédio Principal","Agitador Magnetico Com Aquecimento Até 10 Litros. Cor Azul","01-080408-00","2008-02-27",549,10,{"$f":"F440*memoria!$B$44/(G440*12*memoria!$B$47)","v":1.1437500000000001E-2},{"$f":"F440/(G440*12*memoria!$B$47)","v":2.8593750000000001E-2}]
["Diadema","01691-Pavimento Térreo - Prédio Principal","Agitador Magnetico Com Aquecimento Até 10 Litros. Cor Azul","01-080409-00","2008-02-27",549,10,{"$f":"F441*memoria!$B$44/(G441*12*memoria!$B$47)","v":1.1437500000000001E-2},{"$f":"F441/(G441*12*memoria!$B$47)","v":2.8593750000000001E-2}]
["Diadema","01691-Pavimento Térreo - Prédio Principal","Agitador Magnetico Até 4 Litros. Cor Azul","01-080410-00","2008-02-27",352.8,10,{"$f":"F442*memoria!$B$44/(G442*12*memoria!$B$47)","v":7.3500000000000006E-3},{"$f":"F442/(G442*12*memoria!$B$47)","v":1.8374999999999999E-2}]
["Diadema","01691-Pavimento Térreo - Prédio Principal","Agitador Magnetico Até 4 Litros. Cor Azul","01-080411-00","2008-02-27",352.8,10,{"$f":"F443*memoria!$B$44/(G443*12*memoria!$B$47)","v":7.3500000000000006E-3},{"$f":"F443/(G443*12*memoria!$B$47)","v":1.8374999999999999E-2}]
["Diadema","01691-Pavimento Térreo - Prédio Principal","Agitador Magnetico Até 4 Litros. Cor Azul","01-080412-00","2008-02-27",352.8,10,{"$f":"F444*memoria!$B$44/(G444*12*memoria!$B$47)","v":7.3500000000000006E-3},{"$f":"F444/(G444*12*memoria!$B$47)","v":1.8374999999999999E-2}]
["Diadema","01691-Pavimento Térreo - Prédio Principal","Agitador Magnetico Até 4 Litros. Cor Azul","01-080413-00","2008-02-27",352.8,10,{"$f":"F445*memoria!$B$44/(G445*12*memoria!$B$47)","v":7.3500000000000006E-3},{"$f":"F445/(G445*12*memoria!$B$47)","v":1.8374999999999999E-2}]
["Diadema","01691-Pavimento Térreo - Prédio Principal","Agitador Magnetico Até 4 Litros. Cor Azul","01-080414-00","2008-02-27",352.8,10,{"$f":"F446*memoria!$B$44/(G446*12*memoria!$B$47)","v":7.3500000000000006E-3},{"$f":"F446/(G446*12*memoria!$B$47)","v":1.8374999999999999E-2}]
["Diadema","01691-Pavimento Térreo - Prédio Principal","Agitador Magnetico Até 4 Litros. Cor Azul","01-080415-00","2008-02-27",352.8,10,{"$f":"F447*memoria!$B$44/(G447*12*memoria!$B$47)","v":7.3500000000000006E-3},{"$f":"F447/(G447*12*memoria!$B$47)","v":1.8374999999999999E-2}]
["Diadema","01691-Pavimento Térreo - Prédio Principal","Agitador Magnetico Até 4 Litros. Cor Azul","01-080416-00","2008-02-27",352.8,10,{"$f":"F448*memoria!$B$44/(G448*12*memoria!$B$47)","v":7.3500000000000006E-3},{"$f":"F448/(G448*12*memoria!$B$47)","v":1.8374999999999999E-2}]
["Diadema","01691-Pavimento Térreo - Prédio Principal","Agitador Magnetico Até 4 Litros. Cor Azul","01-080417-00","2008-02-27",352.8,10,{"$f":"F449*memoria!$B$44/(G449*12*memoria!$B$47)","v":7.3500000000000006E-3},{"$f":"F449/(G449*12*memoria!$B$47)","v":1.8374999999999999E-2}]
["Diadema","01691-Pavimento Térreo - Prédio Principal","Agitador Magnetico Até 4 Litros. Cor Azul","01-080418-00","2008-02-27",352.8,10,{"$f":"F450*memoria!$B$44/(G450*12*memoria!$B$47)","v":7.3500000000000006E-3},{"$f":"F450/(G450*12*memoria!$B$47)","v":1.8374999999999999E-2}]
["Diadema","01691-Pavimento Térreo - Prédio Principal","Agitador Magnetico Até 4 Litros. Cor Azul","01-080419-00","2008-02-27",352.8,10,{"$f":"F451*memoria!$B$44/(G451*12*memoria!$B$47)","v":7.3500000000000006E-3},{"$f":"F451/(G451*12*memoria!$B$47)","v":1.8374999999999999E-2}]
["Diadema","01691-Pavimento Térreo - Prédio Principal","Agitador Magnetico Até 4 Litros. Cor Azul","01-080420-00","2008-02-27",352.8,10,{"$f":"F452*memoria!$B$44/(G452*12*memoria!$B$47)","v":7.3500000000000006E-3},{"$f":"F452/(G452*12*memoria!$B$47)","v":1.8374999999999999E-2}]
["Diadema","01691-Pavimento Térreo - Prédio Principal","Agitador Magnetico Até 4 Litros. Cor Azul","01-080421-00","2008-02-27",352.8,10,{"$f":"F453*memoria!$B$44/(G453*12*memoria!$B$47)","v":7.3500000000000006E-3},{"$f":"F453/(G453*12*memoria!$B$47)","v":1.8374999999999999E-2}]
["Diadema","01691-Pavimento Térreo - Prédio Principal","Agitador Magnetico Até 4 Litros. Cor Azul","01-080422-00","2008-02-27",352.8,10,{"$f":"F454*memoria!$B$44/(G454*12*memoria!$B$47)","v":7.3500000000000006E-3},{"$f":"F454/(G454*12*memoria!$B$47)","v":1.8374999999999999E-2}]
["Diadema","01691-Pavimento Térreo - Prédio Principal","Agitador Magnetico Até 4 Litros. Cor Azul","01-080423-00","2008-02-27",352.8,10,{"$f":"F455*memoria!$B$44/(G455*12*memoria!$B$47)","v":7.3500000000000006E-3},{"$f":"F455/(G455*12*memoria!$B$47)","v":1.8374999999999999E-2}]
["Diadema","01691-Pavimento Térreo - Prédio Principal","Agitador Magnetico Até 4 Litros. Cor Azul","01-080424-00","2008-02-27",352.8,10,{"$f":"F456*memoria!$B$44/(G456*12*memoria!$B$47)","v":7.3500000000000006E-3},{"$f":"F456/(G456*12*memoria!$B$47)","v":1.8374999999999999E-2}]
["Diadema","01691-Pavimento Térreo - Prédio Principal","Agitador Magnetico Até 4 Litros. Cor Azul","01-080425-00","2008-02-27",352.8,10,{"$f":"F457*memoria!$B$44/(G457*12*memoria!$B$47)","v":7.3500000000000006E-3},{"$f":"F457/(G457*12*memoria!$B$47)","v":1.8374999999999999E-2}]
["Diadema","01691-Pavimento Térreo - Prédio Principal","Agitador Magnetico Até 4 Litros. Cor Azul","01-080426-00","2008-02-27",352.8,10,{"$f":"F458*memoria!$B$44/(G458*12*memoria!$B$47)","v":7.3500000000000006E-3},{"$f":"F458/(G458*12*memoria!$B$47)","v":1.8374999999999999E-2}]
["Diadema","01691-Pavimento Térreo - Prédio Principal","Agitador Magnetico Até 4 Litros. Cor Azul","01-080427-00","2008-02-27",352.8,10,{"$f":"F459*memoria!$B$44/(G459*12*memoria!$B$47)","v":7.3500000000000006E-3},{"$f":"F459/(G459*12*memoria!$B$47)","v":1.8374999999999999E-2}]
["Diadema","01691-Pavimento Térreo - Prédio Principal","Agitador Magnetico Até 4 Litros. Cor Azul","01-080428-00","2008-02-27",352.8,10,{"$f":"F460*memoria!$B$44/(G460*12*memoria!$B$47)","v":7.3500000000000006E-3},{"$f":"F460/(G460*12*memoria!$B$47)","v":1.8374999999999999E-2}]
["Diadema","01691-Pavimento Térreo - Prédio Principal","Agitador Magnetico Até 4 Litros. Cor Azul","01-080429-00","2008-02-27",352.8,10,{"$f":"F461*memoria!$B$44/(G461*12*memoria!$B$47)","v":7.3500000000000006E-3},{"$f":"F461/(G461*12*memoria!$B$47)","v":1.8374999999999999E-2}]
["Diadema","01691-Pavimento Térreo - Prédio Principal","Agitador Magnetico Até 4 Litros. Cor Azul","01-080430-00","2008-02-27",352.8,10,{"$f":"F462*memoria!$B$44/(G462*12*memoria!$B$47)","v":7.3500000000000006E-3},{"$f":"F462/(G462*12*memoria!$B$47)","v":1.8374999999999999E-2}]
["Diadema","01691-Pavimento Térreo - Prédio Principal","Agitador Magnetico Até 4 Litros. Cor Azul","01-080431-00","2008-02-27",352.8,10,{"$f":"F463*memoria!$B$44/(G463*12*memoria!$B$47)","v":7.3500000000000006E-3},{"$f":"F463/(G463*12*memoria!$B$47)","v":1.8374999999999999E-2}]
["Diadema","01691-Pavimento Térreo - Prédio Principal","Agitador Magnetico Até 4 Litros. Cor Azul","01-080432-00","2008-02-27",352.8,10,{"$f":"F464*memoria!$B$44/(G464*12*memoria!$B$47)","v":7.3500000000000006E-3},{"$f":"F464/(G464*12*memoria!$B$47)","v":1.8374999999999999E-2}]
["Diadema","01691-Pavimento Térreo - Prédio Principal","Agitador Magnetico Até 4 Litros. Cor Azul","01-080433-00","2008-02-27",352.8,10,{"$f":"F465*memoria!$B$44/(G465*12*memoria!$B$47)","v":7.3500000000000006E-3},{"$f":"F465/(G465*12*memoria!$B$47)","v":1.8374999999999999E-2}]
["Diadema","01691-Pavimento Térreo - Prédio Principal","Agitador Magnetico Até 4 Litros. Cor Azul","01-080434-00","2008-02-27",352.8,10,{"$f":"F466*memoria!$B$44/(G466*12*memoria!$B$47)","v":7.3500000000000006E-3},{"$f":"F466/(G466*12*memoria!$B$47)","v":1.8374999999999999E-2}]
["Diadema","01707-Pavimento Térreo - Biblioteca","Circuito De Tv (Cftv) Composto De: 30 Cameras;","01-080435-00","2008-01-21",39397,10,{"$f":"F467*memoria!$B$44/(G467*12*memoria!$B$47)","v":0.82077083333333334},{"$f":"F467/(G467*12*memoria!$B$47)","v":2.0519270833333332}]
["Diadema","01691-Pavimento Térreo - Prédio Principal","Banho Termostatico. Painel Digital. Cuba Em Inox. Cor Cinza","01-083251-00","2008-03-12",3150,10,{"$f":"F468*memoria!$B$44/(G468*12*memoria!$B$47)","v":6.5625000000000003E-2},{"$f":"F468/(G468*12*memoria!$B$47)","v":0.1640625}]
["Diadema","01691-Pavimento Térreo - Prédio Principal","Banho Termostatico. Painel Digital. Cuba Em Inox. Cor Cinza","01-083252-00","2008-03-12",3150,10,{"$f":"F469*memoria!$B$44/(G469*12*memoria!$B$47)","v":6.5625000000000003E-2},{"$f":"F469/(G469*12*memoria!$B$47)","v":0.1640625}]
["Diadema","01691-Pavimento Térreo - Prédio Principal","Camara Escura De Revelação Uv Para Uso Em Cromatografia. Cor Preta","01-083254-00","2008-03-31",1550,10,{"$f":"F470*memoria!$B$44/(G470*12*memoria!$B$47)","v":3.229166666666667E-2},{"$f":"F470/(G470*12*memoria!$B$47)","v":8.0729166666666671E-2}]
["Diadema","01691-Pavimento Térreo - Prédio Principal","Osciloscopio Analogico, 20 Mhz, Visor Frontal. Cor Gelo","01-083426-00","2008-04-23",836.67,10,{"$f":"F471*memoria!$B$44/(G471*12*memoria!$B$47)","v":1.7430625000000002E-2},{"$f":"F471/(G471*12*memoria!$B$47)","v":4.3576562499999999E-2}]
["Diadema","01691-Pavimento Térreo - Prédio Principal","Osciloscopio Analogico, 20 Mhz, Visor Frontal. Cor Gelo","01-083427-00","2008-04-23",836.67,10,{"$f":"F472*memoria!$B$44/(G472*12*memoria!$B$47)","v":1.7430625000000002E-2},{"$f":"F472/(G472*12*memoria!$B$47)","v":4.3576562499999999E-2}]
["Diadema","01691-Pavimento Térreo - Prédio Principal","Osciloscopio Analogico, 20 Mhz, Visor Frontal. Cor Gelo","01-083428-00","2008-04-23",836.67,10,{"$f":"F473*memoria!$B$44/(G473*12*memoria!$B$47)","v":1.7430625000000002E-2},{"$f":"F473/(G473*12*memoria!$B$47)","v":4.3576562499999999E-2}]
["Diadema","01691-Pavimento Térreo - Prédio Principal","Osciloscopio Analogico, 20 Mhz, Visor Frontal. Cor Gelo","01-083429-00","2008-04-23",836.67,10,{"$f":"F474*memoria!$B$44/(G474*12*memoria!$B$47)","v":1.7430625000000002E-2},{"$f":"F474/(G474*12*memoria!$B$47)","v":4.3576562499999999E-2}]
["Diadema","01691-Pavimento Térreo - Prédio Principal","Osciloscopio Analogico, 20 Mhz, Visor Frontal. Cor Gelo","01-083430-00","2008-04-23",836.67,10,{"$f":"F475*memoria!$B$44/(G475*12*memoria!$B$47)","v":1.7430625000000002E-2},{"$f":"F475/(G475*12*memoria!$B$47)","v":4.3576562499999999E-2}]
["Diadema","01691-Pavimento Térreo - Prédio Principal","Osciloscopio Analogico, 20 Mhz, Visor Frontal. Cor Gelo","01-083431-00","2008-04-23",836.65,10,{"$f":"F476*memoria!$B$44/(G476*12*memoria!$B$47)","v":1.7430208333333336E-2},{"$f":"F476/(G476*12*memoria!$B$47)","v":4.3575520833333332E-2}]
["Diadema","01691-Pavimento Térreo - Prédio Principal","Espectrometro Optico, 500 A 1100 Nm, Rs - 232 E Usb 2.0. Cor Argila","01-083488-00","2008-02-25",6388.76,10,{"$f":"F477*memoria!$B$44/(G477*12*memoria!$B$47)","v":0.13309916666666669},{"$f":"F477/(G477*12*memoria!$B$47)","v":0.3327479166666667}]
["Diadema","01691-Pavimento Térreo - Prédio Principal","Espectrometro Optico, 250 A 800 Nm, Rs-232 E Usb 2.0. Cor Argila","01-083489-00","2007-08-21",7282.44,10,{"$f":"F478*memoria!$B$44/(G478*12*memoria!$B$47)","v":0.15171750000000001},{"$f":"F478/(G478*12*memoria!$B$47)","v":0.37929374999999999}]
["Diadema","01708-Pavimento Único - Galpão","Analisador Elementar. Cor Branco Gelo","01-083491-00","2008-04-15",108613.72,10,{"$f":"F479*memoria!$B$44/(G479*12*memoria!$B$47)","v":2.2627858333333335},{"$f":"F479/(G479*12*memoria!$B$47)","v":5.6569645833333331}]
["Diadema","01691-Pavimento Térreo - Prédio Principal","Centrífuga De Bancada Excelsa Ii Bivolt Cor Cinza E Bege","01-083542-00","2008-05-28",2650.67,10,{"$f":"F480*memoria!$B$44/(G480*12*memoria!$B$47)","v":5.5222291666666666E-2},{"$f":"F480/(G480*12*memoria!$B$47)","v":0.13805572916666667}]
["Diadema","01691-Pavimento Térreo - Prédio Principal","Centrífuga De Bancada Excelsa Ii Bivolt Cor Cinza E Bege","01-083543-00","2008-05-28",2650.66,10,{"$f":"F481*memoria!$B$44/(G481*12*memoria!$B$47)","v":5.5222083333333331E-2},{"$f":"F481/(G481*12*memoria!$B$47)","v":0.13805520833333332}]
["Diadema","01691-Pavimento Térreo - Prédio Principal","Centrífuga De Bancada Excelsa Ii Bivolt Cor Cinza E Bege","01-083544-00","2008-05-28",2650.67,10,{"$f":"F482*memoria!$B$44/(G482*12*memoria!$B$47)","v":5.5222291666666666E-2},{"$f":"F482/(G482*12*memoria!$B$47)","v":0.13805572916666667}]
["Diadema","01691-Pavimento Térreo - Prédio Principal","Refratometro De Bancada De Abbe. Cor Branco Gelo E Botoes Preto","01-083545-00","2008-06-11",1002.12,10,{"$f":"F483*memoria!$B$44/(G483*12*memoria!$B$47)","v":2.08775E-2},{"$f":"F483/(G483*12*memoria!$B$47)","v":5.2193749999999997E-2}]
["Diadema","01691-Pavimento Térreo - Prédio Principal","Refratometro De Bancada De Abbe. Cor Bege E Botoes Prata","01-083546-00","2008-06-11",1002.12,10,{"$f":"F484*memoria!$B$44/(G484*12*memoria!$B$47)","v":2.08775E-2},{"$f":"F484/(G484*12*memoria!$B$47)","v":5.2193749999999997E-2}]
["Diadema","01691-Pavimento Térreo - Prédio Principal","Refratometro De Bancada De Abbe. Cor Bege E Botoes Prata","01-083547-00","2008-06-11",1002.12,10,{"$f":"F485*memoria!$B$44/(G485*12*memoria!$B$47)","v":2.08775E-2},{"$f":"F485/(G485*12*memoria!$B$47)","v":5.2193749999999997E-2}]
["Diadema","01691-Pavimento Térreo - Prédio Principal","Termociclador Com Gradiente De Temperatura E Painel Frontal. Cor Cinza E Azul","01-083548-00","2008-06-19",14000,10,{"$f":"F486*memoria!$B$44/(G486*12*memoria!$B$47)","v":0.29166666666666669},{"$f":"F486/(G486*12*memoria!$B$47)","v":0.72916666666666663}]
["Diadema","01691-Pavimento Térreo - Prédio Principal","Microcentrifuga Refrigerada De Bancada. Rotor 14000rpm. Cor Branco E Verde","01-083549-00","2008-06-17",31800,10,{"$f":"F487*memoria!$B$44/(G487*12*memoria!$B$47)","v":0.66249999999999998},{"$f":"F487/(G487*12*memoria!$B$47)","v":1.65625}]
["Diadema","01709-Pavimento Único - Gráfica","Banca Tipo Dememmbrada. Tampo Em Marmore Escuro 103 X 70 X 90 Cm E Conexão","01-083552-00","2008-05-20",4324.79,10,{"$f":"F488*memoria!$B$44/(G488*12*memoria!$B$47)","v":9.0099791666666679E-2},{"$f":"F488/(G488*12*memoria!$B$47)","v":0.22524947916666666}]
["Diadema","01691-Pavimento Térreo - Prédio Principal","Sistema De Fotodocumentação De Geis. 110v. Cor Preto E Cinza","01-083564-00","2008-07-10",14400,10,{"$f":"F489*memoria!$B$44/(G489*12*memoria!$B$47)","v":0.3},{"$f":"F489/(G489*12*memoria!$B$47)","v":0.75}]
["Diadema","01699-2º Pavimento - Prédio Principal","Turbidimetro Digital Portatil. Escala De 0 A 1000 Ntu. Cor Preto","01-083598-00","2008-08-25",1200,10,{"$f":"F490*memoria!$B$44/(G490*12*memoria!$B$47)","v":2.5000000000000001E-2},{"$f":"F490/(G490*12*memoria!$B$47)","v":6.25E-2}]
["Diadema","01699-2º Pavimento - Prédio Principal","Microscopio Binocular Cor Cinza E Argila","01-083599-00","2008-08-29",870,10,{"$f":"F491*memoria!$B$44/(G491*12*memoria!$B$47)","v":1.8124999999999999E-2},{"$f":"F491/(G491*12*memoria!$B$47)","v":4.5312499999999999E-2}]
["Diadema","01699-2º Pavimento - Prédio Principal","Microscopio Binocular Cor Cinza E Argila","01-083600-00","2008-08-29",870,10,{"$f":"F492*memoria!$B$44/(G492*12*memoria!$B$47)","v":1.8124999999999999E-2},{"$f":"F492/(G492*12*memoria!$B$47)","v":4.5312499999999999E-2}]
["Diadema","01808-11º pavimento - frente","Termomixer Tipo Digital 110/220v. 50/60hz. 90w. Cor Argila","01-085534-00","2008-09-02",7708.34,10,{"$f":"F493*memoria!$B$44/(G493*12*memoria!$B$47)","v":0.16059041666666668},{"$f":"F493/(G493*12*memoria!$B$47)","v":0.40147604166666667}]
["Diadema","01699-2º Pavimento - Prédio Principal","Phmetro De Bancada. 110v, Com Painel Frontal. Cor Preto","01-086101-00","2008-08-29",628,10,{"$f":"F494*memoria!$B$44/(G494*12*memoria!$B$47)","v":1.3083333333333334E-2},{"$f":"F494/(G494*12*memoria!$B$47)","v":3.2708333333333332E-2}]
["Diadema","01699-2º Pavimento - Prédio Principal","Phmetro De Bancada. 110v, Com Painel Frontal. Cor Preto","01-086102-00","2008-08-29",628,10,{"$f":"F495*memoria!$B$44/(G495*12*memoria!$B$47)","v":1.3083333333333334E-2},{"$f":"F495/(G495*12*memoria!$B$47)","v":3.2708333333333332E-2}]
["Diadema","01691-Pavimento Térreo - Prédio Principal","Conjunto Para Equilibrio De Um Corpo Rigido","01-086109-00","2007-05-08",654.71,10,{"$f":"F496*memoria!$B$44/(G496*12*memoria!$B$47)","v":1.3639791666666668E-2},{"$f":"F496/(G496*12*memoria!$B$47)","v":3.4099479166666669E-2}]
["Diadema","01691-Pavimento Térreo - Prédio Principal","Conjunto Equilibrio De Um Corpo Rigido","01-086110-00","2007-05-08",655,10,{"$f":"F497*memoria!$B$44/(G497*12*memoria!$B$47)","v":1.3645833333333333E-2},{"$f":"F497/(G497*12*memoria!$B$47)","v":3.411458333333333E-2}]
["Diadema","01691-Pavimento Térreo - Prédio Principal","Conjunto Equilibrio De Um Corpo Rigido","01-086111-00","2007-05-08",655,10,{"$f":"F498*memoria!$B$44/(G498*12*memoria!$B$47)","v":1.3645833333333333E-2},{"$f":"F498/(G498*12*memoria!$B$47)","v":3.411458333333333E-2}]
["Diadema","01691-Pavimento Térreo - Prédio Principal","Conjunto Equilibrio De Um Corpo Rigido","01-086112-00","2007-05-08",655,10,{"$f":"F499*memoria!$B$44/(G499*12*memoria!$B$47)","v":1.3645833333333333E-2},{"$f":"F499/(G499*12*memoria!$B$47)","v":3.411458333333333E-2}]
["Diadema","01691-Pavimento Térreo - Prédio Principal","Conjunto Para Equilibrio De Um Corpo Rigido","01-086113-00","2007-05-08",655.29,10,{"$f":"F500*memoria!$B$44/(G500*12*memoria!$B$47)","v":1.3651874999999999E-2},{"$f":"F500/(G500*12*memoria!$B$47)","v":3.4129687499999999E-2}]
["Diadema","01691-Pavimento Térreo - Prédio Principal","Aparelho Para Dinamica Das Rotações","01-086114-00","2007-05-08",1790,10,{"$f":"F501*memoria!$B$44/(G501*12*memoria!$B$47)","v":3.7291666666666667E-2},{"$f":"F501/(G501*12*memoria!$B$47)","v":9.3229166666666669E-2}]
["Diadema","01691-Pavimento Térreo - Prédio Principal","Aparelho Para Dinamica Das Rotações","01-086115-00","2007-05-08",1790,10,{"$f":"F502*memoria!$B$44/(G502*12*memoria!$B$47)","v":3.7291666666666667E-2},{"$f":"F502/(G502*12*memoria!$B$47)","v":9.3229166666666669E-2}]
["Diadema","01691-Pavimento Térreo - Prédio Principal","Aparelho Para Dinamica Das Rotações","01-086116-00","2007-05-08",1790,10,{"$f":"F503*memoria!$B$44/(G503*12*memoria!$B$47)","v":3.7291666666666667E-2},{"$f":"F503/(G503*12*memoria!$B$47)","v":9.3229166666666669E-2}]
["Diadema","01691-Pavimento Térreo - Prédio Principal","Aparelho Para Dinamica Das Rotações","01-086117-00","2007-05-08",1790,10,{"$f":"F504*memoria!$B$44/(G504*12*memoria!$B$47)","v":3.7291666666666667E-2},{"$f":"F504/(G504*12*memoria!$B$47)","v":9.3229166666666669E-2}]
["Diadema","01691-Pavimento Térreo - Prédio Principal","Aparelho Para Dinamica Das Rotações","01-086118-00","2007-05-08",1790,10,{"$f":"F505*memoria!$B$44/(G505*12*memoria!$B$47)","v":3.7291666666666667E-2},{"$f":"F505/(G505*12*memoria!$B$47)","v":9.3229166666666669E-2}]
["Diadema","01699-2º Pavimento - Prédio Principal","Balanca Eletronica Digital. Cor Branca","01-086146-00","2008-09-04",556,10,{"$f":"F506*memoria!$B$44/(G506*12*memoria!$B$47)","v":1.1583333333333334E-2},{"$f":"F506/(G506*12*memoria!$B$47)","v":2.8958333333333332E-2}]
["Diadema","01699-2º Pavimento - Prédio Principal","Balanca Eletronica Digital. Cor Branca","01-086147-00","2008-09-04",556,10,{"$f":"F507*memoria!$B$44/(G507*12*memoria!$B$47)","v":1.1583333333333334E-2},{"$f":"F507/(G507*12*memoria!$B$47)","v":2.8958333333333332E-2}]
["Diadema","01691-Pavimento Térreo - Prédio Principal","Fisiografo Cor Argila.","01-086150-00","2008-08-18",20160,10,{"$f":"F508*memoria!$B$44/(G508*12*memoria!$B$47)","v":0.42},{"$f":"F508/(G508*12*memoria!$B$47)","v":1.05}]
["Diadema","01691-Pavimento Térreo - Prédio Principal","Complemento De Valor Referente Fisiografo De Patrimonio 86150","01-086150-01","2008-08-18",190,10,{"$f":"F509*memoria!$B$44/(G509*12*memoria!$B$47)","v":3.9583333333333337E-3},{"$f":"F509/(G509*12*memoria!$B$47)","v":9.8958333333333329E-3}]
["Diadema","01691-Pavimento Térreo - Prédio Principal","Fisiografo Cor Argila.","01-086151-00","2008-08-18",20160,10,{"$f":"F510*memoria!$B$44/(G510*12*memoria!$B$47)","v":0.42},{"$f":"F510/(G510*12*memoria!$B$47)","v":1.05}]
["Diadema","01691-Pavimento Térreo - Prédio Principal","Complemento De Valor Referente Fisiografo De Patrimonio 86151","01-086151-01","2008-08-18",190,10,{"$f":"F511*memoria!$B$44/(G511*12*memoria!$B$47)","v":3.9583333333333337E-3},{"$f":"F511/(G511*12*memoria!$B$47)","v":9.8958333333333329E-3}]
["Diadema","01691-Pavimento Térreo - Prédio Principal","Fisiografo Cor Argila.","01-086152-00","2008-08-18",20160,10,{"$f":"F512*memoria!$B$44/(G512*12*memoria!$B$47)","v":0.42},{"$f":"F512/(G512*12*memoria!$B$47)","v":1.05}]
["Diadema","01691-Pavimento Térreo - Prédio Principal","Complemento De Valor Referente Fisiografo De Patrimonio 86152","01-086152-01","2008-08-18",190,10,{"$f":"F513*memoria!$B$44/(G513*12*memoria!$B$47)","v":3.9583333333333337E-3},{"$f":"F513/(G513*12*memoria!$B$47)","v":9.8958333333333329E-3}]
["Diadema","01691-Pavimento Térreo - Prédio Principal","Fisiografo Cor Argila.","01-086153-00","2008-08-18",20160,10,{"$f":"F514*memoria!$B$44/(G514*12*memoria!$B$47)","v":0.42},{"$f":"F514/(G514*12*memoria!$B$47)","v":1.05}]
["Diadema","01691-Pavimento Térreo - Prédio Principal","Complemento De Valor Referente Fisiografo De Patrimonio 86153","01-086153-01","2008-08-18",190,10,{"$f":"F515*memoria!$B$44/(G515*12*memoria!$B$47)","v":3.9583333333333337E-3},{"$f":"F515/(G515*12*memoria!$B$47)","v":9.8958333333333329E-3}]
["Diadema","01699-2º Pavimento - Prédio Principal","Balanca Eletronica Digital. Cor Branco","01-086154-00","2008-09-23",556,10,{"$f":"F516*memoria!$B$44/(G516*12*memoria!$B$47)","v":1.1583333333333334E-2},{"$f":"F516/(G516*12*memoria!$B$47)","v":2.8958333333333332E-2}]
["Diadema","01698-1º Pavimento - Prédio Principal","Estereomicroscopio 220v. Cor Bege","01-086181-00","2008-10-29",434,10,{"$f":"F517*memoria!$B$44/(G517*12*memoria!$B$47)","v":9.0416666666666683E-3},{"$f":"F517/(G517*12*memoria!$B$47)","v":2.2604166666666668E-2}]
["Diadema","01691-Pavimento Térreo - Prédio Principal","Modulo De Eletricidade Avancada","01-086193-00","2008-12-02",15800,10,{"$f":"F518*memoria!$B$44/(G518*12*memoria!$B$47)","v":0.32916666666666666},{"$f":"F518/(G518*12*memoria!$B$47)","v":0.82291666666666663}]
["Diadema","01691-Pavimento Térreo - Prédio Principal","Modulo De Comandos Eletricos Com Clp","01-086194-00","2008-12-02",7250,10,{"$f":"F519*memoria!$B$44/(G519*12*memoria!$B$47)","v":0.15104166666666666},{"$f":"F519/(G519*12*memoria!$B$47)","v":0.37760416666666669}]
["Diadema","01691-Pavimento Térreo - Prédio Principal","Modulo De Comandos Eletricos Com Clp","01-086195-00","2008-12-02",7250,10,{"$f":"F520*memoria!$B$44/(G520*12*memoria!$B$47)","v":0.15104166666666666},{"$f":"F520/(G520*12*memoria!$B$47)","v":0.37760416666666669}]
["Diadema","01691-Pavimento Térreo - Prédio Principal","Modulo De Eletricidade","01-086196-00","2008-12-02",4800,10,{"$f":"F521*memoria!$B$44/(G521*12*memoria!$B$47)","v":0.1},{"$f":"F521/(G521*12*memoria!$B$47)","v":0.25}]
["Diadema","01691-Pavimento Térreo - Prédio Principal","Galvanometro Trapezoidal. Cor Bege","01-086197-00","2008-12-12",718.18,10,{"$f":"F522*memoria!$B$44/(G522*12*memoria!$B$47)","v":1.4962083333333332E-2},{"$f":"F522/(G522*12*memoria!$B$47)","v":3.7405208333333329E-2}]
["Diadema","01691-Pavimento Térreo - Prédio Principal","Galvanometro Trapezoidal. Cor Bege","01-086198-00","2008-12-12",718.18,10,{"$f":"F523*memoria!$B$44/(G523*12*memoria!$B$47)","v":1.4962083333333332E-2},{"$f":"F523/(G523*12*memoria!$B$47)","v":3.7405208333333329E-2}]
["Diadema","01691-Pavimento Térreo - Prédio Principal","Galvanometro Trapezoidal. Cor Bege","01-086199-00","2008-12-12",718.18,10,{"$f":"F524*memoria!$B$44/(G524*12*memoria!$B$47)","v":1.4962083333333332E-2},{"$f":"F524/(G524*12*memoria!$B$47)","v":3.7405208333333329E-2}]
["Diadema","01691-Pavimento Térreo - Prédio Principal","Galvanometro Trapezoidal. Cor Bege","01-086200-00","2008-12-12",718.18,10,{"$f":"F525*memoria!$B$44/(G525*12*memoria!$B$47)","v":1.4962083333333332E-2},{"$f":"F525/(G525*12*memoria!$B$47)","v":3.7405208333333329E-2}]
["Diadema","01691-Pavimento Térreo - Prédio Principal","Galvanometro Trapezoidal. Cor Bege","01-086201-00","2008-12-12",718.18,10,{"$f":"F526*memoria!$B$44/(G526*12*memoria!$B$47)","v":1.4962083333333332E-2},{"$f":"F526/(G526*12*memoria!$B$47)","v":3.7405208333333329E-2}]
["Diadema","01691-Pavimento Térreo - Prédio Principal","Galvanometro Trapezoidal. Cor Bege","01-086202-00","2008-12-12",718.18,10,{"$f":"F527*memoria!$B$44/(G527*12*memoria!$B$47)","v":1.4962083333333332E-2},{"$f":"F527/(G527*12*memoria!$B$47)","v":3.7405208333333329E-2}]
["Diadema","01691-Pavimento Térreo - Prédio Principal","Galvanometro Trapezoidal. Cor Bege","01-086203-00","2008-12-12",718.18,10,{"$f":"F528*memoria!$B$44/(G528*12*memoria!$B$47)","v":1.4962083333333332E-2},{"$f":"F528/(G528*12*memoria!$B$47)","v":3.7405208333333329E-2}]
["Diadema","01691-Pavimento Térreo - Prédio Principal","Galvanometro Trapezoidal. Cor Bege","01-086204-00","2008-12-12",718.18,10,{"$f":"F529*memoria!$B$44/(G529*12*memoria!$B$47)","v":1.4962083333333332E-2},{"$f":"F529/(G529*12*memoria!$B$47)","v":3.7405208333333329E-2}]
["Diadema","01691-Pavimento Térreo - Prédio Principal","Galvanometro Trapezoidal. Cor Bege","01-086205-00","2008-12-12",718.18,10,{"$f":"F530*memoria!$B$44/(G530*12*memoria!$B$47)","v":1.4962083333333332E-2},{"$f":"F530/(G530*12*memoria!$B$47)","v":3.7405208333333329E-2}]
["Diadema","01691-Pavimento Térreo - Prédio Principal","Galvanometro Trapezoidal. Cor Bege","01-086206-00","2008-12-12",718.18,10,{"$f":"F531*memoria!$B$44/(G531*12*memoria!$B$47)","v":1.4962083333333332E-2},{"$f":"F531/(G531*12*memoria!$B$47)","v":3.7405208333333329E-2}]
["Diadema","01691-Pavimento Térreo - Prédio Principal","Galvanometro Trapezoidal. Cor Bege","01-086207-00","2008-12-12",718.2,10,{"$f":"F532*memoria!$B$44/(G532*12*memoria!$B$47)","v":1.4962500000000002E-2},{"$f":"F532/(G532*12*memoria!$B$47)","v":3.7406250000000002E-2}]
["Diadema","01691-Pavimento Térreo - Prédio Principal","Gerador De Van De Graaff. 127 V. Cor Bege","01-086208-00","2008-12-12",1940,10,{"$f":"F533*memoria!$B$44/(G533*12*memoria!$B$47)","v":4.0416666666666663E-2},{"$f":"F533/(G533*12*memoria!$B$47)","v":0.10104166666666667}]
["Diadema","01691-Pavimento Térreo - Prédio Principal","Gerador De Van De Graaff. 127 V. Cor Bege","01-086209-00","2008-12-12",1940,10,{"$f":"F534*memoria!$B$44/(G534*12*memoria!$B$47)","v":4.0416666666666663E-2},{"$f":"F534/(G534*12*memoria!$B$47)","v":0.10104166666666667}]
["Diadema","01691-Pavimento Térreo - Prédio Principal","Gerador De Van De Graaff. 127 V. Cor Bege","01-086210-00","2008-12-12",1940,10,{"$f":"F535*memoria!$B$44/(G535*12*memoria!$B$47)","v":4.0416666666666663E-2},{"$f":"F535/(G535*12*memoria!$B$47)","v":0.10104166666666667}]
["Diadema","01691-Pavimento Térreo - Prédio Principal","Gerador De Van De Graaff. 127 V. Cor Bege","01-086211-00","2008-12-12",1940,10,{"$f":"F536*memoria!$B$44/(G536*12*memoria!$B$47)","v":4.0416666666666663E-2},{"$f":"F536/(G536*12*memoria!$B$47)","v":0.10104166666666667}]
["Diadema","01691-Pavimento Térreo - Prédio Principal","Gerador De Van De Graaff. 127 V. Cor Bege","01-086212-00","2008-12-12",1940,10,{"$f":"F537*memoria!$B$44/(G537*12*memoria!$B$47)","v":4.0416666666666663E-2},{"$f":"F537/(G537*12*memoria!$B$47)","v":0.10104166666666667}]
["Diadema","01691-Pavimento Térreo - Prédio Principal","Painel Dias Blanco Para Lei De Ohm","01-086218-00","2008-12-16",495,10,{"$f":"F538*memoria!$B$44/(G538*12*memoria!$B$47)","v":1.03125E-2},{"$f":"F538/(G538*12*memoria!$B$47)","v":2.5781249999999999E-2}]
["Diadema","01691-Pavimento Térreo - Prédio Principal","Banco Optico Linear","01-086219-00","2008-12-16",1245,10,{"$f":"F539*memoria!$B$44/(G539*12*memoria!$B$47)","v":2.5937499999999999E-2},{"$f":"F539/(G539*12*memoria!$B$47)","v":6.4843750000000006E-2}]
["Diadema","01691-Pavimento Térreo - Prédio Principal","Banco Optico Linear","01-086220-00","2008-12-16",1245,10,{"$f":"F540*memoria!$B$44/(G540*12*memoria!$B$47)","v":2.5937499999999999E-2},{"$f":"F540/(G540*12*memoria!$B$47)","v":6.4843750000000006E-2}]
["Diadema","01691-Pavimento Térreo - Prédio Principal","Banco Optico Linear","01-086221-00","2008-12-16",1245,10,{"$f":"F541*memoria!$B$44/(G541*12*memoria!$B$47)","v":2.5937499999999999E-2},{"$f":"F541/(G541*12*memoria!$B$47)","v":6.4843750000000006E-2}]
["Diadema","01691-Pavimento Térreo - Prédio Principal","Banco Optico Linear","01-086222-00","2008-12-16",1245,10,{"$f":"F542*memoria!$B$44/(G542*12*memoria!$B$47)","v":2.5937499999999999E-2},{"$f":"F542/(G542*12*memoria!$B$47)","v":6.4843750000000006E-2}]
["Diadema","01691-Pavimento Térreo - Prédio Principal","Banco Optico Linear","01-086223-00","2008-12-16",1245,10,{"$f":"F543*memoria!$B$44/(G543*12*memoria!$B$47)","v":2.5937499999999999E-2},{"$f":"F543/(G543*12*memoria!$B$47)","v":6.4843750000000006E-2}]
["Diadema","01691-Pavimento Térreo - Prédio Principal","Conjunto Basico Para Mecanica Dos Solidos","01-086224-00","2008-12-16",2096,10,{"$f":"F544*memoria!$B$44/(G544*12*memoria!$B$47)","v":4.3666666666666673E-2},{"$f":"F544/(G544*12*memoria!$B$47)","v":0.10916666666666666}]
["Diadema","01691-Pavimento Térreo - Prédio Principal","Conjunto Basico Para Mecanica Dos Solidos","01-086225-00","2008-12-16",2096,10,{"$f":"F545*memoria!$B$44/(G545*12*memoria!$B$47)","v":4.3666666666666673E-2},{"$f":"F545/(G545*12*memoria!$B$47)","v":0.10916666666666666}]
["Diadema","01691-Pavimento Térreo - Prédio Principal","Conjunto Basico Para Mecanica Dos Solidos","01-086226-00","2008-12-16",2096,10,{"$f":"F546*memoria!$B$44/(G546*12*memoria!$B$47)","v":4.3666666666666673E-2},{"$f":"F546/(G546*12*memoria!$B$47)","v":0.10916666666666666}]
["Diadema","01691-Pavimento Térreo - Prédio Principal","Conjunto Basico Para Mecanica Dos Solidos","01-086227-00","2008-12-16",2096,10,{"$f":"F547*memoria!$B$44/(G547*12*memoria!$B$47)","v":4.3666666666666673E-2},{"$f":"F547/(G547*12*memoria!$B$47)","v":0.10916666666666666}]
["Diadema","01691-Pavimento Térreo - Prédio Principal","Conjunto Basico Para Mecanica Dos Solidos","01-086228-00","2008-12-16",2096,10,{"$f":"F548*memoria!$B$44/(G548*12*memoria!$B$47)","v":4.3666666666666673E-2},{"$f":"F548/(G548*12*memoria!$B$47)","v":0.10916666666666666}]
["Diadema","01691-Pavimento Térreo - Prédio Principal","Conjunto Araujo Para Forca Centripeta","01-086229-00","2008-12-16",890,10,{"$f":"F549*memoria!$B$44/(G549*12*memoria!$B$47)","v":1.8541666666666668E-2},{"$f":"F549/(G549*12*memoria!$B$47)","v":4.6354166666666669E-2}]
["Diadema","01691-Pavimento Térreo - Prédio Principal","Conjunto Araujo Para Forca Centripeta","01-086230-00","2008-12-16",890,10,{"$f":"F550*memoria!$B$44/(G550*12*memoria!$B$47)","v":1.8541666666666668E-2},{"$f":"F550/(G550*12*memoria!$B$47)","v":4.6354166666666669E-2}]
["Diadema","01691-Pavimento Térreo - Prédio Principal","Conjunto Araujo Para Forca Centripeta","01-086231-00","2008-12-16",890,10,{"$f":"F551*memoria!$B$44/(G551*12*memoria!$B$47)","v":1.8541666666666668E-2},{"$f":"F551/(G551*12*memoria!$B$47)","v":4.6354166666666669E-2}]
["Diadema","01691-Pavimento Térreo - Prédio Principal","Conjunto Araujo Para Forca Centripeta","01-086232-00","2008-12-16",890,10,{"$f":"F552*memoria!$B$44/(G552*12*memoria!$B$47)","v":1.8541666666666668E-2},{"$f":"F552/(G552*12*memoria!$B$47)","v":4.6354166666666669E-2}]
["Diadema","01691-Pavimento Térreo - Prédio Principal","Conjunto Araujo Para Forca Centripeta","01-086233-00","2008-12-16",890,10,{"$f":"F553*memoria!$B$44/(G553*12*memoria!$B$47)","v":1.8541666666666668E-2},{"$f":"F553/(G553*12*memoria!$B$47)","v":4.6354166666666669E-2}]
["Diadema","01691-Pavimento Térreo - Prédio Principal","Conjunto Para Interferometria Nunes","01-086234-00","2008-12-16",13876,10,{"$f":"F554*memoria!$B$44/(G554*12*memoria!$B$47)","v":0.28908333333333336},{"$f":"F554/(G554*12*memoria!$B$47)","v":0.72270833333333329}]
["Diadema","01691-Pavimento Térreo - Prédio Principal","Conjunto Para Interferometria Nunes","01-086235-00","2008-12-16",13876,10,{"$f":"F555*memoria!$B$44/(G555*12*memoria!$B$47)","v":0.28908333333333336},{"$f":"F555/(G555*12*memoria!$B$47)","v":0.72270833333333329}]
["Diadema","01691-Pavimento Térreo - Prédio Principal","Conjunto Para Interferometria Nunes","01-086236-00","2008-12-16",13876,10,{"$f":"F556*memoria!$B$44/(G556*12*memoria!$B$47)","v":0.28908333333333336},{"$f":"F556/(G556*12*memoria!$B$47)","v":0.72270833333333329}]
["Diadema","01691-Pavimento Térreo - Prédio Principal","Conjunto Para Interferometria Nunes","01-086237-00","2008-12-16",13876,10,{"$f":"F557*memoria!$B$44/(G557*12*memoria!$B$47)","v":0.28908333333333336},{"$f":"F557/(G557*12*memoria!$B$47)","v":0.72270833333333329}]
["Diadema","01691-Pavimento Térreo - Prédio Principal","Conjunto Para Interferometria Nunes","01-086238-00","2008-12-16",13876,10,{"$f":"F558*memoria!$B$44/(G558*12*memoria!$B$47)","v":0.28908333333333336},{"$f":"F558/(G558*12*memoria!$B$47)","v":0.72270833333333329}]
["Diadema","01691-Pavimento Térreo - Prédio Principal","Balanca De Torcao Com Laser","01-086239-00","2008-12-16",1060,10,{"$f":"F559*memoria!$B$44/(G559*12*memoria!$B$47)","v":2.2083333333333333E-2},{"$f":"F559/(G559*12*memoria!$B$47)","v":5.5208333333333331E-2}]
["Diadema","01691-Pavimento Térreo - Prédio Principal","Balanca De Torcao Com Laser","01-086240-00","2008-12-16",1060,10,{"$f":"F560*memoria!$B$44/(G560*12*memoria!$B$47)","v":2.2083333333333333E-2},{"$f":"F560/(G560*12*memoria!$B$47)","v":5.5208333333333331E-2}]
["Diadema","01691-Pavimento Térreo - Prédio Principal","Balanca De Torcao Com Laser","01-086241-00","2008-12-16",1060,10,{"$f":"F561*memoria!$B$44/(G561*12*memoria!$B$47)","v":2.2083333333333333E-2},{"$f":"F561/(G561*12*memoria!$B$47)","v":5.5208333333333331E-2}]
["Diadema","01691-Pavimento Térreo - Prédio Principal","Balanca De Torcao Com Laser","01-086242-00","2008-12-16",1060,10,{"$f":"F562*memoria!$B$44/(G562*12*memoria!$B$47)","v":2.2083333333333333E-2},{"$f":"F562/(G562*12*memoria!$B$47)","v":5.5208333333333331E-2}]
["Diadema","01691-Pavimento Térreo - Prédio Principal","Balanca De Torcao Com Laser","01-086243-00","2008-12-16",1060,10,{"$f":"F563*memoria!$B$44/(G563*12*memoria!$B$47)","v":2.2083333333333333E-2},{"$f":"F563/(G563*12*memoria!$B$47)","v":5.5208333333333331E-2}]
["Diadema","01691-Pavimento Térreo - Prédio Principal","Conjunto Para Analise Espectral","01-086244-00","2008-12-16",1240,10,{"$f":"F564*memoria!$B$44/(G564*12*memoria!$B$47)","v":2.5833333333333333E-2},{"$f":"F564/(G564*12*memoria!$B$47)","v":6.458333333333334E-2}]
["Diadema","01691-Pavimento Térreo - Prédio Principal","Conjunto Para Analise Espectral","01-086245-00","2008-12-16",1240,10,{"$f":"F565*memoria!$B$44/(G565*12*memoria!$B$47)","v":2.5833333333333333E-2},{"$f":"F565/(G565*12*memoria!$B$47)","v":6.458333333333334E-2}]
["Diadema","01691-Pavimento Térreo - Prédio Principal","Conjunto Para Analise Espectral","01-086246-00","2008-12-16",1240,10,{"$f":"F566*memoria!$B$44/(G566*12*memoria!$B$47)","v":2.5833333333333333E-2},{"$f":"F566/(G566*12*memoria!$B$47)","v":6.458333333333334E-2}]
["Diadema","01691-Pavimento Térreo - Prédio Principal","Conjunto Para Analise Espectral","01-086247-00","2008-12-16",1240,10,{"$f":"F567*memoria!$B$44/(G567*12*memoria!$B$47)","v":2.5833333333333333E-2},{"$f":"F567/(G567*12*memoria!$B$47)","v":6.458333333333334E-2}]
["Diadema","01691-Pavimento Térreo - Prédio Principal","Conjunto Para Analise Espectral","01-086248-00","2008-12-16",1240,10,{"$f":"F568*memoria!$B$44/(G568*12*memoria!$B$47)","v":2.5833333333333333E-2},{"$f":"F568/(G568*12*memoria!$B$47)","v":6.458333333333334E-2}]
["Diadema","01691-Pavimento Térreo - Prédio Principal","Cronometro Digital Microprocessado","01-086249-00","2008-12-16",900,10,{"$f":"F569*memoria!$B$44/(G569*12*memoria!$B$47)","v":1.8749999999999999E-2},{"$f":"F569/(G569*12*memoria!$B$47)","v":4.6875E-2}]
["Diadema","01691-Pavimento Térreo - Prédio Principal","Cronometro Digital Microprocessado","01-086250-00","2008-12-16",900,10,{"$f":"F570*memoria!$B$44/(G570*12*memoria!$B$47)","v":1.8749999999999999E-2},{"$f":"F570/(G570*12*memoria!$B$47)","v":4.6875E-2}]
["Diadema","01708-Pavimento Único - Galpão","Modulo De Analises Termicas Dsc-60","01-087561-00","2008-05-28",157653.82,10,{"$f":"F571*memoria!$B$44/(G571*12*memoria!$B$47)","v":3.2844545833333338},{"$f":"F571/(G571*12*memoria!$B$47)","v":8.2111364583333337}]
["Diadema","01708-Pavimento Único - Galpão","Escpectrofotometro Infravermelho Por Transformado De Fourier","01-087562-00","2008-08-25",87514.02,10,{"$f":"F572*memoria!$B$44/(G572*12*memoria!$B$47)","v":1.82320875},{"$f":"F572/(G572*12*memoria!$B$47)","v":4.5580218750000006}]
["Diadema","01708-Pavimento Único - Galpão","Espectrofotometro Fotodiodo Ultravioleta Visivel","01-087563-00","2008-05-28",36313.360000000001,10,{"$f":"F573*memoria!$B$44/(G573*12*memoria!$B$47)","v":0.75652833333333336},{"$f":"F573/(G573*12*memoria!$B$47)","v":1.8913208333333333}]
["Diadema","01708-Pavimento Único - Galpão","Espectrofluorimetro","01-087564-00","2008-05-28",55278.84,10,{"$f":"F574*memoria!$B$44/(G574*12*memoria!$B$47)","v":1.1516424999999999},{"$f":"F574/(G574*12*memoria!$B$47)","v":2.87910625}]
["Diadema","01691-Pavimento Térreo - Prédio Principal","Cronometro Digital Microprocessado","01-087951-00","2008-12-16",900,10,{"$f":"F575*memoria!$B$44/(G575*12*memoria!$B$47)","v":1.8749999999999999E-2},{"$f":"F575/(G575*12*memoria!$B$47)","v":4.6875E-2}]
["Diadema","01691-Pavimento Térreo - Prédio Principal","Cronometro Digital Microprocessado","01-087952-00","2008-12-16",900,10,{"$f":"F576*memoria!$B$44/(G576*12*memoria!$B$47)","v":1.8749999999999999E-2},{"$f":"F576/(G576*12*memoria!$B$47)","v":4.6875E-2}]
["Diadema","01691-Pavimento Térreo - Prédio Principal","Cronometro Digital Microprocessado","01-087953-00","2008-12-16",900,10,{"$f":"F577*memoria!$B$44/(G577*12*memoria!$B$47)","v":1.8749999999999999E-2},{"$f":"F577/(G577*12*memoria!$B$47)","v":4.6875E-2}]
["Diadema","01691-Pavimento Térreo - Prédio Principal","Colchao De Ar Linear Com Cronometro Microprocessado","01-087954-00","2008-12-16",4390,10,{"$f":"F578*memoria!$B$44/(G578*12*memoria!$B$47)","v":9.1458333333333336E-2},{"$f":"F578/(G578*12*memoria!$B$47)","v":0.22864583333333333}]
["Diadema","01691-Pavimento Térreo - Prédio Principal","Colchao De Ar Linear Com Cronometro Microprocessado","01-087955-00","2008-12-16",4390,10,{"$f":"F579*memoria!$B$44/(G579*12*memoria!$B$47)","v":9.1458333333333336E-2},{"$f":"F579/(G579*12*memoria!$B$47)","v":0.22864583333333333}]
["Diadema","01691-Pavimento Térreo - Prédio Principal","Colchao De Ar Linear Com Cronometro Microprocessado","01-087956-00","2008-12-16",4390,10,{"$f":"F580*memoria!$B$44/(G580*12*memoria!$B$47)","v":9.1458333333333336E-2},{"$f":"F580/(G580*12*memoria!$B$47)","v":0.22864583333333333}]
["Diadema","01691-Pavimento Térreo - Prédio Principal","Colchao De Ar Linear Com Cronometro Microprocessado","01-087957-00","2008-12-16",4390,10,{"$f":"F581*memoria!$B$44/(G581*12*memoria!$B$47)","v":9.1458333333333336E-2},{"$f":"F581/(G581*12*memoria!$B$47)","v":0.22864583333333333}]
["Diadema","01691-Pavimento Térreo - Prédio Principal","Colchao De Ar Linear Com Cronometro Microprocessado","01-087958-00","2008-12-16",4390,10,{"$f":"F582*memoria!$B$44/(G582*12*memoria!$B$47)","v":9.1458333333333336E-2},{"$f":"F582/(G582*12*memoria!$B$47)","v":0.22864583333333333}]
["Diadema","01691-Pavimento Térreo - Prédio Principal","Dilatometro Linear Cabral Com Termometro Quimico","01-087959-00","2008-12-16",413,10,{"$f":"F583*memoria!$B$44/(G583*12*memoria!$B$47)","v":8.6041666666666679E-3},{"$f":"F583/(G583*12*memoria!$B$47)","v":2.1510416666666667E-2}]
["Diadema","01691-Pavimento Térreo - Prédio Principal","Dilatometro Linear Cabral Com Termometro Quimico","01-087960-00","2008-12-16",413,10,{"$f":"F584*memoria!$B$44/(G584*12*memoria!$B$47)","v":8.6041666666666679E-3},{"$f":"F584/(G584*12*memoria!$B$47)","v":2.1510416666666667E-2}]
["Diadema","01691-Pavimento Térreo - Prédio Principal","Dilatometro Linear Cabral Com Termometro Quimico","01-087961-00","2008-12-16",413,10,{"$f":"F585*memoria!$B$44/(G585*12*memoria!$B$47)","v":8.6041666666666679E-3},{"$f":"F585/(G585*12*memoria!$B$47)","v":2.1510416666666667E-2}]
["Diadema","01691-Pavimento Térreo - Prédio Principal","Dilatometro Linear Cabral Com Termometro Quimico","01-087962-00","2008-12-16",413,10,{"$f":"F586*memoria!$B$44/(G586*12*memoria!$B$47)","v":8.6041666666666679E-3},{"$f":"F586/(G586*12*memoria!$B$47)","v":2.1510416666666667E-2}]
["Diadema","01691-Pavimento Térreo - Prédio Principal","Dilatometro Linear Cabral Com Termometro Quimico","01-087963-00","2008-12-16",413,10,{"$f":"F587*memoria!$B$44/(G587*12*memoria!$B$47)","v":8.6041666666666679E-3},{"$f":"F587/(G587*12*memoria!$B$47)","v":2.1510416666666667E-2}]
["Diadema","01691-Pavimento Térreo - Prédio Principal","Barrilete De Pvc 50 Litros. Cor Bege","01-087969-00","2009-01-09",352,10,{"$f":"F588*memoria!$B$44/(G588*12*memoria!$B$47)","v":7.3333333333333341E-3},{"$f":"F588/(G588*12*memoria!$B$47)","v":1.8333333333333333E-2}]
["Diadema","01691-Pavimento Térreo - Prédio Principal","Osmose Reversa. Cor Branco","01-087970-00","2009-01-09",3840,10,{"$f":"F589*memoria!$B$44/(G589*12*memoria!$B$47)","v":0.08},{"$f":"F589/(G589*12*memoria!$B$47)","v":0.2}]
["Diadema","01691-Pavimento Térreo - Prédio Principal","Balanca Analitica Digital. Capacidade 210g","01-087971-00","2009-01-09",3195,10,{"$f":"F590*memoria!$B$44/(G590*12*memoria!$B$47)","v":6.6562499999999997E-2},{"$f":"F590/(G590*12*memoria!$B$47)","v":0.16640625000000001}]
["Diadema","01691-Pavimento Térreo - Prédio Principal","Refratometro De Bancada. Cor Bege","01-087972-00","2009-01-05",1368.1,10,{"$f":"F591*memoria!$B$44/(G591*12*memoria!$B$47)","v":2.8502083333333334E-2},{"$f":"F591/(G591*12*memoria!$B$47)","v":7.1255208333333334E-2}]
["Diadema","01691-Pavimento Térreo - Prédio Principal","Barrilete De Pvc 50 Litros. Cor Bege","01-087973-00","2009-01-09",352,10,{"$f":"F592*memoria!$B$44/(G592*12*memoria!$B$47)","v":7.3333333333333341E-3},{"$f":"F592/(G592*12*memoria!$B$47)","v":1.8333333333333333E-2}]
["Diadema","01691-Pavimento Térreo - Prédio Principal","Banho Termostatico. 220v. Cor Argila","01-087974-00","2009-01-13",3474.5,10,{"$f":"F593*memoria!$B$44/(G593*12*memoria!$B$47)","v":7.2385416666666674E-2},{"$f":"F593/(G593*12*memoria!$B$47)","v":0.18096354166666667}]
["Diadema","01691-Pavimento Térreo - Prédio Principal","Banho Termostatico. 220v. Cor Argila","01-087975-00","2009-01-13",3474.5,10,{"$f":"F594*memoria!$B$44/(G594*12*memoria!$B$47)","v":7.2385416666666674E-2},{"$f":"F594/(G594*12*memoria!$B$47)","v":0.18096354166666667}]
["Diadema","01691-Pavimento Térreo - Prédio Principal","Moinho De Facas Tipo Willy. Cor Argila. 220v","01-087976-00","2009-01-13",6490,10,{"$f":"F595*memoria!$B$44/(G595*12*memoria!$B$47)","v":0.13520833333333335},{"$f":"F595/(G595*12*memoria!$B$47)","v":0.33802083333333333}]
["Diadema","01691-Pavimento Térreo - Prédio Principal","Balança Semi-Analitica. Capacidade 500g. Precisão 0,001g. Cor Azul/Cinza","01-087977-00","2009-02-05",1674,10,{"$f":"F596*memoria!$B$44/(G596*12*memoria!$B$47)","v":3.4875000000000003E-2},{"$f":"F596/(G596*12*memoria!$B$47)","v":8.7187500000000001E-2}]
["Diadema","01691-Pavimento Térreo - Prédio Principal","Balança Semi-Analitica. Capacidade 500g. Precisão 0,001g. Cor Azul/Cinza","01-087978-00","2009-02-05",1674,10,{"$f":"F597*memoria!$B$44/(G597*12*memoria!$B$47)","v":3.4875000000000003E-2},{"$f":"F597/(G597*12*memoria!$B$47)","v":8.7187500000000001E-2}]
["Diadema","01691-Pavimento Térreo - Prédio Principal","Agitador Magnetico. Cor Argila. Painel Verde/Azul","01-087979-00","2009-02-10",790,10,{"$f":"F598*memoria!$B$44/(G598*12*memoria!$B$47)","v":1.6458333333333332E-2},{"$f":"F598/(G598*12*memoria!$B$47)","v":4.1145833333333333E-2}]
["Diadema","01691-Pavimento Térreo - Prédio Principal","Conjunto Hidrostatico","01-087985-00","2008-12-16",400,10,{"$f":"F599*memoria!$B$44/(G599*12*memoria!$B$47)","v":8.3333333333333332E-3},{"$f":"F599/(G599*12*memoria!$B$47)","v":2.0833333333333332E-2}]
["Diadema","01691-Pavimento Térreo - Prédio Principal","Conjunto Hidrostatico","01-087986-00","2008-12-16",400,10,{"$f":"F600*memoria!$B$44/(G600*12*memoria!$B$47)","v":8.3333333333333332E-3},{"$f":"F600/(G600*12*memoria!$B$47)","v":2.0833333333333332E-2}]
["Diadema","01691-Pavimento Térreo - Prédio Principal","Conjunto Hidrostatico","01-087987-00","2008-12-16",400,10,{"$f":"F601*memoria!$B$44/(G601*12*memoria!$B$47)","v":8.3333333333333332E-3},{"$f":"F601/(G601*12*memoria!$B$47)","v":2.0833333333333332E-2}]
["Diadema","01691-Pavimento Térreo - Prédio Principal","Conjunto Hidrostatico","01-087988-00","2008-12-16",400,10,{"$f":"F602*memoria!$B$44/(G602*12*memoria!$B$47)","v":8.3333333333333332E-3},{"$f":"F602/(G602*12*memoria!$B$47)","v":2.0833333333333332E-2}]
["Diadema","01691-Pavimento Térreo - Prédio Principal","Conjunto Hidrostatico","01-087989-00","2008-12-16",400,10,{"$f":"F603*memoria!$B$44/(G603*12*memoria!$B$47)","v":8.3333333333333332E-3},{"$f":"F603/(G603*12*memoria!$B$47)","v":2.0833333333333332E-2}]
["Diadema","01691-Pavimento Térreo - Prédio Principal","Conjunto Pinho Lei De Hens E Correntes De Foucault","01-087990-00","2008-12-16",396,10,{"$f":"F604*memoria!$B$44/(G604*12*memoria!$B$47)","v":8.2500000000000004E-3},{"$f":"F604/(G604*12*memoria!$B$47)","v":2.0625000000000001E-2}]
["Diadema","01691-Pavimento Térreo - Prédio Principal","Conjunto Pinho Lei De Hens E Correntes De Foucault","01-087991-00","2008-12-16",396,10,{"$f":"F605*memoria!$B$44/(G605*12*memoria!$B$47)","v":8.2500000000000004E-3},{"$f":"F605/(G605*12*memoria!$B$47)","v":2.0625000000000001E-2}]
["Diadema","01691-Pavimento Térreo - Prédio Principal","Conjunto Pinho Lei De Hens E Correntes De Foucault","01-087992-00","2008-12-16",396,10,{"$f":"F606*memoria!$B$44/(G606*12*memoria!$B$47)","v":8.2500000000000004E-3},{"$f":"F606/(G606*12*memoria!$B$47)","v":2.0625000000000001E-2}]
["Diadema","01691-Pavimento Térreo - Prédio Principal","Conjunto Pinho Lei De Hens E Correntes De Foucault","01-087993-00","2008-12-16",396,10,{"$f":"F607*memoria!$B$44/(G607*12*memoria!$B$47)","v":8.2500000000000004E-3},{"$f":"F607/(G607*12*memoria!$B$47)","v":2.0625000000000001E-2}]
["Diadema","01691-Pavimento Térreo - Prédio Principal","Conjunto Pinho Lei De Hens E Correntes De Foucault","01-087994-00","2008-12-16",396,10,{"$f":"F608*memoria!$B$44/(G608*12*memoria!$B$47)","v":8.2500000000000004E-3},{"$f":"F608/(G608*12*memoria!$B$47)","v":2.0625000000000001E-2}]
["Diadema","01691-Pavimento Térreo - Prédio Principal","Conjunto Para Termometria Termoeletrica Efeitos Peltier E Seebeck","01-088000-00","2008-12-16",520,10,{"$f":"F609*memoria!$B$44/(G609*12*memoria!$B$47)","v":1.0833333333333334E-2},{"$f":"F609/(G609*12*memoria!$B$47)","v":2.7083333333333334E-2}]
["Diadema","01691-Pavimento Térreo - Prédio Principal","Conjunto Para Termometria Termoeletrica Efeitos Peltier E Seebeck","01-088001-00","2008-12-16",520,10,{"$f":"F610*memoria!$B$44/(G610*12*memoria!$B$47)","v":1.0833333333333334E-2},{"$f":"F610/(G610*12*memoria!$B$47)","v":2.7083333333333334E-2}]
["Diadema","01691-Pavimento Térreo - Prédio Principal","Conjunto Para Termometria Termoeletrica Efeitos Peltier E Seebeck","01-088002-00","2008-12-16",520,10,{"$f":"F611*memoria!$B$44/(G611*12*memoria!$B$47)","v":1.0833333333333334E-2},{"$f":"F611/(G611*12*memoria!$B$47)","v":2.7083333333333334E-2}]
["Diadema","01691-Pavimento Térreo - Prédio Principal","Conjunto Para Termometria Termoeletrica Efeitos Peltier E Seebeck","01-088003-00","2008-12-16",520,10,{"$f":"F612*memoria!$B$44/(G612*12*memoria!$B$47)","v":1.0833333333333334E-2},{"$f":"F612/(G612*12*memoria!$B$47)","v":2.7083333333333334E-2}]
["Diadema","01691-Pavimento Térreo - Prédio Principal","Conjunto Para Termometria Termoeletrica Efeitos Peltier E Seebeck","01-088004-00","2008-12-16",520,10,{"$f":"F613*memoria!$B$44/(G613*12*memoria!$B$47)","v":1.0833333333333334E-2},{"$f":"F613/(G613*12*memoria!$B$47)","v":2.7083333333333334E-2}]
["Diadema","01691-Pavimento Térreo - Prédio Principal","Cronometro Digital Microprocessado","01-088005-00","2008-12-16",900,10,{"$f":"F614*memoria!$B$44/(G614*12*memoria!$B$47)","v":1.8749999999999999E-2},{"$f":"F614/(G614*12*memoria!$B$47)","v":4.6875E-2}]
["Diadema","01691-Pavimento Térreo - Prédio Principal","Cronometro Digital Microprocessado","01-088006-00","2008-12-16",900,10,{"$f":"F615*memoria!$B$44/(G615*12*memoria!$B$47)","v":1.8749999999999999E-2},{"$f":"F615/(G615*12*memoria!$B$47)","v":4.6875E-2}]
["Diadema","01691-Pavimento Térreo - Prédio Principal","Cronometro Digital Microprocessado","01-088007-00","2008-12-16",900,10,{"$f":"F616*memoria!$B$44/(G616*12*memoria!$B$47)","v":1.8749999999999999E-2},{"$f":"F616/(G616*12*memoria!$B$47)","v":4.6875E-2}]
["Diadema","01691-Pavimento Térreo - Prédio Principal","Cronometro Digital Microprocessado","01-088008-00","2008-12-16",900,10,{"$f":"F617*memoria!$B$44/(G617*12*memoria!$B$47)","v":1.8749999999999999E-2},{"$f":"F617/(G617*12*memoria!$B$47)","v":4.6875E-2}]
["Diadema","01691-Pavimento Térreo - Prédio Principal","Cronometro Digital Microprocessado","01-088009-00","2008-12-16",900,10,{"$f":"F618*memoria!$B$44/(G618*12*memoria!$B$47)","v":1.8749999999999999E-2},{"$f":"F618/(G618*12*memoria!$B$47)","v":4.6875E-2}]
["Diadema","01691-Pavimento Térreo - Prédio Principal","Cronometro Digital Microprocessado","01-088010-00","2008-12-16",900,10,{"$f":"F619*memoria!$B$44/(G619*12*memoria!$B$47)","v":1.8749999999999999E-2},{"$f":"F619/(G619*12*memoria!$B$47)","v":4.6875E-2}]
["Diadema","01691-Pavimento Térreo - Prédio Principal","Fonte Digital. Tensao De Saida 0 -30 V. 110v. Cor Bege","01-088011-00","2008-12-22",699.75,10,{"$f":"F620*memoria!$B$44/(G620*12*memoria!$B$47)","v":1.4578125000000003E-2},{"$f":"F620/(G620*12*memoria!$B$47)","v":3.64453125E-2}]
["Diadema","01691-Pavimento Térreo - Prédio Principal","Fonte Digital. Tensao De Saida 0 -30 V. 110v. Cor Bege","01-088012-00","2008-12-22",699.75,10,{"$f":"F621*memoria!$B$44/(G621*12*memoria!$B$47)","v":1.4578125000000003E-2},{"$f":"F621/(G621*12*memoria!$B$47)","v":3.64453125E-2}]
["Diadema","01691-Pavimento Térreo - Prédio Principal","Fonte Digital. Tensao De Saida 0 -30 V. 110v. Cor Bege","01-088013-00","2008-12-22",699.75,10,{"$f":"F622*memoria!$B$44/(G622*12*memoria!$B$47)","v":1.4578125000000003E-2},{"$f":"F622/(G622*12*memoria!$B$47)","v":3.64453125E-2}]
["Diadema","01691-Pavimento Térreo - Prédio Principal","Fonte Digital. Tensao De Saida 0 -30 V. 110v. Cor Bege","01-088014-00","2008-12-22",699.75,10,{"$f":"F623*memoria!$B$44/(G623*12*memoria!$B$47)","v":1.4578125000000003E-2},{"$f":"F623/(G623*12*memoria!$B$47)","v":3.64453125E-2}]
["Diadema","01691-Pavimento Térreo - Prédio Principal","Fonte Digital. Tensao De Saida 0 -30 V. 110v. Cor Bege","01-088015-00","2008-12-22",699.75,10,{"$f":"F624*memoria!$B$44/(G624*12*memoria!$B$47)","v":1.4578125000000003E-2},{"$f":"F624/(G624*12*memoria!$B$47)","v":3.64453125E-2}]
["Diadema","01691-Pavimento Térreo - Prédio Principal","Fonte Digital. Tensao De Saida 0 -30 V. 110v. Cor Bege","01-088016-00","2008-12-22",699.75,10,{"$f":"F625*memoria!$B$44/(G625*12*memoria!$B$47)","v":1.4578125000000003E-2},{"$f":"F625/(G625*12*memoria!$B$47)","v":3.64453125E-2}]
["Diadema","01691-Pavimento Térreo - Prédio Principal","Fonte Digital. Tensao De Saida 0 -30 V. 110v. Cor Bege","01-088017-00","2008-12-22",699.75,10,{"$f":"F626*memoria!$B$44/(G626*12*memoria!$B$47)","v":1.4578125000000003E-2},{"$f":"F626/(G626*12*memoria!$B$47)","v":3.64453125E-2}]
["Diadema","01691-Pavimento Térreo - Prédio Principal","Fonte Digital. Tensao De Saida 0 -30 V. 110v. Cor Bege","01-088018-00","2008-12-22",699.75,10,{"$f":"F627*memoria!$B$44/(G627*12*memoria!$B$47)","v":1.4578125000000003E-2},{"$f":"F627/(G627*12*memoria!$B$47)","v":3.64453125E-2}]
["Diadema","01691-Pavimento Térreo - Prédio Principal","Phmetro De Bancada. Bivolt. Cor Cinza Escuro E Cinza Claro","01-088039-00","2008-12-22",560,10,{"$f":"F628*memoria!$B$44/(G628*12*memoria!$B$47)","v":1.1666666666666667E-2},{"$f":"F628/(G628*12*memoria!$B$47)","v":2.9166666666666667E-2}]
["Diadema","01691-Pavimento Térreo - Prédio Principal","Phmetro De Bancada. Bivolt. Cor Cinza Escuro E Cinza Claro","01-088040-00","2008-12-22",560,10,{"$f":"F629*memoria!$B$44/(G629*12*memoria!$B$47)","v":1.1666666666666667E-2},{"$f":"F629/(G629*12*memoria!$B$47)","v":2.9166666666666667E-2}]
["Diadema","01691-Pavimento Térreo - Prédio Principal","Agitador Magnetico. Cor Argila. Painel Verde/Azul","01-088751-00","2009-02-11",790,10,{"$f":"F630*memoria!$B$44/(G630*12*memoria!$B$47)","v":1.6458333333333332E-2},{"$f":"F630/(G630*12*memoria!$B$47)","v":4.1145833333333333E-2}]
["Diadema","01691-Pavimento Térreo - Prédio Principal","Agitador Magnetico. Cor Argila. Painel Verde/Azul","01-088752-00","2009-02-11",790,10,{"$f":"F631*memoria!$B$44/(G631*12*memoria!$B$47)","v":1.6458333333333332E-2},{"$f":"F631/(G631*12*memoria!$B$47)","v":4.1145833333333333E-2}]
["Diadema","01691-Pavimento Térreo - Prédio Principal","Agitador Magnetico. Cor Argila. Painel Verde/Azul","01-088753-00","2009-02-11",790,10,{"$f":"F632*memoria!$B$44/(G632*12*memoria!$B$47)","v":1.6458333333333332E-2},{"$f":"F632/(G632*12*memoria!$B$47)","v":4.1145833333333333E-2}]
["Diadema","01691-Pavimento Térreo - Prédio Principal","Agitador Magnetico. Cor Argila. Painel Verde/Azul","01-088754-00","2009-02-11",790,10,{"$f":"F633*memoria!$B$44/(G633*12*memoria!$B$47)","v":1.6458333333333332E-2},{"$f":"F633/(G633*12*memoria!$B$47)","v":4.1145833333333333E-2}]
["Diadema","01691-Pavimento Térreo - Prédio Principal","Agitador Magnetico. Cor Argila. Painel Verde/Azul","01-088755-00","2009-02-11",790,10,{"$f":"F634*memoria!$B$44/(G634*12*memoria!$B$47)","v":1.6458333333333332E-2},{"$f":"F634/(G634*12*memoria!$B$47)","v":4.1145833333333333E-2}]
["Diadema","01691-Pavimento Térreo - Prédio Principal","Agitador Magnetico. Cor Argila. Painel Verde/Azul","01-088756-00","2009-02-11",790,10,{"$f":"F635*memoria!$B$44/(G635*12*memoria!$B$47)","v":1.6458333333333332E-2},{"$f":"F635/(G635*12*memoria!$B$47)","v":4.1145833333333333E-2}]
["Diadema","01691-Pavimento Térreo - Prédio Principal","Agitador Magnetico. Cor Argila. Painel Verde/Azul","01-088757-00","2009-02-11",790,10,{"$f":"F636*memoria!$B$44/(G636*12*memoria!$B$47)","v":1.6458333333333332E-2},{"$f":"F636/(G636*12*memoria!$B$47)","v":4.1145833333333333E-2}]
["Diadema","01691-Pavimento Térreo - Prédio Principal","Agitador Magnetico. Cor Argila. Painel Verde/Azul","01-088758-00","2009-02-11",790,10,{"$f":"F637*memoria!$B$44/(G637*12*memoria!$B$47)","v":1.6458333333333332E-2},{"$f":"F637/(G637*12*memoria!$B$47)","v":4.1145833333333333E-2}]
["Diadema","01691-Pavimento Térreo - Prédio Principal","Agitador Magnetico. Cor Argila. Painel Verde/Azul","01-088759-00","2009-02-11",790,10,{"$f":"F638*memoria!$B$44/(G638*12*memoria!$B$47)","v":1.6458333333333332E-2},{"$f":"F638/(G638*12*memoria!$B$47)","v":4.1145833333333333E-2}]
["Diadema","01691-Pavimento Térreo - Prédio Principal","Agitador Tipo Vortex. Cor Branco.","01-088767-00","2009-02-11",362.5,10,{"$f":"F639*memoria!$B$44/(G639*12*memoria!$B$47)","v":7.5520833333333334E-3},{"$f":"F639/(G639*12*memoria!$B$47)","v":1.8880208333333332E-2}]
["Diadema","01691-Pavimento Térreo - Prédio Principal","Agitador Tipo Vortex. Cor Branco.","01-088768-00","2009-02-11",362.5,10,{"$f":"F640*memoria!$B$44/(G640*12*memoria!$B$47)","v":7.5520833333333334E-3},{"$f":"F640/(G640*12*memoria!$B$47)","v":1.8880208333333332E-2}]
["Diadema","01691-Pavimento Térreo - Prédio Principal","Agitador Tipo Vortex. Cor Branco.","01-088769-00","2009-02-11",362.5,10,{"$f":"F641*memoria!$B$44/(G641*12*memoria!$B$47)","v":7.5520833333333334E-3},{"$f":"F641/(G641*12*memoria!$B$47)","v":1.8880208333333332E-2}]
["Diadema","01691-Pavimento Térreo - Prédio Principal","Agitador Tipo Vortex. Cor Branco.","01-088770-00","2009-02-11",362.5,10,{"$f":"F642*memoria!$B$44/(G642*12*memoria!$B$47)","v":7.5520833333333334E-3},{"$f":"F642/(G642*12*memoria!$B$47)","v":1.8880208333333332E-2}]
["Diadema","01691-Pavimento Térreo - Prédio Principal","Agitador Tipo Vortex. Cor Branco.","01-088771-00","2009-02-11",362.5,10,{"$f":"F643*memoria!$B$44/(G643*12*memoria!$B$47)","v":7.5520833333333334E-3},{"$f":"F643/(G643*12*memoria!$B$47)","v":1.8880208333333332E-2}]
["Diadema","01691-Pavimento Térreo - Prédio Principal","Agitador Tipo Vortex. Cor Branco.","01-088772-00","2009-02-11",362.5,10,{"$f":"F644*memoria!$B$44/(G644*12*memoria!$B$47)","v":7.5520833333333334E-3},{"$f":"F644/(G644*12*memoria!$B$47)","v":1.8880208333333332E-2}]
["Diadema","01691-Pavimento Térreo - Prédio Principal","Condutivimetro De Bancada. Cor Verde","01-088776-00","2009-02-18",960,10,{"$f":"F645*memoria!$B$44/(G645*12*memoria!$B$47)","v":0.02},{"$f":"F645/(G645*12*memoria!$B$47)","v":0.05}]
["Diadema","01691-Pavimento Térreo - Prédio Principal","Balanca Eletronica De Precisao. Cor Argila/Verde","01-088777-00","2009-02-18",1470,10,{"$f":"F646*memoria!$B$44/(G646*12*memoria!$B$47)","v":3.0624999999999999E-2},{"$f":"F646/(G646*12*memoria!$B$47)","v":7.6562500000000006E-2}]
["Diadema","01691-Pavimento Térreo - Prédio Principal","Camara Escura De Revelacao Uv. Cor Azul","01-088778-00","2009-02-18",1395,10,{"$f":"F647*memoria!$B$44/(G647*12*memoria!$B$47)","v":2.9062500000000002E-2},{"$f":"F647/(G647*12*memoria!$B$47)","v":7.2656250000000006E-2}]
["Diadema","01691-Pavimento Térreo - Prédio Principal","Camara Escura De Revelacao Uv. Cor Azul","01-088779-00","2009-02-18",1395,10,{"$f":"F648*memoria!$B$44/(G648*12*memoria!$B$47)","v":2.9062500000000002E-2},{"$f":"F648/(G648*12*memoria!$B$47)","v":7.2656250000000006E-2}]
["Diadema","01691-Pavimento Térreo - Prédio Principal","Osmose Reversa. Cor Branca","01-088780-00","2009-03-13",3595,10,{"$f":"F649*memoria!$B$44/(G649*12*memoria!$B$47)","v":7.4895833333333328E-2},{"$f":"F649/(G649*12*memoria!$B$47)","v":0.18723958333333332}]
["Diadema","01691-Pavimento Térreo - Prédio Principal","Osmose Reversa. Cor Branca","01-088781-00","2009-03-13",3595,10,{"$f":"F650*memoria!$B$44/(G650*12*memoria!$B$47)","v":7.4895833333333328E-2},{"$f":"F650/(G650*12*memoria!$B$47)","v":0.18723958333333332}]
["Diadema","01808-11º pavimento - frente","Termociclador. Cor Azul/Argila","01-088782-00","2008-12-15",13450.4,10,{"$f":"F651*memoria!$B$44/(G651*12*memoria!$B$47)","v":0.28021666666666667},{"$f":"F651/(G651*12*memoria!$B$47)","v":0.70054166666666662}]
["Diadema","01707-Pavimento Térreo - Biblioteca","Padiola Cadeira Dobravel. Cor Verde","01-088793-00","2009-04-08",1049.9000000000001,10,{"$f":"F652*memoria!$B$44/(G652*12*memoria!$B$47)","v":2.1872916666666669E-2},{"$f":"F652/(G652*12*memoria!$B$47)","v":5.4682291666666674E-2}]
["Diadema","01707-Pavimento Térreo - Biblioteca","Padiola Cadeira Dobravel. Cor Verde","01-088794-00","2009-04-08",1049.9000000000001,10,{"$f":"F653*memoria!$B$44/(G653*12*memoria!$B$47)","v":2.1872916666666669E-2},{"$f":"F653/(G653*12*memoria!$B$47)","v":5.4682291666666674E-2}]
["Diadema","01707-Pavimento Térreo - Biblioteca","Padiola Cadeira Dobravel. Cor Verde","01-088795-00","2009-04-08",1049.9000000000001,10,{"$f":"F654*memoria!$B$44/(G654*12*memoria!$B$47)","v":2.1872916666666669E-2},{"$f":"F654/(G654*12*memoria!$B$47)","v":5.4682291666666674E-2}]
["Diadema","01707-Pavimento Térreo - Biblioteca","Padiola Cadeira Dobravel. Cor Verde","01-088796-00","2009-04-08",1049.9000000000001,10,{"$f":"F655*memoria!$B$44/(G655*12*memoria!$B$47)","v":2.1872916666666669E-2},{"$f":"F655/(G655*12*memoria!$B$47)","v":5.4682291666666674E-2}]
["Diadema","01707-Pavimento Térreo - Biblioteca","Padiola Cadeira Dobravel. Cor Verde","01-088797-00","2009-04-08",1049.9000000000001,10,{"$f":"F656*memoria!$B$44/(G656*12*memoria!$B$47)","v":2.1872916666666669E-2},{"$f":"F656/(G656*12*memoria!$B$47)","v":5.4682291666666674E-2}]
["Diadema","01707-Pavimento Térreo - Biblioteca","Padiola Cadeira Dobravel. Cor Verde","01-088798-00","2009-04-08",1049.9000000000001,10,{"$f":"F657*memoria!$B$44/(G657*12*memoria!$B$47)","v":2.1872916666666669E-2},{"$f":"F657/(G657*12*memoria!$B$47)","v":5.4682291666666674E-2}]
["Diadema","01707-Pavimento Térreo - Biblioteca","Padiola Cadeira Dobravel. Cor Verde","01-088799-00","2009-04-08",1049.9000000000001,10,{"$f":"F658*memoria!$B$44/(G658*12*memoria!$B$47)","v":2.1872916666666669E-2},{"$f":"F658/(G658*12*memoria!$B$47)","v":5.4682291666666674E-2}]
["Diadema","01707-Pavimento Térreo - Biblioteca","Padiola Cadeira Dobravel. Cor Verde","01-088800-00","2009-04-08",1049.9000000000001,10,{"$f":"F659*memoria!$B$44/(G659*12*memoria!$B$47)","v":2.1872916666666669E-2},{"$f":"F659/(G659*12*memoria!$B$47)","v":5.4682291666666674E-2}]
["Diadema","01707-Pavimento Térreo - Biblioteca","Padiola Cadeira Dobravel. Cor Verde","01-088801-00","2009-04-08",1049.9000000000001,10,{"$f":"F660*memoria!$B$44/(G660*12*memoria!$B$47)","v":2.1872916666666669E-2},{"$f":"F660/(G660*12*memoria!$B$47)","v":5.4682291666666674E-2}]
["Diadema","01707-Pavimento Térreo - Biblioteca","Padiola Cadeira Dobravel. Cor Verde","01-088802-00","2009-04-08",1049.9000000000001,10,{"$f":"F661*memoria!$B$44/(G661*12*memoria!$B$47)","v":2.1872916666666669E-2},{"$f":"F661/(G661*12*memoria!$B$47)","v":5.4682291666666674E-2}]
["Diadema","01707-Pavimento Térreo - Biblioteca","Padiola Cadeira Dobravel. Cor Verde","01-088803-00","2009-04-08",1049.9000000000001,10,{"$f":"F662*memoria!$B$44/(G662*12*memoria!$B$47)","v":2.1872916666666669E-2},{"$f":"F662/(G662*12*memoria!$B$47)","v":5.4682291666666674E-2}]
["Diadema","01691-Pavimento Térreo - Prédio Principal","Agitador Magnetico Com Aquecimento. Cor Argila","01-088804-00","2009-04-07",780,10,{"$f":"F663*memoria!$B$44/(G663*12*memoria!$B$47)","v":1.6250000000000001E-2},{"$f":"F663/(G663*12*memoria!$B$47)","v":4.0625000000000001E-2}]
["Diadema","01691-Pavimento Térreo - Prédio Principal","Agitador Magnetico Com Aquecimento. Cor Argila","01-088805-00","2009-04-07",780,10,{"$f":"F664*memoria!$B$44/(G664*12*memoria!$B$47)","v":1.6250000000000001E-2},{"$f":"F664/(G664*12*memoria!$B$47)","v":4.0625000000000001E-2}]
["Diadema","01691-Pavimento Térreo - Prédio Principal","Agitador Magnetico Com Aquecimento. Cor Argila","01-088806-00","2009-04-07",780,10,{"$f":"F665*memoria!$B$44/(G665*12*memoria!$B$47)","v":1.6250000000000001E-2},{"$f":"F665/(G665*12*memoria!$B$47)","v":4.0625000000000001E-2}]
["Diadema","01691-Pavimento Térreo - Prédio Principal","Agitador Magnetico Com Aquecimento. Cor Argila","01-088807-00","2009-04-07",780,10,{"$f":"F666*memoria!$B$44/(G666*12*memoria!$B$47)","v":1.6250000000000001E-2},{"$f":"F666/(G666*12*memoria!$B$47)","v":4.0625000000000001E-2}]
["Diadema","01691-Pavimento Térreo - Prédio Principal","Agitador Magnetico Com Aquecimento. Cor Argila","01-088808-00","2009-04-07",780,10,{"$f":"F667*memoria!$B$44/(G667*12*memoria!$B$47)","v":1.6250000000000001E-2},{"$f":"F667/(G667*12*memoria!$B$47)","v":4.0625000000000001E-2}]
["Diadema","01691-Pavimento Térreo - Prédio Principal","Agitador Magnetico Com Aquecimento. Cor Argila","01-088809-00","2009-04-07",780,10,{"$f":"F668*memoria!$B$44/(G668*12*memoria!$B$47)","v":1.6250000000000001E-2},{"$f":"F668/(G668*12*memoria!$B$47)","v":4.0625000000000001E-2}]
["Diadema","01691-Pavimento Térreo - Prédio Principal","Agitador Magnetico Com Aquecimento. Cor Argila","01-088810-00","2009-04-07",780,10,{"$f":"F669*memoria!$B$44/(G669*12*memoria!$B$47)","v":1.6250000000000001E-2},{"$f":"F669/(G669*12*memoria!$B$47)","v":4.0625000000000001E-2}]
["Diadema","01691-Pavimento Térreo - Prédio Principal","Agitador Magnetico Com Aquecimento. Cor Argila","01-088811-00","2009-04-07",780,10,{"$f":"F670*memoria!$B$44/(G670*12*memoria!$B$47)","v":1.6250000000000001E-2},{"$f":"F670/(G670*12*memoria!$B$47)","v":4.0625000000000001E-2}]
["Diadema","01691-Pavimento Térreo - Prédio Principal","Agitador Magnetico Com Aquecimento. Cor Argila","01-088812-00","2009-04-07",780,10,{"$f":"F671*memoria!$B$44/(G671*12*memoria!$B$47)","v":1.6250000000000001E-2},{"$f":"F671/(G671*12*memoria!$B$47)","v":4.0625000000000001E-2}]
["Diadema","01691-Pavimento Térreo - Prédio Principal","Agitador Magnetico Com Aquecimento. Cor Argila","01-088813-00","2009-04-07",780,10,{"$f":"F672*memoria!$B$44/(G672*12*memoria!$B$47)","v":1.6250000000000001E-2},{"$f":"F672/(G672*12*memoria!$B$47)","v":4.0625000000000001E-2}]
["Diadema","01691-Pavimento Térreo - Prédio Principal","Agitador Magnetico Com Aquecimento. Cor Argila","01-088814-00","2009-04-07",780,10,{"$f":"F673*memoria!$B$44/(G673*12*memoria!$B$47)","v":1.6250000000000001E-2},{"$f":"F673/(G673*12*memoria!$B$47)","v":4.0625000000000001E-2}]
["Diadema","01691-Pavimento Térreo - Prédio Principal","Agitador Magnetico Com Aquecimento. Cor Argila","01-088815-00","2009-04-07",780,10,{"$f":"F674*memoria!$B$44/(G674*12*memoria!$B$47)","v":1.6250000000000001E-2},{"$f":"F674/(G674*12*memoria!$B$47)","v":4.0625000000000001E-2}]
["Diadema","01691-Pavimento Térreo - Prédio Principal","Agitador Magnetico Com Aquecimento. Cor Argila","01-088816-00","2009-04-07",780,10,{"$f":"F675*memoria!$B$44/(G675*12*memoria!$B$47)","v":1.6250000000000001E-2},{"$f":"F675/(G675*12*memoria!$B$47)","v":4.0625000000000001E-2}]
["Diadema","01691-Pavimento Térreo - Prédio Principal","Agitador Magnetico Com Aquecimento. Cor Argila","01-088817-00","2009-04-07",780,10,{"$f":"F676*memoria!$B$44/(G676*12*memoria!$B$47)","v":1.6250000000000001E-2},{"$f":"F676/(G676*12*memoria!$B$47)","v":4.0625000000000001E-2}]
["Diadema","01691-Pavimento Térreo - Prédio Principal","Agitador Magnetico Com Aquecimento. Cor Argila","01-088818-00","2009-04-07",780,10,{"$f":"F677*memoria!$B$44/(G677*12*memoria!$B$47)","v":1.6250000000000001E-2},{"$f":"F677/(G677*12*memoria!$B$47)","v":4.0625000000000001E-2}]
["Diadema","01691-Pavimento Térreo - Prédio Principal","Agitador Magnetico Com Aquecimento. Cor Argila","01-088819-00","2009-04-07",780,10,{"$f":"F678*memoria!$B$44/(G678*12*memoria!$B$47)","v":1.6250000000000001E-2},{"$f":"F678/(G678*12*memoria!$B$47)","v":4.0625000000000001E-2}]
["Diadema","01691-Pavimento Térreo - Prédio Principal","Agitador Magnetico Com Aquecimento. Cor Argila","01-088820-00","2009-04-07",780,10,{"$f":"F679*memoria!$B$44/(G679*12*memoria!$B$47)","v":1.6250000000000001E-2},{"$f":"F679/(G679*12*memoria!$B$47)","v":4.0625000000000001E-2}]
["Diadema","01691-Pavimento Térreo - Prédio Principal","Agitador Magnetico Com Aquecimento. Cor Argila","01-088821-00","2009-04-07",780,10,{"$f":"F680*memoria!$B$44/(G680*12*memoria!$B$47)","v":1.6250000000000001E-2},{"$f":"F680/(G680*12*memoria!$B$47)","v":4.0625000000000001E-2}]
["Diadema","01691-Pavimento Térreo - Prédio Principal","Agitador Magnetico Com Aquecimento. Cor Argila","01-088822-00","2009-04-07",780,10,{"$f":"F681*memoria!$B$44/(G681*12*memoria!$B$47)","v":1.6250000000000001E-2},{"$f":"F681/(G681*12*memoria!$B$47)","v":4.0625000000000001E-2}]
["Diadema","01691-Pavimento Térreo - Prédio Principal","Agitador Magnetico Com Aquecimento. Cor Argila","01-088823-00","2009-04-07",780,10,{"$f":"F682*memoria!$B$44/(G682*12*memoria!$B$47)","v":1.6250000000000001E-2},{"$f":"F682/(G682*12*memoria!$B$47)","v":4.0625000000000001E-2}]
["Diadema","01691-Pavimento Térreo - Prédio Principal","Encapsulador De Pvc Nº0. Cor Branca","01-088824-00","2009-04-07",167,10,{"$f":"F683*memoria!$B$44/(G683*12*memoria!$B$47)","v":3.4791666666666664E-3},{"$f":"F683/(G683*12*memoria!$B$47)","v":8.6979166666666663E-3}]
["Diadema","01691-Pavimento Térreo - Prédio Principal","Encapsulador De Pvc Nº0. Cor Branca","01-088825-00","2009-04-07",167,10,{"$f":"F684*memoria!$B$44/(G684*12*memoria!$B$47)","v":3.4791666666666664E-3},{"$f":"F684/(G684*12*memoria!$B$47)","v":8.6979166666666663E-3}]
["Diadema","01691-Pavimento Térreo - Prédio Principal","Encapsulador De Pvc Nº0. Cor Branca","01-088826-00","2009-04-07",167,10,{"$f":"F685*memoria!$B$44/(G685*12*memoria!$B$47)","v":3.4791666666666664E-3},{"$f":"F685/(G685*12*memoria!$B$47)","v":8.6979166666666663E-3}]
["Diadema","01691-Pavimento Térreo - Prédio Principal","Encapsulador De Pvc Nº0. Cor Branca","01-088827-00","2009-04-07",167,10,{"$f":"F686*memoria!$B$44/(G686*12*memoria!$B$47)","v":3.4791666666666664E-3},{"$f":"F686/(G686*12*memoria!$B$47)","v":8.6979166666666663E-3}]
["Diadema","01691-Pavimento Térreo - Prédio Principal","Encapsulador De Pvc Nº0. Cor Branca","01-088828-00","2009-04-07",167,10,{"$f":"F687*memoria!$B$44/(G687*12*memoria!$B$47)","v":3.4791666666666664E-3},{"$f":"F687/(G687*12*memoria!$B$47)","v":8.6979166666666663E-3}]
["Diadema","01691-Pavimento Térreo - Prédio Principal","Encapsulador De Pvc Nº0. Cor Branca","01-088829-00","2009-04-07",167,10,{"$f":"F688*memoria!$B$44/(G688*12*memoria!$B$47)","v":3.4791666666666664E-3},{"$f":"F688/(G688*12*memoria!$B$47)","v":8.6979166666666663E-3}]
["Diadema","01691-Pavimento Térreo - Prédio Principal","Encapsuladora De Pvc Nº1. Cor Branca","01-088830-00","2009-04-07",167,10,{"$f":"F689*memoria!$B$44/(G689*12*memoria!$B$47)","v":3.4791666666666664E-3},{"$f":"F689/(G689*12*memoria!$B$47)","v":8.6979166666666663E-3}]
["Diadema","01691-Pavimento Térreo - Prédio Principal","Encapsuladora De Pvc Nº1. Cor Branca","01-088831-00","2009-04-07",167,10,{"$f":"F690*memoria!$B$44/(G690*12*memoria!$B$47)","v":3.4791666666666664E-3},{"$f":"F690/(G690*12*memoria!$B$47)","v":8.6979166666666663E-3}]
["Diadema","01691-Pavimento Térreo - Prédio Principal","Encapsuladora De Pvc Nº1. Cor Branca","01-088832-00","2009-04-07",167,10,{"$f":"F691*memoria!$B$44/(G691*12*memoria!$B$47)","v":3.4791666666666664E-3},{"$f":"F691/(G691*12*memoria!$B$47)","v":8.6979166666666663E-3}]
["Diadema","01691-Pavimento Térreo - Prédio Principal","Encapsuladora De Pvc Nº1. Cor Branca","01-088833-00","2009-04-07",167,10,{"$f":"F692*memoria!$B$44/(G692*12*memoria!$B$47)","v":3.4791666666666664E-3},{"$f":"F692/(G692*12*memoria!$B$47)","v":8.6979166666666663E-3}]
["Diadema","01691-Pavimento Térreo - Prédio Principal","Encapsuladora De Pvc Nº1. Cor Branca","01-088834-00","2009-04-07",167,10,{"$f":"F693*memoria!$B$44/(G693*12*memoria!$B$47)","v":3.4791666666666664E-3},{"$f":"F693/(G693*12*memoria!$B$47)","v":8.6979166666666663E-3}]
["Diadema","01691-Pavimento Térreo - Prédio Principal","Encapsuladora De Pvc Nº1. Cor Branca","01-088835-00","2009-04-07",167,10,{"$f":"F694*memoria!$B$44/(G694*12*memoria!$B$47)","v":3.4791666666666664E-3},{"$f":"F694/(G694*12*memoria!$B$47)","v":8.6979166666666663E-3}]
["Diadema","01691-Pavimento Térreo - Prédio Principal","Encapsuladora De Pvc Nº2. Cor Branca","01-088836-00","2009-04-07",167,10,{"$f":"F695*memoria!$B$44/(G695*12*memoria!$B$47)","v":3.4791666666666664E-3},{"$f":"F695/(G695*12*memoria!$B$47)","v":8.6979166666666663E-3}]
["Diadema","01691-Pavimento Térreo - Prédio Principal","Encapsuladora De Pvc Nº2. Cor Branca","01-088837-00","2009-04-07",167,10,{"$f":"F696*memoria!$B$44/(G696*12*memoria!$B$47)","v":3.4791666666666664E-3},{"$f":"F696/(G696*12*memoria!$B$47)","v":8.6979166666666663E-3}]
["Diadema","01691-Pavimento Térreo - Prédio Principal","Encapsuladora De Pvc Nº2. Cor Branca","01-088838-00","2009-04-07",167,10,{"$f":"F697*memoria!$B$44/(G697*12*memoria!$B$47)","v":3.4791666666666664E-3},{"$f":"F697/(G697*12*memoria!$B$47)","v":8.6979166666666663E-3}]
["Diadema","01691-Pavimento Térreo - Prédio Principal","Encapsuladora De Pvc Nº2. Cor Branca","01-088839-00","2009-04-07",167,10,{"$f":"F698*memoria!$B$44/(G698*12*memoria!$B$47)","v":3.4791666666666664E-3},{"$f":"F698/(G698*12*memoria!$B$47)","v":8.6979166666666663E-3}]
["Diadema","01691-Pavimento Térreo - Prédio Principal","Encapsuladora De Pvc Nº2. Cor Branca","01-088840-00","2009-04-07",167,10,{"$f":"F699*memoria!$B$44/(G699*12*memoria!$B$47)","v":3.4791666666666664E-3},{"$f":"F699/(G699*12*memoria!$B$47)","v":8.6979166666666663E-3}]
["Diadema","01691-Pavimento Térreo - Prédio Principal","Laser Tipo Purebeam. Cor Laranja","01-091451-00","2009-01-29",5700,10,{"$f":"F700*memoria!$B$44/(G700*12*memoria!$B$47)","v":0.11874999999999999},{"$f":"F700/(G700*12*memoria!$B$47)","v":0.296875}]
["Diadema","01691-Pavimento Térreo - Prédio Principal","Encapsuladora De Pvc Nº2. Cor Branca","01-091801-00","2009-04-07",167,10,{"$f":"F701*memoria!$B$44/(G701*12*memoria!$B$47)","v":3.4791666666666664E-3},{"$f":"F701/(G701*12*memoria!$B$47)","v":8.6979166666666663E-3}]
["Diadema","01691-Pavimento Térreo - Prédio Principal","Encapsuladora De Pvc Nº3. Cor Branca","01-091802-00","2009-04-07",167,10,{"$f":"F702*memoria!$B$44/(G702*12*memoria!$B$47)","v":3.4791666666666664E-3},{"$f":"F702/(G702*12*memoria!$B$47)","v":8.6979166666666663E-3}]
["Diadema","01691-Pavimento Térreo - Prédio Principal","Encapsuladora De Pvc Nº3. Cor Branca","01-091803-00","2009-04-07",167,10,{"$f":"F703*memoria!$B$44/(G703*12*memoria!$B$47)","v":3.4791666666666664E-3},{"$f":"F703/(G703*12*memoria!$B$47)","v":8.6979166666666663E-3}]
["Diadema","01691-Pavimento Térreo - Prédio Principal","Encapsuladora De Pvc Nº3. Cor Branca","01-091804-00","2009-04-07",167,10,{"$f":"F704*memoria!$B$44/(G704*12*memoria!$B$47)","v":3.4791666666666664E-3},{"$f":"F704/(G704*12*memoria!$B$47)","v":8.6979166666666663E-3}]
["Diadema","01691-Pavimento Térreo - Prédio Principal","Encapsuladora De Pvc Nº3. Cor Branca","01-091805-00","2009-04-07",167,10,{"$f":"F705*memoria!$B$44/(G705*12*memoria!$B$47)","v":3.4791666666666664E-3},{"$f":"F705/(G705*12*memoria!$B$47)","v":8.6979166666666663E-3}]
["Diadema","01691-Pavimento Térreo - Prédio Principal","Encapsuladora De Pvc Nº3. Cor Branca","01-091806-00","2009-04-07",167,10,{"$f":"F706*memoria!$B$44/(G706*12*memoria!$B$47)","v":3.4791666666666664E-3},{"$f":"F706/(G706*12*memoria!$B$47)","v":8.6979166666666663E-3}]
["Diadema","01691-Pavimento Térreo - Prédio Principal","Encapsuladora De Pvc Nº3. Cor Branca","01-091807-00","2009-04-07",167,10,{"$f":"F707*memoria!$B$44/(G707*12*memoria!$B$47)","v":3.4791666666666664E-3},{"$f":"F707/(G707*12*memoria!$B$47)","v":8.6979166666666663E-3}]
["Diadema","01691-Pavimento Térreo - Prédio Principal","Encapsulador De Pvc Nº4. Cor Branca","01-091808-00","2009-04-07",167,10,{"$f":"F708*memoria!$B$44/(G708*12*memoria!$B$47)","v":3.4791666666666664E-3},{"$f":"F708/(G708*12*memoria!$B$47)","v":8.6979166666666663E-3}]
["Diadema","01691-Pavimento Térreo - Prédio Principal","Encapsulador De Pvc Nº4. Cor Branca","01-091809-00","2009-04-07",167,10,{"$f":"F709*memoria!$B$44/(G709*12*memoria!$B$47)","v":3.4791666666666664E-3},{"$f":"F709/(G709*12*memoria!$B$47)","v":8.6979166666666663E-3}]
["Diadema","01691-Pavimento Térreo - Prédio Principal","Encapsulador De Pvc Nº4. Cor Branca","01-091810-00","2009-04-07",167,10,{"$f":"F710*memoria!$B$44/(G710*12*memoria!$B$47)","v":3.4791666666666664E-3},{"$f":"F710/(G710*12*memoria!$B$47)","v":8.6979166666666663E-3}]
["Diadema","01691-Pavimento Térreo - Prédio Principal","Encapsulador De Pvc Nº4. Cor Branca","01-091811-00","2009-04-07",167,10,{"$f":"F711*memoria!$B$44/(G711*12*memoria!$B$47)","v":3.4791666666666664E-3},{"$f":"F711/(G711*12*memoria!$B$47)","v":8.6979166666666663E-3}]
["Diadema","01691-Pavimento Térreo - Prédio Principal","Encapsulador De Pvc Nº4. Cor Branca","01-091812-00","2009-04-07",167,10,{"$f":"F712*memoria!$B$44/(G712*12*memoria!$B$47)","v":3.4791666666666664E-3},{"$f":"F712/(G712*12*memoria!$B$47)","v":8.6979166666666663E-3}]
["Diadema","01691-Pavimento Térreo - Prédio Principal","Encapsulador De Pvc Nº4. Cor Branca","01-091813-00","2009-04-07",167,10,{"$f":"F713*memoria!$B$44/(G713*12*memoria!$B$47)","v":3.4791666666666664E-3},{"$f":"F713/(G713*12*memoria!$B$47)","v":8.6979166666666663E-3}]
["Diadema","01691-Pavimento Térreo - Prédio Principal","Liquidificador 550w. Cor Branca","01-091814-00","2009-04-17",199.98,10,{"$f":"F714*memoria!$B$44/(G714*12*memoria!$B$47)","v":4.1662499999999998E-3},{"$f":"F714/(G714*12*memoria!$B$47)","v":1.0415625E-2}]
["Diadema","01691-Pavimento Térreo - Prédio Principal","Liquidificador 550w. Cor Branca","01-091815-00","2009-04-17",199.99,10,{"$f":"F715*memoria!$B$44/(G715*12*memoria!$B$47)","v":4.1664583333333336E-3},{"$f":"F715/(G715*12*memoria!$B$47)","v":1.0416145833333335E-2}]
["Diadema","01698-1º Pavimento - Prédio Principal","Gerenciador De Logs - Fortianalyser","01-092159-00","2009-08-19",3500,10,{"$f":"F716*memoria!$B$44/(G716*12*memoria!$B$47)","v":7.2916666666666671E-2},{"$f":"F716/(G716*12*memoria!$B$47)","v":0.18229166666666666}]
["Diadema","01691-Pavimento Térreo - Prédio Principal","Estufa Microprocessada De Secagem. Cor Argila","01-092161-00","2009-06-05",3058,10,{"$f":"F717*memoria!$B$44/(G717*12*memoria!$B$47)","v":6.3708333333333339E-2},{"$f":"F717/(G717*12*memoria!$B$47)","v":0.15927083333333333}]
["Diadema","01698-1º Pavimento - Prédio Principal","Estacao De Trabalho Cor Argila","01-092162-00","2009-05-20",351,10,{"$f":"F718*memoria!$B$44/(G718*12*memoria!$B$47)","v":7.3125000000000004E-3},{"$f":"F718/(G718*12*memoria!$B$47)","v":1.8281249999999999E-2}]
["Diadema","01698-1º Pavimento - Prédio Principal","Estacao De Trabalho Cor Argila","01-092163-00","2009-05-20",351,10,{"$f":"F719*memoria!$B$44/(G719*12*memoria!$B$47)","v":7.3125000000000004E-3},{"$f":"F719/(G719*12*memoria!$B$47)","v":1.8281249999999999E-2}]
["Diadema","01698-1º Pavimento - Prédio Principal","Estacao De Trabalho Cor Argila","01-092164-00","2009-05-20",351,10,{"$f":"F720*memoria!$B$44/(G720*12*memoria!$B$47)","v":7.3125000000000004E-3},{"$f":"F720/(G720*12*memoria!$B$47)","v":1.8281249999999999E-2}]
["Diadema","01698-1º Pavimento - Prédio Principal","Estacao De Trabalho Cor Argila","01-092165-00","2009-05-20",351,10,{"$f":"F721*memoria!$B$44/(G721*12*memoria!$B$47)","v":7.3125000000000004E-3},{"$f":"F721/(G721*12*memoria!$B$47)","v":1.8281249999999999E-2}]
["Diadema","01698-1º Pavimento - Prédio Principal","Estacao De Trabalho Cor Argila","01-092166-00","2009-05-20",351,10,{"$f":"F722*memoria!$B$44/(G722*12*memoria!$B$47)","v":7.3125000000000004E-3},{"$f":"F722/(G722*12*memoria!$B$47)","v":1.8281249999999999E-2}]
["Diadema","01698-1º Pavimento - Prédio Principal","Estacao De Trabalho Cor Argila","01-092167-00","2009-05-20",351,10,{"$f":"F723*memoria!$B$44/(G723*12*memoria!$B$47)","v":7.3125000000000004E-3},{"$f":"F723/(G723*12*memoria!$B$47)","v":1.8281249999999999E-2}]
["Diadema","01698-1º Pavimento - Prédio Principal","Estacao De Trabalho Cor Argila","01-092168-00","2009-05-20",351,10,{"$f":"F724*memoria!$B$44/(G724*12*memoria!$B$47)","v":7.3125000000000004E-3},{"$f":"F724/(G724*12*memoria!$B$47)","v":1.8281249999999999E-2}]
["Diadema","01698-1º Pavimento - Prédio Principal","Estacao De Trabalho Cor Argila","01-092169-00","2009-05-20",351,10,{"$f":"F725*memoria!$B$44/(G725*12*memoria!$B$47)","v":7.3125000000000004E-3},{"$f":"F725/(G725*12*memoria!$B$47)","v":1.8281249999999999E-2}]
["Diadema","01698-1º Pavimento - Prédio Principal","Estacao De Trabalho Cor Argila","01-092170-00","2009-05-20",351,10,{"$f":"F726*memoria!$B$44/(G726*12*memoria!$B$47)","v":7.3125000000000004E-3},{"$f":"F726/(G726*12*memoria!$B$47)","v":1.8281249999999999E-2}]
["Diadema","01698-1º Pavimento - Prédio Principal","Estacao De Trabalho Cor Argila","01-092171-00","2009-05-20",351,10,{"$f":"F727*memoria!$B$44/(G727*12*memoria!$B$47)","v":7.3125000000000004E-3},{"$f":"F727/(G727*12*memoria!$B$47)","v":1.8281249999999999E-2}]
["Diadema","01698-1º Pavimento - Prédio Principal","Estacao De Trabalho Cor Argila","01-092172-00","2009-05-20",351,10,{"$f":"F728*memoria!$B$44/(G728*12*memoria!$B$47)","v":7.3125000000000004E-3},{"$f":"F728/(G728*12*memoria!$B$47)","v":1.8281249999999999E-2}]
["Diadema","01698-1º Pavimento - Prédio Principal","Estacao De Trabalho Cor Argila","01-092173-00","2009-05-20",351,10,{"$f":"F729*memoria!$B$44/(G729*12*memoria!$B$47)","v":7.3125000000000004E-3},{"$f":"F729/(G729*12*memoria!$B$47)","v":1.8281249999999999E-2}]
["Diadema","01698-1º Pavimento - Prédio Principal","Estacao De Trabalho Cor Argila","01-092174-00","2009-05-20",351,10,{"$f":"F730*memoria!$B$44/(G730*12*memoria!$B$47)","v":7.3125000000000004E-3},{"$f":"F730/(G730*12*memoria!$B$47)","v":1.8281249999999999E-2}]
["Diadema","01698-1º Pavimento - Prédio Principal","Estacao De Trabalho Cor Argila","01-092175-00","2009-05-20",351,10,{"$f":"F731*memoria!$B$44/(G731*12*memoria!$B$47)","v":7.3125000000000004E-3},{"$f":"F731/(G731*12*memoria!$B$47)","v":1.8281249999999999E-2}]
["Diadema","01698-1º Pavimento - Prédio Principal","Estacao De Trabalho Cor Argila","01-092176-00","2009-05-20",351,10,{"$f":"F732*memoria!$B$44/(G732*12*memoria!$B$47)","v":7.3125000000000004E-3},{"$f":"F732/(G732*12*memoria!$B$47)","v":1.8281249999999999E-2}]
["Diadema","01698-1º Pavimento - Prédio Principal","Estacao De Trabalho Cor Argila","01-092177-00","2009-05-20",351,10,{"$f":"F733*memoria!$B$44/(G733*12*memoria!$B$47)","v":7.3125000000000004E-3},{"$f":"F733/(G733*12*memoria!$B$47)","v":1.8281249999999999E-2}]
["Diadema","01698-1º Pavimento - Prédio Principal","Estacao De Trabalho Cor Argila","01-092178-00","2009-05-20",351,10,{"$f":"F734*memoria!$B$44/(G734*12*memoria!$B$47)","v":7.3125000000000004E-3},{"$f":"F734/(G734*12*memoria!$B$47)","v":1.8281249999999999E-2}]
["Diadema","01698-1º Pavimento - Prédio Principal","Estacao De Trabalho Cor Argila","01-092179-00","2009-05-20",351,10,{"$f":"F735*memoria!$B$44/(G735*12*memoria!$B$47)","v":7.3125000000000004E-3},{"$f":"F735/(G735*12*memoria!$B$47)","v":1.8281249999999999E-2}]
["Diadema","01698-1º Pavimento - Prédio Principal","Estacao De Trabalho Cor Argila","01-092180-00","2009-05-20",351,10,{"$f":"F736*memoria!$B$44/(G736*12*memoria!$B$47)","v":7.3125000000000004E-3},{"$f":"F736/(G736*12*memoria!$B$47)","v":1.8281249999999999E-2}]
["Diadema","01698-1º Pavimento - Prédio Principal","Estacao De Trabalho Cor Argila","01-092181-00","2009-05-20",351,10,{"$f":"F737*memoria!$B$44/(G737*12*memoria!$B$47)","v":7.3125000000000004E-3},{"$f":"F737/(G737*12*memoria!$B$47)","v":1.8281249999999999E-2}]
["Diadema","01698-1º Pavimento - Prédio Principal","Estacao De Trabalho Cor Argila","01-092182-00","2009-05-20",351,10,{"$f":"F738*memoria!$B$44/(G738*12*memoria!$B$47)","v":7.3125000000000004E-3},{"$f":"F738/(G738*12*memoria!$B$47)","v":1.8281249999999999E-2}]
["Diadema","01698-1º Pavimento - Prédio Principal","Estacao De Trabalho Cor Argila","01-092183-00","2009-05-20",351,10,{"$f":"F739*memoria!$B$44/(G739*12*memoria!$B$47)","v":7.3125000000000004E-3},{"$f":"F739/(G739*12*memoria!$B$47)","v":1.8281249999999999E-2}]
["Diadema","01698-1º Pavimento - Prédio Principal","Estacao De Trabalho Cor Argila","01-092184-00","2009-05-20",351,10,{"$f":"F740*memoria!$B$44/(G740*12*memoria!$B$47)","v":7.3125000000000004E-3},{"$f":"F740/(G740*12*memoria!$B$47)","v":1.8281249999999999E-2}]
["Diadema","01698-1º Pavimento - Prédio Principal","Estacao De Trabalho Cor Argila","01-092185-00","2009-05-20",351,10,{"$f":"F741*memoria!$B$44/(G741*12*memoria!$B$47)","v":7.3125000000000004E-3},{"$f":"F741/(G741*12*memoria!$B$47)","v":1.8281249999999999E-2}]
["Diadema","01698-1º Pavimento - Prédio Principal","Estacao De Trabalho Cor Argila","01-092186-00","2009-05-20",351,10,{"$f":"F742*memoria!$B$44/(G742*12*memoria!$B$47)","v":7.3125000000000004E-3},{"$f":"F742/(G742*12*memoria!$B$47)","v":1.8281249999999999E-2}]
["Diadema","01698-1º Pavimento - Prédio Principal","Estacao De Trabalho Cor Argila","01-092187-00","2009-05-20",351,10,{"$f":"F743*memoria!$B$44/(G743*12*memoria!$B$47)","v":7.3125000000000004E-3},{"$f":"F743/(G743*12*memoria!$B$47)","v":1.8281249999999999E-2}]
["Diadema","01698-1º Pavimento - Prédio Principal","Estacao De Trabalho Cor Argila","01-092188-00","2009-05-20",351,10,{"$f":"F744*memoria!$B$44/(G744*12*memoria!$B$47)","v":7.3125000000000004E-3},{"$f":"F744/(G744*12*memoria!$B$47)","v":1.8281249999999999E-2}]
["Diadema","01699-2º Pavimento - Prédio Principal","Cromatografo De Ions Compacto. Cor Argila Tampa Verde","01-092352-00","2009-03-23",68367.73,10,{"$f":"F745*memoria!$B$44/(G745*12*memoria!$B$47)","v":1.4243277083333334},{"$f":"F745/(G745*12*memoria!$B$47)","v":3.5608192708333331}]
["Diadema","01699-2º Pavimento - Prédio Principal","Espectrofotometro Cor Cinza","01-092353-00","2009-02-20",22603.05,10,{"$f":"F746*memoria!$B$44/(G746*12*memoria!$B$47)","v":0.47089687499999999},{"$f":"F746/(G746*12*memoria!$B$47)","v":1.1772421874999999}]
["Diadema","01699-2º Pavimento - Prédio Principal","Espectrofotometro Cor Cinza","01-092354-00","2009-02-20",22603.06,10,{"$f":"F747*memoria!$B$44/(G747*12*memoria!$B$47)","v":0.47089708333333335},{"$f":"F747/(G747*12*memoria!$B$47)","v":1.1772427083333334}]
["Diadema","01699-2º Pavimento - Prédio Principal","Espectrofotometro Cor Cinza","01-092355-00","2009-02-20",22603.06,10,{"$f":"F748*memoria!$B$44/(G748*12*memoria!$B$47)","v":0.47089708333333335},{"$f":"F748/(G748*12*memoria!$B$47)","v":1.1772427083333334}]
["Diadema","01699-2º Pavimento - Prédio Principal","Titulador Karl Fischer. Cor Argila E Verde","01-092356-00","2009-03-23",21052.12,10,{"$f":"F749*memoria!$B$44/(G749*12*memoria!$B$47)","v":0.43858583333333334},{"$f":"F749/(G749*12*memoria!$B$47)","v":1.0964645833333333}]
["Diadema","01699-2º Pavimento - Prédio Principal","Medidor De Ph De Bancada. Cor Argila E Verde","01-092357-00","2009-03-23",9223.6299999999992,10,{"$f":"F750*memoria!$B$44/(G750*12*memoria!$B$47)","v":0.19215895833333332},{"$f":"F750/(G750*12*memoria!$B$47)","v":0.4803973958333333}]
["Diadema","01699-2º Pavimento - Prédio Principal","Sistema De Cromatografia Liquida. Cor Cinza","01-092358-00","2009-02-20",99499.85,10,{"$f":"F751*memoria!$B$44/(G751*12*memoria!$B$47)","v":2.0729135416666669},{"$f":"F751/(G751*12*memoria!$B$47)","v":5.1822838541666671}]
["Diadema","01699-2º Pavimento - Prédio Principal","Analisador Voltametrico Cor Argila E Verde","01-092359-00","2009-03-23",51517.8,10,{"$f":"F752*memoria!$B$44/(G752*12*memoria!$B$47)","v":1.0732875000000002},{"$f":"F752/(G752*12*memoria!$B$47)","v":2.68321875}]
["Diadema","01709-Pavimento Único - Gráfica","Bancada P/ Experimentacao De Conducao De Esferas","01-092360-00","2009-04-29",11500,10,{"$f":"F753*memoria!$B$44/(G753*12*memoria!$B$47)","v":0.23958333333333334},{"$f":"F753/(G753*12*memoria!$B$47)","v":0.59895833333333337}]
["Diadema","01709-Pavimento Único - Gráfica","Bancada P/ Experimentacao De Curva Da Bomba","01-092361-00","2009-04-29",8300,10,{"$f":"F754*memoria!$B$44/(G754*12*memoria!$B$47)","v":0.17291666666666666},{"$f":"F754/(G754*12*memoria!$B$47)","v":0.43229166666666669}]
["Diadema","01699-2º Pavimento - Prédio Principal","Capela De Exaustao. Cor Branca","01-092362-00","2009-05-11",12000,10,{"$f":"F755*memoria!$B$44/(G755*12*memoria!$B$47)","v":0.25},{"$f":"F755/(G755*12*memoria!$B$47)","v":0.625}]
["Diadema","01699-2º Pavimento - Prédio Principal","Capela De Exaustao. Cor Branca","01-092363-00","2009-05-11",12000,10,{"$f":"F756*memoria!$B$44/(G756*12*memoria!$B$47)","v":0.25},{"$f":"F756/(G756*12*memoria!$B$47)","v":0.625}]
["Diadema","01698-1º Pavimento - Prédio Principal","Conjunto Composto Por 2 Capelas De Exaustao. Cor Branca","01-092364-00","2009-05-21",28000,10,{"$f":"F757*memoria!$B$44/(G757*12*memoria!$B$47)","v":0.58333333333333337},{"$f":"F757/(G757*12*memoria!$B$47)","v":1.4583333333333333}]
["Diadema","01698-1º Pavimento - Prédio Principal","Conjunto Composto Por 2 Capelas De Exaustao. Cor Branca","01-092365-00","2009-05-21",28000,10,{"$f":"F758*memoria!$B$44/(G758*12*memoria!$B$47)","v":0.58333333333333337},{"$f":"F758/(G758*12*memoria!$B$47)","v":1.4583333333333333}]
["Diadema","01699-2º Pavimento - Prédio Principal","Espectrofotometro De Absorcao Atomica. Cor Argila","01-092368-00","2009-06-26",69000,10,{"$f":"F759*memoria!$B$44/(G759*12*memoria!$B$47)","v":1.4375},{"$f":"F759/(G759*12*memoria!$B$47)","v":3.59375}]
["Diadema","01698-1º Pavimento - Prédio Principal","Dispositivo Fisico De Segurança De Rede. Fortigate","01-092369-00","2009-08-19",39916.6,10,{"$f":"F760*memoria!$B$44/(G760*12*memoria!$B$47)","v":0.83159583333333331},{"$f":"F760/(G760*12*memoria!$B$47)","v":2.0789895833333332}]
["Diadema","01709-Pavimento Único - Gráfica","Bancada P/ Experimentacao De Sedimentacao","01-092400-00","2009-04-29",6000,10,{"$f":"F761*memoria!$B$44/(G761*12*memoria!$B$47)","v":0.125},{"$f":"F761/(G761*12*memoria!$B$47)","v":0.3125}]
["Diadema","01709-Pavimento Único - Gráfica","Estrutura P/ Estudos E Experiencias Da Reducao De Arraste","01-093294-00","2009-07-14",8900,10,{"$f":"F762*memoria!$B$44/(G762*12*memoria!$B$47)","v":0.18541666666666667},{"$f":"F762/(G762*12*memoria!$B$47)","v":0.46354166666666669}]
["Diadema","01709-Pavimento Único - Gráfica","Estrutura P/ Estudos E Experiencias Da Perda De Carga Em Acidentes","01-093295-00","2009-07-14",10000,10,{"$f":"F763*memoria!$B$44/(G763*12*memoria!$B$47)","v":0.20833333333333334},{"$f":"F763/(G763*12*memoria!$B$47)","v":0.52083333333333337}]
["Diadema","01709-Pavimento Único - Gráfica","Estrutura P/ Estudos E Experiencias Sobre Medidores De Vazao","01-093296-00","2009-07-14",10000,10,{"$f":"F764*memoria!$B$44/(G764*12*memoria!$B$47)","v":0.20833333333333334},{"$f":"F764/(G764*12*memoria!$B$47)","v":0.52083333333333337}]
["Diadema","01709-Pavimento Único - Gráfica","Estrutura P/ Estudos E Experiencias De Filtracao A Vacuo","01-093297-00","2009-07-14",8400,10,{"$f":"F765*memoria!$B$44/(G765*12*memoria!$B$47)","v":0.17499999999999999},{"$f":"F765/(G765*12*memoria!$B$47)","v":0.4375}]
["Diadema","01709-Pavimento Único - Gráfica","Estrutura P/ Estudos E Experiencias Da Curva Binomial","01-093298-00","2009-07-14",9700,10,{"$f":"F766*memoria!$B$44/(G766*12*memoria!$B$47)","v":0.20208333333333334},{"$f":"F766/(G766*12*memoria!$B$47)","v":0.50520833333333337}]
["Diadema","01707-Pavimento Térreo - Biblioteca","Claviculario P/ 50 Chaves Cor Argila","01-093553-00","2009-07-28",175,10,{"$f":"F767*memoria!$B$44/(G767*12*memoria!$B$47)","v":3.6458333333333334E-3},{"$f":"F767/(G767*12*memoria!$B$47)","v":9.1145833333333339E-3}]
["Diadema","01707-Pavimento Térreo - Biblioteca","Claviculario P/ 50 Chaves Cor Argila","01-093554-00","2009-07-28",175,10,{"$f":"F768*memoria!$B$44/(G768*12*memoria!$B$47)","v":3.6458333333333334E-3},{"$f":"F768/(G768*12*memoria!$B$47)","v":9.1145833333333339E-3}]
["Diadema","01707-Pavimento Térreo - Biblioteca","Claviculario P/ 50 Chaves Cor Argila","01-093555-00","2009-07-28",175,10,{"$f":"F769*memoria!$B$44/(G769*12*memoria!$B$47)","v":3.6458333333333334E-3},{"$f":"F769/(G769*12*memoria!$B$47)","v":9.1145833333333339E-3}]
["Diadema","01808-11º pavimento - frente","Freezer Vertical Tipo -86º C, 519 Lts. Cor Argila","01-093556-00","2009-08-17",45117.36,10,{"$f":"F770*memoria!$B$44/(G770*12*memoria!$B$47)","v":0.93994499999999992},{"$f":"F770/(G770*12*memoria!$B$47)","v":2.3498625}]
["Diadema","01707-Pavimento Térreo - Biblioteca","Protetor Para Condicionador De Energia. Cor Preto","01-093591-00","2009-09-21",3000,10,{"$f":"F771*memoria!$B$44/(G771*12*memoria!$B$47)","v":6.25E-2},{"$f":"F771/(G771*12*memoria!$B$47)","v":0.15625}]
["Diadema","01707-Pavimento Térreo - Biblioteca","Console Mixer De 16 Canais. Cor Preto","01-093597-00","2009-09-21",4000,10,{"$f":"F772*memoria!$B$44/(G772*12*memoria!$B$47)","v":8.3333333333333329E-2},{"$f":"F772/(G772*12*memoria!$B$47)","v":0.20833333333333334}]
["Diadema","01707-Pavimento Térreo - Biblioteca","Console Mixer De 16 Canais. Cor Preto","01-093598-00","2009-09-21",4000,10,{"$f":"F773*memoria!$B$44/(G773*12*memoria!$B$47)","v":8.3333333333333329E-2},{"$f":"F773/(G773*12*memoria!$B$47)","v":0.20833333333333334}]
["Diadema","01707-Pavimento Térreo - Biblioteca","Central De Controle De Som, Luz Projetor, Cortina. Cor Preto","01-093601-00","2009-09-21",1000,10,{"$f":"F774*memoria!$B$44/(G774*12*memoria!$B$47)","v":2.0833333333333332E-2},{"$f":"F774/(G774*12*memoria!$B$47)","v":5.2083333333333336E-2}]
["Diadema","01707-Pavimento Térreo - Biblioteca","Modulo De Automacao E Dimerização Com 8 Canais. Cont. Remoto E Teclado Controle.","01-093602-00","2009-09-21",6000,10,{"$f":"F775*memoria!$B$44/(G775*12*memoria!$B$47)","v":0.125},{"$f":"F775/(G775*12*memoria!$B$47)","v":0.3125}]
["Diadema","01707-Pavimento Térreo - Biblioteca","Moldura Para Tela Retratil Tensionada 150\".","01-093605-01","2009-09-21",1000,10,{"$f":"F776*memoria!$B$44/(G776*12*memoria!$B$47)","v":2.0833333333333332E-2},{"$f":"F776/(G776*12*memoria!$B$47)","v":5.2083333333333336E-2}]
["Diadema","01707-Pavimento Térreo - Biblioteca","Interface De Colaboração De Dados. Cor Prata","01-093606-00","2009-09-21",6000,10,{"$f":"F777*memoria!$B$44/(G777*12*memoria!$B$47)","v":0.125},{"$f":"F777/(G777*12*memoria!$B$47)","v":0.3125}]
["Diadema","01709-Pavimento Único - Gráfica","Estrutura P/ Estudo/Experimento De Trocador De Calor De Placas","01-093610-00","2009-10-07",16400,10,{"$f":"F778*memoria!$B$44/(G778*12*memoria!$B$47)","v":0.34166666666666667},{"$f":"F778/(G778*12*memoria!$B$47)","v":0.85416666666666663}]
["Diadema","01709-Pavimento Único - Gráfica","Estrutura P/ Estudo/Experimento De Reynolds Horizontal","01-093611-00","2009-10-07",7400,10,{"$f":"F779*memoria!$B$44/(G779*12*memoria!$B$47)","v":0.15416666666666667},{"$f":"F779/(G779*12*memoria!$B$47)","v":0.38541666666666669}]
["Diadema","01709-Pavimento Único - Gráfica","Estrutura P/ Estudo/Experimento De Cinetica Quimica","01-093612-00","2009-10-07",24500,10,{"$f":"F780*memoria!$B$44/(G780*12*memoria!$B$47)","v":0.51041666666666663},{"$f":"F780/(G780*12*memoria!$B$47)","v":1.2760416666666667}]
["Diadema","01691-Pavimento Térreo - Prédio Principal","Scanner De Mesa. Cor Argila","01-094946-00","2008-07-15",299,10,{"$f":"F781*memoria!$B$44/(G781*12*memoria!$B$47)","v":6.2291666666666667E-3},{"$f":"F781/(G781*12*memoria!$B$47)","v":1.5572916666666667E-2}]
["Diadema","01691-Pavimento Térreo - Prédio Principal","Forno Tipo Microondas. Cap. 28 Lts.","01-094947-00","2007-07-31",310,10,{"$f":"F782*memoria!$B$44/(G782*12*memoria!$B$47)","v":6.4583333333333333E-3},{"$f":"F782/(G782*12*memoria!$B$47)","v":1.6145833333333335E-2}]
["Diadema","01691-Pavimento Térreo - Prédio Principal","Refrigerador 1 Porta. Capac. 243 Lts.","01-094948-00","2007-07-31",569,10,{"$f":"F783*memoria!$B$44/(G783*12*memoria!$B$47)","v":1.1854166666666667E-2},{"$f":"F783/(G783*12*memoria!$B$47)","v":2.9635416666666668E-2}]
["Diadema","01691-Pavimento Térreo - Prédio Principal","Concentrador Centrifugo, Tipo A Vacuo, Com Bomba E Termomixer. Cor Cinza","01-094949-00","2007-07-31",22937.86,10,{"$f":"F784*memoria!$B$44/(G784*12*memoria!$B$47)","v":0.47787208333333336},{"$f":"F784/(G784*12*memoria!$B$47)","v":1.1946802083333334}]
["Diadema","01691-Pavimento Térreo - Prédio Principal","Bomba De Vacuo/Pressão Tipo Diafragma. 110v. Cor Azul","01-094953-00","2008-07-15",2416,10,{"$f":"F785*memoria!$B$44/(G785*12*memoria!$B$47)","v":5.0333333333333341E-2},{"$f":"F785/(G785*12*memoria!$B$47)","v":0.12583333333333332}]
["Diadema","01691-Pavimento Térreo - Prédio Principal","Evaporador Rotativo Com Condensador Vertical, Controlador De Vacuo. Cor Branco","01-094954-00","2008-07-15",8709,10,{"$f":"F786*memoria!$B$44/(G786*12*memoria!$B$47)","v":0.18143750000000003},{"$f":"F786/(G786*12*memoria!$B$47)","v":0.45359375000000002}]
["Diadema","01691-Pavimento Térreo - Prédio Principal","Estufa De Esterilização E Secagem. Cor Cinza","01-094955-00","2008-07-15",1314,10,{"$f":"F787*memoria!$B$44/(G787*12*memoria!$B$47)","v":2.7375E-2},{"$f":"F787/(G787*12*memoria!$B$47)","v":6.8437499999999998E-2}]
["Diadema","01691-Pavimento Térreo - Prédio Principal","Cabine De Luz Ultravioleta. Tipo Portatil. Cor Preto","01-094956-00","2008-07-15",2382.66,10,{"$f":"F788*memoria!$B$44/(G788*12*memoria!$B$47)","v":4.9638749999999995E-2},{"$f":"F788/(G788*12*memoria!$B$47)","v":0.124096875}]
["Diadema","01691-Pavimento Térreo - Prédio Principal","Estufa Para Secagem. 220v.","01-094965-00","2009-04-27",8750,10,{"$f":"F789*memoria!$B$44/(G789*12*memoria!$B$47)","v":0.18229166666666666},{"$f":"F789/(G789*12*memoria!$B$47)","v":0.45572916666666669}]
["Diadema","01691-Pavimento Térreo - Prédio Principal","Picador De Carne. Cor Inox","01-094966-00","2009-04-27",1150,10,{"$f":"F790*memoria!$B$44/(G790*12*memoria!$B$47)","v":2.3958333333333335E-2},{"$f":"F790/(G790*12*memoria!$B$47)","v":5.9895833333333336E-2}]
["Diadema","01691-Pavimento Térreo - Prédio Principal","Refrigerador 1 Porta. Cap. 371 Lts. Cor Branco","01-094967-00","2009-04-27",1350,10,{"$f":"F791*memoria!$B$44/(G791*12*memoria!$B$47)","v":2.8125000000000001E-2},{"$f":"F791/(G791*12*memoria!$B$47)","v":7.03125E-2}]
["Diadema","01691-Pavimento Térreo - Prédio Principal","Freezer Vertical 1 Porta. 300 Lts. Cor Branco","01-094968-00","2009-04-27",1470,10,{"$f":"F792*memoria!$B$44/(G792*12*memoria!$B$47)","v":3.0624999999999999E-2},{"$f":"F792/(G792*12*memoria!$B$47)","v":7.6562500000000006E-2}]
["Diadema","01709-Pavimento Único - Gráfica","Estrutura P/ Estudo/Experimento Reynolds Vertical","01-095051-00","2009-12-03",7500,10,{"$f":"F793*memoria!$B$44/(G793*12*memoria!$B$47)","v":0.15625},{"$f":"F793/(G793*12*memoria!$B$47)","v":0.390625}]
["Diadema","01709-Pavimento Único - Gráfica","Estrutura P/ Estudo/Experimento Escoamento Em Leito Fixo","01-095052-00","2009-12-03",10800,10,{"$f":"F794*memoria!$B$44/(G794*12*memoria!$B$47)","v":0.22500000000000001},{"$f":"F794/(G794*12*memoria!$B$47)","v":0.5625}]
["Diadema","01709-Pavimento Único - Gráfica","Estrutura P/ Estudo/Experimento Fluidização","01-095053-00","2009-12-03",10600,10,{"$f":"F795*memoria!$B$44/(G795*12*memoria!$B$47)","v":0.22083333333333333},{"$f":"F795/(G795*12*memoria!$B$47)","v":0.55208333333333337}]
["Diadema","01709-Pavimento Único - Gráfica","Estrutura P/ Estudo/Experimento Destilação","01-095054-00","2009-12-03",23000,10,{"$f":"F796*memoria!$B$44/(G796*12*memoria!$B$47)","v":0.47916666666666669},{"$f":"F796/(G796*12*memoria!$B$47)","v":1.1979166666666667}]
["Diadema","01709-Pavimento Único - Gráfica","Estrutura P/ Estudo/Experimento De Adsorcao Em Carvao","01-095062-00","2009-10-07",15500,10,{"$f":"F797*memoria!$B$44/(G797*12*memoria!$B$47)","v":0.32291666666666669},{"$f":"F797/(G797*12*memoria!$B$47)","v":0.80729166666666663}]
["Diadema","01709-Pavimento Único - Gráfica","Estrutura P/ Estudo/Experimento De Linha De Amarracao","01-095063-00","2009-10-07",22500,10,{"$f":"F798*memoria!$B$44/(G798*12*memoria!$B$47)","v":0.46875},{"$f":"F798/(G798*12*memoria!$B$47)","v":1.171875}]
["Diadema","01709-Pavimento Único - Gráfica","Estrutura P/ Estudo/Experimento De Distribuicao De Tempo De Resistencia","01-095064-00","2009-10-07",9000,10,{"$f":"F799*memoria!$B$44/(G799*12*memoria!$B$47)","v":0.1875},{"$f":"F799/(G799*12*memoria!$B$47)","v":0.46875}]
["Diadema","01707-Pavimento Térreo - Biblioteca","Painel Touch Da Central De Controle De Som, Luz Com Box Para Fixação","01-095070-00","2009-09-21",6300,10,{"$f":"F800*memoria!$B$44/(G800*12*memoria!$B$47)","v":0.13125000000000001},{"$f":"F800/(G800*12*memoria!$B$47)","v":0.328125}]
["Diadema","01707-Pavimento Térreo - Biblioteca","Conversor De Protocolo Para Conexão De Rede - Isdn","01-095071-00","2009-09-21",3000,10,{"$f":"F801*memoria!$B$44/(G801*12*memoria!$B$47)","v":6.25E-2},{"$f":"F801/(G801*12*memoria!$B$47)","v":0.15625}]
["Diadema","01707-Pavimento Térreo - Biblioteca","Pedestal De Mesa Para Microfone Com Base De Ferro. Cor Preto/Prata","01-095102-00","2009-09-21",187.5,10,{"$f":"F802*memoria!$B$44/(G802*12*memoria!$B$47)","v":3.90625E-3},{"$f":"F802/(G802*12*memoria!$B$47)","v":9.765625E-3}]
["Diadema","01707-Pavimento Térreo - Biblioteca","Pedestal De Mesa Para Microfone Com Base De Ferro. Cor Preto/Prata","01-095103-00","2009-09-21",187.5,10,{"$f":"F803*memoria!$B$44/(G803*12*memoria!$B$47)","v":3.90625E-3},{"$f":"F803/(G803*12*memoria!$B$47)","v":9.765625E-3}]
["Diadema","01707-Pavimento Térreo - Biblioteca","Pedestal De Mesa Para Microfone Com Base De Ferro. Cor Preto/Prata","01-095104-00","2009-09-21",187.5,10,{"$f":"F804*memoria!$B$44/(G804*12*memoria!$B$47)","v":3.90625E-3},{"$f":"F804/(G804*12*memoria!$B$47)","v":9.765625E-3}]
["Diadema","01707-Pavimento Térreo - Biblioteca","Pedestal De Mesa Para Microfone Com Base De Ferro. Cor Preto/Prata","01-095105-00","2009-09-21",187.5,10,{"$f":"F805*memoria!$B$44/(G805*12*memoria!$B$47)","v":3.90625E-3},{"$f":"F805/(G805*12*memoria!$B$47)","v":9.765625E-3}]
["Diadema","01707-Pavimento Térreo - Biblioteca","Pedestal De Mesa Para Microfone Com Base De Ferro. Cor Preto/Prata","01-095106-00","2009-09-21",187.5,10,{"$f":"F806*memoria!$B$44/(G806*12*memoria!$B$47)","v":3.90625E-3},{"$f":"F806/(G806*12*memoria!$B$47)","v":9.765625E-3}]
["Diadema","01707-Pavimento Térreo - Biblioteca","Pedestal De Mesa Para Microfone Com Base De Ferro. Cor Preto/Prata","01-095107-00","2009-09-21",187.5,10,{"$f":"F807*memoria!$B$44/(G807*12*memoria!$B$47)","v":3.90625E-3},{"$f":"F807/(G807*12*memoria!$B$47)","v":9.765625E-3}]
["Diadema","01707-Pavimento Térreo - Biblioteca","Pedestal De Mesa Para Microfone Com Base De Ferro. Cor Preto/Prata","01-095108-00","2009-09-21",187.5,10,{"$f":"F808*memoria!$B$44/(G808*12*memoria!$B$47)","v":3.90625E-3},{"$f":"F808/(G808*12*memoria!$B$47)","v":9.765625E-3}]
["Diadema","01707-Pavimento Térreo - Biblioteca","Pedestal De Mesa Para Microfone Com Base De Ferro. Cor Preto/Prata","01-095109-00","2009-09-21",187.5,10,{"$f":"F809*memoria!$B$44/(G809*12*memoria!$B$47)","v":3.90625E-3},{"$f":"F809/(G809*12*memoria!$B$47)","v":9.765625E-3}]
["Diadema","01691-Pavimento Térreo - Prédio Principal","Microscopio Binocular. Cor Branco E Azul","01-097003-00","2009-11-26",4200,10,{"$f":"F810*memoria!$B$44/(G810*12*memoria!$B$47)","v":8.7499999999999994E-2},{"$f":"F810/(G810*12*memoria!$B$47)","v":0.21875}]
["Diadema","01691-Pavimento Térreo - Prédio Principal","Microscopio Binocular. Cor Branco E Azul","01-097004-00","2009-11-26",4200,10,{"$f":"F811*memoria!$B$44/(G811*12*memoria!$B$47)","v":8.7499999999999994E-2},{"$f":"F811/(G811*12*memoria!$B$47)","v":0.21875}]
["Diadema","01691-Pavimento Térreo - Prédio Principal","Microscopio Binocular. Cor Branco E Azul","01-097005-00","2009-11-26",4200,10,{"$f":"F812*memoria!$B$44/(G812*12*memoria!$B$47)","v":8.7499999999999994E-2},{"$f":"F812/(G812*12*memoria!$B$47)","v":0.21875}]
["Diadema","01691-Pavimento Térreo - Prédio Principal","Microscopio Binocular. Cor Branco E Azul","01-097006-00","2009-11-26",4200,10,{"$f":"F813*memoria!$B$44/(G813*12*memoria!$B$47)","v":8.7499999999999994E-2},{"$f":"F813/(G813*12*memoria!$B$47)","v":0.21875}]
["Diadema","01691-Pavimento Térreo - Prédio Principal","Microscopio Binocular. Cor Branco E Azul","01-097007-00","2009-11-26",4200,10,{"$f":"F814*memoria!$B$44/(G814*12*memoria!$B$47)","v":8.7499999999999994E-2},{"$f":"F814/(G814*12*memoria!$B$47)","v":0.21875}]
["Diadema","01691-Pavimento Térreo - Prédio Principal","Microscopio Binocular. Cor Branco E Azul","01-097008-00","2009-11-26",4200,10,{"$f":"F815*memoria!$B$44/(G815*12*memoria!$B$47)","v":8.7499999999999994E-2},{"$f":"F815/(G815*12*memoria!$B$47)","v":0.21875}]
["Diadema","01691-Pavimento Térreo - Prédio Principal","Microscopio Binocular. Cor Branco E Azul","01-097009-00","2009-11-26",4200,10,{"$f":"F816*memoria!$B$44/(G816*12*memoria!$B$47)","v":8.7499999999999994E-2},{"$f":"F816/(G816*12*memoria!$B$47)","v":0.21875}]
["Diadema","01691-Pavimento Térreo - Prédio Principal","Microscopio Binocular. Cor Branco E Azul","01-097010-00","2009-11-26",4200,10,{"$f":"F817*memoria!$B$44/(G817*12*memoria!$B$47)","v":8.7499999999999994E-2},{"$f":"F817/(G817*12*memoria!$B$47)","v":0.21875}]
["Diadema","01691-Pavimento Térreo - Prédio Principal","Microscopio Binocular. Cor Branco E Azul","01-097011-00","2009-11-26",4200,10,{"$f":"F818*memoria!$B$44/(G818*12*memoria!$B$47)","v":8.7499999999999994E-2},{"$f":"F818/(G818*12*memoria!$B$47)","v":0.21875}]
["Diadema","01691-Pavimento Térreo - Prédio Principal","Microscopio Binocular. Cor Branco E Azul","01-097012-00","2009-11-26",4200,10,{"$f":"F819*memoria!$B$44/(G819*12*memoria!$B$47)","v":8.7499999999999994E-2},{"$f":"F819/(G819*12*memoria!$B$47)","v":0.21875}]
["Diadema","01691-Pavimento Térreo - Prédio Principal","Microscopio Binocular. Cor Branco E Azul","01-097013-00","2009-11-26",4200,10,{"$f":"F820*memoria!$B$44/(G820*12*memoria!$B$47)","v":8.7499999999999994E-2},{"$f":"F820/(G820*12*memoria!$B$47)","v":0.21875}]
["Diadema","01691-Pavimento Térreo - Prédio Principal","Microscopio Binocular. Cor Branco E Azul","01-097014-00","2009-11-26",4200,10,{"$f":"F821*memoria!$B$44/(G821*12*memoria!$B$47)","v":8.7499999999999994E-2},{"$f":"F821/(G821*12*memoria!$B$47)","v":0.21875}]
["Diadema","01691-Pavimento Térreo - Prédio Principal","Microscopio Binocular. Cor Branco E Azul","01-097015-00","2009-11-26",4200,10,{"$f":"F822*memoria!$B$44/(G822*12*memoria!$B$47)","v":8.7499999999999994E-2},{"$f":"F822/(G822*12*memoria!$B$47)","v":0.21875}]
["Diadema","01691-Pavimento Térreo - Prédio Principal","Microscopio Binocular. Cor Branco E Azul","01-097016-00","2009-11-26",4200,10,{"$f":"F823*memoria!$B$44/(G823*12*memoria!$B$47)","v":8.7499999999999994E-2},{"$f":"F823/(G823*12*memoria!$B$47)","v":0.21875}]
["Diadema","01691-Pavimento Térreo - Prédio Principal","Microscopio Binocular. Cor Branco E Azul","01-097017-00","2009-11-26",4200,10,{"$f":"F824*memoria!$B$44/(G824*12*memoria!$B$47)","v":8.7499999999999994E-2},{"$f":"F824/(G824*12*memoria!$B$47)","v":0.21875}]
["Diadema","01691-Pavimento Térreo - Prédio Principal","Microscopio Binocular. Cor Branco E Azul","01-097018-00","2009-11-26",4200,10,{"$f":"F825*memoria!$B$44/(G825*12*memoria!$B$47)","v":8.7499999999999994E-2},{"$f":"F825/(G825*12*memoria!$B$47)","v":0.21875}]
["Diadema","01691-Pavimento Térreo - Prédio Principal","Microscopio Binocular. Cor Branco E Azul","01-097019-00","2009-11-26",4200,10,{"$f":"F826*memoria!$B$44/(G826*12*memoria!$B$47)","v":8.7499999999999994E-2},{"$f":"F826/(G826*12*memoria!$B$47)","v":0.21875}]
["Diadema","01691-Pavimento Térreo - Prédio Principal","Microscopio Binocular. Cor Branco E Azul","01-097020-00","2009-11-26",4200,10,{"$f":"F827*memoria!$B$44/(G827*12*memoria!$B$47)","v":8.7499999999999994E-2},{"$f":"F827/(G827*12*memoria!$B$47)","v":0.21875}]
["Diadema","01691-Pavimento Térreo - Prédio Principal","Microscopio Binocular. Cor Branco E Azul","01-097021-00","2009-11-26",4200,10,{"$f":"F828*memoria!$B$44/(G828*12*memoria!$B$47)","v":8.7499999999999994E-2},{"$f":"F828/(G828*12*memoria!$B$47)","v":0.21875}]
["Diadema","01691-Pavimento Térreo - Prédio Principal","Microscopio Binocular. Cor Branco E Azul","01-097022-00","2009-11-26",4200,10,{"$f":"F829*memoria!$B$44/(G829*12*memoria!$B$47)","v":8.7499999999999994E-2},{"$f":"F829/(G829*12*memoria!$B$47)","v":0.21875}]
["Diadema","01691-Pavimento Térreo - Prédio Principal","Microscopio Binocular. Cor Branco E Azul","01-097023-00","2009-11-26",4200,10,{"$f":"F830*memoria!$B$44/(G830*12*memoria!$B$47)","v":8.7499999999999994E-2},{"$f":"F830/(G830*12*memoria!$B$47)","v":0.21875}]
["Diadema","01691-Pavimento Térreo - Prédio Principal","Microscopio Binocular. Cor Branco E Azul","01-097024-00","2009-11-26",4200,10,{"$f":"F831*memoria!$B$44/(G831*12*memoria!$B$47)","v":8.7499999999999994E-2},{"$f":"F831/(G831*12*memoria!$B$47)","v":0.21875}]
["Diadema","01691-Pavimento Térreo - Prédio Principal","Microscopio Binocular. Cor Branco E Azul","01-097025-00","2009-11-26",4200,10,{"$f":"F832*memoria!$B$44/(G832*12*memoria!$B$47)","v":8.7499999999999994E-2},{"$f":"F832/(G832*12*memoria!$B$47)","v":0.21875}]
["Diadema","01691-Pavimento Térreo - Prédio Principal","Microscopio Binocular. Cor Branco E Azul","01-097026-00","2009-11-26",4200,10,{"$f":"F833*memoria!$B$44/(G833*12*memoria!$B$47)","v":8.7499999999999994E-2},{"$f":"F833/(G833*12*memoria!$B$47)","v":0.21875}]
["Diadema","01691-Pavimento Térreo - Prédio Principal","Microscopio Binocular. Cor Branco E Azul","01-097027-00","2009-11-26",4200,10,{"$f":"F834*memoria!$B$44/(G834*12*memoria!$B$47)","v":8.7499999999999994E-2},{"$f":"F834/(G834*12*memoria!$B$47)","v":0.21875}]
["Diadema","01691-Pavimento Térreo - Prédio Principal","Microscopio Binocular. Cor Branco E Azul","01-097028-00","2009-11-26",4200,10,{"$f":"F835*memoria!$B$44/(G835*12*memoria!$B$47)","v":8.7499999999999994E-2},{"$f":"F835/(G835*12*memoria!$B$47)","v":0.21875}]
["Diadema","01691-Pavimento Térreo - Prédio Principal","Microscopio Binocular. Cor Branco E Azul","01-097029-00","2009-11-26",4200,10,{"$f":"F836*memoria!$B$44/(G836*12*memoria!$B$47)","v":8.7499999999999994E-2},{"$f":"F836/(G836*12*memoria!$B$47)","v":0.21875}]
["Diadema","01691-Pavimento Térreo - Prédio Principal","Microscopio Binocular. Cor Branco E Azul","01-097030-00","2009-11-26",4200,10,{"$f":"F837*memoria!$B$44/(G837*12*memoria!$B$47)","v":8.7499999999999994E-2},{"$f":"F837/(G837*12*memoria!$B$47)","v":0.21875}]
["Diadema","01691-Pavimento Térreo - Prédio Principal","Microscopio Binocular. Cor Branco E Azul","01-097031-00","2009-11-26",4200,10,{"$f":"F838*memoria!$B$44/(G838*12*memoria!$B$47)","v":8.7499999999999994E-2},{"$f":"F838/(G838*12*memoria!$B$47)","v":0.21875}]
["Diadema","01691-Pavimento Térreo - Prédio Principal","Microscopio Binocular. Cor Branco E Azul","01-097032-00","2009-11-26",4200,10,{"$f":"F839*memoria!$B$44/(G839*12*memoria!$B$47)","v":8.7499999999999994E-2},{"$f":"F839/(G839*12*memoria!$B$47)","v":0.21875}]
["Diadema","01691-Pavimento Térreo - Prédio Principal","Microscopio Binocular. Cor Branco E Azul","01-097033-00","2009-11-26",4200,10,{"$f":"F840*memoria!$B$44/(G840*12*memoria!$B$47)","v":8.7499999999999994E-2},{"$f":"F840/(G840*12*memoria!$B$47)","v":0.21875}]
["Diadema","01691-Pavimento Térreo - Prédio Principal","Microscopio Binocular. Cor Branco E Azul","01-097034-00","2009-11-26",4200,10,{"$f":"F841*memoria!$B$44/(G841*12*memoria!$B$47)","v":8.7499999999999994E-2},{"$f":"F841/(G841*12*memoria!$B$47)","v":0.21875}]
["Diadema","01691-Pavimento Térreo - Prédio Principal","Microscopio Binocular. Cor Branco E Azul","01-097035-00","2009-11-26",4200,10,{"$f":"F842*memoria!$B$44/(G842*12*memoria!$B$47)","v":8.7499999999999994E-2},{"$f":"F842/(G842*12*memoria!$B$47)","v":0.21875}]
["Diadema","01691-Pavimento Térreo - Prédio Principal","Microscopio Binocular. Cor Branco E Azul","01-097036-00","2009-11-26",4200,10,{"$f":"F843*memoria!$B$44/(G843*12*memoria!$B$47)","v":8.7499999999999994E-2},{"$f":"F843/(G843*12*memoria!$B$47)","v":0.21875}]
["Diadema","01691-Pavimento Térreo - Prédio Principal","Microscopio Binocular. Cor Branco E Azul","01-097037-00","2009-11-26",4200,10,{"$f":"F844*memoria!$B$44/(G844*12*memoria!$B$47)","v":8.7499999999999994E-2},{"$f":"F844/(G844*12*memoria!$B$47)","v":0.21875}]
["Diadema","01691-Pavimento Térreo - Prédio Principal","Microscopio Binocular. Cor Branco E Azul","01-097038-00","2009-11-26",4200,10,{"$f":"F845*memoria!$B$44/(G845*12*memoria!$B$47)","v":8.7499999999999994E-2},{"$f":"F845/(G845*12*memoria!$B$47)","v":0.21875}]
["Diadema","01691-Pavimento Térreo - Prédio Principal","Microscopio Binocular. Cor Branco E Azul","01-097039-00","2009-11-26",4200,10,{"$f":"F846*memoria!$B$44/(G846*12*memoria!$B$47)","v":8.7499999999999994E-2},{"$f":"F846/(G846*12*memoria!$B$47)","v":0.21875}]
["Diadema","01691-Pavimento Térreo - Prédio Principal","Microscopio Binocular. Cor Branco E Azul","01-097040-00","2009-11-26",4200,10,{"$f":"F847*memoria!$B$44/(G847*12*memoria!$B$47)","v":8.7499999999999994E-2},{"$f":"F847/(G847*12*memoria!$B$47)","v":0.21875}]
["Diadema","01691-Pavimento Térreo - Prédio Principal","Microscopio Binocular. Cor Branco E Azul","01-097041-00","2009-11-26",4200,10,{"$f":"F848*memoria!$B$44/(G848*12*memoria!$B$47)","v":8.7499999999999994E-2},{"$f":"F848/(G848*12*memoria!$B$47)","v":0.21875}]
["Diadema","01691-Pavimento Térreo - Prédio Principal","Microscopio Binocular. Cor Branco E Azul","01-097042-00","2009-11-26",4200,10,{"$f":"F849*memoria!$B$44/(G849*12*memoria!$B$47)","v":8.7499999999999994E-2},{"$f":"F849/(G849*12*memoria!$B$47)","v":0.21875}]
["Diadema","01691-Pavimento Térreo - Prédio Principal","Balanca Semi Analitica. 6200 Gr. Cor Argila","01-097275-00","2010-02-10",2600,10,{"$f":"F850*memoria!$B$44/(G850*12*memoria!$B$47)","v":5.4166666666666669E-2},{"$f":"F850/(G850*12*memoria!$B$47)","v":0.13541666666666666}]
["Diadema","01691-Pavimento Térreo - Prédio Principal","Balanca Semi Analitica. 6200 Gr. Cor Argila","01-097276-00","2010-02-10",2600,10,{"$f":"F851*memoria!$B$44/(G851*12*memoria!$B$47)","v":5.4166666666666669E-2},{"$f":"F851/(G851*12*memoria!$B$47)","v":0.13541666666666666}]
["Diadema","01691-Pavimento Térreo - Prédio Principal","Balanca Semi Analitica. 6200 Gr. Cor Argila","01-097277-00","2010-02-10",2600,10,{"$f":"F852*memoria!$B$44/(G852*12*memoria!$B$47)","v":5.4166666666666669E-2},{"$f":"F852/(G852*12*memoria!$B$47)","v":0.13541666666666666}]
["Diadema","01691-Pavimento Térreo - Prédio Principal","Balanca Analitica 250 Gr. Cor Argila","01-097278-00","2010-02-10",3600,10,{"$f":"F853*memoria!$B$44/(G853*12*memoria!$B$47)","v":7.4999999999999997E-2},{"$f":"F853/(G853*12*memoria!$B$47)","v":0.1875}]
["Diadema","01691-Pavimento Térreo - Prédio Principal","Balanca Analitica 250 Gr. Cor Argila","01-097279-00","2010-02-10",3600,10,{"$f":"F854*memoria!$B$44/(G854*12*memoria!$B$47)","v":7.4999999999999997E-2},{"$f":"F854/(G854*12*memoria!$B$47)","v":0.1875}]
["Diadema","01691-Pavimento Térreo - Prédio Principal","Balanca Analitica 250 Gr. Cor Argila","01-097280-00","2010-02-10",3600,10,{"$f":"F855*memoria!$B$44/(G855*12*memoria!$B$47)","v":7.4999999999999997E-2},{"$f":"F855/(G855*12*memoria!$B$47)","v":0.1875}]
["Diadema","01691-Pavimento Térreo - Prédio Principal","Balanca Analitica 250 Gr. Cor Argila","01-097281-00","2010-02-10",3600,10,{"$f":"F856*memoria!$B$44/(G856*12*memoria!$B$47)","v":7.4999999999999997E-2},{"$f":"F856/(G856*12*memoria!$B$47)","v":0.1875}]
["Diadema","01691-Pavimento Térreo - Prédio Principal","Incubadora De Bancada Com Agitacao Orbital. Cor Argila","01-097282-00","2010-02-17",5425,10,{"$f":"F857*memoria!$B$44/(G857*12*memoria!$B$47)","v":0.11302083333333333},{"$f":"F857/(G857*12*memoria!$B$47)","v":0.28255208333333331}]
["Diadema","01691-Pavimento Térreo - Prédio Principal","Balanca Semi-Analitica 1 Kg Cor Azul","01-097289-00","2010-02-18",2470,10,{"$f":"F858*memoria!$B$44/(G858*12*memoria!$B$47)","v":5.1458333333333335E-2},{"$f":"F858/(G858*12*memoria!$B$47)","v":0.12864583333333332}]
["Diadema","01691-Pavimento Térreo - Prédio Principal","Balanca Semi-Analitica 1 Kg Cor Azul","01-097290-00","2010-02-18",2470,10,{"$f":"F859*memoria!$B$44/(G859*12*memoria!$B$47)","v":5.1458333333333335E-2},{"$f":"F859/(G859*12*memoria!$B$47)","v":0.12864583333333332}]
["Diadema","01691-Pavimento Térreo - Prédio Principal","Balanca Semi-Analitica 1 Kg Cor Azul","01-097291-00","2010-02-18",2470,10,{"$f":"F860*memoria!$B$44/(G860*12*memoria!$B$47)","v":5.1458333333333335E-2},{"$f":"F860/(G860*12*memoria!$B$47)","v":0.12864583333333332}]
["Diadema","01691-Pavimento Térreo - Prédio Principal","Balanca Semi-Analitica 1 Kg Cor Azul","01-097292-00","2010-02-18",2470,10,{"$f":"F861*memoria!$B$44/(G861*12*memoria!$B$47)","v":5.1458333333333335E-2},{"$f":"F861/(G861*12*memoria!$B$47)","v":0.12864583333333332}]
["Diadema","01691-Pavimento Térreo - Prédio Principal","Balanca Semi-Analitica 1 Kg Cor Azul","01-097293-00","2010-02-18",2470,10,{"$f":"F862*memoria!$B$44/(G862*12*memoria!$B$47)","v":5.1458333333333335E-2},{"$f":"F862/(G862*12*memoria!$B$47)","v":0.12864583333333332}]
["Diadema","01691-Pavimento Térreo - Prédio Principal","Balanca Semi-Analitica 1 Kg Cor Azul","01-097294-00","2010-02-18",2470,10,{"$f":"F863*memoria!$B$44/(G863*12*memoria!$B$47)","v":5.1458333333333335E-2},{"$f":"F863/(G863*12*memoria!$B$47)","v":0.12864583333333332}]
["Diadema","01691-Pavimento Térreo - Prédio Principal","Balanca Semi-Analitica 1 Kg Cor Azul","01-097295-00","2010-02-18",2470,10,{"$f":"F864*memoria!$B$44/(G864*12*memoria!$B$47)","v":5.1458333333333335E-2},{"$f":"F864/(G864*12*memoria!$B$47)","v":0.12864583333333332}]
["Diadema","01691-Pavimento Térreo - Prédio Principal","Balanca Semi-Analitica 1 Kg Cor Azul","01-097296-00","2010-02-18",2470,10,{"$f":"F865*memoria!$B$44/(G865*12*memoria!$B$47)","v":5.1458333333333335E-2},{"$f":"F865/(G865*12*memoria!$B$47)","v":0.12864583333333332}]
["Diadema","01691-Pavimento Térreo - Prédio Principal","Balanca Semi-Analitica 1 Kg Cor Azul","01-097297-00","2010-02-18",2470,10,{"$f":"F866*memoria!$B$44/(G866*12*memoria!$B$47)","v":5.1458333333333335E-2},{"$f":"F866/(G866*12*memoria!$B$47)","v":0.12864583333333332}]
["Diadema","01691-Pavimento Térreo - Prédio Principal","Balanca Semi-Analitica 1 Kg Cor Azul","01-097298-00","2010-02-18",2470,10,{"$f":"F867*memoria!$B$44/(G867*12*memoria!$B$47)","v":5.1458333333333335E-2},{"$f":"F867/(G867*12*memoria!$B$47)","v":0.12864583333333332}]
["Diadema","01691-Pavimento Térreo - Prédio Principal","Conjunto De Armario Deslizante","01-097299-00","2010-02-03",30000,10,{"$f":"F868*memoria!$B$44/(G868*12*memoria!$B$47)","v":0.625},{"$f":"F868/(G868*12*memoria!$B$47)","v":1.5625}]
["Diadema","01691-Pavimento Térreo - Prédio Principal","Conjunto De Armario Deslizante","01-097300-00","2010-02-03",13600,10,{"$f":"F869*memoria!$B$44/(G869*12*memoria!$B$47)","v":0.28333333333333333},{"$f":"F869/(G869*12*memoria!$B$47)","v":0.70833333333333337}]
["Diadema","01691-Pavimento Térreo - Prédio Principal","Analisador De Ions Seletivos","01-097301-00","2010-02-24",13500,10,{"$f":"F870*memoria!$B$44/(G870*12*memoria!$B$47)","v":0.28125},{"$f":"F870/(G870*12*memoria!$B$47)","v":0.703125}]
["Diadema","01691-Pavimento Térreo - Prédio Principal","Analisador De Ions Seletivos","01-097302-00","2010-02-24",13500,10,{"$f":"F871*memoria!$B$44/(G871*12*memoria!$B$47)","v":0.28125},{"$f":"F871/(G871*12*memoria!$B$47)","v":0.703125}]
["Diadema","01691-Pavimento Térreo - Prédio Principal","Tensiometro Analogico","01-097303-00","2010-03-01",14000,10,{"$f":"F872*memoria!$B$44/(G872*12*memoria!$B$47)","v":0.29166666666666669},{"$f":"F872/(G872*12*memoria!$B$47)","v":0.72916666666666663}]
["Diadema","01691-Pavimento Térreo - Prédio Principal","Tensiometro Analogico","01-097304-00","2010-03-01",14000,10,{"$f":"F873*memoria!$B$44/(G873*12*memoria!$B$47)","v":0.29166666666666669},{"$f":"F873/(G873*12*memoria!$B$47)","v":0.72916666666666663}]
["Diadema","01691-Pavimento Térreo - Prédio Principal","Tensiometro Analogico","01-097305-00","2010-03-01",14000,10,{"$f":"F874*memoria!$B$44/(G874*12*memoria!$B$47)","v":0.29166666666666669},{"$f":"F874/(G874*12*memoria!$B$47)","v":0.72916666666666663}]
["Diadema","01691-Pavimento Térreo - Prédio Principal","Tensiometro Analogico","01-097306-00","2010-03-01",14000,10,{"$f":"F875*memoria!$B$44/(G875*12*memoria!$B$47)","v":0.29166666666666669},{"$f":"F875/(G875*12*memoria!$B$47)","v":0.72916666666666663}]
["Diadema","01691-Pavimento Térreo - Prédio Principal","Tensiometro Analogico","01-097307-00","2010-03-01",14000,10,{"$f":"F876*memoria!$B$44/(G876*12*memoria!$B$47)","v":0.29166666666666669},{"$f":"F876/(G876*12*memoria!$B$47)","v":0.72916666666666663}]
["Diadema","01691-Pavimento Térreo - Prédio Principal","Tensiometro Analogico","01-097308-00","2010-03-01",14000,10,{"$f":"F877*memoria!$B$44/(G877*12*memoria!$B$47)","v":0.29166666666666669},{"$f":"F877/(G877*12*memoria!$B$47)","v":0.72916666666666663}]
["Diadema","01691-Pavimento Térreo - Prédio Principal","Tensiometro Analogico","01-097309-00","2010-03-01",14000,10,{"$f":"F878*memoria!$B$44/(G878*12*memoria!$B$47)","v":0.29166666666666669},{"$f":"F878/(G878*12*memoria!$B$47)","v":0.72916666666666663}]
["Diadema","01691-Pavimento Térreo - Prédio Principal","Tensiometro Analogico","01-097310-00","2010-03-01",14000,10,{"$f":"F879*memoria!$B$44/(G879*12*memoria!$B$47)","v":0.29166666666666669},{"$f":"F879/(G879*12*memoria!$B$47)","v":0.72916666666666663}]
["Diadema","01691-Pavimento Térreo - Prédio Principal","Tensiometro Analogico","01-097311-00","2010-03-01",14000,10,{"$f":"F880*memoria!$B$44/(G880*12*memoria!$B$47)","v":0.29166666666666669},{"$f":"F880/(G880*12*memoria!$B$47)","v":0.72916666666666663}]
["Diadema","01691-Pavimento Térreo - Prédio Principal","Tensiometro Analogico","01-097312-00","2010-03-01",14000,10,{"$f":"F881*memoria!$B$44/(G881*12*memoria!$B$47)","v":0.29166666666666669},{"$f":"F881/(G881*12*memoria!$B$47)","v":0.72916666666666663}]
["Diadema","01691-Pavimento Térreo - Prédio Principal","Liofilizador De Bancada","01-097313-00","2010-03-02",13999,10,{"$f":"F882*memoria!$B$44/(G882*12*memoria!$B$47)","v":0.29164583333333333},{"$f":"F882/(G882*12*memoria!$B$47)","v":0.72911458333333334}]
["Diadema","01691-Pavimento Térreo - Prédio Principal","Lifilizador De Bancada","01-097314-00","2010-03-02",13999,10,{"$f":"F883*memoria!$B$44/(G883*12*memoria!$B$47)","v":0.29164583333333333},{"$f":"F883/(G883*12*memoria!$B$47)","v":0.72911458333333334}]
["Diadema","01691-Pavimento Térreo - Prédio Principal","Bomba Peristaltica","01-097315-00","2010-02-25",2866.66,10,{"$f":"F884*memoria!$B$44/(G884*12*memoria!$B$47)","v":5.9722083333333335E-2},{"$f":"F884/(G884*12*memoria!$B$47)","v":0.14930520833333333}]
["Diadema","01691-Pavimento Térreo - Prédio Principal","Bomba Peristaltica","01-097316-00","2010-02-25",2866.66,10,{"$f":"F885*memoria!$B$44/(G885*12*memoria!$B$47)","v":5.9722083333333335E-2},{"$f":"F885/(G885*12*memoria!$B$47)","v":0.14930520833333333}]
["Diadema","01691-Pavimento Térreo - Prédio Principal","Bomba Peristaltica","01-097317-00","2010-02-25",2866.66,10,{"$f":"F886*memoria!$B$44/(G886*12*memoria!$B$47)","v":5.9722083333333335E-2},{"$f":"F886/(G886*12*memoria!$B$47)","v":0.14930520833333333}]
["Diadema","01691-Pavimento Térreo - Prédio Principal","Banho Maria","01-097318-00","2010-02-17",864.5,10,{"$f":"F887*memoria!$B$44/(G887*12*memoria!$B$47)","v":1.8010416666666668E-2},{"$f":"F887/(G887*12*memoria!$B$47)","v":4.5026041666666669E-2}]
["Diadema","01691-Pavimento Térreo - Prédio Principal","Banho Maria","01-097319-00","2010-02-17",864.5,10,{"$f":"F888*memoria!$B$44/(G888*12*memoria!$B$47)","v":1.8010416666666668E-2},{"$f":"F888/(G888*12*memoria!$B$47)","v":4.5026041666666669E-2}]
["Diadema","01691-Pavimento Térreo - Prédio Principal","Cromatografo De Fase Liquida Composto","01-097320-00","2010-03-03",135500,10,{"$f":"F889*memoria!$B$44/(G889*12*memoria!$B$47)","v":2.8229166666666665},{"$f":"F889/(G889*12*memoria!$B$47)","v":7.057291666666667}]
["Diadema","01691-Pavimento Térreo - Prédio Principal","Calorimetro Composto De 1 Sg Padrao De Oxalato De Calcio 99,999%, 1 Controlador","01-097321-00","2010-03-02",191500,10,{"$f":"F890*memoria!$B$44/(G890*12*memoria!$B$47)","v":3.9895833333333335},{"$f":"F890/(G890*12*memoria!$B$47)","v":9.9739583333333339}]
["Diadema","01691-Pavimento Térreo - Prédio Principal","Manta Aquecedora","01-097362-00","2010-03-04",202,10,{"$f":"F891*memoria!$B$44/(G891*12*memoria!$B$47)","v":4.2083333333333339E-3},{"$f":"F891/(G891*12*memoria!$B$47)","v":1.0520833333333333E-2}]
["Diadema","01691-Pavimento Térreo - Prédio Principal","Manta Aquecedora","01-097363-00","2010-03-04",202,10,{"$f":"F892*memoria!$B$44/(G892*12*memoria!$B$47)","v":4.2083333333333339E-3},{"$f":"F892/(G892*12*memoria!$B$47)","v":1.0520833333333333E-2}]
["Diadema","01691-Pavimento Térreo - Prédio Principal","Manta Aquecedora","01-097364-00","2010-03-04",202,10,{"$f":"F893*memoria!$B$44/(G893*12*memoria!$B$47)","v":4.2083333333333339E-3},{"$f":"F893/(G893*12*memoria!$B$47)","v":1.0520833333333333E-2}]
["Diadema","01691-Pavimento Térreo - Prédio Principal","Manta Aquecedora","01-097365-00","2010-03-04",202,10,{"$f":"F894*memoria!$B$44/(G894*12*memoria!$B$47)","v":4.2083333333333339E-3},{"$f":"F894/(G894*12*memoria!$B$47)","v":1.0520833333333333E-2}]
["Diadema","01691-Pavimento Térreo - Prédio Principal","Manta Aquecedora","01-097366-00","2010-03-04",202,10,{"$f":"F895*memoria!$B$44/(G895*12*memoria!$B$47)","v":4.2083333333333339E-3},{"$f":"F895/(G895*12*memoria!$B$47)","v":1.0520833333333333E-2}]
["Diadema","01691-Pavimento Térreo - Prédio Principal","Manta Aquecedora","01-097367-00","2010-03-04",202,10,{"$f":"F896*memoria!$B$44/(G896*12*memoria!$B$47)","v":4.2083333333333339E-3},{"$f":"F896/(G896*12*memoria!$B$47)","v":1.0520833333333333E-2}]
["Diadema","01691-Pavimento Térreo - Prédio Principal","Manta Aquecedora","01-097368-00","2010-03-04",202,10,{"$f":"F897*memoria!$B$44/(G897*12*memoria!$B$47)","v":4.2083333333333339E-3},{"$f":"F897/(G897*12*memoria!$B$47)","v":1.0520833333333333E-2}]
["Diadema","01691-Pavimento Térreo - Prédio Principal","Manta Aquecedora","01-097369-00","2010-03-04",202,10,{"$f":"F898*memoria!$B$44/(G898*12*memoria!$B$47)","v":4.2083333333333339E-3},{"$f":"F898/(G898*12*memoria!$B$47)","v":1.0520833333333333E-2}]
["Diadema","01691-Pavimento Térreo - Prédio Principal","Manta Aquecedora","01-097370-00","2010-03-04",202,10,{"$f":"F899*memoria!$B$44/(G899*12*memoria!$B$47)","v":4.2083333333333339E-3},{"$f":"F899/(G899*12*memoria!$B$47)","v":1.0520833333333333E-2}]
["Diadema","01691-Pavimento Térreo - Prédio Principal","Manta Aquecedora","01-097371-00","2010-03-04",202,10,{"$f":"F900*memoria!$B$44/(G900*12*memoria!$B$47)","v":4.2083333333333339E-3},{"$f":"F900/(G900*12*memoria!$B$47)","v":1.0520833333333333E-2}]
["Diadema","01691-Pavimento Térreo - Prédio Principal","Manta Aquecedora","01-097372-00","2010-03-04",202,10,{"$f":"F901*memoria!$B$44/(G901*12*memoria!$B$47)","v":4.2083333333333339E-3},{"$f":"F901/(G901*12*memoria!$B$47)","v":1.0520833333333333E-2}]
["Diadema","01691-Pavimento Térreo - Prédio Principal","Manta Aquecedora","01-097373-00","2010-03-04",202,10,{"$f":"F902*memoria!$B$44/(G902*12*memoria!$B$47)","v":4.2083333333333339E-3},{"$f":"F902/(G902*12*memoria!$B$47)","v":1.0520833333333333E-2}]
["Diadema","01691-Pavimento Térreo - Prédio Principal","Manta Aquecedora","01-097374-00","2010-03-04",202,10,{"$f":"F903*memoria!$B$44/(G903*12*memoria!$B$47)","v":4.2083333333333339E-3},{"$f":"F903/(G903*12*memoria!$B$47)","v":1.0520833333333333E-2}]
["Diadema","01691-Pavimento Térreo - Prédio Principal","Manta Aquecedora","01-097375-00","2010-03-04",202,10,{"$f":"F904*memoria!$B$44/(G904*12*memoria!$B$47)","v":4.2083333333333339E-3},{"$f":"F904/(G904*12*memoria!$B$47)","v":1.0520833333333333E-2}]
["Diadema","01691-Pavimento Térreo - Prédio Principal","Manta Aquecedora","01-097376-00","2010-03-04",202,10,{"$f":"F905*memoria!$B$44/(G905*12*memoria!$B$47)","v":4.2083333333333339E-3},{"$f":"F905/(G905*12*memoria!$B$47)","v":1.0520833333333333E-2}]
["Diadema","01691-Pavimento Térreo - Prédio Principal","Manta Aquecedora","01-097377-00","2010-03-04",202,10,{"$f":"F906*memoria!$B$44/(G906*12*memoria!$B$47)","v":4.2083333333333339E-3},{"$f":"F906/(G906*12*memoria!$B$47)","v":1.0520833333333333E-2}]
["Diadema","01691-Pavimento Térreo - Prédio Principal","Manta Aquecedora","01-097378-00","2010-03-04",202,10,{"$f":"F907*memoria!$B$44/(G907*12*memoria!$B$47)","v":4.2083333333333339E-3},{"$f":"F907/(G907*12*memoria!$B$47)","v":1.0520833333333333E-2}]
["Diadema","01691-Pavimento Térreo - Prédio Principal","Manta Aquecedora","01-097379-00","2010-03-04",202,10,{"$f":"F908*memoria!$B$44/(G908*12*memoria!$B$47)","v":4.2083333333333339E-3},{"$f":"F908/(G908*12*memoria!$B$47)","v":1.0520833333333333E-2}]
["Diadema","01691-Pavimento Térreo - Prédio Principal","Manta Aquecedora","01-097380-00","2010-03-04",202,10,{"$f":"F909*memoria!$B$44/(G909*12*memoria!$B$47)","v":4.2083333333333339E-3},{"$f":"F909/(G909*12*memoria!$B$47)","v":1.0520833333333333E-2}]
["Diadema","01691-Pavimento Térreo - Prédio Principal","Manta Aquecedora","01-097381-00","2010-03-04",202,10,{"$f":"F910*memoria!$B$44/(G910*12*memoria!$B$47)","v":4.2083333333333339E-3},{"$f":"F910/(G910*12*memoria!$B$47)","v":1.0520833333333333E-2}]
["Diadema","01691-Pavimento Térreo - Prédio Principal","Manta Aquecedora","01-097382-00","2010-03-04",202,10,{"$f":"F911*memoria!$B$44/(G911*12*memoria!$B$47)","v":4.2083333333333339E-3},{"$f":"F911/(G911*12*memoria!$B$47)","v":1.0520833333333333E-2}]
["Diadema","01691-Pavimento Térreo - Prédio Principal","Manta Aquecedora","01-097383-00","2010-03-04",202,10,{"$f":"F912*memoria!$B$44/(G912*12*memoria!$B$47)","v":4.2083333333333339E-3},{"$f":"F912/(G912*12*memoria!$B$47)","v":1.0520833333333333E-2}]
["Diadema","01691-Pavimento Térreo - Prédio Principal","Manta Aquecedora","01-097384-00","2010-03-04",202,10,{"$f":"F913*memoria!$B$44/(G913*12*memoria!$B$47)","v":4.2083333333333339E-3},{"$f":"F913/(G913*12*memoria!$B$47)","v":1.0520833333333333E-2}]
["Diadema","01691-Pavimento Térreo - Prédio Principal","Manta Aquecedora","01-097385-00","2010-03-04",202,10,{"$f":"F914*memoria!$B$44/(G914*12*memoria!$B$47)","v":4.2083333333333339E-3},{"$f":"F914/(G914*12*memoria!$B$47)","v":1.0520833333333333E-2}]
["Diadema","01691-Pavimento Térreo - Prédio Principal","Manta Aquecedora","01-097386-00","2010-03-04",202,10,{"$f":"F915*memoria!$B$44/(G915*12*memoria!$B$47)","v":4.2083333333333339E-3},{"$f":"F915/(G915*12*memoria!$B$47)","v":1.0520833333333333E-2}]
["Diadema","01691-Pavimento Térreo - Prédio Principal","Manta Aquecedora","01-097387-00","2010-03-04",202,10,{"$f":"F916*memoria!$B$44/(G916*12*memoria!$B$47)","v":4.2083333333333339E-3},{"$f":"F916/(G916*12*memoria!$B$47)","v":1.0520833333333333E-2}]
["Diadema","01691-Pavimento Térreo - Prédio Principal","Manta Aquecedora","01-097388-00","2010-03-04",202,10,{"$f":"F917*memoria!$B$44/(G917*12*memoria!$B$47)","v":4.2083333333333339E-3},{"$f":"F917/(G917*12*memoria!$B$47)","v":1.0520833333333333E-2}]
["Diadema","01691-Pavimento Térreo - Prédio Principal","Manta Aquecedora","01-097389-00","2010-03-04",202,10,{"$f":"F918*memoria!$B$44/(G918*12*memoria!$B$47)","v":4.2083333333333339E-3},{"$f":"F918/(G918*12*memoria!$B$47)","v":1.0520833333333333E-2}]
["Diadema","01691-Pavimento Térreo - Prédio Principal","Manta Aquecedora","01-097390-00","2010-03-04",202,10,{"$f":"F919*memoria!$B$44/(G919*12*memoria!$B$47)","v":4.2083333333333339E-3},{"$f":"F919/(G919*12*memoria!$B$47)","v":1.0520833333333333E-2}]
["Diadema","01691-Pavimento Térreo - Prédio Principal","Manta Aquecedora","01-097391-00","2010-03-04",202,10,{"$f":"F920*memoria!$B$44/(G920*12*memoria!$B$47)","v":4.2083333333333339E-3},{"$f":"F920/(G920*12*memoria!$B$47)","v":1.0520833333333333E-2}]
["Diadema","01691-Pavimento Térreo - Prédio Principal","Manta Aquecedora","01-097392-00","2010-03-04",202,10,{"$f":"F921*memoria!$B$44/(G921*12*memoria!$B$47)","v":4.2083333333333339E-3},{"$f":"F921/(G921*12*memoria!$B$47)","v":1.0520833333333333E-2}]
["Diadema","01691-Pavimento Térreo - Prédio Principal","Manta Aquecedora","01-097393-00","2010-03-04",202,10,{"$f":"F922*memoria!$B$44/(G922*12*memoria!$B$47)","v":4.2083333333333339E-3},{"$f":"F922/(G922*12*memoria!$B$47)","v":1.0520833333333333E-2}]
["Diadema","01691-Pavimento Térreo - Prédio Principal","Manta Aquecedora","01-097394-00","2010-03-04",202,10,{"$f":"F923*memoria!$B$44/(G923*12*memoria!$B$47)","v":4.2083333333333339E-3},{"$f":"F923/(G923*12*memoria!$B$47)","v":1.0520833333333333E-2}]
["Diadema","01691-Pavimento Térreo - Prédio Principal","Manta Aquecedora","01-097395-00","2010-03-04",202,10,{"$f":"F924*memoria!$B$44/(G924*12*memoria!$B$47)","v":4.2083333333333339E-3},{"$f":"F924/(G924*12*memoria!$B$47)","v":1.0520833333333333E-2}]
["Diadema","01691-Pavimento Térreo - Prédio Principal","Manta Aquecedora","01-097396-00","2010-03-04",202,10,{"$f":"F925*memoria!$B$44/(G925*12*memoria!$B$47)","v":4.2083333333333339E-3},{"$f":"F925/(G925*12*memoria!$B$47)","v":1.0520833333333333E-2}]
["Diadema","01691-Pavimento Térreo - Prédio Principal","Manta Aquecedora","01-097397-00","2010-03-04",202,10,{"$f":"F926*memoria!$B$44/(G926*12*memoria!$B$47)","v":4.2083333333333339E-3},{"$f":"F926/(G926*12*memoria!$B$47)","v":1.0520833333333333E-2}]
["Diadema","01691-Pavimento Térreo - Prédio Principal","Manta Aquecedora","01-097398-00","2010-03-04",202,10,{"$f":"F927*memoria!$B$44/(G927*12*memoria!$B$47)","v":4.2083333333333339E-3},{"$f":"F927/(G927*12*memoria!$B$47)","v":1.0520833333333333E-2}]
["Diadema","01691-Pavimento Térreo - Prédio Principal","Manta Aquecedora","01-097399-00","2010-03-04",202,10,{"$f":"F928*memoria!$B$44/(G928*12*memoria!$B$47)","v":4.2083333333333339E-3},{"$f":"F928/(G928*12*memoria!$B$47)","v":1.0520833333333333E-2}]
["Diadema","01691-Pavimento Térreo - Prédio Principal","Manta Aquecedora","01-097400-00","2010-03-04",202,10,{"$f":"F929*memoria!$B$44/(G929*12*memoria!$B$47)","v":4.2083333333333339E-3},{"$f":"F929/(G929*12*memoria!$B$47)","v":1.0520833333333333E-2}]
["Diadema","01691-Pavimento Térreo - Prédio Principal","Manta Aquecedora","01-097401-00","2010-03-04",202,10,{"$f":"F930*memoria!$B$44/(G930*12*memoria!$B$47)","v":4.2083333333333339E-3},{"$f":"F930/(G930*12*memoria!$B$47)","v":1.0520833333333333E-2}]
["Diadema","01691-Pavimento Térreo - Prédio Principal","Manta Aquecedora","01-097402-00","2010-03-04",202,10,{"$f":"F931*memoria!$B$44/(G931*12*memoria!$B$47)","v":4.2083333333333339E-3},{"$f":"F931/(G931*12*memoria!$B$47)","v":1.0520833333333333E-2}]
["Diadema","01691-Pavimento Térreo - Prédio Principal","Manta Aquecedora","01-097403-00","2010-03-04",202,10,{"$f":"F932*memoria!$B$44/(G932*12*memoria!$B$47)","v":4.2083333333333339E-3},{"$f":"F932/(G932*12*memoria!$B$47)","v":1.0520833333333333E-2}]
["Diadema","01691-Pavimento Térreo - Prédio Principal","Manta Aquecedora","01-097404-00","2010-03-04",202,10,{"$f":"F933*memoria!$B$44/(G933*12*memoria!$B$47)","v":4.2083333333333339E-3},{"$f":"F933/(G933*12*memoria!$B$47)","v":1.0520833333333333E-2}]
["Diadema","01691-Pavimento Térreo - Prédio Principal","Manta Aquecedora","01-097405-00","2010-03-04",202,10,{"$f":"F934*memoria!$B$44/(G934*12*memoria!$B$47)","v":4.2083333333333339E-3},{"$f":"F934/(G934*12*memoria!$B$47)","v":1.0520833333333333E-2}]
["Diadema","01691-Pavimento Térreo - Prédio Principal","Manta Aquecedora","01-097406-00","2010-03-04",202,10,{"$f":"F935*memoria!$B$44/(G935*12*memoria!$B$47)","v":4.2083333333333339E-3},{"$f":"F935/(G935*12*memoria!$B$47)","v":1.0520833333333333E-2}]
["Diadema","01691-Pavimento Térreo - Prédio Principal","Medidor De Ph Digital","01-097407-00","2010-03-04",400,10,{"$f":"F936*memoria!$B$44/(G936*12*memoria!$B$47)","v":8.3333333333333332E-3},{"$f":"F936/(G936*12*memoria!$B$47)","v":2.0833333333333332E-2}]
["Diadema","01691-Pavimento Térreo - Prédio Principal","Medidor De Ph Digital","01-097408-00","2010-03-04",400,10,{"$f":"F937*memoria!$B$44/(G937*12*memoria!$B$47)","v":8.3333333333333332E-3},{"$f":"F937/(G937*12*memoria!$B$47)","v":2.0833333333333332E-2}]
["Diadema","01691-Pavimento Térreo - Prédio Principal","Medidor De Ph Digital","01-097409-00","2010-03-04",400,10,{"$f":"F938*memoria!$B$44/(G938*12*memoria!$B$47)","v":8.3333333333333332E-3},{"$f":"F938/(G938*12*memoria!$B$47)","v":2.0833333333333332E-2}]
["Diadema","01691-Pavimento Térreo - Prédio Principal","Cromatografo De Fase Gasosa","01-097410-00","2010-03-03",131500,10,{"$f":"F939*memoria!$B$44/(G939*12*memoria!$B$47)","v":2.7395833333333335},{"$f":"F939/(G939*12*memoria!$B$47)","v":6.848958333333333}]
["Diadema","01691-Pavimento Térreo - Prédio Principal","Refrigerador","01-097451-00","2010-02-25",2014,10,{"$f":"F940*memoria!$B$44/(G940*12*memoria!$B$47)","v":4.1958333333333334E-2},{"$f":"F940/(G940*12*memoria!$B$47)","v":0.10489583333333333}]
["Diadema","01691-Pavimento Térreo - Prédio Principal","Refrigerador","01-097452-00","2010-02-25",2014,10,{"$f":"F941*memoria!$B$44/(G941*12*memoria!$B$47)","v":4.1958333333333334E-2},{"$f":"F941/(G941*12*memoria!$B$47)","v":0.10489583333333333}]
["Diadema","01691-Pavimento Térreo - Prédio Principal","Refrigerador","01-097453-00","2010-02-25",2014,10,{"$f":"F942*memoria!$B$44/(G942*12*memoria!$B$47)","v":4.1958333333333334E-2},{"$f":"F942/(G942*12*memoria!$B$47)","v":0.10489583333333333}]
["Diadema","01691-Pavimento Térreo - Prédio Principal","Refrigerador","01-097454-00","2010-02-25",2014,10,{"$f":"F943*memoria!$B$44/(G943*12*memoria!$B$47)","v":4.1958333333333334E-2},{"$f":"F943/(G943*12*memoria!$B$47)","v":0.10489583333333333}]
["Diadema","01691-Pavimento Térreo - Prédio Principal","Centrifuga De Bancada","01-097455-00","2010-03-05",3040,10,{"$f":"F944*memoria!$B$44/(G944*12*memoria!$B$47)","v":6.3333333333333339E-2},{"$f":"F944/(G944*12*memoria!$B$47)","v":0.15833333333333333}]
["Diadema","01691-Pavimento Térreo - Prédio Principal","Agitador Mecanico Com Suporte, Cor Argila E Preto","01-097456-00","2010-03-08",2400,10,{"$f":"F945*memoria!$B$44/(G945*12*memoria!$B$47)","v":0.05},{"$f":"F945/(G945*12*memoria!$B$47)","v":0.125}]
["Diadema","01691-Pavimento Térreo - Prédio Principal","Agitador Mecanico Com Suporte, Cor Argila E Preto","01-097457-00","2010-03-08",2400,10,{"$f":"F946*memoria!$B$44/(G946*12*memoria!$B$47)","v":0.05},{"$f":"F946/(G946*12*memoria!$B$47)","v":0.125}]
["Diadema","01691-Pavimento Térreo - Prédio Principal","Agitador Mecanico Com Suporte, Cor Argila E Preto","01-097458-00","2010-03-08",2400,10,{"$f":"F947*memoria!$B$44/(G947*12*memoria!$B$47)","v":0.05},{"$f":"F947/(G947*12*memoria!$B$47)","v":0.125}]
["Diadema","01691-Pavimento Térreo - Prédio Principal","Agitador Mecanico Com Suporte, Cor Argila E Preto","01-097459-00","2010-03-08",2400,10,{"$f":"F948*memoria!$B$44/(G948*12*memoria!$B$47)","v":0.05},{"$f":"F948/(G948*12*memoria!$B$47)","v":0.125}]
["Diadema","01691-Pavimento Térreo - Prédio Principal","Agitador Mecanico Com Suporte, Cor Argila E Preto","01-097460-00","2010-03-08",2400,10,{"$f":"F949*memoria!$B$44/(G949*12*memoria!$B$47)","v":0.05},{"$f":"F949/(G949*12*memoria!$B$47)","v":0.125}]
["Diadema","01691-Pavimento Térreo - Prédio Principal","Agitador Mecanico Com Suporte, Cor Argila E Preto","01-097461-00","2010-03-08",2400,10,{"$f":"F950*memoria!$B$44/(G950*12*memoria!$B$47)","v":0.05},{"$f":"F950/(G950*12*memoria!$B$47)","v":0.125}]
["Diadema","01691-Pavimento Térreo - Prédio Principal","Agitador Mecanico Com Suporte, Cor Argila E Preto","01-097462-00","2010-03-08",2400,10,{"$f":"F951*memoria!$B$44/(G951*12*memoria!$B$47)","v":0.05},{"$f":"F951/(G951*12*memoria!$B$47)","v":0.125}]
["Diadema","01691-Pavimento Térreo - Prédio Principal","Agitador Mecanico Com Suporte, Cor Argila E Preto","01-097463-00","2010-03-08",2400,10,{"$f":"F952*memoria!$B$44/(G952*12*memoria!$B$47)","v":0.05},{"$f":"F952/(G952*12*memoria!$B$47)","v":0.125}]
["Diadema","01691-Pavimento Térreo - Prédio Principal","Agitador Mecanico Com Suporte, Cor Argila E Preto","01-097464-00","2010-03-08",2400,10,{"$f":"F953*memoria!$B$44/(G953*12*memoria!$B$47)","v":0.05},{"$f":"F953/(G953*12*memoria!$B$47)","v":0.125}]
["Diadema","01691-Pavimento Térreo - Prédio Principal","Agitador Mecanico Com Suporte, Cor Argila E Preto","01-097465-00","2010-03-08",2400,10,{"$f":"F954*memoria!$B$44/(G954*12*memoria!$B$47)","v":0.05},{"$f":"F954/(G954*12*memoria!$B$47)","v":0.125}]
["Diadema","01691-Pavimento Térreo - Prédio Principal","Agitador Mecanico Com Suporte, Cor Argila E Preto","01-097466-00","2010-03-08",2400,10,{"$f":"F955*memoria!$B$44/(G955*12*memoria!$B$47)","v":0.05},{"$f":"F955/(G955*12*memoria!$B$47)","v":0.125}]
["Diadema","01691-Pavimento Térreo - Prédio Principal","Agitador Mecanico Com Suporte, Cor Argila E Preto","01-097467-00","2010-03-08",2400,10,{"$f":"F956*memoria!$B$44/(G956*12*memoria!$B$47)","v":0.05},{"$f":"F956/(G956*12*memoria!$B$47)","v":0.125}]
["Diadema","01691-Pavimento Térreo - Prédio Principal","Agitador Mecanico Com Suporte, Cor Argila E Preto","01-097468-00","2010-03-08",2400,10,{"$f":"F957*memoria!$B$44/(G957*12*memoria!$B$47)","v":0.05},{"$f":"F957/(G957*12*memoria!$B$47)","v":0.125}]
["Diadema","01691-Pavimento Térreo - Prédio Principal","Agitador Mecanico Com Suporte, Cor Argila E Preto","01-097469-00","2010-03-08",2400,10,{"$f":"F958*memoria!$B$44/(G958*12*memoria!$B$47)","v":0.05},{"$f":"F958/(G958*12*memoria!$B$47)","v":0.125}]
["Diadema","01691-Pavimento Térreo - Prédio Principal","Agitador Mecanico Com Suporte, Cor Argila E Preto","01-097470-00","2010-03-08",2400,10,{"$f":"F959*memoria!$B$44/(G959*12*memoria!$B$47)","v":0.05},{"$f":"F959/(G959*12*memoria!$B$47)","v":0.125}]
["Diadema","01691-Pavimento Térreo - Prédio Principal","Agitador Mecanico Com Suporte, Cor Argila E Preto","01-097471-00","2010-03-08",2400,10,{"$f":"F960*memoria!$B$44/(G960*12*memoria!$B$47)","v":0.05},{"$f":"F960/(G960*12*memoria!$B$47)","v":0.125}]
["Diadema","01691-Pavimento Térreo - Prédio Principal","Agitador Mecanico Com Suporte, Cor Argila E Preto","01-097472-00","2010-03-08",2400,10,{"$f":"F961*memoria!$B$44/(G961*12*memoria!$B$47)","v":0.05},{"$f":"F961/(G961*12*memoria!$B$47)","v":0.125}]
["Diadema","01691-Pavimento Térreo - Prédio Principal","Agitador Mecanico Com Suporte, Cor Argila E Preto","01-097473-00","2010-03-08",2400,10,{"$f":"F962*memoria!$B$44/(G962*12*memoria!$B$47)","v":0.05},{"$f":"F962/(G962*12*memoria!$B$47)","v":0.125}]
["Diadema","01691-Pavimento Térreo - Prédio Principal","Agitador Mecanico Com Suporte, Cor Argila E Preto","01-097474-00","2010-03-08",2400,10,{"$f":"F963*memoria!$B$44/(G963*12*memoria!$B$47)","v":0.05},{"$f":"F963/(G963*12*memoria!$B$47)","v":0.125}]
["Diadema","01691-Pavimento Térreo - Prédio Principal","Agitador Mecanico Com Suporte, Cor Argila E Preto","01-097475-00","2010-03-08",2400,10,{"$f":"F964*memoria!$B$44/(G964*12*memoria!$B$47)","v":0.05},{"$f":"F964/(G964*12*memoria!$B$47)","v":0.125}]
["Diadema","01691-Pavimento Térreo - Prédio Principal","Liofilizador De Bancada","01-097476-00","2010-03-09",70000,10,{"$f":"F965*memoria!$B$44/(G965*12*memoria!$B$47)","v":1.4583333333333333},{"$f":"F965/(G965*12*memoria!$B$47)","v":3.6458333333333335}]
["Diadema","01691-Pavimento Térreo - Prédio Principal","Liofilizador De Bancada","01-097477-00","2010-03-09",70000,10,{"$f":"F966*memoria!$B$44/(G966*12*memoria!$B$47)","v":1.4583333333333333},{"$f":"F966/(G966*12*memoria!$B$47)","v":3.6458333333333335}]
["Diadema","01691-Pavimento Térreo - Prédio Principal","Banho Ultrassonico Branco, C/ Aquecimento E 1,8 L.","01-097478-00","2010-03-08",1185,10,{"$f":"F967*memoria!$B$44/(G967*12*memoria!$B$47)","v":2.4687500000000001E-2},{"$f":"F967/(G967*12*memoria!$B$47)","v":6.1718750000000003E-2}]
["Diadema","01691-Pavimento Térreo - Prédio Principal","Banho Ultrassonico Branco, C/ Aquecimento E 1,8 L.","01-097479-00","2010-03-08",1185,10,{"$f":"F968*memoria!$B$44/(G968*12*memoria!$B$47)","v":2.4687500000000001E-2},{"$f":"F968/(G968*12*memoria!$B$47)","v":6.1718750000000003E-2}]
["Diadema","01691-Pavimento Térreo - Prédio Principal","Banho Ultrassonico Branco, C/ Aquecimento E 1,8 L.","01-097480-00","2010-03-08",1185,10,{"$f":"F969*memoria!$B$44/(G969*12*memoria!$B$47)","v":2.4687500000000001E-2},{"$f":"F969/(G969*12*memoria!$B$47)","v":6.1718750000000003E-2}]
["Diadema","01691-Pavimento Térreo - Prédio Principal","Banho Ultrassonico Branco, C/ Aquecimento E 1,8 L.","01-097481-00","2010-03-08",1185,10,{"$f":"F970*memoria!$B$44/(G970*12*memoria!$B$47)","v":2.4687500000000001E-2},{"$f":"F970/(G970*12*memoria!$B$47)","v":6.1718750000000003E-2}]
["Diadema","01691-Pavimento Térreo - Prédio Principal","Cortadora De Amostras Metalograficas","01-097485-00","2010-03-16",6485,10,{"$f":"F971*memoria!$B$44/(G971*12*memoria!$B$47)","v":0.13510416666666666},{"$f":"F971/(G971*12*memoria!$B$47)","v":0.33776041666666667}]
["Diadema","01691-Pavimento Térreo - Prédio Principal","Cortadora De Amostras Metalograficas","01-097486-00","2010-03-16",6485,10,{"$f":"F972*memoria!$B$44/(G972*12*memoria!$B$47)","v":0.13510416666666666},{"$f":"F972/(G972*12*memoria!$B$47)","v":0.33776041666666667}]
["Diadema","01691-Pavimento Térreo - Prédio Principal","Lixadeira, Politriz, 2 Velocidades, 200mm, Motorizada","01-097487-00","2010-03-16",2600,10,{"$f":"F973*memoria!$B$44/(G973*12*memoria!$B$47)","v":5.4166666666666669E-2},{"$f":"F973/(G973*12*memoria!$B$47)","v":0.13541666666666666}]
["Diadema","01691-Pavimento Térreo - Prédio Principal","Lixadeira, Politriz, 2 Velocidades, 200mm, Motorizada","01-097488-00","2010-03-16",2600,10,{"$f":"F974*memoria!$B$44/(G974*12*memoria!$B$47)","v":5.4166666666666669E-2},{"$f":"F974/(G974*12*memoria!$B$47)","v":0.13541666666666666}]
["Diadema","01691-Pavimento Térreo - Prédio Principal","Lixadeira, Politriz, 2 Velocidades, 200mm, Motorizada","01-097489-00","2010-03-16",2600,10,{"$f":"F975*memoria!$B$44/(G975*12*memoria!$B$47)","v":5.4166666666666669E-2},{"$f":"F975/(G975*12*memoria!$B$47)","v":0.13541666666666666}]
["Diadema","01691-Pavimento Térreo - Prédio Principal","Lixadeira, Politriz, 2 Velocidades, 200mm, Motorizada","01-097490-00","2010-03-16",2600,10,{"$f":"F976*memoria!$B$44/(G976*12*memoria!$B$47)","v":5.4166666666666669E-2},{"$f":"F976/(G976*12*memoria!$B$47)","v":0.13541666666666666}]
["Diadema","01691-Pavimento Térreo - Prédio Principal","Prensa De Embutimento - Prensa Embutida De Amostras","01-097491-00","2010-03-16",3600,10,{"$f":"F977*memoria!$B$44/(G977*12*memoria!$B$47)","v":7.4999999999999997E-2},{"$f":"F977/(G977*12*memoria!$B$47)","v":0.1875}]
["Diadema","01691-Pavimento Térreo - Prédio Principal","Prensa De Embutimento - Prensa Embutida De Amostras","01-097492-00","2010-03-16",3600,10,{"$f":"F978*memoria!$B$44/(G978*12*memoria!$B$47)","v":7.4999999999999997E-2},{"$f":"F978/(G978*12*memoria!$B$47)","v":0.1875}]
["Diadema","01691-Pavimento Térreo - Prédio Principal","Agitador Eletromagnetico Para Peneiras","01-097507-00","2010-03-16",2620,10,{"$f":"F979*memoria!$B$44/(G979*12*memoria!$B$47)","v":5.4583333333333331E-2},{"$f":"F979/(G979*12*memoria!$B$47)","v":0.13645833333333332}]
["Diadema","01691-Pavimento Térreo - Prédio Principal","Agitador Eletromagnetico Para Peneiras","01-097508-00","2010-03-16",2620,10,{"$f":"F980*memoria!$B$44/(G980*12*memoria!$B$47)","v":5.4583333333333331E-2},{"$f":"F980/(G980*12*memoria!$B$47)","v":0.13645833333333332}]
["Diadema","01691-Pavimento Térreo - Prédio Principal","Agitador Eletromagnetico Para Peneiras","01-097509-00","2010-03-16",2620,10,{"$f":"F981*memoria!$B$44/(G981*12*memoria!$B$47)","v":5.4583333333333331E-2},{"$f":"F981/(G981*12*memoria!$B$47)","v":0.13645833333333332}]
["Diadema","01691-Pavimento Térreo - Prédio Principal","Agitador Eletromagnetico Para Peneiras","01-097510-00","2010-03-16",2620,10,{"$f":"F982*memoria!$B$44/(G982*12*memoria!$B$47)","v":5.4583333333333331E-2},{"$f":"F982/(G982*12*memoria!$B$47)","v":0.13645833333333332}]
["Diadema","01707-Pavimento Térreo - Biblioteca","Espectrofotometro - Uv-Visivel Digital Microprocessado","01-097511-00","2010-02-16",2370,10,{"$f":"F983*memoria!$B$44/(G983*12*memoria!$B$47)","v":4.9375000000000002E-2},{"$f":"F983/(G983*12*memoria!$B$47)","v":0.12343750000000001}]
["Diadema","01707-Pavimento Térreo - Biblioteca","Espectrofotometro - Uv-Visivel Digital Microprocessado","01-097512-00","2010-02-16",2370,10,{"$f":"F984*memoria!$B$44/(G984*12*memoria!$B$47)","v":4.9375000000000002E-2},{"$f":"F984/(G984*12*memoria!$B$47)","v":0.12343750000000001}]
["Diadema","01707-Pavimento Térreo - Biblioteca","Espectrofotometro - Uv-Visivel Digital Microprocessado","01-097513-00","2010-02-16",2370,10,{"$f":"F985*memoria!$B$44/(G985*12*memoria!$B$47)","v":4.9375000000000002E-2},{"$f":"F985/(G985*12*memoria!$B$47)","v":0.12343750000000001}]
["Diadema","01707-Pavimento Térreo - Biblioteca","Espectrofotometro - Uv-Visivel Digital Microprocessado","01-097514-00","2010-02-16",2370,10,{"$f":"F986*memoria!$B$44/(G986*12*memoria!$B$47)","v":4.9375000000000002E-2},{"$f":"F986/(G986*12*memoria!$B$47)","v":0.12343750000000001}]
["Diadema","01707-Pavimento Térreo - Biblioteca","Espectrofotometro - Uv-Visivel Digital Microprocessado","01-097515-00","2010-02-16",2370,10,{"$f":"F987*memoria!$B$44/(G987*12*memoria!$B$47)","v":4.9375000000000002E-2},{"$f":"F987/(G987*12*memoria!$B$47)","v":0.12343750000000001}]
["Diadema","01707-Pavimento Térreo - Biblioteca","Espectrofotometro - Uv-Visivel Digital Microprocessado","01-097516-00","2010-02-16",2370,10,{"$f":"F988*memoria!$B$44/(G988*12*memoria!$B$47)","v":4.9375000000000002E-2},{"$f":"F988/(G988*12*memoria!$B$47)","v":0.12343750000000001}]
["Diadema","01691-Pavimento Térreo - Prédio Principal","Medidor De Ph De Bancada ( Kit )","01-097517-00","2010-02-22",351,10,{"$f":"F989*memoria!$B$44/(G989*12*memoria!$B$47)","v":7.3125000000000004E-3},{"$f":"F989/(G989*12*memoria!$B$47)","v":1.8281249999999999E-2}]
["Diadema","01691-Pavimento Térreo - Prédio Principal","Medidor De Ph De Bancada ( Kit )","01-097518-00","2010-02-22",351,10,{"$f":"F990*memoria!$B$44/(G990*12*memoria!$B$47)","v":7.3125000000000004E-3},{"$f":"F990/(G990*12*memoria!$B$47)","v":1.8281249999999999E-2}]
["Diadema","01691-Pavimento Térreo - Prédio Principal","Medidor De Ph De Bancada ( Kit )","01-097519-00","2010-02-22",351,10,{"$f":"F991*memoria!$B$44/(G991*12*memoria!$B$47)","v":7.3125000000000004E-3},{"$f":"F991/(G991*12*memoria!$B$47)","v":1.8281249999999999E-2}]
["Diadema","01691-Pavimento Térreo - Prédio Principal","Medidor De Ph De Bancada ( Kit )","01-097520-00","2010-02-22",351,10,{"$f":"F992*memoria!$B$44/(G992*12*memoria!$B$47)","v":7.3125000000000004E-3},{"$f":"F992/(G992*12*memoria!$B$47)","v":1.8281249999999999E-2}]
["Diadema","01691-Pavimento Térreo - Prédio Principal","Medidor De Ph De Bancada ( Kit )","01-097521-00","2010-02-22",351,10,{"$f":"F993*memoria!$B$44/(G993*12*memoria!$B$47)","v":7.3125000000000004E-3},{"$f":"F993/(G993*12*memoria!$B$47)","v":1.8281249999999999E-2}]
["Diadema","01691-Pavimento Térreo - Prédio Principal","Medidor De Ph De Bancada ( Kit )","01-097522-00","2010-02-22",351,10,{"$f":"F994*memoria!$B$44/(G994*12*memoria!$B$47)","v":7.3125000000000004E-3},{"$f":"F994/(G994*12*memoria!$B$47)","v":1.8281249999999999E-2}]
["Diadema","01691-Pavimento Térreo - Prédio Principal","Medidor De Ph De Bancada ( Kit )","01-097523-00","2010-02-22",351,10,{"$f":"F995*memoria!$B$44/(G995*12*memoria!$B$47)","v":7.3125000000000004E-3},{"$f":"F995/(G995*12*memoria!$B$47)","v":1.8281249999999999E-2}]
["Diadema","01691-Pavimento Térreo - Prédio Principal","Medidor De Ph De Bancada ( Kit )","01-097524-00","2010-02-22",351,10,{"$f":"F996*memoria!$B$44/(G996*12*memoria!$B$47)","v":7.3125000000000004E-3},{"$f":"F996/(G996*12*memoria!$B$47)","v":1.8281249999999999E-2}]
["Diadema","01691-Pavimento Térreo - Prédio Principal","Medidor De Ph De Bancada ( Kit )","01-097525-00","2010-02-22",351,10,{"$f":"F997*memoria!$B$44/(G997*12*memoria!$B$47)","v":7.3125000000000004E-3},{"$f":"F997/(G997*12*memoria!$B$47)","v":1.8281249999999999E-2}]
["Diadema","01691-Pavimento Térreo - Prédio Principal","Medidor De Ph De Bancada ( Kit )","01-097526-00","2010-02-22",351,10,{"$f":"F998*memoria!$B$44/(G998*12*memoria!$B$47)","v":7.3125000000000004E-3},{"$f":"F998/(G998*12*memoria!$B$47)","v":1.8281249999999999E-2}]
["Diadema","01691-Pavimento Térreo - Prédio Principal","Medidor De Ph De Bancada ( Kit )","01-097527-00","2010-02-22",351,10,{"$f":"F999*memoria!$B$44/(G999*12*memoria!$B$47)","v":7.3125000000000004E-3},{"$f":"F999/(G999*12*memoria!$B$47)","v":1.8281249999999999E-2}]
["Diadema","01691-Pavimento Térreo - Prédio Principal","Medidor De Ph De Bancada ( Kit )","01-097528-00","2010-02-22",351,10,{"$f":"F1000*memoria!$B$44/(G1000*12*memoria!$B$47)","v":7.3125000000000004E-3},{"$f":"F1000/(G1000*12*memoria!$B$47)","v":1.8281249999999999E-2}]
["Diadema","01691-Pavimento Térreo - Prédio Principal","Autoclave Horizontal - 60 Lts Capac., Camara Esterilizacao Aco Inoxidavel, Indic","01-097529-00","2010-03-19",5294,10,{"$f":"F1001*memoria!$B$44/(G1001*12*memoria!$B$47)","v":0.11029166666666666},{"$f":"F1001/(G1001*12*memoria!$B$47)","v":0.27572916666666669}]
["Diadema","01691-Pavimento Térreo - Prédio Principal","Autoclave Horizontal - 60 Lts Capac., Camara Esterilizacao Aco Inoxidavel, Indic","01-097530-00","2010-03-19",5294,10,{"$f":"F1002*memoria!$B$44/(G1002*12*memoria!$B$47)","v":0.11029166666666666},{"$f":"F1002/(G1002*12*memoria!$B$47)","v":0.27572916666666669}]
["Diadema","01691-Pavimento Térreo - Prédio Principal","Autoclave Horizontal - 60 Lts Capac., Camara Esterilizacao Aco Inoxidavel, Indic","01-097531-00","2010-03-19",5294,10,{"$f":"F1003*memoria!$B$44/(G1003*12*memoria!$B$47)","v":0.11029166666666666},{"$f":"F1003/(G1003*12*memoria!$B$47)","v":0.27572916666666669}]
["Diadema","01691-Pavimento Térreo - Prédio Principal","Autoclave Horizontal - 60 Lts Capac., Camara Esterilizacao Aco Inoxidavel, Indic","01-097532-00","2010-03-19",5294,10,{"$f":"F1004*memoria!$B$44/(G1004*12*memoria!$B$47)","v":0.11029166666666666},{"$f":"F1004/(G1004*12*memoria!$B$47)","v":0.27572916666666669}]
["Diadema","01691-Pavimento Térreo - Prédio Principal","Banho Termostatizado Temperatura -10ºC A 99,9ºC, Controlador De Temperatura Digi","01-097533-00","2010-03-19",2879.99,10,{"$f":"F1005*memoria!$B$44/(G1005*12*memoria!$B$47)","v":5.9999791666666663E-2},{"$f":"F1005/(G1005*12*memoria!$B$47)","v":0.14999947916666664}]
["Diadema","01691-Pavimento Térreo - Prédio Principal","Estufa Para Esterilizacao E Secagem Por Conveccao Natural","01-097534-00","2010-03-19",1582,10,{"$f":"F1006*memoria!$B$44/(G1006*12*memoria!$B$47)","v":3.2958333333333339E-2},{"$f":"F1006/(G1006*12*memoria!$B$47)","v":8.2395833333333335E-2}]
["Diadema","01691-Pavimento Térreo - Prédio Principal","Banho Termostatizado Temperatura -10ºC A 99,9ºC, Controlador De Temperatura Digi","01-097535-00","2010-03-19",2879.99,10,{"$f":"F1007*memoria!$B$44/(G1007*12*memoria!$B$47)","v":5.9999791666666663E-2},{"$f":"F1007/(G1007*12*memoria!$B$47)","v":0.14999947916666664}]
["Diadema","01691-Pavimento Térreo - Prédio Principal","Estufa Para Esterilizacao E Secagem Por Conveccao Natural","01-097536-00","2010-03-19",1582,10,{"$f":"F1008*memoria!$B$44/(G1008*12*memoria!$B$47)","v":3.2958333333333339E-2},{"$f":"F1008/(G1008*12*memoria!$B$47)","v":8.2395833333333335E-2}]
["Diadema","01691-Pavimento Térreo - Prédio Principal","Autoclave Horizontal Capac. 60 Lts, Camara Esterilizacao Aco Inoxidavel, Indicac","01-097537-00","2010-03-19",5294,10,{"$f":"F1009*memoria!$B$44/(G1009*12*memoria!$B$47)","v":0.11029166666666666},{"$f":"F1009/(G1009*12*memoria!$B$47)","v":0.27572916666666669}]
["Diadema","01691-Pavimento Térreo - Prédio Principal","Autoclave Horizontal Capac. 60 Lts, Camara Esterilizacao Aco Inoxidavel, Indicac","01-097538-00","2010-03-19",5294,10,{"$f":"F1010*memoria!$B$44/(G1010*12*memoria!$B$47)","v":0.11029166666666666},{"$f":"F1010/(G1010*12*memoria!$B$47)","v":0.27572916666666669}]
["Diadema","01691-Pavimento Térreo - Prédio Principal","Sistema De Evaporacao Rotativa A Vacuo Com Controle De Vacuo E Recirculador Comp","01-097539-00","2010-03-18",79122,10,{"$f":"F1011*memoria!$B$44/(G1011*12*memoria!$B$47)","v":1.6483750000000001},{"$f":"F1011/(G1011*12*memoria!$B$47)","v":4.1209375000000001}]
["Diadema","01691-Pavimento Térreo - Prédio Principal","Sistema De Evaporacao Rotativa A Vacuo Com Controle De Vacuo E Recirculador Comp","01-097540-00","2010-03-18",79122,10,{"$f":"F1012*memoria!$B$44/(G1012*12*memoria!$B$47)","v":1.6483750000000001},{"$f":"F1012/(G1012*12*memoria!$B$47)","v":4.1209375000000001}]
["Diadema","01691-Pavimento Térreo - Prédio Principal","Sistema De Evaporacao Rotativa A Vacuo Com Controle De Vacuo E Recirculador Comp","01-097541-00","2010-03-18",79122,10,{"$f":"F1013*memoria!$B$44/(G1013*12*memoria!$B$47)","v":1.6483750000000001},{"$f":"F1013/(G1013*12*memoria!$B$47)","v":4.1209375000000001}]
["Diadema","01691-Pavimento Térreo - Prédio Principal","Sistema De Evaporacao Rotativa A Vacuo Com Controle De Vacuo E Recirculador Comp","01-097542-00","2010-03-18",79122,10,{"$f":"F1014*memoria!$B$44/(G1014*12*memoria!$B$47)","v":1.6483750000000001},{"$f":"F1014/(G1014*12*memoria!$B$47)","v":4.1209375000000001}]
["Diadema","01808-11º pavimento - frente","Freezer De 231 Litros","01-097546-00","2009-10-27",1600,10,{"$f":"F1015*memoria!$B$44/(G1015*12*memoria!$B$47)","v":3.3333333333333333E-2},{"$f":"F1015/(G1015*12*memoria!$B$47)","v":8.3333333333333329E-2}]
["Diadema","01691-Pavimento Térreo - Prédio Principal","Fogao Industrial 02 Junior Com Mangueira A Gas Da Cor Vermelha","01-097553-00","2010-03-24",100,10,{"$f":"F1016*memoria!$B$44/(G1016*12*memoria!$B$47)","v":2.0833333333333333E-3},{"$f":"F1016/(G1016*12*memoria!$B$47)","v":5.208333333333333E-3}]
["Diadema","01691-Pavimento Térreo - Prédio Principal","Fogao Industrial 02 Junior Com Mangueira A Gas Da Cor Vermelha","01-097554-00","2010-03-24",100,10,{"$f":"F1017*memoria!$B$44/(G1017*12*memoria!$B$47)","v":2.0833333333333333E-3},{"$f":"F1017/(G1017*12*memoria!$B$47)","v":5.208333333333333E-3}]
["Diadema","01691-Pavimento Térreo - Prédio Principal","Fogao Industrial 02 Junior Com Mangueira A Gas Da Cor Vermelha","01-097555-00","2010-03-24",100,10,{"$f":"F1018*memoria!$B$44/(G1018*12*memoria!$B$47)","v":2.0833333333333333E-3},{"$f":"F1018/(G1018*12*memoria!$B$47)","v":5.208333333333333E-3}]
["Diadema","01691-Pavimento Térreo - Prédio Principal","Fogao Industrial 02 Junior Com Mangueira A Gas Da Cor Vermelha","01-097556-00","2010-03-24",100,10,{"$f":"F1019*memoria!$B$44/(G1019*12*memoria!$B$47)","v":2.0833333333333333E-3},{"$f":"F1019/(G1019*12*memoria!$B$47)","v":5.208333333333333E-3}]
["Diadema","01691-Pavimento Térreo - Prédio Principal","Fogao Industrial 02 Junior Com Mangueira A Gas Da Cor Vermelha","01-097557-00","2010-03-24",100,10,{"$f":"F1020*memoria!$B$44/(G1020*12*memoria!$B$47)","v":2.0833333333333333E-3},{"$f":"F1020/(G1020*12*memoria!$B$47)","v":5.208333333333333E-3}]
["Diadema","01691-Pavimento Térreo - Prédio Principal","Fogao Industrial 02 Junior Com Mangueira A Gas Da Cor Vermelha","01-097558-00","2010-03-24",100,10,{"$f":"F1021*memoria!$B$44/(G1021*12*memoria!$B$47)","v":2.0833333333333333E-3},{"$f":"F1021/(G1021*12*memoria!$B$47)","v":5.208333333333333E-3}]
["Diadema","01691-Pavimento Térreo - Prédio Principal","Fogao Industrial 02 Junior Com Mangueira A Gas Da Cor Vermelha","01-097559-00","2010-03-24",100,10,{"$f":"F1022*memoria!$B$44/(G1022*12*memoria!$B$47)","v":2.0833333333333333E-3},{"$f":"F1022/(G1022*12*memoria!$B$47)","v":5.208333333333333E-3}]
["Diadema","01691-Pavimento Térreo - Prédio Principal","Fogao Industrial 02 Junior Com Mangueira A Gas Da Cor Vermelha","01-097560-00","2010-03-24",100,10,{"$f":"F1023*memoria!$B$44/(G1023*12*memoria!$B$47)","v":2.0833333333333333E-3},{"$f":"F1023/(G1023*12*memoria!$B$47)","v":5.208333333333333E-3}]
["Diadema","01691-Pavimento Térreo - Prédio Principal","Fogao Industrial 02 Junior Com Mangueira A Gas Da Cor Vermelha","01-097561-00","2010-03-24",100,10,{"$f":"F1024*memoria!$B$44/(G1024*12*memoria!$B$47)","v":2.0833333333333333E-3},{"$f":"F1024/(G1024*12*memoria!$B$47)","v":5.208333333333333E-3}]
["Diadema","01691-Pavimento Térreo - Prédio Principal","Fogao Industrial 02 Junior Com Mangueira A Gas Da Cor Vermelha","01-097562-00","2010-03-24",100,10,{"$f":"F1025*memoria!$B$44/(G1025*12*memoria!$B$47)","v":2.0833333333333333E-3},{"$f":"F1025/(G1025*12*memoria!$B$47)","v":5.208333333333333E-3}]
["Diadema","01691-Pavimento Térreo - Prédio Principal","Fogao Industrial 02 Junior Com Mangueira A Gas Da Cor Vermelha","01-097563-00","2010-03-24",100,10,{"$f":"F1026*memoria!$B$44/(G1026*12*memoria!$B$47)","v":2.0833333333333333E-3},{"$f":"F1026/(G1026*12*memoria!$B$47)","v":5.208333333333333E-3}]
["Diadema","01691-Pavimento Térreo - Prédio Principal","Fogao Industrial 02 Junior Com Mangueira A Gas Da Cor Vermelha","01-097564-00","2010-03-24",100,10,{"$f":"F1027*memoria!$B$44/(G1027*12*memoria!$B$47)","v":2.0833333333333333E-3},{"$f":"F1027/(G1027*12*memoria!$B$47)","v":5.208333333333333E-3}]
["Diadema","01691-Pavimento Térreo - Prédio Principal","Fogao Industrial 02 Junior Com Mangueira A Gas Da Cor Vermelha","01-097565-00","2010-03-24",100,10,{"$f":"F1028*memoria!$B$44/(G1028*12*memoria!$B$47)","v":2.0833333333333333E-3},{"$f":"F1028/(G1028*12*memoria!$B$47)","v":5.208333333333333E-3}]
["Diadema","01691-Pavimento Térreo - Prédio Principal","Fogao Industrial 02 Junior Com Mangueira A Gas Da Cor Vermelha","01-097567-00","2010-03-24",100,10,{"$f":"F1029*memoria!$B$44/(G1029*12*memoria!$B$47)","v":2.0833333333333333E-3},{"$f":"F1029/(G1029*12*memoria!$B$47)","v":5.208333333333333E-3}]
["Diadema","01691-Pavimento Térreo - Prédio Principal","Fogao Industrial 02 Junior Com Mangueira A Gas Da Cor Vermelha","01-097568-00","2010-03-24",100,10,{"$f":"F1030*memoria!$B$44/(G1030*12*memoria!$B$47)","v":2.0833333333333333E-3},{"$f":"F1030/(G1030*12*memoria!$B$47)","v":5.208333333333333E-3}]
["Diadema","01691-Pavimento Térreo - Prédio Principal","Fogao Industrial 02 Junior Com Mangueira A Gas Da Cor Vermelha","01-097569-00","2010-03-24",100,10,{"$f":"F1031*memoria!$B$44/(G1031*12*memoria!$B$47)","v":2.0833333333333333E-3},{"$f":"F1031/(G1031*12*memoria!$B$47)","v":5.208333333333333E-3}]
["Diadema","01808-11º pavimento - frente","Refrigerador Biplex De 352 Litros","01-097570-00","2009-10-27",1000,10,{"$f":"F1032*memoria!$B$44/(G1032*12*memoria!$B$47)","v":2.0833333333333332E-2},{"$f":"F1032/(G1032*12*memoria!$B$47)","v":5.2083333333333336E-2}]
["Diadema","01808-11º pavimento - frente","Agitador Tipo Vortex, 3800 Rpm","01-097571-00","2009-10-27",990,10,{"$f":"F1033*memoria!$B$44/(G1033*12*memoria!$B$47)","v":2.0625000000000001E-2},{"$f":"F1033/(G1033*12*memoria!$B$47)","v":5.1562499999999997E-2}]
["Diadema","01808-11º pavimento - frente","Agitador Tipo Vortex, 3800 Rpm","01-097572-00","2009-10-27",990,10,{"$f":"F1034*memoria!$B$44/(G1034*12*memoria!$B$47)","v":2.0625000000000001E-2},{"$f":"F1034/(G1034*12*memoria!$B$47)","v":5.1562499999999997E-2}]
["Diadema","01808-11º pavimento - frente","Autoclave Tipo Vertical, Capacidade 75 Lts, 4000w","01-097573-00","2009-10-27",2999,10,{"$f":"F1035*memoria!$B$44/(G1035*12*memoria!$B$47)","v":6.2479166666666676E-2},{"$f":"F1035/(G1035*12*memoria!$B$47)","v":0.15619791666666666}]
["Diadema","01808-11º pavimento - frente","Sistema De Pcr Tipo Em Tempo Real, Plataforma Reformada, Sist.Peltier, Softwares","01-097576-00","2009-10-27",74983.45,10,{"$f":"F1036*memoria!$B$44/(G1036*12*memoria!$B$47)","v":1.5621552083333334},{"$f":"F1036/(G1036*12*memoria!$B$47)","v":3.9053880208333331}]
["Diadema","01808-11º pavimento - frente","Termociclador Automatico, C/ Gradiente, Interface, Tela Tipo Touch Screen","01-097578-00","2009-10-27",11617.57,10,{"$f":"F1037*memoria!$B$44/(G1037*12*memoria!$B$47)","v":0.24203270833333335},{"$f":"F1037/(G1037*12*memoria!$B$47)","v":0.60508177083333337}]
["Diadema","01691-Pavimento Térreo - Prédio Principal","Cromatografo De Fase Gasosa","01-097579-00","2010-03-25",162000,10,{"$f":"F1038*memoria!$B$44/(G1038*12*memoria!$B$47)","v":3.375},{"$f":"F1038/(G1038*12*memoria!$B$47)","v":8.4375}]
["Diadema","01691-Pavimento Térreo - Prédio Principal","Cromatografo De Fase Gasosa","01-097580-00","2010-03-25",162000,10,{"$f":"F1039*memoria!$B$44/(G1039*12*memoria!$B$47)","v":3.375},{"$f":"F1039/(G1039*12*memoria!$B$47)","v":8.4375}]
["Diadema","01691-Pavimento Térreo - Prédio Principal","Incubadora Para Bod - Controlada P/ Temperatura Digital Microprocessado, Precisa","01-097587-00","2010-03-30",3200,10,{"$f":"F1040*memoria!$B$44/(G1040*12*memoria!$B$47)","v":6.6666666666666666E-2},{"$f":"F1040/(G1040*12*memoria!$B$47)","v":0.16666666666666666}]
["Diadema","01691-Pavimento Térreo - Prédio Principal","Copiadora","01-097588-00","2009-12-14",3080,10,{"$f":"F1041*memoria!$B$44/(G1041*12*memoria!$B$47)","v":6.4166666666666664E-2},{"$f":"F1041/(G1041*12*memoria!$B$47)","v":0.16041666666666668}]
["Diadema","01691-Pavimento Térreo - Prédio Principal","Estufa Tipo Secagem , 127 V","01-097589-00","2009-12-14",1979,10,{"$f":"F1042*memoria!$B$44/(G1042*12*memoria!$B$47)","v":4.1229166666666671E-2},{"$f":"F1042/(G1042*12*memoria!$B$47)","v":0.10307291666666667}]
["Diadema","01691-Pavimento Térreo - Prédio Principal","Freezer Tipo Horizontal , 414 L , Branco , 110 V","01-097590-00","2009-12-14",1277.76,10,{"$f":"F1043*memoria!$B$44/(G1043*12*memoria!$B$47)","v":2.6620000000000001E-2},{"$f":"F1043/(G1043*12*memoria!$B$47)","v":6.6549999999999998E-2}]
["Diadema","01691-Pavimento Térreo - Prédio Principal","Refrigerador Duplex, Branco, 363 L, 110 V","01-097616-00","2009-12-07",1579,10,{"$f":"F1044*memoria!$B$44/(G1044*12*memoria!$B$47)","v":3.2895833333333332E-2},{"$f":"F1044/(G1044*12*memoria!$B$47)","v":8.2239583333333338E-2}]
["Diadema","01691-Pavimento Térreo - Prédio Principal","Capela De Fluxo Laminar Vertical Classe Ii, Potencia 784w, 220v, 3.56 Amperagem,","01-097617-00","2010-04-05",23250,10,{"$f":"F1045*memoria!$B$44/(G1045*12*memoria!$B$47)","v":0.484375},{"$f":"F1045/(G1045*12*memoria!$B$47)","v":1.2109375}]
["Diadema","01691-Pavimento Térreo - Prédio Principal","Capela De Fluxo Laminar Vertical Classe Ii, Potencia 784w, 220v, 3.56 Amperagem","01-097618-00","2010-04-05",23250,10,{"$f":"F1046*memoria!$B$44/(G1046*12*memoria!$B$47)","v":0.484375},{"$f":"F1046/(G1046*12*memoria!$B$47)","v":1.2109375}]
["Diadema","01691-Pavimento Térreo - Prédio Principal","Capela De Fluxo Laminar Vertical Classe Ii, Potencia 784w, 220v, 3.56 Amperagem","01-097619-00","2010-04-05",23250,10,{"$f":"F1047*memoria!$B$44/(G1047*12*memoria!$B$47)","v":0.484375},{"$f":"F1047/(G1047*12*memoria!$B$47)","v":1.2109375}]
["Diadema","01691-Pavimento Térreo - Prédio Principal","Capela De Fluxo Laminar Vertical Classe Ii, Potencia 784w, 220v, 3.56 Amperagem","01-097620-00","2010-04-05",23250,10,{"$f":"F1048*memoria!$B$44/(G1048*12*memoria!$B$47)","v":0.484375},{"$f":"F1048/(G1048*12*memoria!$B$47)","v":1.2109375}]
["Diadema","01691-Pavimento Térreo - Prédio Principal","Encapsuladeira Semi-Automatica, 220v, Cor Argila","01-097621-00","2010-03-25",39000,10,{"$f":"F1049*memoria!$B$44/(G1049*12*memoria!$B$47)","v":0.8125},{"$f":"F1049/(G1049*12*memoria!$B$47)","v":2.03125}]
["Diadema","01691-Pavimento Térreo - Prédio Principal","Encapsuladeira Semi-Automatica, 220v, Cor Argila","01-097622-00","2010-03-25",39000,10,{"$f":"F1050*memoria!$B$44/(G1050*12*memoria!$B$47)","v":0.8125},{"$f":"F1050/(G1050*12*memoria!$B$47)","v":2.03125}]
["Diadema","01691-Pavimento Térreo - Prédio Principal","Destilador De Agua, Em Aco Carbono, Caldeira E Condensador Em Vidro Borossilicat","01-097623-00","2010-04-06",1840,10,{"$f":"F1051*memoria!$B$44/(G1051*12*memoria!$B$47)","v":3.833333333333333E-2},{"$f":"F1051/(G1051*12*memoria!$B$47)","v":9.583333333333334E-2}]
["Diadema","01691-Pavimento Térreo - Prédio Principal","Destilador De Agua, Em Aco Carbono, Caldeira E Condensador Em Vidro Borossilicat","01-097624-00","2010-04-06",1840,10,{"$f":"F1052*memoria!$B$44/(G1052*12*memoria!$B$47)","v":3.833333333333333E-2},{"$f":"F1052/(G1052*12*memoria!$B$47)","v":9.583333333333334E-2}]
["Diadema","01691-Pavimento Térreo - Prédio Principal","Sistema Para Determinacao De Proteina P/ Nitrogenio Por Destilacao E Digestao Co","01-097625-00","2010-04-06",9890,10,{"$f":"F1053*memoria!$B$44/(G1053*12*memoria!$B$47)","v":0.20604166666666668},{"$f":"F1053/(G1053*12*memoria!$B$47)","v":0.5151041666666667}]
["Diadema","01691-Pavimento Térreo - Prédio Principal","Sistema Para Determinacao De Proteina P/ Nitrogenio Por Destilacao E Digestao Co","01-097626-00","2010-04-06",9890,10,{"$f":"F1054*memoria!$B$44/(G1054*12*memoria!$B$47)","v":0.20604166666666668},{"$f":"F1054/(G1054*12*memoria!$B$47)","v":0.5151041666666667}]
["Diadema","01691-Pavimento Térreo - Prédio Principal","Balanca Semi-Analitica 5 Kg","01-097627-00","2010-03-31",2600,10,{"$f":"F1055*memoria!$B$44/(G1055*12*memoria!$B$47)","v":5.4166666666666669E-2},{"$f":"F1055/(G1055*12*memoria!$B$47)","v":0.13541666666666666}]
["Diadema","01691-Pavimento Térreo - Prédio Principal","Cromatografo Gasoso C/ Espectofotometro De Massas, Analisador De Ions, Fonte De","01-097628-00","2010-04-09",45756.54,10,{"$f":"F1056*memoria!$B$44/(G1056*12*memoria!$B$47)","v":0.95326125000000006},{"$f":"F1056/(G1056*12*memoria!$B$47)","v":2.3831531250000002}]
["Diadema","01691-Pavimento Térreo - Prédio Principal","Colorimetro Portatil","01-097631-00","2010-04-13",32559.5,10,{"$f":"F1057*memoria!$B$44/(G1057*12*memoria!$B$47)","v":0.67832291666666678},{"$f":"F1057/(G1057*12*memoria!$B$47)","v":1.6958072916666667}]
["Diadema","01691-Pavimento Térreo - Prédio Principal","Colorimetro Portatil","01-097632-00","2010-04-13",32559.5,10,{"$f":"F1058*memoria!$B$44/(G1058*12*memoria!$B$47)","v":0.67832291666666678},{"$f":"F1058/(G1058*12*memoria!$B$47)","v":1.6958072916666667}]
["Diadema","01691-Pavimento Térreo - Prédio Principal","Forno Mufla P/Determinacao De Cinzas Totais De Alimentos","01-097633-00","2010-04-07",2115.5500000000002,10,{"$f":"F1059*memoria!$B$44/(G1059*12*memoria!$B$47)","v":4.4073958333333343E-2},{"$f":"F1059/(G1059*12*memoria!$B$47)","v":0.11018489583333334}]
["Diadema","01691-Pavimento Térreo - Prédio Principal","Forno Mufla P/Determinacao De Cinzas Totais De Alimentos","01-097634-00","2010-04-07",2115.5500000000002,10,{"$f":"F1060*memoria!$B$44/(G1060*12*memoria!$B$47)","v":4.4073958333333343E-2},{"$f":"F1060/(G1060*12*memoria!$B$47)","v":0.11018489583333334}]
["Diadema","01691-Pavimento Térreo - Prédio Principal","Sistema De Purificacao De Gas P/ Cromatografo","01-097635-00","2010-04-09",942.93,10,{"$f":"F1061*memoria!$B$44/(G1061*12*memoria!$B$47)","v":1.9644375000000002E-2},{"$f":"F1061/(G1061*12*memoria!$B$47)","v":4.91109375E-2}]
["Diadema","01691-Pavimento Térreo - Prédio Principal","Coluna Elite Para Cromatografo 5-30m - 25vm - 25mm","01-097636-00","2010-04-09",1249.26,10,{"$f":"F1062*memoria!$B$44/(G1062*12*memoria!$B$47)","v":2.6026250000000001E-2},{"$f":"F1062/(G1062*12*memoria!$B$47)","v":6.5065625000000002E-2}]
["Diadema","01691-Pavimento Térreo - Prédio Principal","Agitador/Triturador Para Ultrahomogeneizacao","01-097649-00","2010-04-12",2370,10,{"$f":"F1063*memoria!$B$44/(G1063*12*memoria!$B$47)","v":4.9375000000000002E-2},{"$f":"F1063/(G1063*12*memoria!$B$47)","v":0.12343750000000001}]
["Diadema","01691-Pavimento Térreo - Prédio Principal","Agitador/Triturador Para Ultrahomogeneizacao","01-097650-00","2010-04-12",2370,10,{"$f":"F1064*memoria!$B$44/(G1064*12*memoria!$B$47)","v":4.9375000000000002E-2},{"$f":"F1064/(G1064*12*memoria!$B$47)","v":0.12343750000000001}]
["Diadema","01691-Pavimento Térreo - Prédio Principal","Camara Para Fotoestabilidade","01-097651-00","2010-04-16",32000,10,{"$f":"F1065*memoria!$B$44/(G1065*12*memoria!$B$47)","v":0.66666666666666663},{"$f":"F1065/(G1065*12*memoria!$B$47)","v":1.6666666666666667}]
["Diadema","01691-Pavimento Térreo - Prédio Principal","Camara Para Fotoestabilidade","01-097652-00","2010-04-16",32000,10,{"$f":"F1066*memoria!$B$44/(G1066*12*memoria!$B$47)","v":0.66666666666666663},{"$f":"F1066/(G1066*12*memoria!$B$47)","v":1.6666666666666667}]
["Diadema","01691-Pavimento Térreo - Prédio Principal","Mini Estufa De Secagem Para Pos E Granulos","01-097655-00","2010-04-16",30000,10,{"$f":"F1067*memoria!$B$44/(G1067*12*memoria!$B$47)","v":0.625},{"$f":"F1067/(G1067*12*memoria!$B$47)","v":1.5625}]
["Diadema","01691-Pavimento Térreo - Prédio Principal","Mini Estufa De Secagem Para Pos E Granulos","01-097656-00","2010-04-16",30000,10,{"$f":"F1068*memoria!$B$44/(G1068*12*memoria!$B$47)","v":0.625},{"$f":"F1068/(G1068*12*memoria!$B$47)","v":1.5625}]
["Diadema","01691-Pavimento Térreo - Prédio Principal","Durometro De Bancada Autonomo","01-097657-00","2010-04-16",11050,10,{"$f":"F1069*memoria!$B$44/(G1069*12*memoria!$B$47)","v":0.23020833333333332},{"$f":"F1069/(G1069*12*memoria!$B$47)","v":0.57552083333333337}]
["Diadema","01691-Pavimento Térreo - Prédio Principal","Durometro De Bancada Autonomo","01-097658-00","2010-04-16",11050,10,{"$f":"F1070*memoria!$B$44/(G1070*12*memoria!$B$47)","v":0.23020833333333332},{"$f":"F1070/(G1070*12*memoria!$B$47)","v":0.57552083333333337}]
["Diadema","01691-Pavimento Térreo - Prédio Principal","Espectrofotometro Ft-Ir Spectrum 100","01-097659-00","2010-04-15",59999.01,10,{"$f":"F1071*memoria!$B$44/(G1071*12*memoria!$B$47)","v":1.2499793750000001},{"$f":"F1071/(G1071*12*memoria!$B$47)","v":3.1249484375000001}]
["Diadema","01691-Pavimento Térreo - Prédio Principal","Capela Com Exaustao De Gas, Estrutura De Fibra De Vidro 3mm, Dim. 115x100x65 Cm,","01-097662-00","2010-04-14",1400,10,{"$f":"F1072*memoria!$B$44/(G1072*12*memoria!$B$47)","v":2.9166666666666667E-2},{"$f":"F1072/(G1072*12*memoria!$B$47)","v":7.2916666666666671E-2}]
["Diadema","01691-Pavimento Térreo - Prédio Principal","Bomba Centrifuga Trifasica, Vazao Ate 120 M Cubicos/H, Pot. 0,33 Cv, Motor 0,33","01-097663-00","2010-04-14",1149,10,{"$f":"F1073*memoria!$B$44/(G1073*12*memoria!$B$47)","v":2.39375E-2},{"$f":"F1073/(G1073*12*memoria!$B$47)","v":5.9843750000000001E-2}]
["Diadema","01691-Pavimento Térreo - Prédio Principal","Bomba Centrifuga Trifasica, Vazao Ate 120 M Cubicos/H, Pot. 0,33 Cv, Motor 0,33","01-097664-00","2010-04-14",1149,10,{"$f":"F1074*memoria!$B$44/(G1074*12*memoria!$B$47)","v":2.39375E-2},{"$f":"F1074/(G1074*12*memoria!$B$47)","v":5.9843750000000001E-2}]
["Diadema","01691-Pavimento Térreo - Prédio Principal","Bomba Centrifuga Trifasica, Vazao Ate 120 M Cubicos/H, Pot. 0,33 Cv, Motor 0,33","01-097665-00","2010-04-14",1149,10,{"$f":"F1075*memoria!$B$44/(G1075*12*memoria!$B$47)","v":2.39375E-2},{"$f":"F1075/(G1075*12*memoria!$B$47)","v":5.9843750000000001E-2}]
["Diadema","01691-Pavimento Térreo - Prédio Principal","Bomba Centrifuga Trifasica, Vazao Ate 120 M Cubicos/H, Pot. 0,33 Cv, Motor 0,33","01-097666-00","2010-04-14",1149,10,{"$f":"F1076*memoria!$B$44/(G1076*12*memoria!$B$47)","v":2.39375E-2},{"$f":"F1076/(G1076*12*memoria!$B$47)","v":5.9843750000000001E-2}]
["Diadema","01691-Pavimento Térreo - Prédio Principal","Bomba Centrifuga Trifasica, Vazao Ate 120 M Cubicos/H, Pot. 0,33 Cv, Motor 0,33","01-097667-00","2010-04-14",1149,10,{"$f":"F1077*memoria!$B$44/(G1077*12*memoria!$B$47)","v":2.39375E-2},{"$f":"F1077/(G1077*12*memoria!$B$47)","v":5.9843750000000001E-2}]
["Diadema","01691-Pavimento Térreo - Prédio Principal","Bomba Centrifuga Trifasica, Vazao Ate 120 M Cubicos/H, Pot. 0,33 Cv, Motor 0,33","01-097668-00","2010-04-14",1149,10,{"$f":"F1078*memoria!$B$44/(G1078*12*memoria!$B$47)","v":2.39375E-2},{"$f":"F1078/(G1078*12*memoria!$B$47)","v":5.9843750000000001E-2}]
["Diadema","01691-Pavimento Térreo - Prédio Principal","Bomba Centrifuga Trifasica, Vazao Ate 120 M Cubicos/H, Pot. 0,33 Cv, Motor 0,33","01-097669-00","2010-04-14",1149,10,{"$f":"F1079*memoria!$B$44/(G1079*12*memoria!$B$47)","v":2.39375E-2},{"$f":"F1079/(G1079*12*memoria!$B$47)","v":5.9843750000000001E-2}]
["Diadema","01691-Pavimento Térreo - Prédio Principal","Bomba Centrifuga Trifasica, Vazao Ate 120 M Cubicos/H, Pot. 0,33 Cv, Motor 0,33","01-097670-00","2010-04-14",1149,10,{"$f":"F1080*memoria!$B$44/(G1080*12*memoria!$B$47)","v":2.39375E-2},{"$f":"F1080/(G1080*12*memoria!$B$47)","v":5.9843750000000001E-2}]
["Diadema","01691-Pavimento Térreo - Prédio Principal","Bomba Centrifuga Trifasica, Vazao Ate 120 M Cubicos/H, Pot. 0,33 Cv, Motor 0,33","01-097671-00","2010-04-14",1149,10,{"$f":"F1081*memoria!$B$44/(G1081*12*memoria!$B$47)","v":2.39375E-2},{"$f":"F1081/(G1081*12*memoria!$B$47)","v":5.9843750000000001E-2}]
["Diadema","01691-Pavimento Térreo - Prédio Principal","Bomba Centrifuga Trifasica, Vazao Ate 120 M Cubicos/H, Pot. 0,33 Cv, Motor 0,33","01-097672-00","2010-04-14",1149,10,{"$f":"F1082*memoria!$B$44/(G1082*12*memoria!$B$47)","v":2.39375E-2},{"$f":"F1082/(G1082*12*memoria!$B$47)","v":5.9843750000000001E-2}]
["Diadema","01691-Pavimento Térreo - Prédio Principal","Bomba Centrifuga Trifasica, Vazao Ate 120 M Cubicos/H, Pot. 0,33 Cv, Motor 0,33","01-097673-00","2010-04-14",1149,10,{"$f":"F1083*memoria!$B$44/(G1083*12*memoria!$B$47)","v":2.39375E-2},{"$f":"F1083/(G1083*12*memoria!$B$47)","v":5.9843750000000001E-2}]
["Diadema","01691-Pavimento Térreo - Prédio Principal","Bomba Centrifuga Trifasica, Vazao Ate 120 M Cubicos/H, Pot. 0,33 Cv, Motor 0,33","01-097674-00","2010-04-14",1149,10,{"$f":"F1084*memoria!$B$44/(G1084*12*memoria!$B$47)","v":2.39375E-2},{"$f":"F1084/(G1084*12*memoria!$B$47)","v":5.9843750000000001E-2}]
["Diadema","01691-Pavimento Térreo - Prédio Principal","Bomba Centrifuga Trifasica, Vazao Ate 120 M Cubicos/H, Pot. 0,33 Cv, Motor 0,33","01-097675-00","2010-04-14",1149,10,{"$f":"F1085*memoria!$B$44/(G1085*12*memoria!$B$47)","v":2.39375E-2},{"$f":"F1085/(G1085*12*memoria!$B$47)","v":5.9843750000000001E-2}]
["Diadema","01691-Pavimento Térreo - Prédio Principal","Bomba Centrifuga Trifasica, Vazao Ate 120 M Cubicos/H, Pot. 0,33 Cv, Motor 0,33","01-097676-00","2010-04-14",1149,10,{"$f":"F1086*memoria!$B$44/(G1086*12*memoria!$B$47)","v":2.39375E-2},{"$f":"F1086/(G1086*12*memoria!$B$47)","v":5.9843750000000001E-2}]
["Diadema","01691-Pavimento Térreo - Prédio Principal","Bomba Centrifuga Trifasica, Vazao Ate 120 M Cubicos/H, Pot. 0,33 Cv, Motor 0,33","01-097677-00","2010-04-14",1149,10,{"$f":"F1087*memoria!$B$44/(G1087*12*memoria!$B$47)","v":2.39375E-2},{"$f":"F1087/(G1087*12*memoria!$B$47)","v":5.9843750000000001E-2}]
["Diadema","01691-Pavimento Térreo - Prédio Principal","Bomba Centrifuga Trifasica, Vazao Ate 120 M Cubicos/H, Pot. 0,33 Cv, Motor 0,33","01-097678-00","2010-04-14",1149,10,{"$f":"F1088*memoria!$B$44/(G1088*12*memoria!$B$47)","v":2.39375E-2},{"$f":"F1088/(G1088*12*memoria!$B$47)","v":5.9843750000000001E-2}]
["Diadema","01691-Pavimento Térreo - Prédio Principal","Bomba Centrifuga Trifasica, Vazao Ate 120 M Cubicos/H, Pot. 0,33 Cv, Motor 0,33","01-097679-00","2010-04-14",1149,10,{"$f":"F1089*memoria!$B$44/(G1089*12*memoria!$B$47)","v":2.39375E-2},{"$f":"F1089/(G1089*12*memoria!$B$47)","v":5.9843750000000001E-2}]
["Diadema","01691-Pavimento Térreo - Prédio Principal","Bomba Centrifuga Trifasica, Vazao Ate 120 M Cubicos/H, Pot. 0,33 Cv, Motor 0,33","01-097680-00","2010-04-14",1149,10,{"$f":"F1090*memoria!$B$44/(G1090*12*memoria!$B$47)","v":2.39375E-2},{"$f":"F1090/(G1090*12*memoria!$B$47)","v":5.9843750000000001E-2}]
["Diadema","01691-Pavimento Térreo - Prédio Principal","Bomba Centrifuga Trifasica, Vazao Ate 120 M Cubicos/H, Pot. 0,33 Cv, Motor 0,33","01-097681-00","2010-04-14",1149,10,{"$f":"F1091*memoria!$B$44/(G1091*12*memoria!$B$47)","v":2.39375E-2},{"$f":"F1091/(G1091*12*memoria!$B$47)","v":5.9843750000000001E-2}]
["Diadema","01691-Pavimento Térreo - Prédio Principal","Bomba Centrifuga Trifasica, Vazao Ate 120 M Cubicos/H, Pot. 0,33 Cv, Motor 0,33","01-097682-00","2010-04-14",1149,10,{"$f":"F1092*memoria!$B$44/(G1092*12*memoria!$B$47)","v":2.39375E-2},{"$f":"F1092/(G1092*12*memoria!$B$47)","v":5.9843750000000001E-2}]
["Diadema","01691-Pavimento Térreo - Prédio Principal","Bomba De Vacuo Seca Tipo Scroll, Sem Oleo, Bivolt, Pot. 300w, Tempo De Operacao","01-097683-00","2010-04-20",19000,10,{"$f":"F1093*memoria!$B$44/(G1093*12*memoria!$B$47)","v":0.39583333333333331},{"$f":"F1093/(G1093*12*memoria!$B$47)","v":0.98958333333333337}]
["Diadema","01691-Pavimento Térreo - Prédio Principal","Bomba De Vacuo Seca Tipo Scroll, Sem Oleo, Bivolt, Pot. 300w, Tempo De Operacao","01-097684-00","2010-04-20",19000,10,{"$f":"F1094*memoria!$B$44/(G1094*12*memoria!$B$47)","v":0.39583333333333331},{"$f":"F1094/(G1094*12*memoria!$B$47)","v":0.98958333333333337}]
["Diadema","01691-Pavimento Térreo - Prédio Principal","Bomba De Vacuo Seca Tipo Scroll, Sem Oleo, Bivolt, Pot. 300w, Tempo De Operacao","01-097685-00","2010-04-20",19000,10,{"$f":"F1095*memoria!$B$44/(G1095*12*memoria!$B$47)","v":0.39583333333333331},{"$f":"F1095/(G1095*12*memoria!$B$47)","v":0.98958333333333337}]
["Diadema","01691-Pavimento Térreo - Prédio Principal","Bomba De Vacuo Seca Tipo Scroll, Sem Oleo, Bivolt, Pot. 300w, Tempo De Operacao","01-097686-00","2010-04-20",19000,10,{"$f":"F1096*memoria!$B$44/(G1096*12*memoria!$B$47)","v":0.39583333333333331},{"$f":"F1096/(G1096*12*memoria!$B$47)","v":0.98958333333333337}]
["Diadema","01691-Pavimento Térreo - Prédio Principal","Bomba De Vacuo Seca Tipo Scroll, Sem Oleo, Bivolt, Pot. 300w, Tempo De Operacao","01-097687-00","2010-04-20",19000,10,{"$f":"F1097*memoria!$B$44/(G1097*12*memoria!$B$47)","v":0.39583333333333331},{"$f":"F1097/(G1097*12*memoria!$B$47)","v":0.98958333333333337}]
["Diadema","01691-Pavimento Térreo - Prédio Principal","Bomba De Vacuo Seca Tipo Scroll, Sem Oleo, Bivolt, Pot. 300w, Tempo De Operacao","01-097688-00","2010-04-22",19000,10,{"$f":"F1098*memoria!$B$44/(G1098*12*memoria!$B$47)","v":0.39583333333333331},{"$f":"F1098/(G1098*12*memoria!$B$47)","v":0.98958333333333337}]
["Diadema","01691-Pavimento Térreo - Prédio Principal","Bomba De Vacuo Seca Tipo Scroll, Sem Oleo, Bivolt, Pot. 300w, Tempo De Operacao","01-097689-00","2010-04-20",19000,10,{"$f":"F1099*memoria!$B$44/(G1099*12*memoria!$B$47)","v":0.39583333333333331},{"$f":"F1099/(G1099*12*memoria!$B$47)","v":0.98958333333333337}]
["Diadema","01691-Pavimento Térreo - Prédio Principal","Bomba De Vacuo Seca Tipo Scroll, Sem Oleo, Bivolt, Pot. 300w, Tempo De Operacao","01-097690-00","2010-04-22",19000,10,{"$f":"F1100*memoria!$B$44/(G1100*12*memoria!$B$47)","v":0.39583333333333331},{"$f":"F1100/(G1100*12*memoria!$B$47)","v":0.98958333333333337}]
["Diadema","01691-Pavimento Térreo - Prédio Principal","Bomba De Vacuo Seca Tipo Scroll, Sem Oleo, Bivolt, Pot. 300w, Tempo De Operacao","01-097691-00","2010-04-22",19000,10,{"$f":"F1101*memoria!$B$44/(G1101*12*memoria!$B$47)","v":0.39583333333333331},{"$f":"F1101/(G1101*12*memoria!$B$47)","v":0.98958333333333337}]
["Diadema","01691-Pavimento Térreo - Prédio Principal","Espectrofotometro","01-097692-00","2010-04-19",185000,10,{"$f":"F1102*memoria!$B$44/(G1102*12*memoria!$B$47)","v":3.8541666666666665},{"$f":"F1102/(G1102*12*memoria!$B$47)","v":9.6354166666666661}]
["Diadema","01691-Pavimento Térreo - Prédio Principal","Esferonizador","01-097707-00","2010-04-26",31655,10,{"$f":"F1103*memoria!$B$44/(G1103*12*memoria!$B$47)","v":0.65947916666666662},{"$f":"F1103/(G1103*12*memoria!$B$47)","v":1.6486979166666667}]
["Diadema","01691-Pavimento Térreo - Prédio Principal","Esferonizador","01-097708-00","2010-04-26",31655,10,{"$f":"F1104*memoria!$B$44/(G1104*12*memoria!$B$47)","v":0.65947916666666662},{"$f":"F1104/(G1104*12*memoria!$B$47)","v":1.6486979166666667}]
["Diadema","01691-Pavimento Térreo - Prédio Principal","Sistema Para Determinanacao Do Teor De Gordura Em Alimentos","01-097709-00","2010-04-14",5370,10,{"$f":"F1105*memoria!$B$44/(G1105*12*memoria!$B$47)","v":0.111875},{"$f":"F1105/(G1105*12*memoria!$B$47)","v":0.27968749999999998}]
["Diadema","01691-Pavimento Térreo - Prédio Principal","Sistema Para Determinanacao Do Teor De Gordura Em Alimentos","01-097710-00","2010-04-14",5370,10,{"$f":"F1106*memoria!$B$44/(G1106*12*memoria!$B$47)","v":0.111875},{"$f":"F1106/(G1106*12*memoria!$B$47)","v":0.27968749999999998}]
["Diadema","01691-Pavimento Térreo - Prédio Principal","Bomba De Vacuo Seca Tipo Scroll, Sem Oleo, Bivolt, Pot. 300w, Tempo De Operacao","01-097727-00","2010-04-29",19000,10,{"$f":"F1107*memoria!$B$44/(G1107*12*memoria!$B$47)","v":0.39583333333333331},{"$f":"F1107/(G1107*12*memoria!$B$47)","v":0.98958333333333337}]
["Diadema","01691-Pavimento Térreo - Prédio Principal","Bomba De Vacuo Seca Tipo Scroll, Sem Oleo, Bivolt, Pot. 300w, Tempo De Operacao","01-097728-00","2010-04-29",19000,10,{"$f":"F1108*memoria!$B$44/(G1108*12*memoria!$B$47)","v":0.39583333333333331},{"$f":"F1108/(G1108*12*memoria!$B$47)","v":0.98958333333333337}]
["Diadema","01691-Pavimento Térreo - Prédio Principal","Bomba De Vacuo Seca Tipo Scroll, Sem Oleo, Bivolt, Pot. 300w, Tempo De Operacao","01-097729-00","2010-04-29",19000,10,{"$f":"F1109*memoria!$B$44/(G1109*12*memoria!$B$47)","v":0.39583333333333331},{"$f":"F1109/(G1109*12*memoria!$B$47)","v":0.98958333333333337}]
["Diadema","01691-Pavimento Térreo - Prédio Principal","Sistema De Analise De Textura","01-097730-00","2010-04-29",81690,10,{"$f":"F1110*memoria!$B$44/(G1110*12*memoria!$B$47)","v":1.701875},{"$f":"F1110/(G1110*12*memoria!$B$47)","v":4.2546875000000002}]
["Diadema","01691-Pavimento Térreo - Prédio Principal","Sistema De Analise De Textura","01-097731-00","2010-04-29",81690,10,{"$f":"F1111*memoria!$B$44/(G1111*12*memoria!$B$47)","v":1.701875},{"$f":"F1111/(G1111*12*memoria!$B$47)","v":4.2546875000000002}]
["Diadema","01691-Pavimento Térreo - Prédio Principal","Viscosimetro Rotacional Microprocessado","01-097732-00","2010-04-29",7125,10,{"$f":"F1112*memoria!$B$44/(G1112*12*memoria!$B$47)","v":0.1484375},{"$f":"F1112/(G1112*12*memoria!$B$47)","v":0.37109375}]
["Diadema","01691-Pavimento Térreo - Prédio Principal","Viscosimetro Rotacional Microprocessado","01-097733-00","2010-04-29",7125,10,{"$f":"F1113*memoria!$B$44/(G1113*12*memoria!$B$47)","v":0.1484375},{"$f":"F1113/(G1113*12*memoria!$B$47)","v":0.37109375}]
["Diadema","01808-11º pavimento - frente","Centrifuga Tipo Refrigerada, Microprocessada, C/Rotor Swing-Bucket A-4-62 Mtp","01-097734-00","2010-04-20",24172.25,10,{"$f":"F1114*memoria!$B$44/(G1114*12*memoria!$B$47)","v":0.50358854166666667},{"$f":"F1114/(G1114*12*memoria!$B$47)","v":1.2589713541666667}]
["Diadema","01808-11º pavimento - frente","Bioanalisador Para Eletroforese 2100, C/Adaptador Usb Serial","01-097735-00","2010-04-20",26794.560000000001,10,{"$f":"F1115*memoria!$B$44/(G1115*12*memoria!$B$47)","v":0.55822000000000005},{"$f":"F1115/(G1115*12*memoria!$B$47)","v":1.3955500000000001}]
["Diadema","01691-Pavimento Térreo - Prédio Principal","Phmetro Microprocessado De Bancada, Cor Argila","01-097736-00","2010-06-02",400,10,{"$f":"F1116*memoria!$B$44/(G1116*12*memoria!$B$47)","v":8.3333333333333332E-3},{"$f":"F1116/(G1116*12*memoria!$B$47)","v":2.0833333333333332E-2}]
["Diadema","01691-Pavimento Térreo - Prédio Principal","Estufa De Secagem E Esterilizacao Com Circulacao E Renovacao De Ar","01-097737-00","2010-05-05",2650,10,{"$f":"F1117*memoria!$B$44/(G1117*12*memoria!$B$47)","v":5.5208333333333331E-2},{"$f":"F1117/(G1117*12*memoria!$B$47)","v":0.13802083333333334}]
["Diadema","01691-Pavimento Térreo - Prédio Principal","Estufa De Secagem E Esterilizacao Com Circulacao E Renovacao De Ar","01-097738-00","2010-05-05",2650,10,{"$f":"F1118*memoria!$B$44/(G1118*12*memoria!$B$47)","v":5.5208333333333331E-2},{"$f":"F1118/(G1118*12*memoria!$B$47)","v":0.13802083333333334}]
["Diadema","01691-Pavimento Térreo - Prédio Principal","Centrifuga De Alta Velocidade, Processamento Livre De Vacuo, Detector Contra","01-097739-00","2010-05-05",162000,10,{"$f":"F1119*memoria!$B$44/(G1119*12*memoria!$B$47)","v":3.375},{"$f":"F1119/(G1119*12*memoria!$B$47)","v":8.4375}]
["Diadema","01708-Pavimento Único - Galpão","Centrifuga De Alta Velocidade, Processamento Livre De Vacuo, Detector Contra","01-097740-00","2010-05-05",162000,10,{"$f":"F1120*memoria!$B$44/(G1120*12*memoria!$B$47)","v":3.375},{"$f":"F1120/(G1120*12*memoria!$B$47)","v":8.4375}]
["Diadema","01691-Pavimento Térreo - Prédio Principal","Centrifuga De Alta Velocidade, Processamento Livre De Vacuo, Detector Contra","01-097741-00","2010-05-05",162000,10,{"$f":"F1121*memoria!$B$44/(G1121*12*memoria!$B$47)","v":3.375},{"$f":"F1121/(G1121*12*memoria!$B$47)","v":8.4375}]
["Diadema","01691-Pavimento Térreo - Prédio Principal","Aparelho De Dissolucao De Comprimidos, 6 Provas, Tensao 110v 60 Hz, Pot. 1400w,","01-097742-00","2010-04-01",26100,10,{"$f":"F1122*memoria!$B$44/(G1122*12*memoria!$B$47)","v":0.54374999999999996},{"$f":"F1122/(G1122*12*memoria!$B$47)","v":1.359375}]
["Diadema","01691-Pavimento Térreo - Prédio Principal","Aparelho De Dissolucao De Comprimidos, 6 Provas, Tensao 110v 60 Hz, Pot. 1400w,","01-097743-00","2010-04-01",26100,10,{"$f":"F1123*memoria!$B$44/(G1123*12*memoria!$B$47)","v":0.54374999999999996},{"$f":"F1123/(G1123*12*memoria!$B$47)","v":1.359375}]
["Diadema","01691-Pavimento Térreo - Prédio Principal","Aparelho De Dissolucao De Comprimidos, 6 Provas, Tensao 110v 60 Hz, Pot. 1400w,","01-097744-00","2010-04-01",26100,10,{"$f":"F1124*memoria!$B$44/(G1124*12*memoria!$B$47)","v":0.54374999999999996},{"$f":"F1124/(G1124*12*memoria!$B$47)","v":1.359375}]
["Diadema","01691-Pavimento Térreo - Prédio Principal","Aparelho De Dissolucao De Comprimidos, 6 Provas, Tensao 110v 60 Hz, Pot. 1400w,","01-097745-00","2010-04-01",26100,10,{"$f":"F1125*memoria!$B$44/(G1125*12*memoria!$B$47)","v":0.54374999999999996},{"$f":"F1125/(G1125*12*memoria!$B$47)","v":1.359375}]
["Diadema","01691-Pavimento Térreo - Prédio Principal","Friabilometro - Aparelho Para Teste De Friabilidade","01-097746-00","2010-04-01",2500,10,{"$f":"F1126*memoria!$B$44/(G1126*12*memoria!$B$47)","v":5.2083333333333336E-2},{"$f":"F1126/(G1126*12*memoria!$B$47)","v":0.13020833333333334}]
["Diadema","01691-Pavimento Térreo - Prédio Principal","Friabilometro - Aparelho Para Teste De Friabilidade","01-097747-00","2010-04-01",2500,10,{"$f":"F1127*memoria!$B$44/(G1127*12*memoria!$B$47)","v":5.2083333333333336E-2},{"$f":"F1127/(G1127*12*memoria!$B$47)","v":0.13020833333333334}]
["Diadema","01691-Pavimento Térreo - Prédio Principal","Balanca Analitica, Capac. 220 Gramas, Sensibilidade, Leitura E Repetitividade De","01-097748-00","2010-05-11",2240,10,{"$f":"F1128*memoria!$B$44/(G1128*12*memoria!$B$47)","v":4.6666666666666669E-2},{"$f":"F1128/(G1128*12*memoria!$B$47)","v":0.11666666666666667}]
["Diadema","01691-Pavimento Térreo - Prédio Principal","Balanca Analitica, Capac. 220 Gramas, Sensibilidade, Leitura E Repetitividade De","01-097749-00","2010-05-11",2240,10,{"$f":"F1129*memoria!$B$44/(G1129*12*memoria!$B$47)","v":4.6666666666666669E-2},{"$f":"F1129/(G1129*12*memoria!$B$47)","v":0.11666666666666667}]
["Diadema","01691-Pavimento Térreo - Prédio Principal","Estufa Incubadora Bod P/ Acondicionar Amostras Sob Temperatura Controlada E","01-097750-00","2010-04-30",2624,10,{"$f":"F1130*memoria!$B$44/(G1130*12*memoria!$B$47)","v":5.4666666666666676E-2},{"$f":"F1130/(G1130*12*memoria!$B$47)","v":0.13666666666666666}]
["Diadema","01691-Pavimento Térreo - Prédio Principal","Bomba De Vacuo Seca Tipo Scroll, Sem Oleo, Bivolt, Pot. 300w, Tempo De Operacao","01-097751-00","2010-05-24",19000,10,{"$f":"F1131*memoria!$B$44/(G1131*12*memoria!$B$47)","v":0.39583333333333331},{"$f":"F1131/(G1131*12*memoria!$B$47)","v":0.98958333333333337}]
["Diadema","01691-Pavimento Térreo - Prédio Principal","Bomba De Vacuo Seca Tipo Scroll, Sem Oleo, Bivolt, Pot. 300w, Tempo De Operacao","01-097752-00","2010-05-24",19000,10,{"$f":"F1132*memoria!$B$44/(G1132*12*memoria!$B$47)","v":0.39583333333333331},{"$f":"F1132/(G1132*12*memoria!$B$47)","v":0.98958333333333337}]
["Diadema","01691-Pavimento Térreo - Prédio Principal","Bomba De Vacuo Seca Tipo Scroll, Sem Oleo, Bivolt, Pot. 300w, Tempo De Operacao","01-097753-00","2010-05-24",19000,10,{"$f":"F1133*memoria!$B$44/(G1133*12*memoria!$B$47)","v":0.39583333333333331},{"$f":"F1133/(G1133*12*memoria!$B$47)","v":0.98958333333333337}]
["Diadema","01691-Pavimento Térreo - Prédio Principal","Bomba De Vacuo Seca Tipo Scroll, Sem Oleo, Bivolt, Pot. 300w, Tempo De Operacao","01-097754-00","2010-05-24",19000,10,{"$f":"F1134*memoria!$B$44/(G1134*12*memoria!$B$47)","v":0.39583333333333331},{"$f":"F1134/(G1134*12*memoria!$B$47)","v":0.98958333333333337}]
["Diadema","01691-Pavimento Térreo - Prédio Principal","Bomba De Vacuo Seca Tipo Scroll, Sem Oleo, Bivolt, Pot. 300w, Tempo De Operacao","01-097755-00","2010-05-24",19000,10,{"$f":"F1135*memoria!$B$44/(G1135*12*memoria!$B$47)","v":0.39583333333333331},{"$f":"F1135/(G1135*12*memoria!$B$47)","v":0.98958333333333337}]
["Diadema","01691-Pavimento Térreo - Prédio Principal","Camara Climatica, 200 Litros","01-097756-00","2010-05-19",14830,10,{"$f":"F1136*memoria!$B$44/(G1136*12*memoria!$B$47)","v":0.30895833333333333},{"$f":"F1136/(G1136*12*memoria!$B$47)","v":0.77239583333333328}]
["Diadema","01691-Pavimento Térreo - Prédio Principal","Camara Climatica, 200 Litros","01-097757-00","2010-05-19",14830,10,{"$f":"F1137*memoria!$B$44/(G1137*12*memoria!$B$47)","v":0.30895833333333333},{"$f":"F1137/(G1137*12*memoria!$B$47)","v":0.77239583333333328}]
["Diadema","01691-Pavimento Térreo - Prédio Principal","Manta Aquecedora Para Balao 125 Ml, Cor Argila","01-097758-00","2010-06-02",202,10,{"$f":"F1138*memoria!$B$44/(G1138*12*memoria!$B$47)","v":4.2083333333333339E-3},{"$f":"F1138/(G1138*12*memoria!$B$47)","v":1.0520833333333333E-2}]
["Diadema","01691-Pavimento Térreo - Prédio Principal","Manta Aquecedora Para Balao 125 Ml, Cor Argila","01-097759-00","2010-06-02",202,10,{"$f":"F1139*memoria!$B$44/(G1139*12*memoria!$B$47)","v":4.2083333333333339E-3},{"$f":"F1139/(G1139*12*memoria!$B$47)","v":1.0520833333333333E-2}]
["Diadema","01691-Pavimento Térreo - Prédio Principal","Manta Aquecedora Para Balao 125 Ml, Cor Argila","01-097760-00","2010-06-02",202,10,{"$f":"F1140*memoria!$B$44/(G1140*12*memoria!$B$47)","v":4.2083333333333339E-3},{"$f":"F1140/(G1140*12*memoria!$B$47)","v":1.0520833333333333E-2}]
["Diadema","01691-Pavimento Térreo - Prédio Principal","Manta Aquecedora Para Balao 125 Ml, Cor Argila","01-097761-00","2010-06-02",202,10,{"$f":"F1141*memoria!$B$44/(G1141*12*memoria!$B$47)","v":4.2083333333333339E-3},{"$f":"F1141/(G1141*12*memoria!$B$47)","v":1.0520833333333333E-2}]
["Diadema","01691-Pavimento Térreo - Prédio Principal","Manta Aquecedora Para Balao 125 Ml, Cor Argila","01-097762-00","2010-06-02",202,10,{"$f":"F1142*memoria!$B$44/(G1142*12*memoria!$B$47)","v":4.2083333333333339E-3},{"$f":"F1142/(G1142*12*memoria!$B$47)","v":1.0520833333333333E-2}]
["Diadema","01691-Pavimento Térreo - Prédio Principal","Fermentador Em Vidro Borossilicato, Capac.2 Lts, Chicana Ou Defletores Aco Inox","01-097763-00","2010-06-15",48900,10,{"$f":"F1143*memoria!$B$44/(G1143*12*memoria!$B$47)","v":1.01875},{"$f":"F1143/(G1143*12*memoria!$B$47)","v":2.546875}]
["Diadema","01691-Pavimento Térreo - Prédio Principal","Mini-Misturador, 10 Lts, 0.37 Kw, 220 Volts","01-097764-00","2010-06-09",16400,10,{"$f":"F1144*memoria!$B$44/(G1144*12*memoria!$B$47)","v":0.34166666666666667},{"$f":"F1144/(G1144*12*memoria!$B$47)","v":0.85416666666666663}]
["Diadema","01691-Pavimento Térreo - Prédio Principal","Mini-Misturador, 10 Lts, 0.37 Kw, 220 Volts","01-097765-00","2010-06-09",16400,10,{"$f":"F1145*memoria!$B$44/(G1145*12*memoria!$B$47)","v":0.34166666666666667},{"$f":"F1145/(G1145*12*memoria!$B$47)","v":0.85416666666666663}]
["Diadema","01691-Pavimento Térreo - Prédio Principal","Misturadeira, 10 Ltrs, 1.37 Kw, 220 Volts","01-097766-00","2010-06-09",25800,10,{"$f":"F1146*memoria!$B$44/(G1146*12*memoria!$B$47)","v":0.53749999999999998},{"$f":"F1146/(G1146*12*memoria!$B$47)","v":1.34375}]
["Diadema","01691-Pavimento Térreo - Prédio Principal","Misturadeira, 10 Lts, 1.37 Kw, 220 Volts","01-097767-00","2010-06-09",25800,10,{"$f":"F1147*memoria!$B$44/(G1147*12*memoria!$B$47)","v":0.53749999999999998},{"$f":"F1147/(G1147*12*memoria!$B$47)","v":1.34375}]
["Diadema","01691-Pavimento Térreo - Prédio Principal","Analisador De Atividade De Agua De Alimentos","01-097918-00","2010-06-10",29999,10,{"$f":"F1148*memoria!$B$44/(G1148*12*memoria!$B$47)","v":0.62497916666666664},{"$f":"F1148/(G1148*12*memoria!$B$47)","v":1.5624479166666667}]
["Diadema","01691-Pavimento Térreo - Prédio Principal","Analisador De Atividade De Agua De Alimentos","01-097919-00","2010-06-10",29999,10,{"$f":"F1149*memoria!$B$44/(G1149*12*memoria!$B$47)","v":0.62497916666666664},{"$f":"F1149/(G1149*12*memoria!$B$47)","v":1.5624479166666667}]
["Diadema","01691-Pavimento Térreo - Prédio Principal","Conjunto Eletromagnetismo Projetavel Com Transformador Desmontavel","01-097920-00","2010-05-31",700,10,{"$f":"F1150*memoria!$B$44/(G1150*12*memoria!$B$47)","v":1.4583333333333334E-2},{"$f":"F1150/(G1150*12*memoria!$B$47)","v":3.6458333333333336E-2}]
["Diadema","01691-Pavimento Térreo - Prédio Principal","Colchao De Ar Com Cronometro E Sensor","01-097921-00","2010-05-31",3133,10,{"$f":"F1151*memoria!$B$44/(G1151*12*memoria!$B$47)","v":6.5270833333333333E-2},{"$f":"F1151/(G1151*12*memoria!$B$47)","v":0.16317708333333333}]
["Diadema","01691-Pavimento Térreo - Prédio Principal","Colchao De Ar Com Cronometro E Sensor","01-097922-00","2010-05-31",3133,10,{"$f":"F1152*memoria!$B$44/(G1152*12*memoria!$B$47)","v":6.5270833333333333E-2},{"$f":"F1152/(G1152*12*memoria!$B$47)","v":0.16317708333333333}]
["Diadema","01691-Pavimento Térreo - Prédio Principal","Colchao De Ar Com Cronometro E Sensor","01-097923-00","2010-05-31",3133,10,{"$f":"F1153*memoria!$B$44/(G1153*12*memoria!$B$47)","v":6.5270833333333333E-2},{"$f":"F1153/(G1153*12*memoria!$B$47)","v":0.16317708333333333}]
["Diadema","01691-Pavimento Térreo - Prédio Principal","Colchao De Ar Com Cronometro E Sensor","01-097924-00","2010-05-31",3133,10,{"$f":"F1154*memoria!$B$44/(G1154*12*memoria!$B$47)","v":6.5270833333333333E-2},{"$f":"F1154/(G1154*12*memoria!$B$47)","v":0.16317708333333333}]
["Diadema","01691-Pavimento Térreo - Prédio Principal","Colchao De Ar Com Cronometro E Sensor","01-097925-00","2010-05-31",3133,10,{"$f":"F1155*memoria!$B$44/(G1155*12*memoria!$B$47)","v":6.5270833333333333E-2},{"$f":"F1155/(G1155*12*memoria!$B$47)","v":0.16317708333333333}]
["Diadema","01691-Pavimento Térreo - Prédio Principal","Colchao De Ar Com Cronometro E Sensor","01-097926-00","2010-05-31",3133,10,{"$f":"F1156*memoria!$B$44/(G1156*12*memoria!$B$47)","v":6.5270833333333333E-2},{"$f":"F1156/(G1156*12*memoria!$B$47)","v":0.16317708333333333}]
["Diadema","01691-Pavimento Térreo - Prédio Principal","Software Para Aquisicao De Dados E Interface Cidepelab - Usb","01-097927-00","2010-05-31",2650,10,{"$f":"F1157*memoria!$B$44/(G1157*12*memoria!$B$47)","v":5.5208333333333331E-2},{"$f":"F1157/(G1157*12*memoria!$B$47)","v":0.13802083333333334}]
["Diadema","01699-2º Pavimento - Prédio Principal","Kit Mecanica Para Computador Com Sensores E Software","01-097928-00","2010-05-31",4276,10,{"$f":"F1158*memoria!$B$44/(G1158*12*memoria!$B$47)","v":8.9083333333333334E-2},{"$f":"F1158/(G1158*12*memoria!$B$47)","v":0.22270833333333334}]
["Diadema","01691-Pavimento Térreo - Prédio Principal","Cuba De Eletroforese Horizontal P/ Analise De Moleculas De Acidos Nucleicos","01-097941-00","2010-06-07",730,10,{"$f":"F1159*memoria!$B$44/(G1159*12*memoria!$B$47)","v":1.5208333333333334E-2},{"$f":"F1159/(G1159*12*memoria!$B$47)","v":3.802083333333333E-2}]
["Diadema","01691-Pavimento Térreo - Prédio Principal","Cuba De Eletroforese Horizontal P/ Analise De Moleculas De Acidos Nucleicos","01-097942-00","2010-06-07",730,10,{"$f":"F1160*memoria!$B$44/(G1160*12*memoria!$B$47)","v":1.5208333333333334E-2},{"$f":"F1160/(G1160*12*memoria!$B$47)","v":3.802083333333333E-2}]
["Diadema","01691-Pavimento Térreo - Prédio Principal","Cuba De Eletroforese Horizontal P/ Analise De Moleculas De Acidos Nucleicos","01-097943-00","2010-06-07",730,10,{"$f":"F1161*memoria!$B$44/(G1161*12*memoria!$B$47)","v":1.5208333333333334E-2},{"$f":"F1161/(G1161*12*memoria!$B$47)","v":3.802083333333333E-2}]
["Diadema","01691-Pavimento Térreo - Prédio Principal","Cuba De Eletroforese Horizontal P/ Analise De Moleculas De Acidos Nucleicos","01-097944-00","2010-06-07",730,10,{"$f":"F1162*memoria!$B$44/(G1162*12*memoria!$B$47)","v":1.5208333333333334E-2},{"$f":"F1162/(G1162*12*memoria!$B$47)","v":3.802083333333333E-2}]
["Diadema","01691-Pavimento Térreo - Prédio Principal","Cuba De Eletroforese Horizontal P/ Analise De Moleculas De Acidos Nucleicos","01-097945-00","2010-06-07",730,10,{"$f":"F1163*memoria!$B$44/(G1163*12*memoria!$B$47)","v":1.5208333333333334E-2},{"$f":"F1163/(G1163*12*memoria!$B$47)","v":3.802083333333333E-2}]
["Diadema","01691-Pavimento Térreo - Prédio Principal","Cuba De Eletroforese Horizontal P/ Analise De Moleculas De Acidos Nucleicos","01-097946-00","2010-06-07",730,10,{"$f":"F1164*memoria!$B$44/(G1164*12*memoria!$B$47)","v":1.5208333333333334E-2},{"$f":"F1164/(G1164*12*memoria!$B$47)","v":3.802083333333333E-2}]
["Diadema","01691-Pavimento Térreo - Prédio Principal","Cuba De Eletroforese Horizontal P/ Analise De Moleculas De Acidos Nucleicos","01-097947-00","2010-06-07",730,10,{"$f":"F1165*memoria!$B$44/(G1165*12*memoria!$B$47)","v":1.5208333333333334E-2},{"$f":"F1165/(G1165*12*memoria!$B$47)","v":3.802083333333333E-2}]
["Diadema","01691-Pavimento Térreo - Prédio Principal","Cuba De Eletroforese Horizontal P/ Analise De Moleculas De Acidos Nucleicos","01-097948-00","2010-06-07",730,10,{"$f":"F1166*memoria!$B$44/(G1166*12*memoria!$B$47)","v":1.5208333333333334E-2},{"$f":"F1166/(G1166*12*memoria!$B$47)","v":3.802083333333333E-2}]
["Diadema","01691-Pavimento Térreo - Prédio Principal","Cuba De Eletroforese Horizontal P/ Analise De Moleculas De Acidos Nucleicos","01-097949-00","2010-06-07",730,10,{"$f":"F1167*memoria!$B$44/(G1167*12*memoria!$B$47)","v":1.5208333333333334E-2},{"$f":"F1167/(G1167*12*memoria!$B$47)","v":3.802083333333333E-2}]
["Diadema","01691-Pavimento Térreo - Prédio Principal","Cuba De Eletroforese Horizontal P/ Analise De Moleculas De Acidos Nucleicos","01-097950-00","2010-06-07",730,10,{"$f":"F1168*memoria!$B$44/(G1168*12*memoria!$B$47)","v":1.5208333333333334E-2},{"$f":"F1168/(G1168*12*memoria!$B$47)","v":3.802083333333333E-2}]
["Diadema","01691-Pavimento Térreo - Prédio Principal","Cuba De Eletroforese Horizontal P/ Analise De Moleculas De Acidos Nucleicos","01-097951-00","2010-06-07",730,10,{"$f":"F1169*memoria!$B$44/(G1169*12*memoria!$B$47)","v":1.5208333333333334E-2},{"$f":"F1169/(G1169*12*memoria!$B$47)","v":3.802083333333333E-2}]
["Diadema","01691-Pavimento Térreo - Prédio Principal","Cuba De Eletroforese Horizontal P/ Analise De Moleculas De Acidos Nucleicos","01-097952-00","2010-06-07",730,10,{"$f":"F1170*memoria!$B$44/(G1170*12*memoria!$B$47)","v":1.5208333333333334E-2},{"$f":"F1170/(G1170*12*memoria!$B$47)","v":3.802083333333333E-2}]
["Diadema","01691-Pavimento Térreo - Prédio Principal","Cuba De Eletroforese Horizontal P/ Analise De Moleculas De Acidos Nucleicos","01-097953-00","2010-06-07",730,10,{"$f":"F1171*memoria!$B$44/(G1171*12*memoria!$B$47)","v":1.5208333333333334E-2},{"$f":"F1171/(G1171*12*memoria!$B$47)","v":3.802083333333333E-2}]
["Diadema","01691-Pavimento Térreo - Prédio Principal","Cuba De Eletroforese Horizontal P/ Analise De Moleculas De Acidos Nucleicos","01-097954-00","2010-06-07",730,10,{"$f":"F1172*memoria!$B$44/(G1172*12*memoria!$B$47)","v":1.5208333333333334E-2},{"$f":"F1172/(G1172*12*memoria!$B$47)","v":3.802083333333333E-2}]
["Diadema","01691-Pavimento Térreo - Prédio Principal","Citometro De Fluxo De Facsaria Com 2 Lasers De Configuracao De Base,","01-097955-00","2010-06-17",971500,10,{"$f":"F1173*memoria!$B$44/(G1173*12*memoria!$B$47)","v":20.239583333333332},{"$f":"F1173/(G1173*12*memoria!$B$47)","v":50.598958333333336}]
["Diadema","01691-Pavimento Térreo - Prédio Principal","Soprador Termico 18700 / 2000 W","01-097959-00","2010-06-15",470,10,{"$f":"F1174*memoria!$B$44/(G1174*12*memoria!$B$47)","v":9.7916666666666673E-3},{"$f":"F1174/(G1174*12*memoria!$B$47)","v":2.4479166666666666E-2}]
["Diadema","01691-Pavimento Térreo - Prédio Principal","Soprador Termico 18700 / 2000 W","01-097960-00","2010-06-15",470,10,{"$f":"F1175*memoria!$B$44/(G1175*12*memoria!$B$47)","v":9.7916666666666673E-3},{"$f":"F1175/(G1175*12*memoria!$B$47)","v":2.4479166666666666E-2}]
["Diadema","01691-Pavimento Térreo - Prédio Principal","Soprador Termico 18700 / 2000 W","01-097961-00","2010-06-15",470,10,{"$f":"F1176*memoria!$B$44/(G1176*12*memoria!$B$47)","v":9.7916666666666673E-3},{"$f":"F1176/(G1176*12*memoria!$B$47)","v":2.4479166666666666E-2}]
["Diadema","01691-Pavimento Térreo - Prédio Principal","Soprador Termico 18700 / 2000 W","01-097962-00","2010-06-15",470,10,{"$f":"F1177*memoria!$B$44/(G1177*12*memoria!$B$47)","v":9.7916666666666673E-3},{"$f":"F1177/(G1177*12*memoria!$B$47)","v":2.4479166666666666E-2}]
["Diadema","01691-Pavimento Térreo - Prédio Principal","Soprador Termico 18700 / 2000 W","01-097963-00","2010-06-15",470,10,{"$f":"F1178*memoria!$B$44/(G1178*12*memoria!$B$47)","v":9.7916666666666673E-3},{"$f":"F1178/(G1178*12*memoria!$B$47)","v":2.4479166666666666E-2}]
["Diadema","01691-Pavimento Térreo - Prédio Principal","Soprador Termico 18700 / 2000 W","01-097964-00","2010-06-15",470,10,{"$f":"F1179*memoria!$B$44/(G1179*12*memoria!$B$47)","v":9.7916666666666673E-3},{"$f":"F1179/(G1179*12*memoria!$B$47)","v":2.4479166666666666E-2}]
["Diadema","01691-Pavimento Térreo - Prédio Principal","Soprador Termico 18700 / 2000 W","01-097965-00","2010-06-15",470,10,{"$f":"F1180*memoria!$B$44/(G1180*12*memoria!$B$47)","v":9.7916666666666673E-3},{"$f":"F1180/(G1180*12*memoria!$B$47)","v":2.4479166666666666E-2}]
["Diadema","01691-Pavimento Térreo - Prédio Principal","Soprador Termico 18700 / 2000 W","01-097966-00","2010-06-15",470,10,{"$f":"F1181*memoria!$B$44/(G1181*12*memoria!$B$47)","v":9.7916666666666673E-3},{"$f":"F1181/(G1181*12*memoria!$B$47)","v":2.4479166666666666E-2}]
["Diadema","01691-Pavimento Térreo - Prédio Principal","Soprador Termico 18700 / 2000 W","01-097967-00","2010-06-15",470,10,{"$f":"F1182*memoria!$B$44/(G1182*12*memoria!$B$47)","v":9.7916666666666673E-3},{"$f":"F1182/(G1182*12*memoria!$B$47)","v":2.4479166666666666E-2}]
["Diadema","01691-Pavimento Térreo - Prédio Principal","Soprador Termico 18700 / 2000 W","01-097968-00","2010-06-15",470,10,{"$f":"F1183*memoria!$B$44/(G1183*12*memoria!$B$47)","v":9.7916666666666673E-3},{"$f":"F1183/(G1183*12*memoria!$B$47)","v":2.4479166666666666E-2}]
["Diadema","01691-Pavimento Térreo - Prédio Principal","Soprador Termico 18700 / 2000 W","01-097969-00","2010-06-15",470,10,{"$f":"F1184*memoria!$B$44/(G1184*12*memoria!$B$47)","v":9.7916666666666673E-3},{"$f":"F1184/(G1184*12*memoria!$B$47)","v":2.4479166666666666E-2}]
["Diadema","01691-Pavimento Térreo - Prédio Principal","Soprador Termico 18700 / 2000 W","01-097970-00","2010-06-15",470,10,{"$f":"F1185*memoria!$B$44/(G1185*12*memoria!$B$47)","v":9.7916666666666673E-3},{"$f":"F1185/(G1185*12*memoria!$B$47)","v":2.4479166666666666E-2}]
["Diadema","01691-Pavimento Térreo - Prédio Principal","Soprador Termico 18700 / 2000 W","01-097971-00","2010-06-15",470,10,{"$f":"F1186*memoria!$B$44/(G1186*12*memoria!$B$47)","v":9.7916666666666673E-3},{"$f":"F1186/(G1186*12*memoria!$B$47)","v":2.4479166666666666E-2}]
["Diadema","01691-Pavimento Térreo - Prédio Principal","Soprador Termico 18700 / 2000 W","01-097972-00","2010-06-15",470,10,{"$f":"F1187*memoria!$B$44/(G1187*12*memoria!$B$47)","v":9.7916666666666673E-3},{"$f":"F1187/(G1187*12*memoria!$B$47)","v":2.4479166666666666E-2}]
["Diadema","01691-Pavimento Térreo - Prédio Principal","Soprador Termico 18700 / 2000 W","01-097973-00","2010-06-15",470,10,{"$f":"F1188*memoria!$B$44/(G1188*12*memoria!$B$47)","v":9.7916666666666673E-3},{"$f":"F1188/(G1188*12*memoria!$B$47)","v":2.4479166666666666E-2}]
["Diadema","01691-Pavimento Térreo - Prédio Principal","Soprador Termico 18700 / 2000 W","01-097974-00","2010-06-15",470,10,{"$f":"F1189*memoria!$B$44/(G1189*12*memoria!$B$47)","v":9.7916666666666673E-3},{"$f":"F1189/(G1189*12*memoria!$B$47)","v":2.4479166666666666E-2}]
["Diadema","01691-Pavimento Térreo - Prédio Principal","Estufa Incubadora Dbo, 390, 220 V, 60 Hz, Cor Argila","01-097976-00","2010-06-18",2624,10,{"$f":"F1190*memoria!$B$44/(G1190*12*memoria!$B$47)","v":5.4666666666666676E-2},{"$f":"F1190/(G1190*12*memoria!$B$47)","v":0.13666666666666666}]
["Diadema","01691-Pavimento Térreo - Prédio Principal","Mini Misturador Sl 147, 220 V, Pot. 800 W","01-097977-00","2010-06-23",7650,10,{"$f":"F1191*memoria!$B$44/(G1191*12*memoria!$B$47)","v":0.15937499999999999},{"$f":"F1191/(G1191*12*memoria!$B$47)","v":0.3984375}]
["Diadema","01691-Pavimento Térreo - Prédio Principal","Mini Misturador Sl 147, 220 V, Pot. 800 W","01-097978-00","2010-06-23",7650,10,{"$f":"F1192*memoria!$B$44/(G1192*12*memoria!$B$47)","v":0.15937499999999999},{"$f":"F1192/(G1192*12*memoria!$B$47)","v":0.3984375}]
["Diadema","01691-Pavimento Térreo - Prédio Principal","Refrigerador, Crc 12-A, 110 Volts, 60 Hz, Tensao 127, Cor Branca","01-097979-00","2010-07-02",640,10,{"$f":"F1193*memoria!$B$44/(G1193*12*memoria!$B$47)","v":1.3333333333333334E-2},{"$f":"F1193/(G1193*12*memoria!$B$47)","v":3.3333333333333333E-2}]
["Diadema","01691-Pavimento Térreo - Prédio Principal","Refrigerador, Crc 12-A, 110 Volts, 60 Hz, Tensao 127, Cor Branca","01-097980-00","2010-07-02",640,10,{"$f":"F1194*memoria!$B$44/(G1194*12*memoria!$B$47)","v":1.3333333333333334E-2},{"$f":"F1194/(G1194*12*memoria!$B$47)","v":3.3333333333333333E-2}]
["Diadema","01699-2º Pavimento - Prédio Principal","Mini Drageadeira, 10 Lts, 220 Volts, 0.25 Kw","01-097981-00","2010-06-29",29000,10,{"$f":"F1195*memoria!$B$44/(G1195*12*memoria!$B$47)","v":0.60416666666666663},{"$f":"F1195/(G1195*12*memoria!$B$47)","v":1.5104166666666667}]
["Diadema","01691-Pavimento Térreo - Prédio Principal","Mini Drageadeira, 10 Lts, 220 Volts, 0.25 Kw","01-097982-00","2010-06-29",29000,10,{"$f":"F1196*memoria!$B$44/(G1196*12*memoria!$B$47)","v":0.60416666666666663},{"$f":"F1196/(G1196*12*memoria!$B$47)","v":1.5104166666666667}]
["Diadema","01691-Pavimento Térreo - Prédio Principal","Mini Granulador, 20 Kg/H, 220 Volts, 0.37 Kw","01-097983-00","2010-06-29",27800,10,{"$f":"F1197*memoria!$B$44/(G1197*12*memoria!$B$47)","v":0.57916666666666672},{"$f":"F1197/(G1197*12*memoria!$B$47)","v":1.4479166666666667}]
["Diadema","01691-Pavimento Térreo - Prédio Principal","Mini Granulador, 20 Kg/H, 220 Volts, 0.37 Kw","01-097984-00","2010-06-29",27800,10,{"$f":"F1198*memoria!$B$44/(G1198*12*memoria!$B$47)","v":0.57916666666666672},{"$f":"F1198/(G1198*12*memoria!$B$47)","v":1.4479166666666667}]
["Diadema","01699-2º Pavimento - Prédio Principal","Mini Maquina Compressora Rotativa, 20000 H, 220 Volts, 1.5 Kw","01-097985-00","2010-06-29",64500,10,{"$f":"F1199*memoria!$B$44/(G1199*12*memoria!$B$47)","v":1.34375},{"$f":"F1199/(G1199*12*memoria!$B$47)","v":3.359375}]
["Diadema","01691-Pavimento Térreo - Prédio Principal","Mini Maquina Compressora Rotativa, 20000 H, 220 Volts, 1.5 Kw","01-097986-00","2010-06-29",64500,10,{"$f":"F1200*memoria!$B$44/(G1200*12*memoria!$B$47)","v":1.34375},{"$f":"F1200/(G1200*12*memoria!$B$47)","v":3.359375}]
["Diadema","01691-Pavimento Térreo - Prédio Principal","Tanque Homogeneizador Encamizado, 10 Lts, 220 Volts, 1.25 Kw","01-097987-00","2010-06-29",16180,10,{"$f":"F1201*memoria!$B$44/(G1201*12*memoria!$B$47)","v":0.33708333333333335},{"$f":"F1201/(G1201*12*memoria!$B$47)","v":0.84270833333333328}]
["Diadema","01691-Pavimento Térreo - Prédio Principal","Tanque Homogeneizador Encamizado, 10 Lts, 220 Volts, 1.25 Kw","01-097988-00","2010-06-29",16180,10,{"$f":"F1202*memoria!$B$44/(G1202*12*memoria!$B$47)","v":0.33708333333333335},{"$f":"F1202/(G1202*12*memoria!$B$47)","v":0.84270833333333328}]
["Diadema","01691-Pavimento Térreo - Prédio Principal","Capela De Exaustao De Gases, L=95 X P=60 X A=110 Cm 110v-Wea, Branca","01-097989-00","2010-06-21",1400,10,{"$f":"F1203*memoria!$B$44/(G1203*12*memoria!$B$47)","v":2.9166666666666667E-2},{"$f":"F1203/(G1203*12*memoria!$B$47)","v":7.2916666666666671E-2}]
["Diadema","01691-Pavimento Térreo - Prédio Principal","Refrigerador Duplex, 110 Volts, 60 Hz, Tensao 127 Volts, Cor Branca","01-097990-00","2010-07-02",2150,10,{"$f":"F1204*memoria!$B$44/(G1204*12*memoria!$B$47)","v":4.4791666666666667E-2},{"$f":"F1204/(G1204*12*memoria!$B$47)","v":0.11197916666666667}]
["Diadema","01691-Pavimento Térreo - Prédio Principal","Refrigerador Duplex, 110 Volts, 60 Hz, Tensao 127 Volts, Cor Branca","01-097991-00","2010-07-02",2150,10,{"$f":"F1205*memoria!$B$44/(G1205*12*memoria!$B$47)","v":4.4791666666666667E-2},{"$f":"F1205/(G1205*12*memoria!$B$47)","v":0.11197916666666667}]
["Diadema","01691-Pavimento Térreo - Prédio Principal","Refrigerador Duplex, 110 Volts, 60 Hz, Tensao 127 Volts, Cor Branca","01-097992-00","2010-07-02",2150,10,{"$f":"F1206*memoria!$B$44/(G1206*12*memoria!$B$47)","v":4.4791666666666667E-2},{"$f":"F1206/(G1206*12*memoria!$B$47)","v":0.11197916666666667}]
["Diadema","01691-Pavimento Térreo - Prédio Principal","Refrigerador Duplex, 110 Volts, 60 Hz, Tensao 127 Volts, Cor Branca","01-097993-00","2010-07-02",2150,10,{"$f":"F1207*memoria!$B$44/(G1207*12*memoria!$B$47)","v":4.4791666666666667E-2},{"$f":"F1207/(G1207*12*memoria!$B$47)","v":0.11197916666666667}]
["Diadema","01691-Pavimento Térreo - Prédio Principal","Refrigerador Duplex, 110 Volts, 60 Hz, Tensao 127 Volts, Cor Branca","01-097994-00","2010-07-02",2150,10,{"$f":"F1208*memoria!$B$44/(G1208*12*memoria!$B$47)","v":4.4791666666666667E-2},{"$f":"F1208/(G1208*12*memoria!$B$47)","v":0.11197916666666667}]
["Diadema","01691-Pavimento Térreo - Prédio Principal","Refrigerador Duplex, 110 Volts, 60 Hz, Tensao 127 Volts, Cor Branca","01-097995-00","2010-07-02",2150,10,{"$f":"F1209*memoria!$B$44/(G1209*12*memoria!$B$47)","v":4.4791666666666667E-2},{"$f":"F1209/(G1209*12*memoria!$B$47)","v":0.11197916666666667}]
["Diadema","01691-Pavimento Térreo - Prédio Principal","Bomba De Vacuo Seca Tipo Scroll, Sem Oleo, Bivolt, Pot. 300w, Tempo De Operacao","01-097996-00","2010-07-06",19000,10,{"$f":"F1210*memoria!$B$44/(G1210*12*memoria!$B$47)","v":0.39583333333333331},{"$f":"F1210/(G1210*12*memoria!$B$47)","v":0.98958333333333337}]
["Diadema","01691-Pavimento Térreo - Prédio Principal","Mesa Inercial P/ Balanca Medindo 100 X 70 X 90 Cm.","01-097997-00","2010-06-30",800,10,{"$f":"F1211*memoria!$B$44/(G1211*12*memoria!$B$47)","v":1.6666666666666666E-2},{"$f":"F1211/(G1211*12*memoria!$B$47)","v":4.1666666666666664E-2}]
["Diadema","01691-Pavimento Térreo - Prédio Principal","Mesa Inercial P/ Balanca Medindo 100 X 70 X 90 Cm.","01-097998-00","2010-06-30",800,10,{"$f":"F1212*memoria!$B$44/(G1212*12*memoria!$B$47)","v":1.6666666666666666E-2},{"$f":"F1212/(G1212*12*memoria!$B$47)","v":4.1666666666666664E-2}]
["Diadema","01691-Pavimento Térreo - Prédio Principal","Mesa Inercial P/ Balanca Medindo 100 X 70 X 90 Cm.","01-097999-00","2010-06-30",800,10,{"$f":"F1213*memoria!$B$44/(G1213*12*memoria!$B$47)","v":1.6666666666666666E-2},{"$f":"F1213/(G1213*12*memoria!$B$47)","v":4.1666666666666664E-2}]
["Diadema","01691-Pavimento Térreo - Prédio Principal","Mesa Inercial P/ Balanca Medindo 100 X 70 X 90 Cm.","01-098000-00","2010-06-30",800,10,{"$f":"F1214*memoria!$B$44/(G1214*12*memoria!$B$47)","v":1.6666666666666666E-2},{"$f":"F1214/(G1214*12*memoria!$B$47)","v":4.1666666666666664E-2}]
["Diadema","01691-Pavimento Térreo - Prédio Principal","Mesa Inercial P/ Balanca Medindo 100 X 70 X 90 Cm.","01-098001-00","2010-06-30",800,10,{"$f":"F1215*memoria!$B$44/(G1215*12*memoria!$B$47)","v":1.6666666666666666E-2},{"$f":"F1215/(G1215*12*memoria!$B$47)","v":4.1666666666666664E-2}]
["Diadema","01691-Pavimento Térreo - Prédio Principal","Mesa Inercial P/ Balanca Medindo 100 X 70 X 90 Cm.","01-098002-00","2010-06-30",800,10,{"$f":"F1216*memoria!$B$44/(G1216*12*memoria!$B$47)","v":1.6666666666666666E-2},{"$f":"F1216/(G1216*12*memoria!$B$47)","v":4.1666666666666664E-2}]
["Diadema","01686-Pavimento térreo","Capela De Exaustão De Gases","01-101577-00","2010-01-20",1814.11,10,{"$f":"F1217*memoria!$B$44/(G1217*12*memoria!$B$47)","v":3.7793958333333336E-2},{"$f":"F1217/(G1217*12*memoria!$B$47)","v":9.4484895833333332E-2}]
["Diadema","01686-Pavimento térreo","Capela De Exaustão De Gases","01-101578-00","2010-01-20",1814.11,10,{"$f":"F1218*memoria!$B$44/(G1218*12*memoria!$B$47)","v":3.7793958333333336E-2},{"$f":"F1218/(G1218*12*memoria!$B$47)","v":9.4484895833333332E-2}]
["Diadema","01708-Pavimento Único - Galpão","Laser Multifoton","01-101986-00","2001-01-02",314165.25,10,{"$f":"F1219*memoria!$B$44/(G1219*12*memoria!$B$47)","v":6.545109375},{"$f":"F1219/(G1219*12*memoria!$B$47)","v":16.3627734375}]
["Diadema","01691-Pavimento Térreo - Prédio Principal","Leitora De Micro Placas De Alta Velocidade De Resposta, 7 Posicoes, 220 Volts","01-105013-00","2010-07-08",8000,10,{"$f":"F1220*memoria!$B$44/(G1220*12*memoria!$B$47)","v":0.16666666666666666},{"$f":"F1220/(G1220*12*memoria!$B$47)","v":0.41666666666666669}]
["Diadema","01691-Pavimento Térreo - Prédio Principal","Leitora De Micro Placas De Alta Velocidade De Resposta, 7 Posicoes, 220 Volts","01-105014-00","2010-07-08",8000,10,{"$f":"F1221*memoria!$B$44/(G1221*12*memoria!$B$47)","v":0.16666666666666666},{"$f":"F1221/(G1221*12*memoria!$B$47)","v":0.41666666666666669}]
["Diadema","01691-Pavimento Térreo - Prédio Principal","Lavadora De Placas De Elisa, 8/12 Canais, 220 Volts","01-105015-00","2010-07-12",7000,10,{"$f":"F1222*memoria!$B$44/(G1222*12*memoria!$B$47)","v":0.14583333333333334},{"$f":"F1222/(G1222*12*memoria!$B$47)","v":0.36458333333333331}]
["Diadema","01691-Pavimento Térreo - Prédio Principal","Phmetro Portatil C/ Eletrodo Ectrode","01-105016-00","2010-06-10",2600,10,{"$f":"F1223*memoria!$B$44/(G1223*12*memoria!$B$47)","v":5.4166666666666669E-2},{"$f":"F1223/(G1223*12*memoria!$B$47)","v":0.13541666666666666}]
["Diadema","01691-Pavimento Térreo - Prédio Principal","Amostrador Tipo Draga Van Veen","01-105017-00","2010-06-10",1875,10,{"$f":"F1224*memoria!$B$44/(G1224*12*memoria!$B$47)","v":3.90625E-2},{"$f":"F1224/(G1224*12*memoria!$B$47)","v":9.765625E-2}]
["Diadema","01691-Pavimento Térreo - Prédio Principal","Amostrador Tipo Kijac C/ Tubos De Acrilico","01-105018-00","2010-06-10",1875,10,{"$f":"F1225*memoria!$B$44/(G1225*12*memoria!$B$47)","v":3.90625E-2},{"$f":"F1225/(G1225*12*memoria!$B$47)","v":9.765625E-2}]
["Diadema","01691-Pavimento Térreo - Prédio Principal","Bomba Tipo Bexiga, Portatil, C/ Controladora Digital","01-105019-00","2010-06-10",3300,10,{"$f":"F1226*memoria!$B$44/(G1226*12*memoria!$B$47)","v":6.8750000000000006E-2},{"$f":"F1226/(G1226*12*memoria!$B$47)","v":0.171875}]
["Diadema","01691-Pavimento Térreo - Prédio Principal","Medidor De Nivel De Agua, C/ Suporte Em Aco Carbono","01-105020-00","2010-06-10",750,10,{"$f":"F1227*memoria!$B$44/(G1227*12*memoria!$B$47)","v":1.5625E-2},{"$f":"F1227/(G1227*12*memoria!$B$47)","v":3.90625E-2}]
["Diadema","01691-Pavimento Térreo - Prédio Principal","Bomba De Vacuo/Pressao, 115v, 60 Hz, C/ Suporte","01-105021-00","2010-06-10",2416,10,{"$f":"F1228*memoria!$B$44/(G1228*12*memoria!$B$47)","v":5.0333333333333341E-2},{"$f":"F1228/(G1228*12*memoria!$B$47)","v":0.12583333333333332}]
["Diadema","01691-Pavimento Térreo - Prédio Principal","Phmetro Portatil, C/ Calibracao Automatica","01-105022-00","2010-06-10",778.5,10,{"$f":"F1229*memoria!$B$44/(G1229*12*memoria!$B$47)","v":1.6218750000000001E-2},{"$f":"F1229/(G1229*12*memoria!$B$47)","v":4.0546875000000003E-2}]
["Diadema","01691-Pavimento Térreo - Prédio Principal","Medidor Od A Prova D´Agua","01-105023-00","2010-06-10",2346,10,{"$f":"F1230*memoria!$B$44/(G1230*12*memoria!$B$47)","v":4.8875000000000002E-2},{"$f":"F1230/(G1230*12*memoria!$B$47)","v":0.1221875}]
["Diadema","01691-Pavimento Térreo - Prédio Principal","Medidor De Ec, Tds, Naci E C","01-105024-00","2010-06-10",925,10,{"$f":"F1231*memoria!$B$44/(G1231*12*memoria!$B$47)","v":1.9270833333333334E-2},{"$f":"F1231/(G1231*12*memoria!$B$47)","v":4.8177083333333336E-2}]
["Diadema","01691-Pavimento Térreo - Prédio Principal","Medidor De Turbidez","01-105025-00","2010-06-10",1236.6500000000001,10,{"$f":"F1232*memoria!$B$44/(G1232*12*memoria!$B$47)","v":2.5763541666666671E-2},{"$f":"F1232/(G1232*12*memoria!$B$47)","v":6.4408854166666668E-2}]
["Diadema","01691-Pavimento Térreo - Prédio Principal","Bomba De Vacuo, Pot.Max. 650 Mmhg, Pot.Motor 1/4 Hp, Nivel Maximo Ruido 66 Db","01-105026-00","2010-07-15",997,10,{"$f":"F1233*memoria!$B$44/(G1233*12*memoria!$B$47)","v":2.0770833333333336E-2},{"$f":"F1233/(G1233*12*memoria!$B$47)","v":5.1927083333333332E-2}]
["Diadema","01691-Pavimento Térreo - Prédio Principal","Maquina De Gelo Em Escamas, Revestida Em Polietileno, Tampa Deslizante","01-105027-00","2010-01-08",11433.66,10,{"$f":"F1234*memoria!$B$44/(G1234*12*memoria!$B$47)","v":0.23820125},{"$f":"F1234/(G1234*12*memoria!$B$47)","v":0.59550312500000002}]
["Diadema","01691-Pavimento Térreo - Prédio Principal","Banho Maria Analogico, Rotina 2, 220v, Amp. 5a, 60 Hz, Pot. 800w","01-105028-00","2010-07-21",1015,10,{"$f":"F1235*memoria!$B$44/(G1235*12*memoria!$B$47)","v":2.1145833333333332E-2},{"$f":"F1235/(G1235*12*memoria!$B$47)","v":5.2864583333333333E-2}]
["Diadema","01691-Pavimento Térreo - Prédio Principal","Banho Maria Analogico, Rotina 2, 220v, Amp. 5a, 60 Hz, Pot. 800w","01-105029-00","2010-07-21",1015,10,{"$f":"F1236*memoria!$B$44/(G1236*12*memoria!$B$47)","v":2.1145833333333332E-2},{"$f":"F1236/(G1236*12*memoria!$B$47)","v":5.2864583333333333E-2}]
["Diadema","01691-Pavimento Térreo - Prédio Principal","Estereomicroscopio Binocular, 80x C/ Camara Acoplada","01-105031-00","2010-07-20",4298,10,{"$f":"F1237*memoria!$B$44/(G1237*12*memoria!$B$47)","v":8.9541666666666672E-2},{"$f":"F1237/(G1237*12*memoria!$B$47)","v":0.22385416666666666}]
["Diadema","01691-Pavimento Térreo - Prédio Principal","Goniometro Espectometro","01-105037-00","2010-07-26",10525,10,{"$f":"F1238*memoria!$B$44/(G1238*12*memoria!$B$47)","v":0.21927083333333333},{"$f":"F1238/(G1238*12*memoria!$B$47)","v":0.54817708333333337}]
["Diadema","01691-Pavimento Térreo - Prédio Principal","Goniometro Espectometro","01-105038-00","2010-07-26",10525,10,{"$f":"F1239*memoria!$B$44/(G1239*12*memoria!$B$47)","v":0.21927083333333333},{"$f":"F1239/(G1239*12*memoria!$B$47)","v":0.54817708333333337}]
["Diadema","01691-Pavimento Térreo - Prédio Principal","Goniometro Espectometro","01-105039-00","2010-07-26",10525,10,{"$f":"F1240*memoria!$B$44/(G1240*12*memoria!$B$47)","v":0.21927083333333333},{"$f":"F1240/(G1240*12*memoria!$B$47)","v":0.54817708333333337}]
["Diadema","01691-Pavimento Térreo - Prédio Principal","Goniometro Espectometro","01-105040-00","2010-07-26",10525,10,{"$f":"F1241*memoria!$B$44/(G1241*12*memoria!$B$47)","v":0.21927083333333333},{"$f":"F1241/(G1241*12*memoria!$B$47)","v":0.54817708333333337}]
["Diadema","01691-Pavimento Térreo - Prédio Principal","Goniometro Espectometro","01-105041-00","2010-07-26",10525,10,{"$f":"F1242*memoria!$B$44/(G1242*12*memoria!$B$47)","v":0.21927083333333333},{"$f":"F1242/(G1242*12*memoria!$B$47)","v":0.54817708333333337}]
["Diadema","01691-Pavimento Térreo - Prédio Principal","Goniometro Espectometro","01-105042-00","2010-07-26",10525,10,{"$f":"F1243*memoria!$B$44/(G1243*12*memoria!$B$47)","v":0.21927083333333333},{"$f":"F1243/(G1243*12*memoria!$B$47)","v":0.54817708333333337}]
["Diadema","01691-Pavimento Térreo - Prédio Principal","Goniometro Espectometro","01-105043-00","2010-07-26",10525,10,{"$f":"F1244*memoria!$B$44/(G1244*12*memoria!$B$47)","v":0.21927083333333333},{"$f":"F1244/(G1244*12*memoria!$B$47)","v":0.54817708333333337}]
["Diadema","01691-Pavimento Térreo - Prédio Principal","Goniometro Espectometro","01-105044-00","2010-07-26",10525,10,{"$f":"F1245*memoria!$B$44/(G1245*12*memoria!$B$47)","v":0.21927083333333333},{"$f":"F1245/(G1245*12*memoria!$B$47)","v":0.54817708333333337}]
["Diadema","01691-Pavimento Térreo - Prédio Principal","Goniometro Espectometro","01-105045-00","2010-07-26",10525,10,{"$f":"F1246*memoria!$B$44/(G1246*12*memoria!$B$47)","v":0.21927083333333333},{"$f":"F1246/(G1246*12*memoria!$B$47)","v":0.54817708333333337}]
["Diadema","01691-Pavimento Térreo - Prédio Principal","Goniometro Espectometro","01-105046-00","2010-07-26",10525,10,{"$f":"F1247*memoria!$B$44/(G1247*12*memoria!$B$47)","v":0.21927083333333333},{"$f":"F1247/(G1247*12*memoria!$B$47)","v":0.54817708333333337}]
["Diadema","01691-Pavimento Térreo - Prédio Principal","Goniometro Espectometro","01-105047-00","2010-07-26",10525,10,{"$f":"F1248*memoria!$B$44/(G1248*12*memoria!$B$47)","v":0.21927083333333333},{"$f":"F1248/(G1248*12*memoria!$B$47)","v":0.54817708333333337}]
["Diadema","01691-Pavimento Térreo - Prédio Principal","Goniometro Espectometro","01-105048-00","2010-07-26",10525,10,{"$f":"F1249*memoria!$B$44/(G1249*12*memoria!$B$47)","v":0.21927083333333333},{"$f":"F1249/(G1249*12*memoria!$B$47)","v":0.54817708333333337}]
["Diadema","01691-Pavimento Térreo - Prédio Principal","Analisador De Umidade Por Infravermelho, Max. 210g, D= 1mg","01-105049-00","2010-07-20",3871,10,{"$f":"F1250*memoria!$B$44/(G1250*12*memoria!$B$47)","v":8.0645833333333333E-2},{"$f":"F1250/(G1250*12*memoria!$B$47)","v":0.20161458333333335}]
["Diadema","01691-Pavimento Térreo - Prédio Principal","Analisador De Umidade Por Infravermelho, Max. 210g, D= 1mg","01-105050-00","2010-07-20",3871,10,{"$f":"F1251*memoria!$B$44/(G1251*12*memoria!$B$47)","v":8.0645833333333333E-2},{"$f":"F1251/(G1251*12*memoria!$B$47)","v":0.20161458333333335}]
["Diadema","01691-Pavimento Térreo - Prédio Principal","Balanca Semi Analitica, Max. 2 Kg, D= 0,01g","01-105051-00","2010-07-20",964,10,{"$f":"F1252*memoria!$B$44/(G1252*12*memoria!$B$47)","v":2.0083333333333335E-2},{"$f":"F1252/(G1252*12*memoria!$B$47)","v":5.0208333333333334E-2}]
["Diadema","01691-Pavimento Térreo - Prédio Principal","Balanca Semi Analitica, Max. 2 Kg, D= 0,01g","01-105052-00","2010-07-20",964,10,{"$f":"F1253*memoria!$B$44/(G1253*12*memoria!$B$47)","v":2.0083333333333335E-2},{"$f":"F1253/(G1253*12*memoria!$B$47)","v":5.0208333333333334E-2}]
["Diadema","01691-Pavimento Térreo - Prédio Principal","Balanca Semi Analitica, Max. 2 Kg, D= 0,01g","01-105053-00","2010-07-20",964,10,{"$f":"F1254*memoria!$B$44/(G1254*12*memoria!$B$47)","v":2.0083333333333335E-2},{"$f":"F1254/(G1254*12*memoria!$B$47)","v":5.0208333333333334E-2}]
["Diadema","01691-Pavimento Térreo - Prédio Principal","Balanca Semi Analitica, Max. 2 Kg, D= 0,01g","01-105054-00","2010-07-20",964,10,{"$f":"F1255*memoria!$B$44/(G1255*12*memoria!$B$47)","v":2.0083333333333335E-2},{"$f":"F1255/(G1255*12*memoria!$B$47)","v":5.0208333333333334E-2}]
["Diadema","01691-Pavimento Térreo - Prédio Principal","Medidor De Ph, Bancada Com Interface","01-105055-00","2010-07-20",1101,10,{"$f":"F1256*memoria!$B$44/(G1256*12*memoria!$B$47)","v":2.2937500000000003E-2},{"$f":"F1256/(G1256*12*memoria!$B$47)","v":5.7343749999999999E-2}]
["Diadema","01691-Pavimento Térreo - Prédio Principal","Medidor De Ph, Bancada Com Interface","01-105056-00","2010-07-20",1101,10,{"$f":"F1257*memoria!$B$44/(G1257*12*memoria!$B$47)","v":2.2937500000000003E-2},{"$f":"F1257/(G1257*12*memoria!$B$47)","v":5.7343749999999999E-2}]
["Diadema","01691-Pavimento Térreo - Prédio Principal","Medidor De Ph, Bancada Com Interface","01-105057-00","2010-07-20",1101,10,{"$f":"F1258*memoria!$B$44/(G1258*12*memoria!$B$47)","v":2.2937500000000003E-2},{"$f":"F1258/(G1258*12*memoria!$B$47)","v":5.7343749999999999E-2}]
["Diadema","01691-Pavimento Térreo - Prédio Principal","Osmose Reversa P/ Purificacao De Agua, Cor Azul","01-105058-00","2010-07-20",1814,10,{"$f":"F1259*memoria!$B$44/(G1259*12*memoria!$B$47)","v":3.7791666666666668E-2},{"$f":"F1259/(G1259*12*memoria!$B$47)","v":9.447916666666667E-2}]
["Diadema","01691-Pavimento Térreo - Prédio Principal","Osmose Reversa P/ Purificacao De Agua, Cor Azul","01-105059-00","2010-07-20",1814,10,{"$f":"F1260*memoria!$B$44/(G1260*12*memoria!$B$47)","v":3.7791666666666668E-2},{"$f":"F1260/(G1260*12*memoria!$B$47)","v":9.447916666666667E-2}]
["Diadema","01691-Pavimento Térreo - Prédio Principal","Polarimetro Digital Automatico","01-105065-00","2010-08-04",75000,10,{"$f":"F1261*memoria!$B$44/(G1261*12*memoria!$B$47)","v":1.5625},{"$f":"F1261/(G1261*12*memoria!$B$47)","v":3.90625}]
["Diadema","01691-Pavimento Térreo - Prédio Principal","Polarimetro Digital Automatico","01-105066-00","2010-08-04",75000,10,{"$f":"F1262*memoria!$B$44/(G1262*12*memoria!$B$47)","v":1.5625},{"$f":"F1262/(G1262*12*memoria!$B$47)","v":3.90625}]
["Diadema","01691-Pavimento Térreo - Prédio Principal","Mesa Inercial P/ Balanca Medindo 100 X 70 X 90 Cm","01-105071-00","2010-08-13",800,10,{"$f":"F1263*memoria!$B$44/(G1263*12*memoria!$B$47)","v":1.6666666666666666E-2},{"$f":"F1263/(G1263*12*memoria!$B$47)","v":4.1666666666666664E-2}]
["Diadema","01691-Pavimento Térreo - Prédio Principal","Mesa Inercial P/ Balanca Medindo 100 X 70 X 90 Cm","01-105072-00","2010-08-13",800,10,{"$f":"F1264*memoria!$B$44/(G1264*12*memoria!$B$47)","v":1.6666666666666666E-2},{"$f":"F1264/(G1264*12*memoria!$B$47)","v":4.1666666666666664E-2}]
["Diadema","01691-Pavimento Térreo - Prédio Principal","Mesa Inercial P/ Balanca Medindo 100 X 70 X 90 Cm","01-105073-00","2010-08-13",800,10,{"$f":"F1265*memoria!$B$44/(G1265*12*memoria!$B$47)","v":1.6666666666666666E-2},{"$f":"F1265/(G1265*12*memoria!$B$47)","v":4.1666666666666664E-2}]
["Diadema","01691-Pavimento Térreo - Prédio Principal","Mesa Inercial P/ Balanca Medindo 100 X 70 X 90 Cm","01-105074-00","2010-08-13",800,10,{"$f":"F1266*memoria!$B$44/(G1266*12*memoria!$B$47)","v":1.6666666666666666E-2},{"$f":"F1266/(G1266*12*memoria!$B$47)","v":4.1666666666666664E-2}]
["Diadema","01691-Pavimento Térreo - Prédio Principal","Mesa Inercial P/ Balanca Medindo 100 X 70 X 90 Cm","01-105075-00","2010-08-13",800,10,{"$f":"F1267*memoria!$B$44/(G1267*12*memoria!$B$47)","v":1.6666666666666666E-2},{"$f":"F1267/(G1267*12*memoria!$B$47)","v":4.1666666666666664E-2}]
["Diadema","01691-Pavimento Térreo - Prédio Principal","Mesa Inercial P/ Balanca Medindo 100 X 70 X 90 Cm","01-105076-00","2010-08-13",800,10,{"$f":"F1268*memoria!$B$44/(G1268*12*memoria!$B$47)","v":1.6666666666666666E-2},{"$f":"F1268/(G1268*12*memoria!$B$47)","v":4.1666666666666664E-2}]
["Diadema","01691-Pavimento Térreo - Prédio Principal","Mesa Inercial P/ Balanca Medindo 100 X 70 X 90 Cm","01-105077-00","2010-08-13",800,10,{"$f":"F1269*memoria!$B$44/(G1269*12*memoria!$B$47)","v":1.6666666666666666E-2},{"$f":"F1269/(G1269*12*memoria!$B$47)","v":4.1666666666666664E-2}]
["Diadema","01691-Pavimento Térreo - Prédio Principal","Mesa Inercial P/ Balanca Medindo 100 X 70 X 90 Cm","01-105078-00","2010-08-13",800,10,{"$f":"F1270*memoria!$B$44/(G1270*12*memoria!$B$47)","v":1.6666666666666666E-2},{"$f":"F1270/(G1270*12*memoria!$B$47)","v":4.1666666666666664E-2}]
["Diadema","01691-Pavimento Térreo - Prédio Principal","Mesa Inercial P/ Balanca Medindo 100 X 70 X 90 Cm","01-105079-00","2010-08-13",800,10,{"$f":"F1271*memoria!$B$44/(G1271*12*memoria!$B$47)","v":1.6666666666666666E-2},{"$f":"F1271/(G1271*12*memoria!$B$47)","v":4.1666666666666664E-2}]
["Diadema","01691-Pavimento Térreo - Prédio Principal","Mesa Inercial P/ Balanca Medindo 100 X 70 X 90 Cm","01-105080-00","2010-08-13",800,10,{"$f":"F1272*memoria!$B$44/(G1272*12*memoria!$B$47)","v":1.6666666666666666E-2},{"$f":"F1272/(G1272*12*memoria!$B$47)","v":4.1666666666666664E-2}]
["Diadema","01691-Pavimento Térreo - Prédio Principal","Mesa Inercial P/ Balanca Medindo 100 X 70 X 90 Cm","01-105081-00","2010-08-13",800,10,{"$f":"F1273*memoria!$B$44/(G1273*12*memoria!$B$47)","v":1.6666666666666666E-2},{"$f":"F1273/(G1273*12*memoria!$B$47)","v":4.1666666666666664E-2}]
["Diadema","01691-Pavimento Térreo - Prédio Principal","Mesa Inercial P/ Balanca Medindo 100 X 70 X 90 Cm","01-105082-00","2010-08-13",800,10,{"$f":"F1274*memoria!$B$44/(G1274*12*memoria!$B$47)","v":1.6666666666666666E-2},{"$f":"F1274/(G1274*12*memoria!$B$47)","v":4.1666666666666664E-2}]
["Diadema","01691-Pavimento Térreo - Prédio Principal","Mesa Inercial P/ Balanca Medindo 100 X 70 X 90 Cm","01-105083-00","2010-08-13",800,10,{"$f":"F1275*memoria!$B$44/(G1275*12*memoria!$B$47)","v":1.6666666666666666E-2},{"$f":"F1275/(G1275*12*memoria!$B$47)","v":4.1666666666666664E-2}]
["Diadema","01691-Pavimento Térreo - Prédio Principal","Mesa Inercial P/ Balanca Medindo 100 X 70 X 90 Cm","01-105084-00","2010-08-13",800,10,{"$f":"F1276*memoria!$B$44/(G1276*12*memoria!$B$47)","v":1.6666666666666666E-2},{"$f":"F1276/(G1276*12*memoria!$B$47)","v":4.1666666666666664E-2}]
["Diadema","01691-Pavimento Térreo - Prédio Principal","Agitador Magnetico Com Aquecimento, 110v, Amp. 5a, Pot. 400w, Cor Branca","01-105115-00","2010-08-17",420,10,{"$f":"F1277*memoria!$B$44/(G1277*12*memoria!$B$47)","v":8.7500000000000008E-3},{"$f":"F1277/(G1277*12*memoria!$B$47)","v":2.1874999999999999E-2}]
["Diadema","01691-Pavimento Térreo - Prédio Principal","Agitador Magnetico Com Aquecimento, 110v, Amp. 5a, Pot. 400w, Cor Branca","01-105116-00","2010-08-17",420,10,{"$f":"F1278*memoria!$B$44/(G1278*12*memoria!$B$47)","v":8.7500000000000008E-3},{"$f":"F1278/(G1278*12*memoria!$B$47)","v":2.1874999999999999E-2}]
["Diadema","01691-Pavimento Térreo - Prédio Principal","Agitador Magnetico Com Aquecimento, 110v, Amp. 5a, Pot. 400w, Cor Branca","01-105117-00","2010-08-17",420,10,{"$f":"F1279*memoria!$B$44/(G1279*12*memoria!$B$47)","v":8.7500000000000008E-3},{"$f":"F1279/(G1279*12*memoria!$B$47)","v":2.1874999999999999E-2}]
["Diadema","01691-Pavimento Térreo - Prédio Principal","Agitador Magnetico Com Aquecimento, 110v, Amp. 5a, Pot. 400w, Cor Branca","01-105118-00","2010-08-17",420,10,{"$f":"F1280*memoria!$B$44/(G1280*12*memoria!$B$47)","v":8.7500000000000008E-3},{"$f":"F1280/(G1280*12*memoria!$B$47)","v":2.1874999999999999E-2}]
["Diadema","01691-Pavimento Térreo - Prédio Principal","Agitador Magnetico Com Aquecimento, 110v, Amp. 5a, Pot. 400w, Cor Branca","01-105119-00","2010-08-17",420,10,{"$f":"F1281*memoria!$B$44/(G1281*12*memoria!$B$47)","v":8.7500000000000008E-3},{"$f":"F1281/(G1281*12*memoria!$B$47)","v":2.1874999999999999E-2}]
["Diadema","01691-Pavimento Térreo - Prédio Principal","Agitador Magnetico Com Aquecimento, 110v, Amp. 5a, Pot. 400w, Cor Branca","01-105120-00","2010-08-17",420,10,{"$f":"F1282*memoria!$B$44/(G1282*12*memoria!$B$47)","v":8.7500000000000008E-3},{"$f":"F1282/(G1282*12*memoria!$B$47)","v":2.1874999999999999E-2}]
["Diadema","01691-Pavimento Térreo - Prédio Principal","Agitador Magnetico Com Aquecimento, 110v, Amp. 5a, Pot. 400w, Cor Branca","01-105121-00","2010-08-17",420,10,{"$f":"F1283*memoria!$B$44/(G1283*12*memoria!$B$47)","v":8.7500000000000008E-3},{"$f":"F1283/(G1283*12*memoria!$B$47)","v":2.1874999999999999E-2}]
["Diadema","01691-Pavimento Térreo - Prédio Principal","Agitador Magnetico Com Aquecimento, 110v, Amp. 5a, Pot. 400w, Cor Branca","01-105122-00","2010-08-17",420,10,{"$f":"F1284*memoria!$B$44/(G1284*12*memoria!$B$47)","v":8.7500000000000008E-3},{"$f":"F1284/(G1284*12*memoria!$B$47)","v":2.1874999999999999E-2}]
["Diadema","01691-Pavimento Térreo - Prédio Principal","Agitador Magnetico Com Aquecimento, 110v, Amp. 5a, Pot. 400w, Cor Branca","01-105123-00","2010-08-17",420,10,{"$f":"F1285*memoria!$B$44/(G1285*12*memoria!$B$47)","v":8.7500000000000008E-3},{"$f":"F1285/(G1285*12*memoria!$B$47)","v":2.1874999999999999E-2}]
["Diadema","01691-Pavimento Térreo - Prédio Principal","Agitador Magnetico Com Aquecimento, 110v, Amp. 5a, Pot. 400w, Cor Branca","01-105124-00","2010-08-17",420,10,{"$f":"F1286*memoria!$B$44/(G1286*12*memoria!$B$47)","v":8.7500000000000008E-3},{"$f":"F1286/(G1286*12*memoria!$B$47)","v":2.1874999999999999E-2}]
["Diadema","01691-Pavimento Térreo - Prédio Principal","Agitador Magnetico Com Aquecimento, 110v, Amp. 5a, Pot. 400w, Cor Branca","01-105125-00","2010-08-17",420,10,{"$f":"F1287*memoria!$B$44/(G1287*12*memoria!$B$47)","v":8.7500000000000008E-3},{"$f":"F1287/(G1287*12*memoria!$B$47)","v":2.1874999999999999E-2}]
["Diadema","01691-Pavimento Térreo - Prédio Principal","Agitador Magnetico Com Aquecimento, 110v, Amp. 5a, Pot. 400w, Cor Branca","01-105126-00","2010-08-17",420,10,{"$f":"F1288*memoria!$B$44/(G1288*12*memoria!$B$47)","v":8.7500000000000008E-3},{"$f":"F1288/(G1288*12*memoria!$B$47)","v":2.1874999999999999E-2}]
["Diadema","01691-Pavimento Térreo - Prédio Principal","Agitador Magnetico Com Aquecimento, 110v, Amp. 5a, Pot. 400w, Cor Branca","01-105127-00","2010-08-17",420,10,{"$f":"F1289*memoria!$B$44/(G1289*12*memoria!$B$47)","v":8.7500000000000008E-3},{"$f":"F1289/(G1289*12*memoria!$B$47)","v":2.1874999999999999E-2}]
["Diadema","01691-Pavimento Térreo - Prédio Principal","Agitador Magnetico Com Aquecimento, 110v, Amp. 5a, Pot. 400w, Cor Branca","01-105128-00","2010-08-17",420,10,{"$f":"F1290*memoria!$B$44/(G1290*12*memoria!$B$47)","v":8.7500000000000008E-3},{"$f":"F1290/(G1290*12*memoria!$B$47)","v":2.1874999999999999E-2}]
["Diadema","01691-Pavimento Térreo - Prédio Principal","Agitador Magnetico Com Aquecimento, 110v, Amp. 5a, Pot. 400w, Cor Branca","01-105129-00","2010-08-17",420,10,{"$f":"F1291*memoria!$B$44/(G1291*12*memoria!$B$47)","v":8.7500000000000008E-3},{"$f":"F1291/(G1291*12*memoria!$B$47)","v":2.1874999999999999E-2}]
["Diadema","01691-Pavimento Térreo - Prédio Principal","Agitador Magnetico Com Aquecimento, 110v, Amp. 5a, Pot. 400w, Cor Branca","01-105130-00","2010-08-17",420,10,{"$f":"F1292*memoria!$B$44/(G1292*12*memoria!$B$47)","v":8.7500000000000008E-3},{"$f":"F1292/(G1292*12*memoria!$B$47)","v":2.1874999999999999E-2}]
["Diadema","01691-Pavimento Térreo - Prédio Principal","Agitador Magnetico Com Aquecimento, 110v, Amp. 5a, Pot. 400w, Cor Branca","01-105131-00","2010-08-17",420,10,{"$f":"F1293*memoria!$B$44/(G1293*12*memoria!$B$47)","v":8.7500000000000008E-3},{"$f":"F1293/(G1293*12*memoria!$B$47)","v":2.1874999999999999E-2}]
["Diadema","01691-Pavimento Térreo - Prédio Principal","Agitador Magnetico Com Aquecimento, 110v, Amp. 5a, Pot. 400w, Cor Branca","01-105132-00","2010-08-17",420,10,{"$f":"F1294*memoria!$B$44/(G1294*12*memoria!$B$47)","v":8.7500000000000008E-3},{"$f":"F1294/(G1294*12*memoria!$B$47)","v":2.1874999999999999E-2}]
["Diadema","01691-Pavimento Térreo - Prédio Principal","Agitador Magnetico Com Aquecimento, 110v, Amp. 5a, Pot. 400w, Cor Branca","01-105133-00","2010-08-17",420,10,{"$f":"F1295*memoria!$B$44/(G1295*12*memoria!$B$47)","v":8.7500000000000008E-3},{"$f":"F1295/(G1295*12*memoria!$B$47)","v":2.1874999999999999E-2}]
["Diadema","01691-Pavimento Térreo - Prédio Principal","Agitador Magnetico Com Aquecimento, 110v, Amp. 5a, Pot. 400w, Cor Branca","01-105134-00","2010-08-17",420,10,{"$f":"F1296*memoria!$B$44/(G1296*12*memoria!$B$47)","v":8.7500000000000008E-3},{"$f":"F1296/(G1296*12*memoria!$B$47)","v":2.1874999999999999E-2}]
["Diadema","01691-Pavimento Térreo - Prédio Principal","Agitador Magnetico Com Aquecimento, 110v, Amp. 5a, Pot. 400w, Cor Branca","01-105135-00","2010-08-17",420,10,{"$f":"F1297*memoria!$B$44/(G1297*12*memoria!$B$47)","v":8.7500000000000008E-3},{"$f":"F1297/(G1297*12*memoria!$B$47)","v":2.1874999999999999E-2}]
["Diadema","01691-Pavimento Térreo - Prédio Principal","Agitador Magnetico Com Aquecimento, 110v, Amp. 5a, Pot. 400w, Cor Branca","01-105136-00","2010-08-17",420,10,{"$f":"F1298*memoria!$B$44/(G1298*12*memoria!$B$47)","v":8.7500000000000008E-3},{"$f":"F1298/(G1298*12*memoria!$B$47)","v":2.1874999999999999E-2}]
["Diadema","01691-Pavimento Térreo - Prédio Principal","Agitador Magnetico Com Aquecimento, 110v, Amp. 5a, Pot. 400w, Cor Branca","01-105137-00","2010-08-17",420,10,{"$f":"F1299*memoria!$B$44/(G1299*12*memoria!$B$47)","v":8.7500000000000008E-3},{"$f":"F1299/(G1299*12*memoria!$B$47)","v":2.1874999999999999E-2}]
["Diadema","01691-Pavimento Térreo - Prédio Principal","Agitador Magnetico Com Aquecimento, 110v, Amp. 5a, Pot. 400w, Cor Branca","01-105138-00","2010-08-17",420,10,{"$f":"F1300*memoria!$B$44/(G1300*12*memoria!$B$47)","v":8.7500000000000008E-3},{"$f":"F1300/(G1300*12*memoria!$B$47)","v":2.1874999999999999E-2}]
["Diadema","01691-Pavimento Térreo - Prédio Principal","Agitador Magnetico Com Aquecimento, 110v, Amp. 5a, Pot. 400w, Cor Branca","01-105139-00","2010-08-17",420,10,{"$f":"F1301*memoria!$B$44/(G1301*12*memoria!$B$47)","v":8.7500000000000008E-3},{"$f":"F1301/(G1301*12*memoria!$B$47)","v":2.1874999999999999E-2}]
["Diadema","01691-Pavimento Térreo - Prédio Principal","Agitador Magnetico Com Aquecimento, 110v, Amp. 5a, Pot. 400w, Cor Branca","01-105140-00","2010-08-17",420,10,{"$f":"F1302*memoria!$B$44/(G1302*12*memoria!$B$47)","v":8.7500000000000008E-3},{"$f":"F1302/(G1302*12*memoria!$B$47)","v":2.1874999999999999E-2}]
["Diadema","01691-Pavimento Térreo - Prédio Principal","Agitador Magnetico Com Aquecimento, 110v, Amp. 5a, Pot. 400w, Cor Branca","01-105141-00","2010-08-17",420,10,{"$f":"F1303*memoria!$B$44/(G1303*12*memoria!$B$47)","v":8.7500000000000008E-3},{"$f":"F1303/(G1303*12*memoria!$B$47)","v":2.1874999999999999E-2}]
["Diadema","01691-Pavimento Térreo - Prédio Principal","Agitador Magnetico Com Aquecimento, 110v, Amp. 5a, Pot. 400w, Cor Branca","01-105142-00","2010-08-17",420,10,{"$f":"F1304*memoria!$B$44/(G1304*12*memoria!$B$47)","v":8.7500000000000008E-3},{"$f":"F1304/(G1304*12*memoria!$B$47)","v":2.1874999999999999E-2}]
["Diadema","01691-Pavimento Térreo - Prédio Principal","Agitador Magnetico Com Aquecimento, 110v, Amp. 5a, Pot. 400w, Cor Branca","01-105143-00","2010-08-17",420,10,{"$f":"F1305*memoria!$B$44/(G1305*12*memoria!$B$47)","v":8.7500000000000008E-3},{"$f":"F1305/(G1305*12*memoria!$B$47)","v":2.1874999999999999E-2}]
["Diadema","01691-Pavimento Térreo - Prédio Principal","Agitador Magnetico Com Aquecimento, 110v, Amp. 5a, Pot. 400w, Cor Branca","01-105144-00","2010-08-17",420,10,{"$f":"F1306*memoria!$B$44/(G1306*12*memoria!$B$47)","v":8.7500000000000008E-3},{"$f":"F1306/(G1306*12*memoria!$B$47)","v":2.1874999999999999E-2}]
["Diadema","01691-Pavimento Térreo - Prédio Principal","Agitador Magnetico Com Aquecimento, 110v, Amp. 5a, Pot. 400w, Cor Branca","01-105145-00","2010-08-17",420,10,{"$f":"F1307*memoria!$B$44/(G1307*12*memoria!$B$47)","v":8.7500000000000008E-3},{"$f":"F1307/(G1307*12*memoria!$B$47)","v":2.1874999999999999E-2}]
["Diadema","01691-Pavimento Térreo - Prédio Principal","Agitador Magnetico Com Aquecimento, 110v, Amp. 5a, Pot. 400w, Cor Branca","01-105146-00","2010-08-17",420,10,{"$f":"F1308*memoria!$B$44/(G1308*12*memoria!$B$47)","v":8.7500000000000008E-3},{"$f":"F1308/(G1308*12*memoria!$B$47)","v":2.1874999999999999E-2}]
["Diadema","01691-Pavimento Térreo - Prédio Principal","Agitador Magnetico Com Aquecimento, 110v, Amp. 5a, Pot. 400w, Cor Branca","01-105147-00","2010-08-17",420,10,{"$f":"F1309*memoria!$B$44/(G1309*12*memoria!$B$47)","v":8.7500000000000008E-3},{"$f":"F1309/(G1309*12*memoria!$B$47)","v":2.1874999999999999E-2}]
["Diadema","01691-Pavimento Térreo - Prédio Principal","Agitador Magnetico Com Aquecimento, 110v, Amp. 5a, Pot. 400w, Cor Branca","01-105148-00","2010-08-17",420,10,{"$f":"F1310*memoria!$B$44/(G1310*12*memoria!$B$47)","v":8.7500000000000008E-3},{"$f":"F1310/(G1310*12*memoria!$B$47)","v":2.1874999999999999E-2}]
["Diadema","01691-Pavimento Térreo - Prédio Principal","Agitador Magnetico Com Aquecimento, 110v, Amp. 5a, Pot. 400w, Cor Branca","01-105149-00","2010-08-17",420,10,{"$f":"F1311*memoria!$B$44/(G1311*12*memoria!$B$47)","v":8.7500000000000008E-3},{"$f":"F1311/(G1311*12*memoria!$B$47)","v":2.1874999999999999E-2}]
["Diadema","01691-Pavimento Térreo - Prédio Principal","Agitador Magnetico Com Aquecimento, 110v, Amp. 5a, Pot. 400w, Cor Branca","01-105150-00","2010-08-17",420,10,{"$f":"F1312*memoria!$B$44/(G1312*12*memoria!$B$47)","v":8.7500000000000008E-3},{"$f":"F1312/(G1312*12*memoria!$B$47)","v":2.1874999999999999E-2}]
["Diadema","01691-Pavimento Térreo - Prédio Principal","Agitador Magnetico Com Aquecimento, 110v, Amp. 5a, Pot. 400w, Cor Branca","01-105151-00","2010-08-17",420,10,{"$f":"F1313*memoria!$B$44/(G1313*12*memoria!$B$47)","v":8.7500000000000008E-3},{"$f":"F1313/(G1313*12*memoria!$B$47)","v":2.1874999999999999E-2}]
["Diadema","01691-Pavimento Térreo - Prédio Principal","Agitador Magnetico Com Aquecimento, 110v, Amp. 5a, Pot. 400w, Cor Branca","01-105152-00","2010-08-17",420,10,{"$f":"F1314*memoria!$B$44/(G1314*12*memoria!$B$47)","v":8.7500000000000008E-3},{"$f":"F1314/(G1314*12*memoria!$B$47)","v":2.1874999999999999E-2}]
["Diadema","01691-Pavimento Térreo - Prédio Principal","Agitador Magnetico Com Aquecimento, 110v, Amp. 5a, Pot. 400w, Cor Branca","01-105153-00","2010-08-17",420,10,{"$f":"F1315*memoria!$B$44/(G1315*12*memoria!$B$47)","v":8.7500000000000008E-3},{"$f":"F1315/(G1315*12*memoria!$B$47)","v":2.1874999999999999E-2}]
["Diadema","01691-Pavimento Térreo - Prédio Principal","Agitador Magnetico Com Aquecimento, 110v, Amp. 5a, Pot. 400w, Cor Branca","01-105154-00","2010-08-17",420,10,{"$f":"F1316*memoria!$B$44/(G1316*12*memoria!$B$47)","v":8.7500000000000008E-3},{"$f":"F1316/(G1316*12*memoria!$B$47)","v":2.1874999999999999E-2}]
["Diadema","01691-Pavimento Térreo - Prédio Principal","Agitador Magnetico Com Aquecimento, 110v, Amp. 5a, Pot. 400w, Cor Branca","01-105155-00","2010-08-17",420,10,{"$f":"F1317*memoria!$B$44/(G1317*12*memoria!$B$47)","v":8.7500000000000008E-3},{"$f":"F1317/(G1317*12*memoria!$B$47)","v":2.1874999999999999E-2}]
["Diadema","01691-Pavimento Térreo - Prédio Principal","Agitador Magnetico Com Aquecimento, 110v, Amp. 5a, Pot. 400w, Cor Branca","01-105156-00","2010-08-17",420,10,{"$f":"F1318*memoria!$B$44/(G1318*12*memoria!$B$47)","v":8.7500000000000008E-3},{"$f":"F1318/(G1318*12*memoria!$B$47)","v":2.1874999999999999E-2}]
["Diadema","01691-Pavimento Térreo - Prédio Principal","Agitador Magnetico Com Aquecimento, 110v, Amp. 5a, Pot. 400w, Cor Branca","01-105157-00","2010-08-17",420,10,{"$f":"F1319*memoria!$B$44/(G1319*12*memoria!$B$47)","v":8.7500000000000008E-3},{"$f":"F1319/(G1319*12*memoria!$B$47)","v":2.1874999999999999E-2}]
["Diadema","01691-Pavimento Térreo - Prédio Principal","Agitador Magnetico Com Aquecimento, 110v, Amp. 5a, Pot. 400w, Cor Branca","01-105158-00","2010-08-17",420,10,{"$f":"F1320*memoria!$B$44/(G1320*12*memoria!$B$47)","v":8.7500000000000008E-3},{"$f":"F1320/(G1320*12*memoria!$B$47)","v":2.1874999999999999E-2}]
["Diadema","01691-Pavimento Térreo - Prédio Principal","Agitador Magnetico Com Aquecimento, 110v, Amp. 5a, Pot. 400w, Cor Branca","01-105159-00","2010-08-17",420,10,{"$f":"F1321*memoria!$B$44/(G1321*12*memoria!$B$47)","v":8.7500000000000008E-3},{"$f":"F1321/(G1321*12*memoria!$B$47)","v":2.1874999999999999E-2}]
["Diadema","01691-Pavimento Térreo - Prédio Principal","Agitador Magnetico Com Aquecimento, 110v, Amp. 5a, Pot. 400w, Cor Branca","01-105160-00","2010-08-17",420,10,{"$f":"F1322*memoria!$B$44/(G1322*12*memoria!$B$47)","v":8.7500000000000008E-3},{"$f":"F1322/(G1322*12*memoria!$B$47)","v":2.1874999999999999E-2}]
["Diadema","01691-Pavimento Térreo - Prédio Principal","Agitador Magnetico Com Aquecimento, 110v, Amp. 5a, Pot. 400w, Cor Branca","01-105161-00","2010-08-17",420,10,{"$f":"F1323*memoria!$B$44/(G1323*12*memoria!$B$47)","v":8.7500000000000008E-3},{"$f":"F1323/(G1323*12*memoria!$B$47)","v":2.1874999999999999E-2}]
["Diadema","01691-Pavimento Térreo - Prédio Principal","Agitador Magnetico Com Aquecimento, 110v, Amp. 5a, Pot. 400w, Cor Branca","01-105162-00","2010-08-17",420,10,{"$f":"F1324*memoria!$B$44/(G1324*12*memoria!$B$47)","v":8.7500000000000008E-3},{"$f":"F1324/(G1324*12*memoria!$B$47)","v":2.1874999999999999E-2}]
["Diadema","01691-Pavimento Térreo - Prédio Principal","Agitador Magnetico Com Aquecimento, 110v, Amp. 5a, Pot. 400w, Cor Branca","01-105163-00","2010-08-17",420,10,{"$f":"F1325*memoria!$B$44/(G1325*12*memoria!$B$47)","v":8.7500000000000008E-3},{"$f":"F1325/(G1325*12*memoria!$B$47)","v":2.1874999999999999E-2}]
["Diadema","01691-Pavimento Térreo - Prédio Principal","Agitador Magnetico Com Aquecimento, 110v, Amp. 5a, Pot. 400w, Cor Branca","01-105164-00","2010-08-17",420,10,{"$f":"F1326*memoria!$B$44/(G1326*12*memoria!$B$47)","v":8.7500000000000008E-3},{"$f":"F1326/(G1326*12*memoria!$B$47)","v":2.1874999999999999E-2}]
["Diadema","01691-Pavimento Térreo - Prédio Principal","Agitador Magnetico Com Aquecimento, 110v, Amp. 5a, Pot. 400w, Cor Branca","01-105165-00","2010-08-17",420,10,{"$f":"F1327*memoria!$B$44/(G1327*12*memoria!$B$47)","v":8.7500000000000008E-3},{"$f":"F1327/(G1327*12*memoria!$B$47)","v":2.1874999999999999E-2}]
["Diadema","01691-Pavimento Térreo - Prédio Principal","Agitador Magnetico Com Aquecimento, 110v, Amp. 5a, Pot. 400w, Cor Branca","01-105166-00","2010-08-17",420,10,{"$f":"F1328*memoria!$B$44/(G1328*12*memoria!$B$47)","v":8.7500000000000008E-3},{"$f":"F1328/(G1328*12*memoria!$B$47)","v":2.1874999999999999E-2}]
["Diadema","01691-Pavimento Térreo - Prédio Principal","Agitador Magnetico Com Aquecimento, 110v, Amp. 5a, Pot. 400w, Cor Branca","01-105167-00","2010-08-17",420,10,{"$f":"F1329*memoria!$B$44/(G1329*12*memoria!$B$47)","v":8.7500000000000008E-3},{"$f":"F1329/(G1329*12*memoria!$B$47)","v":2.1874999999999999E-2}]
["Diadema","01691-Pavimento Térreo - Prédio Principal","Agitador Magnetico Com Aquecimento, 110v, Amp. 5a, Pot. 400w, Cor Branca","01-105168-00","2010-08-17",420,10,{"$f":"F1330*memoria!$B$44/(G1330*12*memoria!$B$47)","v":8.7500000000000008E-3},{"$f":"F1330/(G1330*12*memoria!$B$47)","v":2.1874999999999999E-2}]
["Diadema","01691-Pavimento Térreo - Prédio Principal","Agitador Magnetico Com Aquecimento, 110v, Amp. 5a, Pot. 400w, Cor Branca","01-105169-00","2010-08-17",420,10,{"$f":"F1331*memoria!$B$44/(G1331*12*memoria!$B$47)","v":8.7500000000000008E-3},{"$f":"F1331/(G1331*12*memoria!$B$47)","v":2.1874999999999999E-2}]
["Diadema","01691-Pavimento Térreo - Prédio Principal","Agitador Magnetico Com Aquecimento, 110v, Amp. 5a, Pot. 400w, Cor Branca","01-105170-00","2010-08-17",420,10,{"$f":"F1332*memoria!$B$44/(G1332*12*memoria!$B$47)","v":8.7500000000000008E-3},{"$f":"F1332/(G1332*12*memoria!$B$47)","v":2.1874999999999999E-2}]
["Diadema","01691-Pavimento Térreo - Prédio Principal","Agitador Magnetico Com Aquecimento, 110v, Amp. 5a, Pot. 400w, Cor Branca","01-105171-00","2010-08-17",420,10,{"$f":"F1333*memoria!$B$44/(G1333*12*memoria!$B$47)","v":8.7500000000000008E-3},{"$f":"F1333/(G1333*12*memoria!$B$47)","v":2.1874999999999999E-2}]
["Diadema","01691-Pavimento Térreo - Prédio Principal","Agitador Magnetico Com Aquecimento, 110v, Amp. 5a, Pot. 400w, Cor Branca","01-105172-00","2010-08-17",420,10,{"$f":"F1334*memoria!$B$44/(G1334*12*memoria!$B$47)","v":8.7500000000000008E-3},{"$f":"F1334/(G1334*12*memoria!$B$47)","v":2.1874999999999999E-2}]
["Diadema","01691-Pavimento Térreo - Prédio Principal","Agitador Magnetico Com Aquecimento, 110v, Amp. 5a, Pot. 400w, Cor Branca","01-105173-00","2010-08-17",420,10,{"$f":"F1335*memoria!$B$44/(G1335*12*memoria!$B$47)","v":8.7500000000000008E-3},{"$f":"F1335/(G1335*12*memoria!$B$47)","v":2.1874999999999999E-2}]
["Diadema","01691-Pavimento Térreo - Prédio Principal","Agitador Magnetico Com Aquecimento, 110v, Amp. 5a, Pot. 400w, Cor Branca","01-105174-00","2010-08-17",420,10,{"$f":"F1336*memoria!$B$44/(G1336*12*memoria!$B$47)","v":8.7500000000000008E-3},{"$f":"F1336/(G1336*12*memoria!$B$47)","v":2.1874999999999999E-2}]
["Diadema","01691-Pavimento Térreo - Prédio Principal","Agitador Magnetico Com Aquecimento, 110v, Amp. 5a, Pot. 400w, Cor Branca","01-105175-00","2010-08-17",420,10,{"$f":"F1337*memoria!$B$44/(G1337*12*memoria!$B$47)","v":8.7500000000000008E-3},{"$f":"F1337/(G1337*12*memoria!$B$47)","v":2.1874999999999999E-2}]
["Diadema","01691-Pavimento Térreo - Prédio Principal","Agitador Magnetico Com Aquecimento, 110v, Amp. 5a, Pot. 400w, Cor Branca","01-105176-00","2010-08-17",420,10,{"$f":"F1338*memoria!$B$44/(G1338*12*memoria!$B$47)","v":8.7500000000000008E-3},{"$f":"F1338/(G1338*12*memoria!$B$47)","v":2.1874999999999999E-2}]
["Diadema","01691-Pavimento Térreo - Prédio Principal","Agitador Magnetico Com Aquecimento, 110v, Amp. 5a, Pot. 400w, Cor Branca","01-105177-00","2010-08-17",420,10,{"$f":"F1339*memoria!$B$44/(G1339*12*memoria!$B$47)","v":8.7500000000000008E-3},{"$f":"F1339/(G1339*12*memoria!$B$47)","v":2.1874999999999999E-2}]
["Diadema","01691-Pavimento Térreo - Prédio Principal","Agitador Magnetico Com Aquecimento, 110v, Amp. 5a, Pot. 400w, Cor Branca","01-105178-00","2010-08-17",420,10,{"$f":"F1340*memoria!$B$44/(G1340*12*memoria!$B$47)","v":8.7500000000000008E-3},{"$f":"F1340/(G1340*12*memoria!$B$47)","v":2.1874999999999999E-2}]
["Diadema","01691-Pavimento Térreo - Prédio Principal","Agitador Magnetico Com Aquecimento, 110v, Amp. 5a, Pot. 400w, Cor Branca","01-105179-00","2010-08-17",420,10,{"$f":"F1341*memoria!$B$44/(G1341*12*memoria!$B$47)","v":8.7500000000000008E-3},{"$f":"F1341/(G1341*12*memoria!$B$47)","v":2.1874999999999999E-2}]
["Diadema","01691-Pavimento Térreo - Prédio Principal","Agitador Magnetico Com Aquecimento, 110v, Amp. 5a, Pot. 400w, Cor Branca","01-105180-00","2010-08-17",420,10,{"$f":"F1342*memoria!$B$44/(G1342*12*memoria!$B$47)","v":8.7500000000000008E-3},{"$f":"F1342/(G1342*12*memoria!$B$47)","v":2.1874999999999999E-2}]
["Diadema","01691-Pavimento Térreo - Prédio Principal","Agitador Magnetico Com Aquecimento, 110v, Amp. 5a, Pot. 400w, Cor Branca","01-105181-00","2010-08-17",420,10,{"$f":"F1343*memoria!$B$44/(G1343*12*memoria!$B$47)","v":8.7500000000000008E-3},{"$f":"F1343/(G1343*12*memoria!$B$47)","v":2.1874999999999999E-2}]
["Diadema","01691-Pavimento Térreo - Prédio Principal","Agitador Magnetico Com Aquecimento, 110v, Amp. 5a, Pot. 400w, Cor Branca","01-105182-00","2010-08-17",420,10,{"$f":"F1344*memoria!$B$44/(G1344*12*memoria!$B$47)","v":8.7500000000000008E-3},{"$f":"F1344/(G1344*12*memoria!$B$47)","v":2.1874999999999999E-2}]
["Diadema","01691-Pavimento Térreo - Prédio Principal","Agitador Magnetico Com Aquecimento, 110v, Amp. 5a, Pot. 400w, Cor Branca","01-105183-00","2010-08-17",420,10,{"$f":"F1345*memoria!$B$44/(G1345*12*memoria!$B$47)","v":8.7500000000000008E-3},{"$f":"F1345/(G1345*12*memoria!$B$47)","v":2.1874999999999999E-2}]
["Diadema","01691-Pavimento Térreo - Prédio Principal","Agitador Magnetico Com Aquecimento, 110v, Amp. 5a, Pot. 400w, Cor Branca","01-105184-00","2010-08-17",420,10,{"$f":"F1346*memoria!$B$44/(G1346*12*memoria!$B$47)","v":8.7500000000000008E-3},{"$f":"F1346/(G1346*12*memoria!$B$47)","v":2.1874999999999999E-2}]
["Diadema","01691-Pavimento Térreo - Prédio Principal","Agitador Magnetico Com Aquecimento, 110v, Amp. 5a, Pot. 400w, Cor Branca","01-105185-00","2010-08-17",420,10,{"$f":"F1347*memoria!$B$44/(G1347*12*memoria!$B$47)","v":8.7500000000000008E-3},{"$f":"F1347/(G1347*12*memoria!$B$47)","v":2.1874999999999999E-2}]
["Diadema","01691-Pavimento Térreo - Prédio Principal","Agitador Magnetico Com Aquecimento, 110v, Amp. 5a, Pot. 400w, Cor Branca","01-105186-00","2010-08-17",420,10,{"$f":"F1348*memoria!$B$44/(G1348*12*memoria!$B$47)","v":8.7500000000000008E-3},{"$f":"F1348/(G1348*12*memoria!$B$47)","v":2.1874999999999999E-2}]
["Diadema","01691-Pavimento Térreo - Prédio Principal","Agitador Magnetico Com Aquecimento, 110v, Amp. 5a, Pot. 400w, Cor Branca","01-105187-00","2010-08-17",420,10,{"$f":"F1349*memoria!$B$44/(G1349*12*memoria!$B$47)","v":8.7500000000000008E-3},{"$f":"F1349/(G1349*12*memoria!$B$47)","v":2.1874999999999999E-2}]
["Diadema","01691-Pavimento Térreo - Prédio Principal","Agitador Magnetico Com Aquecimento, 110v, Amp. 5a, Pot. 400w, Cor Branca","01-105188-00","2010-08-17",420,10,{"$f":"F1350*memoria!$B$44/(G1350*12*memoria!$B$47)","v":8.7500000000000008E-3},{"$f":"F1350/(G1350*12*memoria!$B$47)","v":2.1874999999999999E-2}]
["Diadema","01691-Pavimento Térreo - Prédio Principal","Agitador Magnetico Com Aquecimento, 110v, Amp. 5a, Pot. 400w, Cor Branca","01-105189-00","2010-08-17",420,10,{"$f":"F1351*memoria!$B$44/(G1351*12*memoria!$B$47)","v":8.7500000000000008E-3},{"$f":"F1351/(G1351*12*memoria!$B$47)","v":2.1874999999999999E-2}]
["Diadema","01691-Pavimento Térreo - Prédio Principal","Agitador Magnetico Com Aquecimento, 110v, Amp. 5a, Pot. 400w, Cor Branca","01-105190-00","2010-08-17",420,10,{"$f":"F1352*memoria!$B$44/(G1352*12*memoria!$B$47)","v":8.7500000000000008E-3},{"$f":"F1352/(G1352*12*memoria!$B$47)","v":2.1874999999999999E-2}]
["Diadema","01691-Pavimento Térreo - Prédio Principal","Agitador Magnetico Com Aquecimento, 110v, Amp. 5a, Pot. 400w, Cor Branca","01-105191-00","2010-08-17",420,10,{"$f":"F1353*memoria!$B$44/(G1353*12*memoria!$B$47)","v":8.7500000000000008E-3},{"$f":"F1353/(G1353*12*memoria!$B$47)","v":2.1874999999999999E-2}]
["Diadema","01691-Pavimento Térreo - Prédio Principal","Agitador Magnetico Com Aquecimento, 110v, Amp. 5a, Pot. 400w, Cor Branca","01-105192-00","2010-08-17",420,10,{"$f":"F1354*memoria!$B$44/(G1354*12*memoria!$B$47)","v":8.7500000000000008E-3},{"$f":"F1354/(G1354*12*memoria!$B$47)","v":2.1874999999999999E-2}]
["Diadema","01707-Pavimento Térreo - Biblioteca","Reativador Eletronico Portatil De Etiquetas Protetoras Eletromagneticas,","01-105193-00","2010-07-31",1658,10,{"$f":"F1355*memoria!$B$44/(G1355*12*memoria!$B$47)","v":3.4541666666666672E-2},{"$f":"F1355/(G1355*12*memoria!$B$47)","v":8.6354166666666662E-2}]
["Diadema","01707-Pavimento Térreo - Biblioteca","Desativador Portatil De Etiquetas Protetoras Eletromagneticas,","01-105194-00","2010-07-31",260,10,{"$f":"F1356*memoria!$B$44/(G1356*12*memoria!$B$47)","v":5.4166666666666669E-3},{"$f":"F1356/(G1356*12*memoria!$B$47)","v":1.3541666666666667E-2}]
["Diadema","01691-Pavimento Térreo - Prédio Principal","Conjunto Refeitorio Adulto, 2 Acentos Conjugados De 4 Lugares Cada, Cor Argila","01-105789-00","2010-08-24",1811,10,{"$f":"F1357*memoria!$B$44/(G1357*12*memoria!$B$47)","v":3.7729166666666675E-2},{"$f":"F1357/(G1357*12*memoria!$B$47)","v":9.4322916666666673E-2}]
["Diadema","01691-Pavimento Térreo - Prédio Principal","Conjunto Refeitorio Adulto, 2 Acentos Conjugados De 4 Lugares Cada, Cor Argila","01-105790-00","2010-08-24",1811,10,{"$f":"F1358*memoria!$B$44/(G1358*12*memoria!$B$47)","v":3.7729166666666675E-2},{"$f":"F1358/(G1358*12*memoria!$B$47)","v":9.4322916666666673E-2}]
["Diadema","01691-Pavimento Térreo - Prédio Principal","Conjunto Refeitorio Adulto, 2 Acentos Conjugados De 4 Lugares Cada, Cor Argila","01-105791-00","2010-08-24",1811,10,{"$f":"F1359*memoria!$B$44/(G1359*12*memoria!$B$47)","v":3.7729166666666675E-2},{"$f":"F1359/(G1359*12*memoria!$B$47)","v":9.4322916666666673E-2}]
["Diadema","01691-Pavimento Térreo - Prédio Principal","Conjunto Refeitorio Adulto, 2 Acentos Conjugados De 4 Lugares Cada, Cor Argila","01-105792-00","2010-08-24",1811,10,{"$f":"F1360*memoria!$B$44/(G1360*12*memoria!$B$47)","v":3.7729166666666675E-2},{"$f":"F1360/(G1360*12*memoria!$B$47)","v":9.4322916666666673E-2}]
["Diadema","01691-Pavimento Térreo - Prédio Principal","Conjunto Refeitorio Adulto, 2 Acentos Conjugados De 4 Lugares Cada, Cor Argila","01-105793-00","2010-08-24",1811,10,{"$f":"F1361*memoria!$B$44/(G1361*12*memoria!$B$47)","v":3.7729166666666675E-2},{"$f":"F1361/(G1361*12*memoria!$B$47)","v":9.4322916666666673E-2}]
["Diadema","01691-Pavimento Térreo - Prédio Principal","Conjunto Refeitorio Adulto, 2 Acentos Conjugados De 4 Lugares Cada, Cor Argila","01-105794-00","2010-08-24",1811,10,{"$f":"F1362*memoria!$B$44/(G1362*12*memoria!$B$47)","v":3.7729166666666675E-2},{"$f":"F1362/(G1362*12*memoria!$B$47)","v":9.4322916666666673E-2}]
["Diadema","01691-Pavimento Térreo - Prédio Principal","Conjunto Refeitorio Adulto, 2 Acentos Conjugados De 4 Lugares Cada, Cor Argila","01-105795-00","2010-08-24",1811,10,{"$f":"F1363*memoria!$B$44/(G1363*12*memoria!$B$47)","v":3.7729166666666675E-2},{"$f":"F1363/(G1363*12*memoria!$B$47)","v":9.4322916666666673E-2}]
["Diadema","01691-Pavimento Térreo - Prédio Principal","Conjunto Refeitorio Adulto, 2 Acentos Conjugados De 4 Lugares Cada, Cor Argila","01-105796-00","2010-08-24",1811,10,{"$f":"F1364*memoria!$B$44/(G1364*12*memoria!$B$47)","v":3.7729166666666675E-2},{"$f":"F1364/(G1364*12*memoria!$B$47)","v":9.4322916666666673E-2}]
["Diadema","01691-Pavimento Térreo - Prédio Principal","Conjunto Refeitorio Adulto, 2 Acentos Conjugados De 4 Lugares Cada, Cor Argila","01-105797-00","2010-08-24",1811,10,{"$f":"F1365*memoria!$B$44/(G1365*12*memoria!$B$47)","v":3.7729166666666675E-2},{"$f":"F1365/(G1365*12*memoria!$B$47)","v":9.4322916666666673E-2}]
["Diadema","01691-Pavimento Térreo - Prédio Principal","Conjunto Refeitorio Adulto, 2 Acentos Conjugados De 4 Lugares Cada, Cor Argila","01-105798-00","2010-08-24",1811,10,{"$f":"F1366*memoria!$B$44/(G1366*12*memoria!$B$47)","v":3.7729166666666675E-2},{"$f":"F1366/(G1366*12*memoria!$B$47)","v":9.4322916666666673E-2}]
["Diadema","01691-Pavimento Térreo - Prédio Principal","Capela De 1,5 M C/ Nuca, Bico De Gas E Duto C/ 6 M E 2 Curvas De 90 G, Tampo Em","01-108387-00","2010-09-21",10500,10,{"$f":"F1367*memoria!$B$44/(G1367*12*memoria!$B$47)","v":0.21875},{"$f":"F1367/(G1367*12*memoria!$B$47)","v":0.546875}]
["Diadema","01691-Pavimento Térreo - Prédio Principal","Capela De 1,5 M C/ Nuca, Bico De Gas E Duto C/ 6 M E 2 Curvas De 90 G, Tampo Em","01-108388-00","2010-09-21",10500,10,{"$f":"F1368*memoria!$B$44/(G1368*12*memoria!$B$47)","v":0.21875},{"$f":"F1368/(G1368*12*memoria!$B$47)","v":0.546875}]
["Diadema","01691-Pavimento Térreo - Prédio Principal","Capela De 1,5 M C/ Nuca, Bico De Gas E Duto C/ 6 M E 2 Curvas De 90 G, Tampo Em","01-108389-00","2010-09-21",10500,10,{"$f":"F1369*memoria!$B$44/(G1369*12*memoria!$B$47)","v":0.21875},{"$f":"F1369/(G1369*12*memoria!$B$47)","v":0.546875}]
["Diadema","01691-Pavimento Térreo - Prédio Principal","Capela De 1,5 M C/ Nuca, Bico De Gas E Duto C/ 6 M E 2 Curvas De 90 G, Tampo Em","01-108390-00","2010-09-21",10500,10,{"$f":"F1370*memoria!$B$44/(G1370*12*memoria!$B$47)","v":0.21875},{"$f":"F1370/(G1370*12*memoria!$B$47)","v":0.546875}]
["Diadema","01691-Pavimento Térreo - Prédio Principal","Capela De 1,5 M C/ Nuca, Bico De Gas E Duto C/ 6 M E 2 Curvas De 90 G, Tampo Em","01-108391-00","2010-09-21",10500,10,{"$f":"F1371*memoria!$B$44/(G1371*12*memoria!$B$47)","v":0.21875},{"$f":"F1371/(G1371*12*memoria!$B$47)","v":0.546875}]
["Diadema","01691-Pavimento Térreo - Prédio Principal","Capela De 1,5 M C/ Nuca, Bico De Gas E Duto C/ 6 M E 2 Curvas De 90 G, Tampo Em","01-108392-00","2010-09-21",10500,10,{"$f":"F1372*memoria!$B$44/(G1372*12*memoria!$B$47)","v":0.21875},{"$f":"F1372/(G1372*12*memoria!$B$47)","v":0.546875}]
["Diadema","01691-Pavimento Térreo - Prédio Principal","Capela De 1,5 M C/ Nuca, Bico De Gas E Duto C/ 6 M E 2 Curvas De 90 G, Tampo Em","01-108393-00","2010-09-21",10500,10,{"$f":"F1373*memoria!$B$44/(G1373*12*memoria!$B$47)","v":0.21875},{"$f":"F1373/(G1373*12*memoria!$B$47)","v":0.546875}]
["Diadema","01691-Pavimento Térreo - Prédio Principal","Capela De 1,5 M C/ Nuca, Bico De Gas E Duto C/ 6 M E 2 Curvas De 90 G, Tampo Em","01-108394-00","2010-09-21",10500,10,{"$f":"F1374*memoria!$B$44/(G1374*12*memoria!$B$47)","v":0.21875},{"$f":"F1374/(G1374*12*memoria!$B$47)","v":0.546875}]
["Diadema","01691-Pavimento Térreo - Prédio Principal","Capela De 1,5 M C/ Nuca, Bico De Gas E Duto C/ 6 M E 2 Curvas De 90 G, Tampo Em","01-108395-00","2010-09-21",10500,10,{"$f":"F1375*memoria!$B$44/(G1375*12*memoria!$B$47)","v":0.21875},{"$f":"F1375/(G1375*12*memoria!$B$47)","v":0.546875}]
["Diadema","01691-Pavimento Térreo - Prédio Principal","Capela De 1,5 M C/ Nuca, Bico De Gas E Duto C/ 6 M E 2 Curvas De 90 G, Tampo Em","01-108396-00","2010-09-21",10500,10,{"$f":"F1376*memoria!$B$44/(G1376*12*memoria!$B$47)","v":0.21875},{"$f":"F1376/(G1376*12*memoria!$B$47)","v":0.546875}]
["Diadema","01691-Pavimento Térreo - Prédio Principal","Regulador De Pressão Tipo Duplo Estágio","01-108397-00","2010-08-10",2750,10,{"$f":"F1377*memoria!$B$44/(G1377*12*memoria!$B$47)","v":5.7291666666666664E-2},{"$f":"F1377/(G1377*12*memoria!$B$47)","v":0.14322916666666666}]
["Diadema","01691-Pavimento Térreo - Prédio Principal","Regulador De Pressão Tipo Duplo Estágio","01-108398-00","2010-08-10",2750,10,{"$f":"F1378*memoria!$B$44/(G1378*12*memoria!$B$47)","v":5.7291666666666664E-2},{"$f":"F1378/(G1378*12*memoria!$B$47)","v":0.14322916666666666}]
["Diadema","01691-Pavimento Térreo - Prédio Principal","Regulador De Pressão Tipo Duplo Estágio","01-108399-00","2010-08-10",2750,10,{"$f":"F1379*memoria!$B$44/(G1379*12*memoria!$B$47)","v":5.7291666666666664E-2},{"$f":"F1379/(G1379*12*memoria!$B$47)","v":0.14322916666666666}]
["Diadema","01691-Pavimento Térreo - Prédio Principal","Cromatógrafo Gasoso, Detetor De Ionização De Chama, C/Software Gc Solution","01-108400-00","2010-08-10",75864.759999999995,10,{"$f":"F1380*memoria!$B$44/(G1380*12*memoria!$B$47)","v":1.5805158333333333},{"$f":"F1380/(G1380*12*memoria!$B$47)","v":3.9512895833333332}]
["Diadema","01691-Pavimento Térreo - Prédio Principal","Sistema De Fotodocumentação.","01-108403-00","2010-08-23",19053.82,10,{"$f":"F1381*memoria!$B$44/(G1381*12*memoria!$B$47)","v":0.39695458333333333},{"$f":"F1381/(G1381*12*memoria!$B$47)","v":0.99238645833333328}]
["Diadema","01691-Pavimento Térreo - Prédio Principal","Concentrador Centrifugo Tipo Á Vacuo C/Rotor.","01-108404-00","2010-08-23",16884.34,10,{"$f":"F1382*memoria!$B$44/(G1382*12*memoria!$B$47)","v":0.35175708333333339},{"$f":"F1382/(G1382*12*memoria!$B$47)","v":0.87939270833333338}]
["Diadema","01691-Pavimento Térreo - Prédio Principal","Refrigerador, Degelo Frost Free, 110 V, Cor Branca, Tensão 127,","01-108405-00","2010-09-21",1379,10,{"$f":"F1383*memoria!$B$44/(G1383*12*memoria!$B$47)","v":2.8729166666666667E-2},{"$f":"F1383/(G1383*12*memoria!$B$47)","v":7.1822916666666667E-2}]
["Diadema","01691-Pavimento Térreo - Prédio Principal","Refrigerador, Degelo Frost Free, 110 V, Cor Branca, Tensão 127,","01-108406-00","2010-09-21",1379,10,{"$f":"F1384*memoria!$B$44/(G1384*12*memoria!$B$47)","v":2.8729166666666667E-2},{"$f":"F1384/(G1384*12*memoria!$B$47)","v":7.1822916666666667E-2}]
["Diadema","01691-Pavimento Térreo - Prédio Principal","Impressora Termica Monocromatica","01-108417-00","2010-10-06",955.5,10,{"$f":"F1385*memoria!$B$44/(G1385*12*memoria!$B$47)","v":1.9906250000000004E-2},{"$f":"F1385/(G1385*12*memoria!$B$47)","v":4.9765625000000001E-2}]
["Diadema","01691-Pavimento Térreo - Prédio Principal","Impressora Termica Monocromatica","01-108418-00","2010-10-06",955.5,10,{"$f":"F1386*memoria!$B$44/(G1386*12*memoria!$B$47)","v":1.9906250000000004E-2},{"$f":"F1386/(G1386*12*memoria!$B$47)","v":4.9765625000000001E-2}]
["Diadema","01691-Pavimento Térreo - Prédio Principal","Medidor De Ph, Bancada C/ Interface Rs 232/Ubs E Glp","01-108847-00","2010-09-20",1101,10,{"$f":"F1387*memoria!$B$44/(G1387*12*memoria!$B$47)","v":2.2937500000000003E-2},{"$f":"F1387/(G1387*12*memoria!$B$47)","v":5.7343749999999999E-2}]
["Diadema","01691-Pavimento Térreo - Prédio Principal","Cortador De Alto Rendimento, Para Picar, Triturar, Moer Carnes.","01-108848-00","2010-10-06",1184,10,{"$f":"F1388*memoria!$B$44/(G1388*12*memoria!$B$47)","v":2.4666666666666667E-2},{"$f":"F1388/(G1388*12*memoria!$B$47)","v":6.1666666666666668E-2}]
["Diadema","01691-Pavimento Térreo - Prédio Principal","Cortador De Alto Rendimento, Para Picar, Triturar, Moer Carnes.","01-108849-00","2010-10-06",1184,10,{"$f":"F1389*memoria!$B$44/(G1389*12*memoria!$B$47)","v":2.4666666666666667E-2},{"$f":"F1389/(G1389*12*memoria!$B$47)","v":6.1666666666666668E-2}]
["Diadema","01691-Pavimento Térreo - Prédio Principal","Ensacadeira De Linguiça, 10 Kg.","01-108850-00","2010-10-06",924.74,10,{"$f":"F1390*memoria!$B$44/(G1390*12*memoria!$B$47)","v":1.9265416666666667E-2},{"$f":"F1390/(G1390*12*memoria!$B$47)","v":4.816354166666667E-2}]
["Diadema","01691-Pavimento Térreo - Prédio Principal","Ensacadeira De Linguiça, 10 Kg.","01-108851-00","2010-10-06",924.74,10,{"$f":"F1391*memoria!$B$44/(G1391*12*memoria!$B$47)","v":1.9265416666666667E-2},{"$f":"F1391/(G1391*12*memoria!$B$47)","v":4.816354166666667E-2}]
["Diadema","01691-Pavimento Térreo - Prédio Principal","Refratometro P/ Medida De Brix De Alimentos","01-108853-00","2010-09-30",727,10,{"$f":"F1392*memoria!$B$44/(G1392*12*memoria!$B$47)","v":1.5145833333333334E-2},{"$f":"F1392/(G1392*12*memoria!$B$47)","v":3.7864583333333333E-2}]
["Diadema","01691-Pavimento Térreo - Prédio Principal","Refratometro P/ Medida De Brix De Alimentos","01-108854-00","2010-09-30",727,10,{"$f":"F1393*memoria!$B$44/(G1393*12*memoria!$B$47)","v":1.5145833333333334E-2},{"$f":"F1393/(G1393*12*memoria!$B$47)","v":3.7864583333333333E-2}]
["Diadema","01691-Pavimento Térreo - Prédio Principal","Refratometro P/ Medida De Brix De Alimentos","01-108855-00","2010-09-30",727,10,{"$f":"F1394*memoria!$B$44/(G1394*12*memoria!$B$47)","v":1.5145833333333334E-2},{"$f":"F1394/(G1394*12*memoria!$B$47)","v":3.7864583333333333E-2}]
["Diadema","01691-Pavimento Térreo - Prédio Principal","Refratometro P/ Medida De Brix De Alimentos","01-108856-00","2010-09-30",727,10,{"$f":"F1395*memoria!$B$44/(G1395*12*memoria!$B$47)","v":1.5145833333333334E-2},{"$f":"F1395/(G1395*12*memoria!$B$47)","v":3.7864583333333333E-2}]
["Diadema","01691-Pavimento Térreo - Prédio Principal","Capela De 1,5 Com Nuca, Bico P/Gás E Duto Com 6m E 2 Curvas 90º,","01-108857-00","2010-10-07",10500,10,{"$f":"F1396*memoria!$B$44/(G1396*12*memoria!$B$47)","v":0.21875},{"$f":"F1396/(G1396*12*memoria!$B$47)","v":0.546875}]
["Diadema","01691-Pavimento Térreo - Prédio Principal","Capela Dp 1,5 Com Nuca, Bico P/Gás E Duto Com6m E 2 Curvas 90º","01-108858-00","2010-10-07",10500,10,{"$f":"F1397*memoria!$B$44/(G1397*12*memoria!$B$47)","v":0.21875},{"$f":"F1397/(G1397*12*memoria!$B$47)","v":0.546875}]
["Diadema","01691-Pavimento Térreo - Prédio Principal","Capela De 1,5 Com Nuca, Bico P/Gás E Duto Com6m E 2 Curvas 90º","01-108859-00","2010-10-07",10500,10,{"$f":"F1398*memoria!$B$44/(G1398*12*memoria!$B$47)","v":0.21875},{"$f":"F1398/(G1398*12*memoria!$B$47)","v":0.546875}]
["Diadema","01691-Pavimento Térreo - Prédio Principal","Capela De 1,5 Com Nuca, Bico P/Gás E Duto Com 6m E 2 Curvas 90º.","01-108860-00","2010-10-07",10500,10,{"$f":"F1399*memoria!$B$44/(G1399*12*memoria!$B$47)","v":0.21875},{"$f":"F1399/(G1399*12*memoria!$B$47)","v":0.546875}]
["Diadema","01691-Pavimento Térreo - Prédio Principal","Capela De 1,5 Com Nuca, Bico P/Gás E Duto Com 6m E 2 Curvas 90º","01-108861-00","2010-10-07",10500,10,{"$f":"F1400*memoria!$B$44/(G1400*12*memoria!$B$47)","v":0.21875},{"$f":"F1400/(G1400*12*memoria!$B$47)","v":0.546875}]
["Diadema","01691-Pavimento Térreo - Prédio Principal","Capela De 1,5 Com Nuca, Bico P/Gás E Duto Com 6m E 2 Curvas 90º","01-108862-00","2010-10-07",10500,10,{"$f":"F1401*memoria!$B$44/(G1401*12*memoria!$B$47)","v":0.21875},{"$f":"F1401/(G1401*12*memoria!$B$47)","v":0.546875}]
["Diadema","01691-Pavimento Térreo - Prédio Principal","Capela De 1,5 Com Nuca, Bico P/Gás E Duto Com 6m E 2 Curvas 90º","01-108863-00","2010-10-07",10500,10,{"$f":"F1402*memoria!$B$44/(G1402*12*memoria!$B$47)","v":0.21875},{"$f":"F1402/(G1402*12*memoria!$B$47)","v":0.546875}]
["Diadema","01691-Pavimento Térreo - Prédio Principal","Capela De 1,5 Com Nuca, Bico P/Gás E Duto Com 6m E 2 Curvas 90º","01-108864-00","2010-10-07",10500,10,{"$f":"F1403*memoria!$B$44/(G1403*12*memoria!$B$47)","v":0.21875},{"$f":"F1403/(G1403*12*memoria!$B$47)","v":0.546875}]
["Diadema","01691-Pavimento Térreo - Prédio Principal","Capela De 1,5 Com Nuca, Bico P/Gás E Duto Com 6m E 2 Curvas 90º","01-108865-00","2010-10-07",10500,10,{"$f":"F1404*memoria!$B$44/(G1404*12*memoria!$B$47)","v":0.21875},{"$f":"F1404/(G1404*12*memoria!$B$47)","v":0.546875}]
["Diadema","01691-Pavimento Térreo - Prédio Principal","Capela De 1,5 Com Nuca, Bico P/Gás E Duto Com 6m E 2 Curvas 90º.","01-108866-00","2010-10-07",10500,10,{"$f":"F1405*memoria!$B$44/(G1405*12*memoria!$B$47)","v":0.21875},{"$f":"F1405/(G1405*12*memoria!$B$47)","v":0.546875}]
["Diadema","01691-Pavimento Térreo - Prédio Principal","Capela De 1,5 Com Nuca, Bico P/Gás E Duto Com 6m E 2 Curvas 90º.","01-108867-00","2010-10-07",10500,10,{"$f":"F1406*memoria!$B$44/(G1406*12*memoria!$B$47)","v":0.21875},{"$f":"F1406/(G1406*12*memoria!$B$47)","v":0.546875}]
["Diadema","01691-Pavimento Térreo - Prédio Principal","Capela De 1,5 Com Nuca, Bico P/Gás E Duto Com 6m E 2 Curvas 90º.","01-108868-00","2010-10-07",10500,10,{"$f":"F1407*memoria!$B$44/(G1407*12*memoria!$B$47)","v":0.21875},{"$f":"F1407/(G1407*12*memoria!$B$47)","v":0.546875}]
["Diadema","01691-Pavimento Térreo - Prédio Principal","Capela De 1,5 Com Nuca, Bico P/Gás E Duto Com 6m E 2 Curvas 90º.","01-108869-00","2010-10-07",10500,10,{"$f":"F1408*memoria!$B$44/(G1408*12*memoria!$B$47)","v":0.21875},{"$f":"F1408/(G1408*12*memoria!$B$47)","v":0.546875}]
["Diadema","01691-Pavimento Térreo - Prédio Principal","Capela De 1,5 Com Nuca, Bico P/Gás E Duto Com 6m E 2 Curvas 90º.","01-108870-00","2010-10-07",10500,10,{"$f":"F1409*memoria!$B$44/(G1409*12*memoria!$B$47)","v":0.21875},{"$f":"F1409/(G1409*12*memoria!$B$47)","v":0.546875}]
["Diadema","01691-Pavimento Térreo - Prédio Principal","Capela De 1,5 Com Nuca, Bico P/Gás E Duto Com 6m E 2 Curvas 90º.","01-108871-00","2010-10-07",10500,10,{"$f":"F1410*memoria!$B$44/(G1410*12*memoria!$B$47)","v":0.21875},{"$f":"F1410/(G1410*12*memoria!$B$47)","v":0.546875}]
["Diadema","01691-Pavimento Térreo - Prédio Principal","Cromatografo De Fase Liquida, Composto Por Bomba De Alta Pressao Mod.Lc.20at","01-108872-00","2010-10-20",135500,10,{"$f":"F1411*memoria!$B$44/(G1411*12*memoria!$B$47)","v":2.8229166666666665},{"$f":"F1411/(G1411*12*memoria!$B$47)","v":7.057291666666667}]
["Diadema","01691-Pavimento Térreo - Prédio Principal","Agitador Mecanico, 115-230 V, 60 Hz, 70-30 W","01-108876-00","2010-10-20",999,10,{"$f":"F1412*memoria!$B$44/(G1412*12*memoria!$B$47)","v":2.0812500000000001E-2},{"$f":"F1412/(G1412*12*memoria!$B$47)","v":5.2031250000000001E-2}]
["Diadema","01691-Pavimento Térreo - Prédio Principal","Agitador Mecanico, 115-230 V, 60 Hz, 70-30 W","01-108877-00","2010-10-20",999,10,{"$f":"F1413*memoria!$B$44/(G1413*12*memoria!$B$47)","v":2.0812500000000001E-2},{"$f":"F1413/(G1413*12*memoria!$B$47)","v":5.2031250000000001E-2}]
["Diadema","01691-Pavimento Térreo - Prédio Principal","Agitador Mecanico, 115-230 V, 60 Hz, 70-30 W","01-108878-00","2010-10-20",999,10,{"$f":"F1414*memoria!$B$44/(G1414*12*memoria!$B$47)","v":2.0812500000000001E-2},{"$f":"F1414/(G1414*12*memoria!$B$47)","v":5.2031250000000001E-2}]
["Diadema","01691-Pavimento Térreo - Prédio Principal","Agitador Mecanico, 115-230 V, 60 Hz, 70-30 W","01-108879-00","2010-10-20",999,10,{"$f":"F1415*memoria!$B$44/(G1415*12*memoria!$B$47)","v":2.0812500000000001E-2},{"$f":"F1415/(G1415*12*memoria!$B$47)","v":5.2031250000000001E-2}]
["Diadema","01691-Pavimento Térreo - Prédio Principal","Agitador Mecanico, 115-230 V, 60 Hz, 70-30 W","01-108880-00","2010-10-20",999,10,{"$f":"F1416*memoria!$B$44/(G1416*12*memoria!$B$47)","v":2.0812500000000001E-2},{"$f":"F1416/(G1416*12*memoria!$B$47)","v":5.2031250000000001E-2}]
["Diadema","01691-Pavimento Térreo - Prédio Principal","Agitador Mecanico, 115-230 V, 60 Hz, 70-30 W","01-108881-00","2010-10-20",999,10,{"$f":"F1417*memoria!$B$44/(G1417*12*memoria!$B$47)","v":2.0812500000000001E-2},{"$f":"F1417/(G1417*12*memoria!$B$47)","v":5.2031250000000001E-2}]
["Diadema","01691-Pavimento Térreo - Prédio Principal","Agitador Mecanico, 115-230 V, 60 Hz, 70-30 W","01-108882-00","2010-10-20",999,10,{"$f":"F1418*memoria!$B$44/(G1418*12*memoria!$B$47)","v":2.0812500000000001E-2},{"$f":"F1418/(G1418*12*memoria!$B$47)","v":5.2031250000000001E-2}]
["Diadema","01691-Pavimento Térreo - Prédio Principal","Agitador Mecanico, 115-230 V, 60 Hz, 70-30 W","01-108883-00","2010-10-20",999,10,{"$f":"F1419*memoria!$B$44/(G1419*12*memoria!$B$47)","v":2.0812500000000001E-2},{"$f":"F1419/(G1419*12*memoria!$B$47)","v":5.2031250000000001E-2}]
["Diadema","01691-Pavimento Térreo - Prédio Principal","Agitador Mecanico, 115-230 V, 60 Hz, 70-30 W","01-108884-00","2010-10-20",999,10,{"$f":"F1420*memoria!$B$44/(G1420*12*memoria!$B$47)","v":2.0812500000000001E-2},{"$f":"F1420/(G1420*12*memoria!$B$47)","v":5.2031250000000001E-2}]
["Diadema","01691-Pavimento Térreo - Prédio Principal","Agitador Mecanico, 115-230 V, 60 Hz, 70-30 W","01-108885-00","2010-10-20",999,10,{"$f":"F1421*memoria!$B$44/(G1421*12*memoria!$B$47)","v":2.0812500000000001E-2},{"$f":"F1421/(G1421*12*memoria!$B$47)","v":5.2031250000000001E-2}]
["Diadema","01691-Pavimento Térreo - Prédio Principal","Agitador Mecanico, 115-230 V, 60 Hz, 70-30 W","01-108886-00","2010-10-20",999,10,{"$f":"F1422*memoria!$B$44/(G1422*12*memoria!$B$47)","v":2.0812500000000001E-2},{"$f":"F1422/(G1422*12*memoria!$B$47)","v":5.2031250000000001E-2}]
["Diadema","01691-Pavimento Térreo - Prédio Principal","Agitador Mecanico, 115-230 V, 60 Hz, 70-30 W","01-108887-00","2010-10-20",999,10,{"$f":"F1423*memoria!$B$44/(G1423*12*memoria!$B$47)","v":2.0812500000000001E-2},{"$f":"F1423/(G1423*12*memoria!$B$47)","v":5.2031250000000001E-2}]
["Diadema","01691-Pavimento Térreo - Prédio Principal","Agitador Mecanico, 115-230 V, 60 Hz, 70-30 W","01-108888-00","2010-10-20",999,10,{"$f":"F1424*memoria!$B$44/(G1424*12*memoria!$B$47)","v":2.0812500000000001E-2},{"$f":"F1424/(G1424*12*memoria!$B$47)","v":5.2031250000000001E-2}]
["Diadema","01691-Pavimento Térreo - Prédio Principal","Agitador Mecanico, 115-230 V, 60 Hz, 70-30 W","01-108889-00","2010-10-20",999,10,{"$f":"F1425*memoria!$B$44/(G1425*12*memoria!$B$47)","v":2.0812500000000001E-2},{"$f":"F1425/(G1425*12*memoria!$B$47)","v":5.2031250000000001E-2}]
["Diadema","01691-Pavimento Térreo - Prédio Principal","Agitador Mecanico, 115-230 V, 60 Hz, 70-30 W","01-108890-00","2010-10-20",999,10,{"$f":"F1426*memoria!$B$44/(G1426*12*memoria!$B$47)","v":2.0812500000000001E-2},{"$f":"F1426/(G1426*12*memoria!$B$47)","v":5.2031250000000001E-2}]
["Diadema","01691-Pavimento Térreo - Prédio Principal","Agitador Mecanico, 115-230 V, 60 Hz, 70-30 W","01-108891-00","2010-10-20",999,10,{"$f":"F1427*memoria!$B$44/(G1427*12*memoria!$B$47)","v":2.0812500000000001E-2},{"$f":"F1427/(G1427*12*memoria!$B$47)","v":5.2031250000000001E-2}]
["Diadema","01691-Pavimento Térreo - Prédio Principal","Agitador Mecanico, 115-230 V, 60 Hz, 70-30 W","01-108892-00","2010-10-20",999,10,{"$f":"F1428*memoria!$B$44/(G1428*12*memoria!$B$47)","v":2.0812500000000001E-2},{"$f":"F1428/(G1428*12*memoria!$B$47)","v":5.2031250000000001E-2}]
["Diadema","01691-Pavimento Térreo - Prédio Principal","Agitador Mecanico, 115-230 V, 60 Hz, 70-30 W","01-108893-00","2010-10-20",999,10,{"$f":"F1429*memoria!$B$44/(G1429*12*memoria!$B$47)","v":2.0812500000000001E-2},{"$f":"F1429/(G1429*12*memoria!$B$47)","v":5.2031250000000001E-2}]
["Diadema","01691-Pavimento Térreo - Prédio Principal","Agitador Mecanico, 115-230 V, 60 Hz, 70-30 W","01-108894-00","2010-10-20",999,10,{"$f":"F1430*memoria!$B$44/(G1430*12*memoria!$B$47)","v":2.0812500000000001E-2},{"$f":"F1430/(G1430*12*memoria!$B$47)","v":5.2031250000000001E-2}]
["Diadema","01691-Pavimento Térreo - Prédio Principal","Agitador Mecanico, 115-230 V, 60 Hz, 70-30 W","01-108895-00","2010-10-20",999,10,{"$f":"F1431*memoria!$B$44/(G1431*12*memoria!$B$47)","v":2.0812500000000001E-2},{"$f":"F1431/(G1431*12*memoria!$B$47)","v":5.2031250000000001E-2}]
["Diadema","01691-Pavimento Térreo - Prédio Principal","Liquidificador Arno Clic Mix.","01-108896-00","2010-10-20",178,10,{"$f":"F1432*memoria!$B$44/(G1432*12*memoria!$B$47)","v":3.7083333333333334E-3},{"$f":"F1432/(G1432*12*memoria!$B$47)","v":9.2708333333333341E-3}]
["Diadema","01691-Pavimento Térreo - Prédio Principal","Liquidificador Arno Clic Mix.","01-108897-00","2010-10-20",178,10,{"$f":"F1433*memoria!$B$44/(G1433*12*memoria!$B$47)","v":3.7083333333333334E-3},{"$f":"F1433/(G1433*12*memoria!$B$47)","v":9.2708333333333341E-3}]
["Diadema","01691-Pavimento Térreo - Prédio Principal","Liquidificador Arno Clic Mix.","01-108898-00","2010-10-20",178,10,{"$f":"F1434*memoria!$B$44/(G1434*12*memoria!$B$47)","v":3.7083333333333334E-3},{"$f":"F1434/(G1434*12*memoria!$B$47)","v":9.2708333333333341E-3}]
["Diadema","01691-Pavimento Térreo - Prédio Principal","Liquidificador Arno Clic Mix.","01-108899-00","2010-10-20",178,10,{"$f":"F1435*memoria!$B$44/(G1435*12*memoria!$B$47)","v":3.7083333333333334E-3},{"$f":"F1435/(G1435*12*memoria!$B$47)","v":9.2708333333333341E-3}]
["Diadema","01691-Pavimento Térreo - Prédio Principal","Liquidificador Arno Clic Mix.","01-108900-00","2010-10-20",178,10,{"$f":"F1436*memoria!$B$44/(G1436*12*memoria!$B$47)","v":3.7083333333333334E-3},{"$f":"F1436/(G1436*12*memoria!$B$47)","v":9.2708333333333341E-3}]
["Diadema","01691-Pavimento Térreo - Prédio Principal","Liquidificador Arno Clic Mix.","01-108901-00","2010-10-20",178,10,{"$f":"F1437*memoria!$B$44/(G1437*12*memoria!$B$47)","v":3.7083333333333334E-3},{"$f":"F1437/(G1437*12*memoria!$B$47)","v":9.2708333333333341E-3}]
["Diadema","01691-Pavimento Térreo - Prédio Principal","Liquidificador Arno Clic Mix.","01-108902-00","2010-10-20",178,10,{"$f":"F1438*memoria!$B$44/(G1438*12*memoria!$B$47)","v":3.7083333333333334E-3},{"$f":"F1438/(G1438*12*memoria!$B$47)","v":9.2708333333333341E-3}]
["Diadema","01691-Pavimento Térreo - Prédio Principal","Liquidificador Arno Clic Mix.","01-108903-00","2010-10-20",178,10,{"$f":"F1439*memoria!$B$44/(G1439*12*memoria!$B$47)","v":3.7083333333333334E-3},{"$f":"F1439/(G1439*12*memoria!$B$47)","v":9.2708333333333341E-3}]
["Diadema","01691-Pavimento Térreo - Prédio Principal","Liquidificador Arno Clic Mix.","01-108904-00","2010-10-20",178,10,{"$f":"F1440*memoria!$B$44/(G1440*12*memoria!$B$47)","v":3.7083333333333334E-3},{"$f":"F1440/(G1440*12*memoria!$B$47)","v":9.2708333333333341E-3}]
["Diadema","01691-Pavimento Térreo - Prédio Principal","Liquidificador Arno Clic Mix.","01-108905-00","2010-10-20",178,10,{"$f":"F1441*memoria!$B$44/(G1441*12*memoria!$B$47)","v":3.7083333333333334E-3},{"$f":"F1441/(G1441*12*memoria!$B$47)","v":9.2708333333333341E-3}]
["Diadema","01691-Pavimento Térreo - Prédio Principal","Liquidificador Arno Clic Mix.","01-108906-00","2010-10-20",178,10,{"$f":"F1442*memoria!$B$44/(G1442*12*memoria!$B$47)","v":3.7083333333333334E-3},{"$f":"F1442/(G1442*12*memoria!$B$47)","v":9.2708333333333341E-3}]
["Diadema","01691-Pavimento Térreo - Prédio Principal","Liquidificador Arno Clic Mix.","01-108907-00","2010-10-20",178,10,{"$f":"F1443*memoria!$B$44/(G1443*12*memoria!$B$47)","v":3.7083333333333334E-3},{"$f":"F1443/(G1443*12*memoria!$B$47)","v":9.2708333333333341E-3}]
["Diadema","01691-Pavimento Térreo - Prédio Principal","Liquidificador Arno Clic Mix.","01-108908-00","2010-10-20",178,10,{"$f":"F1444*memoria!$B$44/(G1444*12*memoria!$B$47)","v":3.7083333333333334E-3},{"$f":"F1444/(G1444*12*memoria!$B$47)","v":9.2708333333333341E-3}]
["Diadema","01691-Pavimento Térreo - Prédio Principal","Liquidificador Arno Clic Mix.","01-108909-00","2010-10-20",178,10,{"$f":"F1445*memoria!$B$44/(G1445*12*memoria!$B$47)","v":3.7083333333333334E-3},{"$f":"F1445/(G1445*12*memoria!$B$47)","v":9.2708333333333341E-3}]
["Diadema","01691-Pavimento Térreo - Prédio Principal","Liquidificador Arno Clic Mix.","01-108910-00","2010-10-20",178,10,{"$f":"F1446*memoria!$B$44/(G1446*12*memoria!$B$47)","v":3.7083333333333334E-3},{"$f":"F1446/(G1446*12*memoria!$B$47)","v":9.2708333333333341E-3}]
["Diadema","01691-Pavimento Térreo - Prédio Principal","Liquidificador Arno Clic Mix.","01-108911-00","2010-10-20",178,10,{"$f":"F1447*memoria!$B$44/(G1447*12*memoria!$B$47)","v":3.7083333333333334E-3},{"$f":"F1447/(G1447*12*memoria!$B$47)","v":9.2708333333333341E-3}]
["Diadema","01691-Pavimento Térreo - Prédio Principal","Liquidificador Arno Clic Mix.","01-108912-00","2010-10-20",178,10,{"$f":"F1448*memoria!$B$44/(G1448*12*memoria!$B$47)","v":3.7083333333333334E-3},{"$f":"F1448/(G1448*12*memoria!$B$47)","v":9.2708333333333341E-3}]
["Diadema","01691-Pavimento Térreo - Prédio Principal","Liquidificador Arno Clic Mix.","01-108913-00","2010-10-20",178,10,{"$f":"F1449*memoria!$B$44/(G1449*12*memoria!$B$47)","v":3.7083333333333334E-3},{"$f":"F1449/(G1449*12*memoria!$B$47)","v":9.2708333333333341E-3}]
["Diadema","01691-Pavimento Térreo - Prédio Principal","Liquidificador Arno Clic Mix.","01-108914-00","2010-10-20",178,10,{"$f":"F1450*memoria!$B$44/(G1450*12*memoria!$B$47)","v":3.7083333333333334E-3},{"$f":"F1450/(G1450*12*memoria!$B$47)","v":9.2708333333333341E-3}]
["Diadema","01691-Pavimento Térreo - Prédio Principal","Liquidificador Arno Clic Mix.","01-108915-00","2010-10-20",178,10,{"$f":"F1451*memoria!$B$44/(G1451*12*memoria!$B$47)","v":3.7083333333333334E-3},{"$f":"F1451/(G1451*12*memoria!$B$47)","v":9.2708333333333341E-3}]
["Diadema","01691-Pavimento Térreo - Prédio Principal","Multiprocessador Faet Mc 5","01-108924-00","2010-10-20",300,10,{"$f":"F1452*memoria!$B$44/(G1452*12*memoria!$B$47)","v":6.2500000000000003E-3},{"$f":"F1452/(G1452*12*memoria!$B$47)","v":1.5625E-2}]
["Diadema","01691-Pavimento Térreo - Prédio Principal","Multiprocessador Faet Mc 5","01-108925-00","2010-10-20",300,10,{"$f":"F1453*memoria!$B$44/(G1453*12*memoria!$B$47)","v":6.2500000000000003E-3},{"$f":"F1453/(G1453*12*memoria!$B$47)","v":1.5625E-2}]
["Diadema","01691-Pavimento Térreo - Prédio Principal","Multiprocessador Faet Mc 5","01-108926-00","2010-10-20",300,10,{"$f":"F1454*memoria!$B$44/(G1454*12*memoria!$B$47)","v":6.2500000000000003E-3},{"$f":"F1454/(G1454*12*memoria!$B$47)","v":1.5625E-2}]
["Diadema","01691-Pavimento Térreo - Prédio Principal","Multiprocessador Faet Mc 5","01-108927-00","2010-10-20",300,10,{"$f":"F1455*memoria!$B$44/(G1455*12*memoria!$B$47)","v":6.2500000000000003E-3},{"$f":"F1455/(G1455*12*memoria!$B$47)","v":1.5625E-2}]
["Diadema","01691-Pavimento Térreo - Prédio Principal","Multiprocessador Faet Mc 5","01-108928-00","2010-10-20",300,10,{"$f":"F1456*memoria!$B$44/(G1456*12*memoria!$B$47)","v":6.2500000000000003E-3},{"$f":"F1456/(G1456*12*memoria!$B$47)","v":1.5625E-2}]
["Diadema","01691-Pavimento Térreo - Prédio Principal","Multiprocessador Faet Mc 5","01-108929-00","2010-10-20",300,10,{"$f":"F1457*memoria!$B$44/(G1457*12*memoria!$B$47)","v":6.2500000000000003E-3},{"$f":"F1457/(G1457*12*memoria!$B$47)","v":1.5625E-2}]
["Diadema","01691-Pavimento Térreo - Prédio Principal","Multiprocessador Faet Mc 5","01-108930-00","2010-10-20",300,10,{"$f":"F1458*memoria!$B$44/(G1458*12*memoria!$B$47)","v":6.2500000000000003E-3},{"$f":"F1458/(G1458*12*memoria!$B$47)","v":1.5625E-2}]
["Diadema","01691-Pavimento Térreo - Prédio Principal","Multiprocessador Faet Mc 5","01-108931-00","2010-10-20",300,10,{"$f":"F1459*memoria!$B$44/(G1459*12*memoria!$B$47)","v":6.2500000000000003E-3},{"$f":"F1459/(G1459*12*memoria!$B$47)","v":1.5625E-2}]
["Diadema","01691-Pavimento Térreo - Prédio Principal","Multiprocessador Faet Mc 5","01-108932-00","2010-10-20",300,10,{"$f":"F1460*memoria!$B$44/(G1460*12*memoria!$B$47)","v":6.2500000000000003E-3},{"$f":"F1460/(G1460*12*memoria!$B$47)","v":1.5625E-2}]
["Diadema","01691-Pavimento Térreo - Prédio Principal","Multiprocessador Faet Mc 5","01-108933-00","2010-10-20",300,10,{"$f":"F1461*memoria!$B$44/(G1461*12*memoria!$B$47)","v":6.2500000000000003E-3},{"$f":"F1461/(G1461*12*memoria!$B$47)","v":1.5625E-2}]
["Diadema","01691-Pavimento Térreo - Prédio Principal","Digestor Anaerobico P/ Tratamento De Agua.","01-108936-00","2010-10-29",26520,10,{"$f":"F1462*memoria!$B$44/(G1462*12*memoria!$B$47)","v":0.55249999999999999},{"$f":"F1462/(G1462*12*memoria!$B$47)","v":1.3812500000000001}]
["Diadema","01691-Pavimento Térreo - Prédio Principal","Unidade De Aeracao P/ Estudos De Transf. Massa, 120 Volts, Material Vidro,","01-108937-00","2010-10-29",21935,10,{"$f":"F1463*memoria!$B$44/(G1463*12*memoria!$B$47)","v":0.45697916666666666},{"$f":"F1463/(G1463*12*memoria!$B$47)","v":1.1424479166666666}]
["Diadema","01691-Pavimento Térreo - Prédio Principal","Digestor Aerobico Para Tratamento De Agua, Cp 1001519","01-108938-00","2010-11-12",29155,10,{"$f":"F1464*memoria!$B$44/(G1464*12*memoria!$B$47)","v":0.60739583333333336},{"$f":"F1464/(G1464*12*memoria!$B$47)","v":1.5184895833333334}]
["Diadema","01691-Pavimento Térreo - Prédio Principal","Estufa Incubadora Tipo Bod, 220 V , Cor Branca.","01-109077-00","2010-11-01",2927.25,10,{"$f":"F1465*memoria!$B$44/(G1465*12*memoria!$B$47)","v":6.0984375000000007E-2},{"$f":"F1465/(G1465*12*memoria!$B$47)","v":0.1524609375}]
["Diadema","01691-Pavimento Térreo - Prédio Principal","Estufa Incubadora Tipo Bod, 220 V , Cor Branca.","01-109078-00","2010-11-01",2927.25,10,{"$f":"F1466*memoria!$B$44/(G1466*12*memoria!$B$47)","v":6.0984375000000007E-2},{"$f":"F1466/(G1466*12*memoria!$B$47)","v":0.1524609375}]
["Diadema","01691-Pavimento Térreo - Prédio Principal","Destilador De Agua, 220 Vca, Cor Branca","01-109079-00","2010-10-29",584,10,{"$f":"F1467*memoria!$B$44/(G1467*12*memoria!$B$47)","v":1.2166666666666668E-2},{"$f":"F1467/(G1467*12*memoria!$B$47)","v":3.0416666666666668E-2}]
["Diadema","01691-Pavimento Térreo - Prédio Principal","Destilador De Agua, 220 Vca, Cor Branca","01-109080-00","2010-10-29",584,10,{"$f":"F1468*memoria!$B$44/(G1468*12*memoria!$B$47)","v":1.2166666666666668E-2},{"$f":"F1468/(G1468*12*memoria!$B$47)","v":3.0416666666666668E-2}]
["Diadema","01691-Pavimento Térreo - Prédio Principal","Banho Termostatizado, 220volts, 2100 Watts.","01-109081-00","2010-11-04",3604.5,10,{"$f":"F1469*memoria!$B$44/(G1469*12*memoria!$B$47)","v":7.5093750000000015E-2},{"$f":"F1469/(G1469*12*memoria!$B$47)","v":0.18773437500000001}]
["Diadema","01691-Pavimento Térreo - Prédio Principal","Banho Termostatizado, 220volts, 2100 Watts.","01-109082-00","2010-11-04",3604.5,10,{"$f":"F1470*memoria!$B$44/(G1470*12*memoria!$B$47)","v":7.5093750000000015E-2},{"$f":"F1470/(G1470*12*memoria!$B$47)","v":0.18773437500000001}]
["Diadema","01691-Pavimento Térreo - Prédio Principal","Estufa Secagem Com Circulação E Renovação De Ar","01-109083-00","2010-10-26",3800,10,{"$f":"F1471*memoria!$B$44/(G1471*12*memoria!$B$47)","v":7.9166666666666663E-2},{"$f":"F1471/(G1471*12*memoria!$B$47)","v":0.19791666666666666}]
["Diadema","01691-Pavimento Térreo - Prédio Principal","Estufa Secagem Com Circulação E Renovação De Ar","01-109084-00","2010-10-26",3800,10,{"$f":"F1472*memoria!$B$44/(G1472*12*memoria!$B$47)","v":7.9166666666666663E-2},{"$f":"F1472/(G1472*12*memoria!$B$47)","v":0.19791666666666666}]
["Diadema","01691-Pavimento Térreo - Prédio Principal","Extrator De Gordura, 250 Ml, 220 Volts, 1800 Watts, Cor Argila","01-109085-00","2010-11-18",3529,10,{"$f":"F1473*memoria!$B$44/(G1473*12*memoria!$B$47)","v":7.3520833333333341E-2},{"$f":"F1473/(G1473*12*memoria!$B$47)","v":0.18380208333333334}]
["Diadema","01691-Pavimento Térreo - Prédio Principal","Extrator De Gordura, 250 Ml, 220 Volts, 1800 Watts, Cor Argila","01-109086-00","2010-11-18",3529,10,{"$f":"F1474*memoria!$B$44/(G1474*12*memoria!$B$47)","v":7.3520833333333341E-2},{"$f":"F1474/(G1474*12*memoria!$B$47)","v":0.18380208333333334}]
["Diadema","01691-Pavimento Térreo - Prédio Principal","Digestor P/ Determinacao De Fibra Bruta, Fibra Detergente Neutro E","01-109087-00","2010-11-18",4700,10,{"$f":"F1475*memoria!$B$44/(G1475*12*memoria!$B$47)","v":9.7916666666666666E-2},{"$f":"F1475/(G1475*12*memoria!$B$47)","v":0.24479166666666666}]
["Diadema","01691-Pavimento Térreo - Prédio Principal","Digestor P/ Determinacao De Fibra Bruta, Fibra Detergente Neutro E","01-109088-00","2010-11-18",4700,10,{"$f":"F1476*memoria!$B$44/(G1476*12*memoria!$B$47)","v":9.7916666666666666E-2},{"$f":"F1476/(G1476*12*memoria!$B$47)","v":0.24479166666666666}]
["Diadema","01691-Pavimento Térreo - Prédio Principal","Sistema P/Determinação De Proteina/ Nitrõgenio Por Destilação.","01-109172-00","2010-11-18",8950,10,{"$f":"F1477*memoria!$B$44/(G1477*12*memoria!$B$47)","v":0.18645833333333334},{"$f":"F1477/(G1477*12*memoria!$B$47)","v":0.46614583333333331}]
["Diadema","01691-Pavimento Térreo - Prédio Principal","Sistema P/Determinação De Proteina/ Nitrõgenio Por Destilação.","01-109173-00","2010-11-18",8950,10,{"$f":"F1478*memoria!$B$44/(G1478*12*memoria!$B$47)","v":0.18645833333333334},{"$f":"F1478/(G1478*12*memoria!$B$47)","v":0.46614583333333331}]
["Diadema","01691-Pavimento Térreo - Prédio Principal","Bomba De Vacuo De Alta Qualidade.","01-109177-00","2010-11-11",898,10,{"$f":"F1479*memoria!$B$44/(G1479*12*memoria!$B$47)","v":1.8708333333333337E-2},{"$f":"F1479/(G1479*12*memoria!$B$47)","v":4.6770833333333331E-2}]
["Diadema","01691-Pavimento Térreo - Prédio Principal","Bomba De Vacuo De Alta Qualidade.","01-109178-00","2010-11-11",898,10,{"$f":"F1480*memoria!$B$44/(G1480*12*memoria!$B$47)","v":1.8708333333333337E-2},{"$f":"F1480/(G1480*12*memoria!$B$47)","v":4.6770833333333331E-2}]
["Diadema","01691-Pavimento Térreo - Prédio Principal","Microscopio Biologico, Binocular C/ 4 Objetivas, Ocular 10 X","01-109179-00","2010-10-08",3980,10,{"$f":"F1481*memoria!$B$44/(G1481*12*memoria!$B$47)","v":8.2916666666666666E-2},{"$f":"F1481/(G1481*12*memoria!$B$47)","v":0.20729166666666668}]
["Diadema","01691-Pavimento Térreo - Prédio Principal","Fogao Convencional 4 Bocas, Tensao 127/220, Cor Branca","01-109180-00","2010-11-24",549.9,10,{"$f":"F1482*memoria!$B$44/(G1482*12*memoria!$B$47)","v":1.1456250000000001E-2},{"$f":"F1482/(G1482*12*memoria!$B$47)","v":2.8640624999999999E-2}]
["Diadema","01691-Pavimento Térreo - Prédio Principal","Forno Micro-Ondas, Tensao 127 V, 60 Hz, Cor Branca","01-109181-00","2010-11-24",298.89999999999998,10,{"$f":"F1483*memoria!$B$44/(G1483*12*memoria!$B$47)","v":6.2270833333333336E-3},{"$f":"F1483/(G1483*12*memoria!$B$47)","v":1.5567708333333333E-2}]
["Diadema","01691-Pavimento Térreo - Prédio Principal","Forno Micro-Ondas, Tensao 127 V, 60 Hz, Cor Branca","01-109182-00","2010-11-24",298.89999999999998,10,{"$f":"F1484*memoria!$B$44/(G1484*12*memoria!$B$47)","v":6.2270833333333336E-3},{"$f":"F1484/(G1484*12*memoria!$B$47)","v":1.5567708333333333E-2}]
["Diadema","01691-Pavimento Térreo - Prédio Principal","Incubadora De Piso Shaker Digital, 220 Volts","01-109185-00","2010-12-13",8500,10,{"$f":"F1485*memoria!$B$44/(G1485*12*memoria!$B$47)","v":0.17708333333333334},{"$f":"F1485/(G1485*12*memoria!$B$47)","v":0.44270833333333331}]
["Diadema","01691-Pavimento Térreo - Prédio Principal","Incubadora De Piso Shaker Digital, 220 Volts","01-109186-00","2010-12-13",8500,10,{"$f":"F1486*memoria!$B$44/(G1486*12*memoria!$B$47)","v":0.17708333333333334},{"$f":"F1486/(G1486*12*memoria!$B$47)","v":0.44270833333333331}]
["Diadema","01707-Pavimento Térreo - Biblioteca","Expositor Dupla Face Em Cortiça . Med 180 X 100.","01-109190-00","2010-12-03",92,10,{"$f":"F1487*memoria!$B$44/(G1487*12*memoria!$B$47)","v":1.916666666666667E-3},{"$f":"F1487/(G1487*12*memoria!$B$47)","v":4.7916666666666663E-3}]
["Diadema","01707-Pavimento Térreo - Biblioteca","Expositor Dupla Face Em Cortiça . Med 180 X 100.","01-109191-00","2010-12-03",92,10,{"$f":"F1488*memoria!$B$44/(G1488*12*memoria!$B$47)","v":1.916666666666667E-3},{"$f":"F1488/(G1488*12*memoria!$B$47)","v":4.7916666666666663E-3}]
["Diadema","01707-Pavimento Térreo - Biblioteca","Expositor Dupla Face Em Cortiça . Med 180 X 100.","01-109192-00","2010-12-03",92,10,{"$f":"F1489*memoria!$B$44/(G1489*12*memoria!$B$47)","v":1.916666666666667E-3},{"$f":"F1489/(G1489*12*memoria!$B$47)","v":4.7916666666666663E-3}]
["Diadema","01707-Pavimento Térreo - Biblioteca","Expositor Dupla Face Em Cortiça . Med 180 X 100.","01-109193-00","2010-12-03",92,10,{"$f":"F1490*memoria!$B$44/(G1490*12*memoria!$B$47)","v":1.916666666666667E-3},{"$f":"F1490/(G1490*12*memoria!$B$47)","v":4.7916666666666663E-3}]
["Diadema","01707-Pavimento Térreo - Biblioteca","Expositor Dupla Face Em Cortiça . Med 180 X 100.","01-109194-00","2010-12-03",92,10,{"$f":"F1491*memoria!$B$44/(G1491*12*memoria!$B$47)","v":1.916666666666667E-3},{"$f":"F1491/(G1491*12*memoria!$B$47)","v":4.7916666666666663E-3}]
["Diadema","01707-Pavimento Térreo - Biblioteca","Expositor Dupla Face Em Cortiça . Med 180 X 100.","01-109195-00","2010-12-03",92,10,{"$f":"F1492*memoria!$B$44/(G1492*12*memoria!$B$47)","v":1.916666666666667E-3},{"$f":"F1492/(G1492*12*memoria!$B$47)","v":4.7916666666666663E-3}]
["Diadema","01707-Pavimento Térreo - Biblioteca","Expositor Dupla Face Em Cortiça . Med 180 X 100.","01-109196-00","2010-12-03",92,10,{"$f":"F1493*memoria!$B$44/(G1493*12*memoria!$B$47)","v":1.916666666666667E-3},{"$f":"F1493/(G1493*12*memoria!$B$47)","v":4.7916666666666663E-3}]
["Diadema","01707-Pavimento Térreo - Biblioteca","Expositor Dupla Face Em Cortiça . Med 180 X 100.","01-109197-00","2010-12-03",92,10,{"$f":"F1494*memoria!$B$44/(G1494*12*memoria!$B$47)","v":1.916666666666667E-3},{"$f":"F1494/(G1494*12*memoria!$B$47)","v":4.7916666666666663E-3}]
["Diadema","01707-Pavimento Térreo - Biblioteca","Expositor Dupla Face Em Cortiça . Med 180 X 100.","01-109198-00","2010-12-03",92,10,{"$f":"F1495*memoria!$B$44/(G1495*12*memoria!$B$47)","v":1.916666666666667E-3},{"$f":"F1495/(G1495*12*memoria!$B$47)","v":4.7916666666666663E-3}]
["Diadema","01707-Pavimento Térreo - Biblioteca","Expositor Dupla Face Em Cortiça . Med 180 X 100.","01-109199-00","2010-12-03",92,10,{"$f":"F1496*memoria!$B$44/(G1496*12*memoria!$B$47)","v":1.916666666666667E-3},{"$f":"F1496/(G1496*12*memoria!$B$47)","v":4.7916666666666663E-3}]
["Diadema","01691-Pavimento Térreo - Prédio Principal","Leito Fluidizado - Sistema De Medida De Controle","01-109208-00","2010-12-15",109500,10,{"$f":"F1497*memoria!$B$44/(G1497*12*memoria!$B$47)","v":2.28125},{"$f":"F1497/(G1497*12*memoria!$B$47)","v":5.703125}]
["Diadema","01691-Pavimento Térreo - Prédio Principal","Leito Fluidizado - Sistema De Medida De Controle","01-109209-00","2010-12-15",109500,10,{"$f":"F1498*memoria!$B$44/(G1498*12*memoria!$B$47)","v":2.28125},{"$f":"F1498/(G1498*12*memoria!$B$47)","v":5.703125}]
["Diadema","01691-Pavimento Térreo - Prédio Principal","Incubadora De Bancada Digital, Shaker 220 V, C/ Agitacao Orbital P/ Fermentacao","01-109210-00","2010-12-23",6300,10,{"$f":"F1499*memoria!$B$44/(G1499*12*memoria!$B$47)","v":0.13125000000000001},{"$f":"F1499/(G1499*12*memoria!$B$47)","v":0.328125}]
["Diadema","01691-Pavimento Térreo - Prédio Principal","Incubadora De Bancada Digital, Shaker 220 V, C/ Agitacao Orbital P/ Fermentacao","01-109222-00","2010-12-28",6300,10,{"$f":"F1500*memoria!$B$44/(G1500*12*memoria!$B$47)","v":0.13125000000000001},{"$f":"F1500/(G1500*12*memoria!$B$47)","v":0.328125}]
["Diadema","01691-Pavimento Térreo - Prédio Principal","Lavadora De Placas De Elisa, 8/12 Canais, 220 V","01-109223-00","2011-01-19",7000,10,{"$f":"F1501*memoria!$B$44/(G1501*12*memoria!$B$47)","v":0.14583333333333334},{"$f":"F1501/(G1501*12*memoria!$B$47)","v":0.36458333333333331}]
["Diadema","01691-Pavimento Térreo - Prédio Principal","Guilhotina Para Ratos, Cor Azul","01-109256-00","2007-12-07",1050,10,{"$f":"F1502*memoria!$B$44/(G1502*12*memoria!$B$47)","v":2.1874999999999999E-2},{"$f":"F1502/(G1502*12*memoria!$B$47)","v":5.46875E-2}]
["Diadema","01691-Pavimento Térreo - Prédio Principal","Sistema De Purificacao De Agua Com Dispensacao Adaptavel","01-109258-00","2011-09-26",16279,10,{"$f":"F1503*memoria!$B$44/(G1503*12*memoria!$B$47)","v":0.33914583333333337},{"$f":"F1503/(G1503*12*memoria!$B$47)","v":0.84786458333333337}]
["Diadema","01691-Pavimento Térreo - Prédio Principal","Freezer","01-109259-00","2007-12-07",1219.95,10,{"$f":"F1504*memoria!$B$44/(G1504*12*memoria!$B$47)","v":2.5415625000000001E-2},{"$f":"F1504/(G1504*12*memoria!$B$47)","v":6.3539062500000007E-2}]
["Diadema","01691-Pavimento Térreo - Prédio Principal","Cabina De Fluxo Unidirecional Laminar Vertical, 220 V, 320 W","01-109260-00","2011-10-19",7160,10,{"$f":"F1505*memoria!$B$44/(G1505*12*memoria!$B$47)","v":0.14916666666666667},{"$f":"F1505/(G1505*12*memoria!$B$47)","v":0.37291666666666667}]
["Diadema","01691-Pavimento Térreo - Prédio Principal","Criostato, Com Painel Digital, Trava Eletrica, Suporte Para 10 Platinas","01-109261-00","2007-12-07",51883.63,10,{"$f":"F1506*memoria!$B$44/(G1506*12*memoria!$B$47)","v":1.0809089583333333},{"$f":"F1506/(G1506*12*memoria!$B$47)","v":2.702272395833333}]
["Diadema","01691-Pavimento Térreo - Prédio Principal","Liofilizador De Bancada","01-109262-00","2011-12-13",27459.82,10,{"$f":"F1507*memoria!$B$44/(G1507*12*memoria!$B$47)","v":0.57207958333333331},{"$f":"F1507/(G1507*12*memoria!$B$47)","v":1.4301989583333332}]
["Diadema","01691-Pavimento Térreo - Prédio Principal","Microscopio Trinocular Com 04 Lentes","01-109263-00","2007-12-07",2000,10,{"$f":"F1508*memoria!$B$44/(G1508*12*memoria!$B$47)","v":4.1666666666666664E-2},{"$f":"F1508/(G1508*12*memoria!$B$47)","v":0.10416666666666667}]
["Diadema","01691-Pavimento Térreo - Prédio Principal","Sistema De Aquisicao E Processamento De Imagens","01-109264-00","2007-12-07",19748,10,{"$f":"F1509*memoria!$B$44/(G1509*12*memoria!$B$47)","v":0.41141666666666671},{"$f":"F1509/(G1509*12*memoria!$B$47)","v":1.0285416666666667}]
["Diadema","01691-Pavimento Térreo - Prédio Principal","Sistema De Eletroforese, C/ Espacadores, Pentes, Cuba, Minitransblot E","01-109267-00","2010-08-11",10173,10,{"$f":"F1510*memoria!$B$44/(G1510*12*memoria!$B$47)","v":0.2119375},{"$f":"F1510/(G1510*12*memoria!$B$47)","v":0.52984374999999995}]
["Diadema","01691-Pavimento Térreo - Prédio Principal","Fonte De Eletroforese Powerpac Basic, 400va, 50/60 Hz","01-109268-00","2010-08-11",2000,10,{"$f":"F1511*memoria!$B$44/(G1511*12*memoria!$B$47)","v":4.1666666666666664E-2},{"$f":"F1511/(G1511*12*memoria!$B$47)","v":0.10416666666666667}]
["Diadema","01691-Pavimento Térreo - Prédio Principal","Sistema De Eletroforese Horizontal, C/ Pentes De 6,10 E 20 Dentes, Cubas","01-109269-00","2010-08-11",1448.48,10,{"$f":"F1512*memoria!$B$44/(G1512*12*memoria!$B$47)","v":3.0176666666666671E-2},{"$f":"F1512/(G1512*12*memoria!$B$47)","v":7.5441666666666671E-2}]
["Diadema","01691-Pavimento Térreo - Prédio Principal","Sistema De Eletroforese Horizontal, C/ Pentes De 6,10 E 20 Dentes, Cubas","01-109270-00","2010-08-11",1448.49,10,{"$f":"F1513*memoria!$B$44/(G1513*12*memoria!$B$47)","v":3.0176875000000002E-2},{"$f":"F1513/(G1513*12*memoria!$B$47)","v":7.5442187499999994E-2}]
["Diadema","01691-Pavimento Térreo - Prédio Principal","Balanca Compacta Eletronica, Capac. 2000 Gr.","01-109271-00","2010-08-11",362.12,10,{"$f":"F1514*memoria!$B$44/(G1514*12*memoria!$B$47)","v":7.5441666666666678E-3},{"$f":"F1514/(G1514*12*memoria!$B$47)","v":1.8860416666666668E-2}]
["Diadema","01691-Pavimento Térreo - Prédio Principal","Homogeneizador, C/ Haste De Agitacao 12mm, Haste 7mm, 110v","01-109272-00","2010-08-11",11199.5,10,{"$f":"F1515*memoria!$B$44/(G1515*12*memoria!$B$47)","v":0.23332291666666669},{"$f":"F1515/(G1515*12*memoria!$B$47)","v":0.58330729166666662}]
["Diadema","01691-Pavimento Térreo - Prédio Principal","Agitador, 115 V, 6 W, 0.5 A","01-109273-00","2010-08-11",1468.27,10,{"$f":"F1516*memoria!$B$44/(G1516*12*memoria!$B$47)","v":3.0588958333333333E-2},{"$f":"F1516/(G1516*12*memoria!$B$47)","v":7.6472395833333331E-2}]
["Diadema","01691-Pavimento Térreo - Prédio Principal","Agitador Magnetico, C/ Aquecimento, Plc. Ceramica","01-109274-00","2010-08-11",877.87,10,{"$f":"F1517*memoria!$B$44/(G1517*12*memoria!$B$47)","v":1.8288958333333334E-2},{"$f":"F1517/(G1517*12*memoria!$B$47)","v":4.5722395833333332E-2}]
["Diadema","01691-Pavimento Térreo - Prédio Principal","Sistema Analisador De Radicais Livres, C/ 4 Canais, Kit De Inicializacao","01-109275-00","2011-02-17",178000,10,{"$f":"F1518*memoria!$B$44/(G1518*12*memoria!$B$47)","v":3.7083333333333335},{"$f":"F1518/(G1518*12*memoria!$B$47)","v":9.2708333333333339}]
["Diadema","01691-Pavimento Térreo - Prédio Principal","Sintetizador Paralelo, Estacao De Reacao Multivariavel, Temperatura De","01-109276-00","2011-02-15",407450,10,{"$f":"F1519*memoria!$B$44/(G1519*12*memoria!$B$47)","v":8.4885416666666664},{"$f":"F1519/(G1519*12*memoria!$B$47)","v":21.221354166666668}]
["Diadema","01699-2º Pavimento - Prédio Principal","Mesa Trapezoidal, Madeira Cor Marfim, Med. 1.10 M X 1.70 M X 0.60 M","01-109292-00","2011-02-15",327.60000000000002,10,{"$f":"F1520*memoria!$B$44/(G1520*12*memoria!$B$47)","v":6.8250000000000012E-3},{"$f":"F1520/(G1520*12*memoria!$B$47)","v":1.7062500000000001E-2}]
["Diadema","01691-Pavimento Térreo - Prédio Principal","Geladeira, Cor Marfim","01-109328-00","2010-09-14",150,10,{"$f":"F1521*memoria!$B$44/(G1521*12*memoria!$B$47)","v":3.1250000000000002E-3},{"$f":"F1521/(G1521*12*memoria!$B$47)","v":7.8125E-3}]
["Diadema","01691-Pavimento Térreo - Prédio Principal","Espectrofotometro Nanodrop 2000c","01-109329-00","2011-03-14",48000,10,{"$f":"F1522*memoria!$B$44/(G1522*12*memoria!$B$47)","v":1},{"$f":"F1522/(G1522*12*memoria!$B$47)","v":2.5}]
["Diadema","01691-Pavimento Térreo - Prédio Principal","Microcentrifuga De Bancada Refrigerada, Veloc. 2000 A 148000 Rpm,","01-109330-00","2011-03-14",15000,10,{"$f":"F1523*memoria!$B$44/(G1523*12*memoria!$B$47)","v":0.3125},{"$f":"F1523/(G1523*12*memoria!$B$47)","v":0.78125}]
["Diadema","01691-Pavimento Térreo - Prédio Principal","Microcentrifuga De Bancada Refrigerada, Veloc. 2000 A 148000 Rpm,","01-109331-00","2011-03-14",15000,10,{"$f":"F1524*memoria!$B$44/(G1524*12*memoria!$B$47)","v":0.3125},{"$f":"F1524/(G1524*12*memoria!$B$47)","v":0.78125}]
["Diadema","01691-Pavimento Térreo - Prédio Principal","Microcentrifuga De Bancada Refrigerada, Veloc. 2000 A 148000 Rpm,","01-109332-00","2011-03-14",15000,10,{"$f":"F1525*memoria!$B$44/(G1525*12*memoria!$B$47)","v":0.3125},{"$f":"F1525/(G1525*12*memoria!$B$47)","v":0.78125}]
["Diadema","01691-Pavimento Térreo - Prédio Principal","Microcentrifuga De Bancada Refrigerada, Veloc. 2000 A 148000 Rpm,","01-109333-00","2011-03-14",15000,10,{"$f":"F1526*memoria!$B$44/(G1526*12*memoria!$B$47)","v":0.3125},{"$f":"F1526/(G1526*12*memoria!$B$47)","v":0.78125}]
["Diadema","01691-Pavimento Térreo - Prédio Principal","Phmetro C/ Primatrode, 120 V","01-109334-00","2011-02-28",5021.7299999999996,10,{"$f":"F1527*memoria!$B$44/(G1527*12*memoria!$B$47)","v":0.104619375},{"$f":"F1527/(G1527*12*memoria!$B$47)","v":0.26154843749999995}]
["Diadema","01691-Pavimento Térreo - Prédio Principal","Goniometro, Mod. Basico C/Plataf.Linear P/ Instalacao Do Sist.Optico,","01-109335-00","2011-03-16",69000,10,{"$f":"F1528*memoria!$B$44/(G1528*12*memoria!$B$47)","v":1.4375},{"$f":"F1528/(G1528*12*memoria!$B$47)","v":3.59375}]
["Diadema","01691-Pavimento Térreo - Prédio Principal","Plataforma Proteomica Composta Por Fonte De Eletroforese, Placa Interna,","01-109336-00","2011-03-18",150000,10,{"$f":"F1529*memoria!$B$44/(G1529*12*memoria!$B$47)","v":3.125},{"$f":"F1529/(G1529*12*memoria!$B$47)","v":7.8125}]
["Diadema","01691-Pavimento Térreo - Prédio Principal","Capela De Exaustao De Gases","01-109337-00","2011-03-16",10500,10,{"$f":"F1530*memoria!$B$44/(G1530*12*memoria!$B$47)","v":0.21875},{"$f":"F1530/(G1530*12*memoria!$B$47)","v":0.546875}]
["Diadema","01691-Pavimento Térreo - Prédio Principal","Capela De Exaustao De Gases","01-109338-00","2011-03-16",10500,10,{"$f":"F1531*memoria!$B$44/(G1531*12*memoria!$B$47)","v":0.21875},{"$f":"F1531/(G1531*12*memoria!$B$47)","v":0.546875}]
["Diadema","01691-Pavimento Térreo - Prédio Principal","Capela De Exaustao De Gases","01-109339-00","2011-03-16",10500,10,{"$f":"F1532*memoria!$B$44/(G1532*12*memoria!$B$47)","v":0.21875},{"$f":"F1532/(G1532*12*memoria!$B$47)","v":0.546875}]
["Diadema","01691-Pavimento Térreo - Prédio Principal","Capela De Exaustao De Gases","01-109340-00","2011-03-16",10500,10,{"$f":"F1533*memoria!$B$44/(G1533*12*memoria!$B$47)","v":0.21875},{"$f":"F1533/(G1533*12*memoria!$B$47)","v":0.546875}]
["Diadema","01691-Pavimento Térreo - Prédio Principal","Capela De Exaustao De Gases","01-109341-00","2011-03-16",10500,10,{"$f":"F1534*memoria!$B$44/(G1534*12*memoria!$B$47)","v":0.21875},{"$f":"F1534/(G1534*12*memoria!$B$47)","v":0.546875}]
["Diadema","01691-Pavimento Térreo - Prédio Principal","Capela De Exaustao De Gases","01-109342-00","2011-03-16",10500,10,{"$f":"F1535*memoria!$B$44/(G1535*12*memoria!$B$47)","v":0.21875},{"$f":"F1535/(G1535*12*memoria!$B$47)","v":0.546875}]
["Diadema","01691-Pavimento Térreo - Prédio Principal","Capela De Exaustao De Gases","01-109343-00","2011-03-16",10500,10,{"$f":"F1536*memoria!$B$44/(G1536*12*memoria!$B$47)","v":0.21875},{"$f":"F1536/(G1536*12*memoria!$B$47)","v":0.546875}]
["Diadema","01691-Pavimento Térreo - Prédio Principal","Microscopio Estereo Trinoc. C/ Zoom, Acomp. De 1 Par De Oc. 20 X E","01-109344-00","2011-03-25",4298,10,{"$f":"F1537*memoria!$B$44/(G1537*12*memoria!$B$47)","v":8.9541666666666672E-2},{"$f":"F1537/(G1537*12*memoria!$B$47)","v":0.22385416666666666}]
["Diadema","01691-Pavimento Térreo - Prédio Principal","Cabine De Seguranca Biologica - Fluxo Laminar Classe Ii Tipo A2","01-109345-00","2011-03-26",12999,10,{"$f":"F1538*memoria!$B$44/(G1538*12*memoria!$B$47)","v":0.27081250000000001},{"$f":"F1538/(G1538*12*memoria!$B$47)","v":0.67703124999999997}]
["Diadema","01691-Pavimento Térreo - Prédio Principal","Cabine De Seguranca Biologica - Fluxo Laminar Classe Ii Tipo A2","01-109346-00","2011-03-26",12999,10,{"$f":"F1539*memoria!$B$44/(G1539*12*memoria!$B$47)","v":0.27081250000000001},{"$f":"F1539/(G1539*12*memoria!$B$47)","v":0.67703124999999997}]
["Diadema","01691-Pavimento Térreo - Prédio Principal","Forno Mufla, Microprocessado Ate 1200º C, 220 V, 3.5 Kw","01-109347-00","2011-02-28",2014.96,10,{"$f":"F1540*memoria!$B$44/(G1540*12*memoria!$B$47)","v":4.1978333333333333E-2},{"$f":"F1540/(G1540*12*memoria!$B$47)","v":0.10494583333333334}]
["Diadema","01691-Pavimento Térreo - Prédio Principal","Estereomicroscopio Trinocular Stemi 2000 C","01-109399-00","2011-03-29",20500,10,{"$f":"F1541*memoria!$B$44/(G1541*12*memoria!$B$47)","v":0.42708333333333331},{"$f":"F1541/(G1541*12*memoria!$B$47)","v":1.0677083333333333}]
["Diadema","01691-Pavimento Térreo - Prédio Principal","Forno Mufla, Microprocessado Ate 1200º C, 220 V, 3.5 Kw","01-109400-00","2011-02-28",2014.96,10,{"$f":"F1542*memoria!$B$44/(G1542*12*memoria!$B$47)","v":4.1978333333333333E-2},{"$f":"F1542/(G1542*12*memoria!$B$47)","v":0.10494583333333334}]
["Diadema","01691-Pavimento Térreo - Prédio Principal","Cabine De Seguranca Biologica - Fluxo Laminar Classe Ii Tipo A2","01-109401-00","2011-03-26",12999,10,{"$f":"F1543*memoria!$B$44/(G1543*12*memoria!$B$47)","v":0.27081250000000001},{"$f":"F1543/(G1543*12*memoria!$B$47)","v":0.67703124999999997}]
["Diadema","01691-Pavimento Térreo - Prédio Principal","Cadeira Caixa, Cor Preta","01-109405-00","2011-04-06",160,10,{"$f":"F1544*memoria!$B$44/(G1544*12*memoria!$B$47)","v":3.3333333333333335E-3},{"$f":"F1544/(G1544*12*memoria!$B$47)","v":8.3333333333333332E-3}]
["Diadema","01691-Pavimento Térreo - Prédio Principal","Cadeira Caixa, Cor Preta","01-109406-00","2011-04-06",160,10,{"$f":"F1545*memoria!$B$44/(G1545*12*memoria!$B$47)","v":3.3333333333333335E-3},{"$f":"F1545/(G1545*12*memoria!$B$47)","v":8.3333333333333332E-3}]
["Diadema","01691-Pavimento Térreo - Prédio Principal","Cadeira Caixa, Cor Preta","01-109407-00","2011-04-06",160,10,{"$f":"F1546*memoria!$B$44/(G1546*12*memoria!$B$47)","v":3.3333333333333335E-3},{"$f":"F1546/(G1546*12*memoria!$B$47)","v":8.3333333333333332E-3}]
["Diadema","01691-Pavimento Térreo - Prédio Principal","Cadeira Caixa, Cor Preta","01-109408-00","2011-04-06",160,10,{"$f":"F1547*memoria!$B$44/(G1547*12*memoria!$B$47)","v":3.3333333333333335E-3},{"$f":"F1547/(G1547*12*memoria!$B$47)","v":8.3333333333333332E-3}]
["Diadema","01691-Pavimento Térreo - Prédio Principal","Cadeira Caixa, Cor Preta","01-109409-00","2011-04-06",160,10,{"$f":"F1548*memoria!$B$44/(G1548*12*memoria!$B$47)","v":3.3333333333333335E-3},{"$f":"F1548/(G1548*12*memoria!$B$47)","v":8.3333333333333332E-3}]
["Diadema","01691-Pavimento Térreo - Prédio Principal","Cadeira Caixa, Cor Preta","01-109410-00","2011-04-06",160,10,{"$f":"F1549*memoria!$B$44/(G1549*12*memoria!$B$47)","v":3.3333333333333335E-3},{"$f":"F1549/(G1549*12*memoria!$B$47)","v":8.3333333333333332E-3}]
["Diadema","01691-Pavimento Térreo - Prédio Principal","Cadeira Caixa, Cor Preta","01-109411-00","2011-04-06",160,10,{"$f":"F1550*memoria!$B$44/(G1550*12*memoria!$B$47)","v":3.3333333333333335E-3},{"$f":"F1550/(G1550*12*memoria!$B$47)","v":8.3333333333333332E-3}]
["Diadema","01691-Pavimento Térreo - Prédio Principal","Cadeira Caixa, Cor Preta","01-109412-00","2011-04-06",160,10,{"$f":"F1551*memoria!$B$44/(G1551*12*memoria!$B$47)","v":3.3333333333333335E-3},{"$f":"F1551/(G1551*12*memoria!$B$47)","v":8.3333333333333332E-3}]
["Diadema","01691-Pavimento Térreo - Prédio Principal","Cadeira Caixa, Cor Preta","01-109413-00","2011-04-06",160,10,{"$f":"F1552*memoria!$B$44/(G1552*12*memoria!$B$47)","v":3.3333333333333335E-3},{"$f":"F1552/(G1552*12*memoria!$B$47)","v":8.3333333333333332E-3}]
["Diadema","01691-Pavimento Térreo - Prédio Principal","Cadeira Caixa, Cor Preta","01-109414-00","2011-04-06",160,10,{"$f":"F1553*memoria!$B$44/(G1553*12*memoria!$B$47)","v":3.3333333333333335E-3},{"$f":"F1553/(G1553*12*memoria!$B$47)","v":8.3333333333333332E-3}]
["Diadema","01691-Pavimento Térreo - Prédio Principal","Cadeira Caixa, Cor Preta","01-109415-00","2011-04-06",160,10,{"$f":"F1554*memoria!$B$44/(G1554*12*memoria!$B$47)","v":3.3333333333333335E-3},{"$f":"F1554/(G1554*12*memoria!$B$47)","v":8.3333333333333332E-3}]
["Diadema","01691-Pavimento Térreo - Prédio Principal","Cadeira Caixa, Cor Preta","01-109416-00","2011-04-06",160,10,{"$f":"F1555*memoria!$B$44/(G1555*12*memoria!$B$47)","v":3.3333333333333335E-3},{"$f":"F1555/(G1555*12*memoria!$B$47)","v":8.3333333333333332E-3}]
["Diadema","01691-Pavimento Térreo - Prédio Principal","Cadeira Caixa, Cor Preta","01-109417-00","2011-04-06",160,10,{"$f":"F1556*memoria!$B$44/(G1556*12*memoria!$B$47)","v":3.3333333333333335E-3},{"$f":"F1556/(G1556*12*memoria!$B$47)","v":8.3333333333333332E-3}]
["Diadema","01691-Pavimento Térreo - Prédio Principal","Cadeira Caixa, Cor Preta","01-109418-00","2011-04-06",160,10,{"$f":"F1557*memoria!$B$44/(G1557*12*memoria!$B$47)","v":3.3333333333333335E-3},{"$f":"F1557/(G1557*12*memoria!$B$47)","v":8.3333333333333332E-3}]
["Diadema","01691-Pavimento Térreo - Prédio Principal","Cadeira Caixa, Cor Preta","01-109419-00","2011-04-06",160,10,{"$f":"F1558*memoria!$B$44/(G1558*12*memoria!$B$47)","v":3.3333333333333335E-3},{"$f":"F1558/(G1558*12*memoria!$B$47)","v":8.3333333333333332E-3}]
["Diadema","01691-Pavimento Térreo - Prédio Principal","Cadeira Caixa, Cor Preta","01-109420-00","2011-04-06",160,10,{"$f":"F1559*memoria!$B$44/(G1559*12*memoria!$B$47)","v":3.3333333333333335E-3},{"$f":"F1559/(G1559*12*memoria!$B$47)","v":8.3333333333333332E-3}]
["Diadema","01691-Pavimento Térreo - Prédio Principal","Cadeira Caixa, Cor Preta","01-109421-00","2011-04-06",160,10,{"$f":"F1560*memoria!$B$44/(G1560*12*memoria!$B$47)","v":3.3333333333333335E-3},{"$f":"F1560/(G1560*12*memoria!$B$47)","v":8.3333333333333332E-3}]
["Diadema","01691-Pavimento Térreo - Prédio Principal","Cadeira Caixa, Cor Preta","01-109422-00","2011-04-06",160,10,{"$f":"F1561*memoria!$B$44/(G1561*12*memoria!$B$47)","v":3.3333333333333335E-3},{"$f":"F1561/(G1561*12*memoria!$B$47)","v":8.3333333333333332E-3}]
["Diadema","01691-Pavimento Térreo - Prédio Principal","Cadeira Caixa, Cor Preta","01-109423-00","2011-04-06",160,10,{"$f":"F1562*memoria!$B$44/(G1562*12*memoria!$B$47)","v":3.3333333333333335E-3},{"$f":"F1562/(G1562*12*memoria!$B$47)","v":8.3333333333333332E-3}]
["Diadema","01691-Pavimento Térreo - Prédio Principal","Cadeira Caixa, Cor Preta","01-109424-00","2011-04-06",160,10,{"$f":"F1563*memoria!$B$44/(G1563*12*memoria!$B$47)","v":3.3333333333333335E-3},{"$f":"F1563/(G1563*12*memoria!$B$47)","v":8.3333333333333332E-3}]
["Diadema","01691-Pavimento Térreo - Prédio Principal","Cadeira Caixa, Cor Preta","01-109425-00","2011-04-06",160,10,{"$f":"F1564*memoria!$B$44/(G1564*12*memoria!$B$47)","v":3.3333333333333335E-3},{"$f":"F1564/(G1564*12*memoria!$B$47)","v":8.3333333333333332E-3}]
["Diadema","01691-Pavimento Térreo - Prédio Principal","Cadeira Caixa, Cor Preta","01-109426-00","2011-04-06",160,10,{"$f":"F1565*memoria!$B$44/(G1565*12*memoria!$B$47)","v":3.3333333333333335E-3},{"$f":"F1565/(G1565*12*memoria!$B$47)","v":8.3333333333333332E-3}]
["Diadema","01691-Pavimento Térreo - Prédio Principal","Cadeira Caixa, Cor Preta","01-109427-00","2011-04-06",160,10,{"$f":"F1566*memoria!$B$44/(G1566*12*memoria!$B$47)","v":3.3333333333333335E-3},{"$f":"F1566/(G1566*12*memoria!$B$47)","v":8.3333333333333332E-3}]
["Diadema","01691-Pavimento Térreo - Prédio Principal","Cadeira Caixa, Cor Preta","01-109428-00","2011-04-06",160,10,{"$f":"F1567*memoria!$B$44/(G1567*12*memoria!$B$47)","v":3.3333333333333335E-3},{"$f":"F1567/(G1567*12*memoria!$B$47)","v":8.3333333333333332E-3}]
["Diadema","01691-Pavimento Térreo - Prédio Principal","Cadeira Caixa, Cor Preta","01-109429-00","2011-04-06",160,10,{"$f":"F1568*memoria!$B$44/(G1568*12*memoria!$B$47)","v":3.3333333333333335E-3},{"$f":"F1568/(G1568*12*memoria!$B$47)","v":8.3333333333333332E-3}]
["Diadema","01691-Pavimento Térreo - Prédio Principal","Cadeira Caixa, Cor Preta","01-109430-00","2011-04-06",160,10,{"$f":"F1569*memoria!$B$44/(G1569*12*memoria!$B$47)","v":3.3333333333333335E-3},{"$f":"F1569/(G1569*12*memoria!$B$47)","v":8.3333333333333332E-3}]
["Diadema","01691-Pavimento Térreo - Prédio Principal","Cadeira Caixa, Cor Preta","01-109431-00","2011-04-06",160,10,{"$f":"F1570*memoria!$B$44/(G1570*12*memoria!$B$47)","v":3.3333333333333335E-3},{"$f":"F1570/(G1570*12*memoria!$B$47)","v":8.3333333333333332E-3}]
["Diadema","01691-Pavimento Térreo - Prédio Principal","Cadeira Caixa, Cor Preta","01-109432-00","2011-04-06",160,10,{"$f":"F1571*memoria!$B$44/(G1571*12*memoria!$B$47)","v":3.3333333333333335E-3},{"$f":"F1571/(G1571*12*memoria!$B$47)","v":8.3333333333333332E-3}]
["Diadema","01691-Pavimento Térreo - Prédio Principal","Cadeira Caixa, Cor Preta","01-109433-00","2011-04-06",160,10,{"$f":"F1572*memoria!$B$44/(G1572*12*memoria!$B$47)","v":3.3333333333333335E-3},{"$f":"F1572/(G1572*12*memoria!$B$47)","v":8.3333333333333332E-3}]
["Diadema","01691-Pavimento Térreo - Prédio Principal","Cadeira Caixa, Cor Preta","01-109434-00","2011-04-06",160,10,{"$f":"F1573*memoria!$B$44/(G1573*12*memoria!$B$47)","v":3.3333333333333335E-3},{"$f":"F1573/(G1573*12*memoria!$B$47)","v":8.3333333333333332E-3}]
["Diadema","01691-Pavimento Térreo - Prédio Principal","Cadeira Caixa, Cor Preta","01-109435-00","2011-04-06",160,10,{"$f":"F1574*memoria!$B$44/(G1574*12*memoria!$B$47)","v":3.3333333333333335E-3},{"$f":"F1574/(G1574*12*memoria!$B$47)","v":8.3333333333333332E-3}]
["Diadema","01691-Pavimento Térreo - Prédio Principal","Cadeira Caixa, Cor Preta","01-109436-00","2011-04-06",160,10,{"$f":"F1575*memoria!$B$44/(G1575*12*memoria!$B$47)","v":3.3333333333333335E-3},{"$f":"F1575/(G1575*12*memoria!$B$47)","v":8.3333333333333332E-3}]
["Diadema","01691-Pavimento Térreo - Prédio Principal","Cadeira Caixa, Cor Preta","01-109437-00","2011-04-06",160,10,{"$f":"F1576*memoria!$B$44/(G1576*12*memoria!$B$47)","v":3.3333333333333335E-3},{"$f":"F1576/(G1576*12*memoria!$B$47)","v":8.3333333333333332E-3}]
["Diadema","01691-Pavimento Térreo - Prédio Principal","Cadeira Caixa, Cor Preta","01-109438-00","2011-04-06",160,10,{"$f":"F1577*memoria!$B$44/(G1577*12*memoria!$B$47)","v":3.3333333333333335E-3},{"$f":"F1577/(G1577*12*memoria!$B$47)","v":8.3333333333333332E-3}]
["Diadema","01691-Pavimento Térreo - Prédio Principal","Cadeira Caixa, Cor Preta","01-109439-00","2011-04-06",160,10,{"$f":"F1578*memoria!$B$44/(G1578*12*memoria!$B$47)","v":3.3333333333333335E-3},{"$f":"F1578/(G1578*12*memoria!$B$47)","v":8.3333333333333332E-3}]
["Diadema","01691-Pavimento Térreo - Prédio Principal","Cadeira Caixa, Cor Preta","01-109440-00","2011-04-06",160,10,{"$f":"F1579*memoria!$B$44/(G1579*12*memoria!$B$47)","v":3.3333333333333335E-3},{"$f":"F1579/(G1579*12*memoria!$B$47)","v":8.3333333333333332E-3}]
["Diadema","01691-Pavimento Térreo - Prédio Principal","Cadeira Caixa, Cor Preta","01-109441-00","2011-04-06",160,10,{"$f":"F1580*memoria!$B$44/(G1580*12*memoria!$B$47)","v":3.3333333333333335E-3},{"$f":"F1580/(G1580*12*memoria!$B$47)","v":8.3333333333333332E-3}]
["Diadema","01691-Pavimento Térreo - Prédio Principal","Cadeira Caixa, Cor Preta","01-109442-00","2011-04-06",160,10,{"$f":"F1581*memoria!$B$44/(G1581*12*memoria!$B$47)","v":3.3333333333333335E-3},{"$f":"F1581/(G1581*12*memoria!$B$47)","v":8.3333333333333332E-3}]
["Diadema","01691-Pavimento Térreo - Prédio Principal","Cadeira Caixa, Cor Preta","01-109443-00","2011-04-06",160,10,{"$f":"F1582*memoria!$B$44/(G1582*12*memoria!$B$47)","v":3.3333333333333335E-3},{"$f":"F1582/(G1582*12*memoria!$B$47)","v":8.3333333333333332E-3}]
["Diadema","01691-Pavimento Térreo - Prédio Principal","Cadeira Caixa, Cor Preta","01-109444-00","2011-04-06",160,10,{"$f":"F1583*memoria!$B$44/(G1583*12*memoria!$B$47)","v":3.3333333333333335E-3},{"$f":"F1583/(G1583*12*memoria!$B$47)","v":8.3333333333333332E-3}]
["Diadema","01691-Pavimento Térreo - Prédio Principal","Cadeira Caixa, Cor Preta","01-109445-00","2011-04-06",160,10,{"$f":"F1584*memoria!$B$44/(G1584*12*memoria!$B$47)","v":3.3333333333333335E-3},{"$f":"F1584/(G1584*12*memoria!$B$47)","v":8.3333333333333332E-3}]
["Diadema","01691-Pavimento Térreo - Prédio Principal","Cadeira Caixa, Cor Preta","01-109446-00","2011-04-06",160,10,{"$f":"F1585*memoria!$B$44/(G1585*12*memoria!$B$47)","v":3.3333333333333335E-3},{"$f":"F1585/(G1585*12*memoria!$B$47)","v":8.3333333333333332E-3}]
["Diadema","01691-Pavimento Térreo - Prédio Principal","Cadeira Caixa, Cor Preta","01-109447-00","2011-04-06",160,10,{"$f":"F1586*memoria!$B$44/(G1586*12*memoria!$B$47)","v":3.3333333333333335E-3},{"$f":"F1586/(G1586*12*memoria!$B$47)","v":8.3333333333333332E-3}]
["Diadema","01691-Pavimento Térreo - Prédio Principal","Cadeira Caixa, Cor Preta","01-109448-00","2011-04-06",160,10,{"$f":"F1587*memoria!$B$44/(G1587*12*memoria!$B$47)","v":3.3333333333333335E-3},{"$f":"F1587/(G1587*12*memoria!$B$47)","v":8.3333333333333332E-3}]
["Diadema","01691-Pavimento Térreo - Prédio Principal","Cadeira Caixa, Cor Preta","01-109449-00","2011-04-06",160,10,{"$f":"F1588*memoria!$B$44/(G1588*12*memoria!$B$47)","v":3.3333333333333335E-3},{"$f":"F1588/(G1588*12*memoria!$B$47)","v":8.3333333333333332E-3}]
["Diadema","01691-Pavimento Térreo - Prédio Principal","Cadeira Caixa, Cor Preta","01-109450-00","2011-04-06",160,10,{"$f":"F1589*memoria!$B$44/(G1589*12*memoria!$B$47)","v":3.3333333333333335E-3},{"$f":"F1589/(G1589*12*memoria!$B$47)","v":8.3333333333333332E-3}]
["Diadema","01691-Pavimento Térreo - Prédio Principal","Cadeira Caixa, Cor Preta","01-109451-00","2011-04-06",160,10,{"$f":"F1590*memoria!$B$44/(G1590*12*memoria!$B$47)","v":3.3333333333333335E-3},{"$f":"F1590/(G1590*12*memoria!$B$47)","v":8.3333333333333332E-3}]
["Diadema","01691-Pavimento Térreo - Prédio Principal","Cadeira Caixa, Cor Preta","01-109452-00","2011-04-06",160,10,{"$f":"F1591*memoria!$B$44/(G1591*12*memoria!$B$47)","v":3.3333333333333335E-3},{"$f":"F1591/(G1591*12*memoria!$B$47)","v":8.3333333333333332E-3}]
["Diadema","01691-Pavimento Térreo - Prédio Principal","Cadeira Caixa, Cor Preta","01-109453-00","2011-04-06",160,10,{"$f":"F1592*memoria!$B$44/(G1592*12*memoria!$B$47)","v":3.3333333333333335E-3},{"$f":"F1592/(G1592*12*memoria!$B$47)","v":8.3333333333333332E-3}]
["Diadema","01691-Pavimento Térreo - Prédio Principal","Cadeira Caixa, Cor Preta","01-109454-00","2011-04-06",160,10,{"$f":"F1593*memoria!$B$44/(G1593*12*memoria!$B$47)","v":3.3333333333333335E-3},{"$f":"F1593/(G1593*12*memoria!$B$47)","v":8.3333333333333332E-3}]
["Diadema","01691-Pavimento Térreo - Prédio Principal","Cadeira Caixa, Cor Preta","01-109455-00","2011-04-06",160,10,{"$f":"F1594*memoria!$B$44/(G1594*12*memoria!$B$47)","v":3.3333333333333335E-3},{"$f":"F1594/(G1594*12*memoria!$B$47)","v":8.3333333333333332E-3}]
["Diadema","01691-Pavimento Térreo - Prédio Principal","Cadeira Caixa, Cor Preta","01-109456-00","2011-04-06",160,10,{"$f":"F1595*memoria!$B$44/(G1595*12*memoria!$B$47)","v":3.3333333333333335E-3},{"$f":"F1595/(G1595*12*memoria!$B$47)","v":8.3333333333333332E-3}]
["Diadema","01691-Pavimento Térreo - Prédio Principal","Cadeira Caixa, Cor Preta","01-109457-00","2011-04-06",160,10,{"$f":"F1596*memoria!$B$44/(G1596*12*memoria!$B$47)","v":3.3333333333333335E-3},{"$f":"F1596/(G1596*12*memoria!$B$47)","v":8.3333333333333332E-3}]
["Diadema","01691-Pavimento Térreo - Prédio Principal","Cadeira Caixa, Cor Preta","01-109458-00","2011-04-06",160,10,{"$f":"F1597*memoria!$B$44/(G1597*12*memoria!$B$47)","v":3.3333333333333335E-3},{"$f":"F1597/(G1597*12*memoria!$B$47)","v":8.3333333333333332E-3}]
["Diadema","01691-Pavimento Térreo - Prédio Principal","Cadeira Caixa, Cor Preta","01-109459-00","2011-04-06",160,10,{"$f":"F1598*memoria!$B$44/(G1598*12*memoria!$B$47)","v":3.3333333333333335E-3},{"$f":"F1598/(G1598*12*memoria!$B$47)","v":8.3333333333333332E-3}]
["Diadema","01691-Pavimento Térreo - Prédio Principal","Cadeira Caixa, Cor Preta","01-109460-00","2011-04-06",160,10,{"$f":"F1599*memoria!$B$44/(G1599*12*memoria!$B$47)","v":3.3333333333333335E-3},{"$f":"F1599/(G1599*12*memoria!$B$47)","v":8.3333333333333332E-3}]
["Diadema","01691-Pavimento Térreo - Prédio Principal","Cadeira Caixa, Cor Preta","01-109461-00","2011-04-06",160,10,{"$f":"F1600*memoria!$B$44/(G1600*12*memoria!$B$47)","v":3.3333333333333335E-3},{"$f":"F1600/(G1600*12*memoria!$B$47)","v":8.3333333333333332E-3}]
["Diadema","01691-Pavimento Térreo - Prédio Principal","Cadeira Caixa, Cor Preta","01-109462-00","2011-04-06",160,10,{"$f":"F1601*memoria!$B$44/(G1601*12*memoria!$B$47)","v":3.3333333333333335E-3},{"$f":"F1601/(G1601*12*memoria!$B$47)","v":8.3333333333333332E-3}]
["Diadema","01691-Pavimento Térreo - Prédio Principal","Cadeira Caixa, Cor Preta","01-109463-00","2011-04-06",160,10,{"$f":"F1602*memoria!$B$44/(G1602*12*memoria!$B$47)","v":3.3333333333333335E-3},{"$f":"F1602/(G1602*12*memoria!$B$47)","v":8.3333333333333332E-3}]
["Diadema","01691-Pavimento Térreo - Prédio Principal","Cadeira Caixa, Cor Preta","01-109464-00","2011-04-06",160,10,{"$f":"F1603*memoria!$B$44/(G1603*12*memoria!$B$47)","v":3.3333333333333335E-3},{"$f":"F1603/(G1603*12*memoria!$B$47)","v":8.3333333333333332E-3}]
["Diadema","01691-Pavimento Térreo - Prédio Principal","Cadeira Caixa, Cor Preta","01-109465-00","2011-04-06",160,10,{"$f":"F1604*memoria!$B$44/(G1604*12*memoria!$B$47)","v":3.3333333333333335E-3},{"$f":"F1604/(G1604*12*memoria!$B$47)","v":8.3333333333333332E-3}]
["Diadema","01691-Pavimento Térreo - Prédio Principal","Cadeira Caixa, Cor Preta","01-109466-00","2011-04-06",160,10,{"$f":"F1605*memoria!$B$44/(G1605*12*memoria!$B$47)","v":3.3333333333333335E-3},{"$f":"F1605/(G1605*12*memoria!$B$47)","v":8.3333333333333332E-3}]
["Diadema","01691-Pavimento Térreo - Prédio Principal","Cadeira Caixa, Cor Preta","01-109467-00","2011-04-06",160,10,{"$f":"F1606*memoria!$B$44/(G1606*12*memoria!$B$47)","v":3.3333333333333335E-3},{"$f":"F1606/(G1606*12*memoria!$B$47)","v":8.3333333333333332E-3}]
["Diadema","01691-Pavimento Térreo - Prédio Principal","Cadeira Caixa, Cor Preta","01-109468-00","2011-04-06",160,10,{"$f":"F1607*memoria!$B$44/(G1607*12*memoria!$B$47)","v":3.3333333333333335E-3},{"$f":"F1607/(G1607*12*memoria!$B$47)","v":8.3333333333333332E-3}]
["Diadema","01691-Pavimento Térreo - Prédio Principal","Cadeira Caixa, Cor Preta","01-109469-00","2011-04-06",160,10,{"$f":"F1608*memoria!$B$44/(G1608*12*memoria!$B$47)","v":3.3333333333333335E-3},{"$f":"F1608/(G1608*12*memoria!$B$47)","v":8.3333333333333332E-3}]
["Diadema","01691-Pavimento Térreo - Prédio Principal","Cadeira Caixa, Cor Preta","01-109470-00","2011-04-06",160,10,{"$f":"F1609*memoria!$B$44/(G1609*12*memoria!$B$47)","v":3.3333333333333335E-3},{"$f":"F1609/(G1609*12*memoria!$B$47)","v":8.3333333333333332E-3}]
["Diadema","01691-Pavimento Térreo - Prédio Principal","Cadeira Caixa, Cor Preta","01-109471-00","2011-04-06",160,10,{"$f":"F1610*memoria!$B$44/(G1610*12*memoria!$B$47)","v":3.3333333333333335E-3},{"$f":"F1610/(G1610*12*memoria!$B$47)","v":8.3333333333333332E-3}]
["Diadema","01691-Pavimento Térreo - Prédio Principal","Cadeira Caixa, Cor Preta","01-109472-00","2011-04-06",160,10,{"$f":"F1611*memoria!$B$44/(G1611*12*memoria!$B$47)","v":3.3333333333333335E-3},{"$f":"F1611/(G1611*12*memoria!$B$47)","v":8.3333333333333332E-3}]
["Diadema","01691-Pavimento Térreo - Prédio Principal","Cadeira Caixa, Cor Preta","01-109473-00","2011-04-06",160,10,{"$f":"F1612*memoria!$B$44/(G1612*12*memoria!$B$47)","v":3.3333333333333335E-3},{"$f":"F1612/(G1612*12*memoria!$B$47)","v":8.3333333333333332E-3}]
["Diadema","01691-Pavimento Térreo - Prédio Principal","Cadeira Caixa, Cor Preta","01-109474-00","2011-04-06",160,10,{"$f":"F1613*memoria!$B$44/(G1613*12*memoria!$B$47)","v":3.3333333333333335E-3},{"$f":"F1613/(G1613*12*memoria!$B$47)","v":8.3333333333333332E-3}]
["Diadema","01691-Pavimento Térreo - Prédio Principal","Cadeira Caixa, Cor Preta","01-109475-00","2011-04-06",160,10,{"$f":"F1614*memoria!$B$44/(G1614*12*memoria!$B$47)","v":3.3333333333333335E-3},{"$f":"F1614/(G1614*12*memoria!$B$47)","v":8.3333333333333332E-3}]
["Diadema","01691-Pavimento Térreo - Prédio Principal","Cadeira Caixa, Cor Preta","01-109477-00","2011-04-06",160,10,{"$f":"F1615*memoria!$B$44/(G1615*12*memoria!$B$47)","v":3.3333333333333335E-3},{"$f":"F1615/(G1615*12*memoria!$B$47)","v":8.3333333333333332E-3}]
["Diadema","01691-Pavimento Térreo - Prédio Principal","Cadeira Caixa, Cor Preta","01-109478-00","2011-04-06",160,10,{"$f":"F1616*memoria!$B$44/(G1616*12*memoria!$B$47)","v":3.3333333333333335E-3},{"$f":"F1616/(G1616*12*memoria!$B$47)","v":8.3333333333333332E-3}]
["Diadema","01691-Pavimento Térreo - Prédio Principal","Cadeira Caixa, Cor Preta","01-109479-00","2011-04-06",160,10,{"$f":"F1617*memoria!$B$44/(G1617*12*memoria!$B$47)","v":3.3333333333333335E-3},{"$f":"F1617/(G1617*12*memoria!$B$47)","v":8.3333333333333332E-3}]
["Diadema","01691-Pavimento Térreo - Prédio Principal","Cadeira Caixa, Cor Preta","01-109480-00","2011-04-06",160,10,{"$f":"F1618*memoria!$B$44/(G1618*12*memoria!$B$47)","v":3.3333333333333335E-3},{"$f":"F1618/(G1618*12*memoria!$B$47)","v":8.3333333333333332E-3}]
["Diadema","01691-Pavimento Térreo - Prédio Principal","Cadeira Caixa, Cor Preta","01-109481-00","2011-04-06",160,10,{"$f":"F1619*memoria!$B$44/(G1619*12*memoria!$B$47)","v":3.3333333333333335E-3},{"$f":"F1619/(G1619*12*memoria!$B$47)","v":8.3333333333333332E-3}]
["Diadema","01691-Pavimento Térreo - Prédio Principal","Cadeira Caixa, Cor Preta","01-109482-00","2011-04-06",160,10,{"$f":"F1620*memoria!$B$44/(G1620*12*memoria!$B$47)","v":3.3333333333333335E-3},{"$f":"F1620/(G1620*12*memoria!$B$47)","v":8.3333333333333332E-3}]
["Diadema","01691-Pavimento Térreo - Prédio Principal","Cadeira Caixa, Cor Preta","01-109484-00","2011-04-06",160,10,{"$f":"F1621*memoria!$B$44/(G1621*12*memoria!$B$47)","v":3.3333333333333335E-3},{"$f":"F1621/(G1621*12*memoria!$B$47)","v":8.3333333333333332E-3}]
["Diadema","01691-Pavimento Térreo - Prédio Principal","Cadeira Caixa, Cor Preta","01-109485-00","2011-04-06",160,10,{"$f":"F1622*memoria!$B$44/(G1622*12*memoria!$B$47)","v":3.3333333333333335E-3},{"$f":"F1622/(G1622*12*memoria!$B$47)","v":8.3333333333333332E-3}]
["Diadema","01691-Pavimento Térreo - Prédio Principal","Cadeira Caixa, Cor Preta","01-109486-00","2011-04-06",160,10,{"$f":"F1623*memoria!$B$44/(G1623*12*memoria!$B$47)","v":3.3333333333333335E-3},{"$f":"F1623/(G1623*12*memoria!$B$47)","v":8.3333333333333332E-3}]
["Diadema","01691-Pavimento Térreo - Prédio Principal","Cadeira Caixa, Cor Preta","01-109487-00","2011-04-06",160,10,{"$f":"F1624*memoria!$B$44/(G1624*12*memoria!$B$47)","v":3.3333333333333335E-3},{"$f":"F1624/(G1624*12*memoria!$B$47)","v":8.3333333333333332E-3}]
["Diadema","01691-Pavimento Térreo - Prédio Principal","Cadeira Caixa, Cor Preta","01-109488-00","2011-04-06",160,10,{"$f":"F1625*memoria!$B$44/(G1625*12*memoria!$B$47)","v":3.3333333333333335E-3},{"$f":"F1625/(G1625*12*memoria!$B$47)","v":8.3333333333333332E-3}]
["Diadema","01691-Pavimento Térreo - Prédio Principal","Cadeira Caixa, Cor Preta","01-109489-00","2011-04-06",160,10,{"$f":"F1626*memoria!$B$44/(G1626*12*memoria!$B$47)","v":3.3333333333333335E-3},{"$f":"F1626/(G1626*12*memoria!$B$47)","v":8.3333333333333332E-3}]
["Diadema","01691-Pavimento Térreo - Prédio Principal","Gerador Digital Gasolina Toyama","01-109490-00","2011-04-23",1519.05,10,{"$f":"F1627*memoria!$B$44/(G1627*12*memoria!$B$47)","v":3.1646874999999998E-2},{"$f":"F1627/(G1627*12*memoria!$B$47)","v":7.9117187499999991E-2}]
["Diadema","01691-Pavimento Térreo - Prédio Principal","Gerador Gasolina Cummins","01-109491-00","2011-04-23",874,10,{"$f":"F1628*memoria!$B$44/(G1628*12*memoria!$B$47)","v":1.8208333333333333E-2},{"$f":"F1628/(G1628*12*memoria!$B$47)","v":4.5520833333333337E-2}]
["Diadema","01691-Pavimento Térreo - Prédio Principal","Forno De Vidro C/ Bomba De Vacuo","01-109492-00","2011-04-27",34676.99,10,{"$f":"F1629*memoria!$B$44/(G1629*12*memoria!$B$47)","v":0.7224372916666667},{"$f":"F1629/(G1629*12*memoria!$B$47)","v":1.8060932291666665}]
["Diadema","01691-Pavimento Térreo - Prédio Principal","Leitora De Elisa","01-109493-00","2011-05-02",127499,10,{"$f":"F1630*memoria!$B$44/(G1630*12*memoria!$B$47)","v":2.6562291666666669},{"$f":"F1630/(G1630*12*memoria!$B$47)","v":6.6405729166666667}]
["Diadema","01691-Pavimento Térreo - Prédio Principal","Camara Para Teste De Nevoa Salina","01-109494-00","2011-05-02",42000,10,{"$f":"F1631*memoria!$B$44/(G1631*12*memoria!$B$47)","v":0.875},{"$f":"F1631/(G1631*12*memoria!$B$47)","v":2.1875}]
["Diadema","01691-Pavimento Térreo - Prédio Principal","Aparelho De Ponto De Fusao M-565","01-109495-00","2011-04-27",38250,10,{"$f":"F1632*memoria!$B$44/(G1632*12*memoria!$B$47)","v":0.796875},{"$f":"F1632/(G1632*12*memoria!$B$47)","v":1.9921875}]
["Diadema","01708-Pavimento Único - Galpão","Castelo Duplo Fechado, Suspenso, C/ Espaço P/ Embutir Linhas De Utilidade","01-112121-00","2011-01-28",572.29999999999995,10,{"$f":"F1633*memoria!$B$44/(G1633*12*memoria!$B$47)","v":1.1922916666666667E-2},{"$f":"F1633/(G1633*12*memoria!$B$47)","v":2.9807291666666666E-2}]
["Diadema","01708-Pavimento Único - Galpão","Castelo Duplo Fechado, Suspenso, C/ Espaço P/ Embutir Linhas De Utilidade","01-112122-00","2011-01-28",572.29999999999995,10,{"$f":"F1634*memoria!$B$44/(G1634*12*memoria!$B$47)","v":1.1922916666666667E-2},{"$f":"F1634/(G1634*12*memoria!$B$47)","v":2.9807291666666666E-2}]
["Diadema","01708-Pavimento Único - Galpão","Castelo Duplo Fechado, Suspenso, C/ Espaço P/ Embutir Linhas De Utilidade","01-112123-00","2011-01-28",572.29999999999995,10,{"$f":"F1635*memoria!$B$44/(G1635*12*memoria!$B$47)","v":1.1922916666666667E-2},{"$f":"F1635/(G1635*12*memoria!$B$47)","v":2.9807291666666666E-2}]
["Diadema","01708-Pavimento Único - Galpão","Castelo Duplo Fechado, Suspenso, C/ Espaço P/ Embutir Linhas De Utilidade","01-112124-00","2011-01-28",572.29999999999995,10,{"$f":"F1636*memoria!$B$44/(G1636*12*memoria!$B$47)","v":1.1922916666666667E-2},{"$f":"F1636/(G1636*12*memoria!$B$47)","v":2.9807291666666666E-2}]
["Diadema","01708-Pavimento Único - Galpão","Castelo Duplo Fechado, Suspenso, C/ Espaço P/ Embutir Linhas De Utilidade","01-112125-00","2011-01-28",572.29999999999995,10,{"$f":"F1637*memoria!$B$44/(G1637*12*memoria!$B$47)","v":1.1922916666666667E-2},{"$f":"F1637/(G1637*12*memoria!$B$47)","v":2.9807291666666666E-2}]
["Diadema","01708-Pavimento Único - Galpão","Castelo Duplo Fechado, Suspenso, C/ Espaço P/ Embutir Linhas De Utilidade","01-112126-00","2011-01-28",572.29999999999995,10,{"$f":"F1638*memoria!$B$44/(G1638*12*memoria!$B$47)","v":1.1922916666666667E-2},{"$f":"F1638/(G1638*12*memoria!$B$47)","v":2.9807291666666666E-2}]
["Diadema","01708-Pavimento Único - Galpão","Castelo Duplo Fechado, Suspenso, C/ Espaço P/ Embutir Linhas De Utilidade","01-112127-00","2011-01-28",572.29999999999995,10,{"$f":"F1639*memoria!$B$44/(G1639*12*memoria!$B$47)","v":1.1922916666666667E-2},{"$f":"F1639/(G1639*12*memoria!$B$47)","v":2.9807291666666666E-2}]
["Diadema","01708-Pavimento Único - Galpão","Castelo Duplo Fechado, Suspenso, C/ Espaço P/ Embutir Linhas De Utilidade","01-112128-00","2011-01-28",572.29999999999995,10,{"$f":"F1640*memoria!$B$44/(G1640*12*memoria!$B$47)","v":1.1922916666666667E-2},{"$f":"F1640/(G1640*12*memoria!$B$47)","v":2.9807291666666666E-2}]
["Diadema","01708-Pavimento Único - Galpão","Castelo Duplo Fechado, Suspenso, C/ Espaço P/ Embutir Linhas De Utilidade","01-112129-00","2011-01-28",572.29999999999995,10,{"$f":"F1641*memoria!$B$44/(G1641*12*memoria!$B$47)","v":1.1922916666666667E-2},{"$f":"F1641/(G1641*12*memoria!$B$47)","v":2.9807291666666666E-2}]
["Diadema","01708-Pavimento Único - Galpão","Castelo Duplo Fechado, Suspenso, C/ Espaço P/ Embutir Linhas De Utilidade","01-112130-00","2011-01-28",572.29999999999995,10,{"$f":"F1642*memoria!$B$44/(G1642*12*memoria!$B$47)","v":1.1922916666666667E-2},{"$f":"F1642/(G1642*12*memoria!$B$47)","v":2.9807291666666666E-2}]
["Diadema","01708-Pavimento Único - Galpão","Castelo Duplo Fechado, Suspenso, C/ Espaço P/ Embutir Linhas De Utilidade","01-112131-00","2011-01-28",572.29999999999995,10,{"$f":"F1643*memoria!$B$44/(G1643*12*memoria!$B$47)","v":1.1922916666666667E-2},{"$f":"F1643/(G1643*12*memoria!$B$47)","v":2.9807291666666666E-2}]
["Diadema","01708-Pavimento Único - Galpão","Castelo Duplo Fechado, Suspenso, C/ Espaço P/ Embutir Linhas De Utilidade","01-112132-00","2011-01-28",572.29999999999995,10,{"$f":"F1644*memoria!$B$44/(G1644*12*memoria!$B$47)","v":1.1922916666666667E-2},{"$f":"F1644/(G1644*12*memoria!$B$47)","v":2.9807291666666666E-2}]
["Diadema","01708-Pavimento Único - Galpão","Castelo Duplo Fechado, Suspenso, C/ Espaço P/ Embutir Linhas De Utilidade","01-112133-00","2011-01-28",572.4,10,{"$f":"F1645*memoria!$B$44/(G1645*12*memoria!$B$47)","v":1.1925E-2},{"$f":"F1645/(G1645*12*memoria!$B$47)","v":2.9812499999999999E-2}]
["Diadema","01691-Pavimento Térreo - Prédio Principal","Medidor Multifuncoes De Temperatura","01-112134-00","2011-05-05",1850,10,{"$f":"F1646*memoria!$B$44/(G1646*12*memoria!$B$47)","v":3.8541666666666669E-2},{"$f":"F1646/(G1646*12*memoria!$B$47)","v":9.6354166666666671E-2}]
["Diadema","01691-Pavimento Térreo - Prédio Principal","Medidor Multifuncoes De Temperatura","01-112135-00","2011-05-05",1850,10,{"$f":"F1647*memoria!$B$44/(G1647*12*memoria!$B$47)","v":3.8541666666666669E-2},{"$f":"F1647/(G1647*12*memoria!$B$47)","v":9.6354166666666671E-2}]
["Diadema","01691-Pavimento Térreo - Prédio Principal","Medidor Multifuncoes De Temperatura","01-112136-00","2011-05-05",1850,10,{"$f":"F1648*memoria!$B$44/(G1648*12*memoria!$B$47)","v":3.8541666666666669E-2},{"$f":"F1648/(G1648*12*memoria!$B$47)","v":9.6354166666666671E-2}]
["Diadema","01691-Pavimento Térreo - Prédio Principal","Medidor Multifuncoes De Temperatura","01-112137-00","2011-05-05",1850,10,{"$f":"F1649*memoria!$B$44/(G1649*12*memoria!$B$47)","v":3.8541666666666669E-2},{"$f":"F1649/(G1649*12*memoria!$B$47)","v":9.6354166666666671E-2}]
["Diadema","01691-Pavimento Térreo - Prédio Principal","Purificador De Agua","01-112138-00","2011-05-04",8500,10,{"$f":"F1650*memoria!$B$44/(G1650*12*memoria!$B$47)","v":0.17708333333333334},{"$f":"F1650/(G1650*12*memoria!$B$47)","v":0.44270833333333331}]
["Diadema","01691-Pavimento Térreo - Prédio Principal","Purificador De Agua","01-112139-00","2011-05-04",8500,10,{"$f":"F1651*memoria!$B$44/(G1651*12*memoria!$B$47)","v":0.17708333333333334},{"$f":"F1651/(G1651*12*memoria!$B$47)","v":0.44270833333333331}]
["Diadema","01691-Pavimento Térreo - Prédio Principal","Purificador De Agua","01-112140-00","2011-05-04",8500,10,{"$f":"F1652*memoria!$B$44/(G1652*12*memoria!$B$47)","v":0.17708333333333334},{"$f":"F1652/(G1652*12*memoria!$B$47)","v":0.44270833333333331}]
["Diadema","01691-Pavimento Térreo - Prédio Principal","Purificador De Agua","01-112141-00","2011-05-04",8500,10,{"$f":"F1653*memoria!$B$44/(G1653*12*memoria!$B$47)","v":0.17708333333333334},{"$f":"F1653/(G1653*12*memoria!$B$47)","v":0.44270833333333331}]
["Diadema","01691-Pavimento Térreo - Prédio Principal","Purificador De Agua","01-112142-00","2011-05-04",8500,10,{"$f":"F1654*memoria!$B$44/(G1654*12*memoria!$B$47)","v":0.17708333333333334},{"$f":"F1654/(G1654*12*memoria!$B$47)","v":0.44270833333333331}]
["Diadema","01691-Pavimento Térreo - Prédio Principal","Purificador De Agua","01-112143-00","2011-05-04",8500,10,{"$f":"F1655*memoria!$B$44/(G1655*12*memoria!$B$47)","v":0.17708333333333334},{"$f":"F1655/(G1655*12*memoria!$B$47)","v":0.44270833333333331}]
["Diadema","01691-Pavimento Térreo - Prédio Principal","Tanque Criogenico","01-112144-00","2011-05-04",8495,10,{"$f":"F1656*memoria!$B$44/(G1656*12*memoria!$B$47)","v":0.17697916666666666},{"$f":"F1656/(G1656*12*memoria!$B$47)","v":0.44244791666666666}]
["Diadema","01691-Pavimento Térreo - Prédio Principal","Tanque Criogenico","01-112145-00","2011-05-04",8495,10,{"$f":"F1657*memoria!$B$44/(G1657*12*memoria!$B$47)","v":0.17697916666666666},{"$f":"F1657/(G1657*12*memoria!$B$47)","v":0.44244791666666666}]
["Diadema","01691-Pavimento Térreo - Prédio Principal","Tanque Criogenico","01-112146-00","2011-05-04",8495,10,{"$f":"F1658*memoria!$B$44/(G1658*12*memoria!$B$47)","v":0.17697916666666666},{"$f":"F1658/(G1658*12*memoria!$B$47)","v":0.44244791666666666}]
["Diadema","01691-Pavimento Térreo - Prédio Principal","Moinho De Corte, Redutor Tamanho Continuo, Pequeno Acrescimo De","01-112147-00","2011-05-03",35000,10,{"$f":"F1659*memoria!$B$44/(G1659*12*memoria!$B$47)","v":0.72916666666666663},{"$f":"F1659/(G1659*12*memoria!$B$47)","v":1.8229166666666667}]
["Diadema","01691-Pavimento Térreo - Prédio Principal","Moinho Ultra Centrifugo, Granulometria Final Ate 0,04 Mm, Rotor Aco","01-112148-00","2011-05-03",25000,10,{"$f":"F1660*memoria!$B$44/(G1660*12*memoria!$B$47)","v":0.52083333333333337},{"$f":"F1660/(G1660*12*memoria!$B$47)","v":1.3020833333333333}]
["Diadema","01691-Pavimento Térreo - Prédio Principal","Mesa Inercial P/Balança, Med. 100 X 70 X 90 Cm","01-112149-00","2011-04-27",800,10,{"$f":"F1661*memoria!$B$44/(G1661*12*memoria!$B$47)","v":1.6666666666666666E-2},{"$f":"F1661/(G1661*12*memoria!$B$47)","v":4.1666666666666664E-2}]
["Diadema","01691-Pavimento Térreo - Prédio Principal","Mesa Inercial P/Balança, Med. 100 X 70 X 90 Cm","01-112150-00","2011-04-27",800,10,{"$f":"F1662*memoria!$B$44/(G1662*12*memoria!$B$47)","v":1.6666666666666666E-2},{"$f":"F1662/(G1662*12*memoria!$B$47)","v":4.1666666666666664E-2}]
["Diadema","01691-Pavimento Térreo - Prédio Principal","Mesa Inercial P/Balança, Med. 100 X 70 X 90 Cm","01-112151-00","2011-04-27",800,10,{"$f":"F1663*memoria!$B$44/(G1663*12*memoria!$B$47)","v":1.6666666666666666E-2},{"$f":"F1663/(G1663*12*memoria!$B$47)","v":4.1666666666666664E-2}]
["Diadema","01691-Pavimento Térreo - Prédio Principal","Mesa Inercial P/Balança, Med. 100 X 70 X 90 Cm","01-112152-00","2011-04-27",800,10,{"$f":"F1664*memoria!$B$44/(G1664*12*memoria!$B$47)","v":1.6666666666666666E-2},{"$f":"F1664/(G1664*12*memoria!$B$47)","v":4.1666666666666664E-2}]
["Diadema","01691-Pavimento Térreo - Prédio Principal","Mesa Inercial P/Balança, Med. 100 X 70 X 90 Cm","01-112153-00","2011-04-27",800,10,{"$f":"F1665*memoria!$B$44/(G1665*12*memoria!$B$47)","v":1.6666666666666666E-2},{"$f":"F1665/(G1665*12*memoria!$B$47)","v":4.1666666666666664E-2}]
["Diadema","01691-Pavimento Térreo - Prédio Principal","Mesa Inercial P/Balança, Med. 100 X 70 X 90 Cm","01-112154-00","2011-04-27",800,10,{"$f":"F1666*memoria!$B$44/(G1666*12*memoria!$B$47)","v":1.6666666666666666E-2},{"$f":"F1666/(G1666*12*memoria!$B$47)","v":4.1666666666666664E-2}]
["Diadema","01691-Pavimento Térreo - Prédio Principal","Balanca Analitica","01-112155-00","2010-10-13",8550,10,{"$f":"F1667*memoria!$B$44/(G1667*12*memoria!$B$47)","v":0.17812500000000001},{"$f":"F1667/(G1667*12*memoria!$B$47)","v":0.4453125}]
["Diadema","01691-Pavimento Térreo - Prédio Principal","Cadeira Caixa, Cor Preta","01-112158-00","2011-05-10",160,10,{"$f":"F1668*memoria!$B$44/(G1668*12*memoria!$B$47)","v":3.3333333333333335E-3},{"$f":"F1668/(G1668*12*memoria!$B$47)","v":8.3333333333333332E-3}]
["Diadema","01691-Pavimento Térreo - Prédio Principal","Cadeira Caixa, Cor Preta","01-112159-00","2011-05-10",160,10,{"$f":"F1669*memoria!$B$44/(G1669*12*memoria!$B$47)","v":3.3333333333333335E-3},{"$f":"F1669/(G1669*12*memoria!$B$47)","v":8.3333333333333332E-3}]
["Diadema","01691-Pavimento Térreo - Prédio Principal","Cadeira Caixa, Cor Preta","01-112160-00","2011-05-10",160,10,{"$f":"F1670*memoria!$B$44/(G1670*12*memoria!$B$47)","v":3.3333333333333335E-3},{"$f":"F1670/(G1670*12*memoria!$B$47)","v":8.3333333333333332E-3}]
["Diadema","01691-Pavimento Térreo - Prédio Principal","Cadeira Caixa, Cor Preta","01-112161-00","2011-05-10",160,10,{"$f":"F1671*memoria!$B$44/(G1671*12*memoria!$B$47)","v":3.3333333333333335E-3},{"$f":"F1671/(G1671*12*memoria!$B$47)","v":8.3333333333333332E-3}]
["Diadema","01691-Pavimento Térreo - Prédio Principal","Cadeira Caixa, Cor Preta","01-112162-00","2011-05-10",160,10,{"$f":"F1672*memoria!$B$44/(G1672*12*memoria!$B$47)","v":3.3333333333333335E-3},{"$f":"F1672/(G1672*12*memoria!$B$47)","v":8.3333333333333332E-3}]
["Diadema","01691-Pavimento Térreo - Prédio Principal","Cadeira Caixa, Cor Preta","01-112163-00","2011-05-10",160,10,{"$f":"F1673*memoria!$B$44/(G1673*12*memoria!$B$47)","v":3.3333333333333335E-3},{"$f":"F1673/(G1673*12*memoria!$B$47)","v":8.3333333333333332E-3}]
["Diadema","01691-Pavimento Térreo - Prédio Principal","Cadeira Caixa, Cor Preta","01-112164-00","2011-05-10",160,10,{"$f":"F1674*memoria!$B$44/(G1674*12*memoria!$B$47)","v":3.3333333333333335E-3},{"$f":"F1674/(G1674*12*memoria!$B$47)","v":8.3333333333333332E-3}]
["Diadema","01691-Pavimento Térreo - Prédio Principal","Cadeira Caixa, Cor Preta","01-112165-00","2011-05-10",160,10,{"$f":"F1675*memoria!$B$44/(G1675*12*memoria!$B$47)","v":3.3333333333333335E-3},{"$f":"F1675/(G1675*12*memoria!$B$47)","v":8.3333333333333332E-3}]
["Diadema","01691-Pavimento Térreo - Prédio Principal","Cadeira Caixa, Cor Preta","01-112166-00","2011-05-10",160,10,{"$f":"F1676*memoria!$B$44/(G1676*12*memoria!$B$47)","v":3.3333333333333335E-3},{"$f":"F1676/(G1676*12*memoria!$B$47)","v":8.3333333333333332E-3}]
["Diadema","01691-Pavimento Térreo - Prédio Principal","Cadeira Caixa, Cor Preta","01-112167-00","2011-05-10",160,10,{"$f":"F1677*memoria!$B$44/(G1677*12*memoria!$B$47)","v":3.3333333333333335E-3},{"$f":"F1677/(G1677*12*memoria!$B$47)","v":8.3333333333333332E-3}]
["Diadema","01691-Pavimento Térreo - Prédio Principal","Cadeira Caixa, Cor Preta","01-112168-00","2011-05-10",160,10,{"$f":"F1678*memoria!$B$44/(G1678*12*memoria!$B$47)","v":3.3333333333333335E-3},{"$f":"F1678/(G1678*12*memoria!$B$47)","v":8.3333333333333332E-3}]
["Diadema","01691-Pavimento Térreo - Prédio Principal","Cadeira Caixa, Cor Preta","01-112169-00","2011-05-10",160,10,{"$f":"F1679*memoria!$B$44/(G1679*12*memoria!$B$47)","v":3.3333333333333335E-3},{"$f":"F1679/(G1679*12*memoria!$B$47)","v":8.3333333333333332E-3}]
["Diadema","01691-Pavimento Térreo - Prédio Principal","Cadeira Caixa, Cor Preta","01-112170-00","2011-05-10",160,10,{"$f":"F1680*memoria!$B$44/(G1680*12*memoria!$B$47)","v":3.3333333333333335E-3},{"$f":"F1680/(G1680*12*memoria!$B$47)","v":8.3333333333333332E-3}]
["Diadema","01691-Pavimento Térreo - Prédio Principal","Cadeira Caixa, Cor Preta","01-112171-00","2011-05-10",160,10,{"$f":"F1681*memoria!$B$44/(G1681*12*memoria!$B$47)","v":3.3333333333333335E-3},{"$f":"F1681/(G1681*12*memoria!$B$47)","v":8.3333333333333332E-3}]
["Diadema","01691-Pavimento Térreo - Prédio Principal","Cadeira Caixa, Cor Preta","01-112172-00","2011-05-10",160,10,{"$f":"F1682*memoria!$B$44/(G1682*12*memoria!$B$47)","v":3.3333333333333335E-3},{"$f":"F1682/(G1682*12*memoria!$B$47)","v":8.3333333333333332E-3}]
["Diadema","01691-Pavimento Térreo - Prédio Principal","Cadeira Caixa, Cor Preta","01-112173-00","2011-05-10",160,10,{"$f":"F1683*memoria!$B$44/(G1683*12*memoria!$B$47)","v":3.3333333333333335E-3},{"$f":"F1683/(G1683*12*memoria!$B$47)","v":8.3333333333333332E-3}]
["Diadema","01691-Pavimento Térreo - Prédio Principal","Cadeira Caixa, Cor Preta","01-112174-00","2011-05-10",160,10,{"$f":"F1684*memoria!$B$44/(G1684*12*memoria!$B$47)","v":3.3333333333333335E-3},{"$f":"F1684/(G1684*12*memoria!$B$47)","v":8.3333333333333332E-3}]
["Diadema","01691-Pavimento Térreo - Prédio Principal","Cadeira Caixa, Cor Preta","01-112175-00","2011-05-10",160,10,{"$f":"F1685*memoria!$B$44/(G1685*12*memoria!$B$47)","v":3.3333333333333335E-3},{"$f":"F1685/(G1685*12*memoria!$B$47)","v":8.3333333333333332E-3}]
["Diadema","01691-Pavimento Térreo - Prédio Principal","Cadeira Caixa, Cor Preta","01-112176-00","2011-05-10",160,10,{"$f":"F1686*memoria!$B$44/(G1686*12*memoria!$B$47)","v":3.3333333333333335E-3},{"$f":"F1686/(G1686*12*memoria!$B$47)","v":8.3333333333333332E-3}]
["Diadema","01691-Pavimento Térreo - Prédio Principal","Cadeira Caixa, Cor Preta","01-112177-00","2011-05-10",160,10,{"$f":"F1687*memoria!$B$44/(G1687*12*memoria!$B$47)","v":3.3333333333333335E-3},{"$f":"F1687/(G1687*12*memoria!$B$47)","v":8.3333333333333332E-3}]
["Diadema","01691-Pavimento Térreo - Prédio Principal","Cadeira Caixa, Cor Preta","01-112178-00","2011-05-10",160,10,{"$f":"F1688*memoria!$B$44/(G1688*12*memoria!$B$47)","v":3.3333333333333335E-3},{"$f":"F1688/(G1688*12*memoria!$B$47)","v":8.3333333333333332E-3}]
["Diadema","01691-Pavimento Térreo - Prédio Principal","Cadeira Caixa, Cor Preta","01-112179-00","2011-05-10",160,10,{"$f":"F1689*memoria!$B$44/(G1689*12*memoria!$B$47)","v":3.3333333333333335E-3},{"$f":"F1689/(G1689*12*memoria!$B$47)","v":8.3333333333333332E-3}]
["Diadema","01691-Pavimento Térreo - Prédio Principal","Cadeira Caixa, Cor Preta","01-112180-00","2011-05-10",160,10,{"$f":"F1690*memoria!$B$44/(G1690*12*memoria!$B$47)","v":3.3333333333333335E-3},{"$f":"F1690/(G1690*12*memoria!$B$47)","v":8.3333333333333332E-3}]
["Diadema","01691-Pavimento Térreo - Prédio Principal","Cadeira Caixa, Cor Preta","01-112181-00","2011-05-10",160,10,{"$f":"F1691*memoria!$B$44/(G1691*12*memoria!$B$47)","v":3.3333333333333335E-3},{"$f":"F1691/(G1691*12*memoria!$B$47)","v":8.3333333333333332E-3}]
["Diadema","01691-Pavimento Térreo - Prédio Principal","Cadeira Caixa, Cor Preta","01-112182-00","2011-05-10",160,10,{"$f":"F1692*memoria!$B$44/(G1692*12*memoria!$B$47)","v":3.3333333333333335E-3},{"$f":"F1692/(G1692*12*memoria!$B$47)","v":8.3333333333333332E-3}]
["Diadema","01691-Pavimento Térreo - Prédio Principal","Cadeira Caixa, Cor Preta","01-112183-00","2011-05-10",160,10,{"$f":"F1693*memoria!$B$44/(G1693*12*memoria!$B$47)","v":3.3333333333333335E-3},{"$f":"F1693/(G1693*12*memoria!$B$47)","v":8.3333333333333332E-3}]
["Diadema","01691-Pavimento Térreo - Prédio Principal","Condutivimetro De Bancada, 110/220 V, Consumo 5 W","01-112204-00","2011-05-18",649,10,{"$f":"F1694*memoria!$B$44/(G1694*12*memoria!$B$47)","v":1.3520833333333334E-2},{"$f":"F1694/(G1694*12*memoria!$B$47)","v":3.3802083333333337E-2}]
["Diadema","01691-Pavimento Térreo - Prédio Principal","Leitor De Elisa - Leitor De Microplacas P/ Absorbancia","01-112205-00","2011-05-24",65500,10,{"$f":"F1695*memoria!$B$44/(G1695*12*memoria!$B$47)","v":1.3645833333333333},{"$f":"F1695/(G1695*12*memoria!$B$47)","v":3.4114583333333335}]
["Diadema","01691-Pavimento Térreo - Prédio Principal","Seladora De Mesa Manual. 30 Cm. Bivolt. Cor Branca","01-112206-00","2010-12-20",209.98,10,{"$f":"F1696*memoria!$B$44/(G1696*12*memoria!$B$47)","v":4.3745833333333336E-3},{"$f":"F1696/(G1696*12*memoria!$B$47)","v":1.0936458333333333E-2}]
["Diadema","01691-Pavimento Térreo - Prédio Principal","Seladora De Mesa Manual. 30 Cm. Bivolt. Cor Branca","01-112207-00","2010-12-20",209.98,10,{"$f":"F1697*memoria!$B$44/(G1697*12*memoria!$B$47)","v":4.3745833333333336E-3},{"$f":"F1697/(G1697*12*memoria!$B$47)","v":1.0936458333333333E-2}]
["Diadema","01691-Pavimento Térreo - Prédio Principal","Seladora De Mesa Manual. 30 Cm. Bivolt. Cor Branca","01-112208-00","2010-12-20",209.98,10,{"$f":"F1698*memoria!$B$44/(G1698*12*memoria!$B$47)","v":4.3745833333333336E-3},{"$f":"F1698/(G1698*12*memoria!$B$47)","v":1.0936458333333333E-2}]
["Diadema","01691-Pavimento Térreo - Prédio Principal","Seladora De Mesa Manual. 30 Cm. Bivolt. Cor Branca","01-112209-00","2010-12-20",209.98,10,{"$f":"F1699*memoria!$B$44/(G1699*12*memoria!$B$47)","v":4.3745833333333336E-3},{"$f":"F1699/(G1699*12*memoria!$B$47)","v":1.0936458333333333E-2}]
["Diadema","01691-Pavimento Térreo - Prédio Principal","Seladora De Mesa Manual. 30 Cm. Bivolt. Cor Branca","01-112210-00","2010-12-20",209.98,10,{"$f":"F1700*memoria!$B$44/(G1700*12*memoria!$B$47)","v":4.3745833333333336E-3},{"$f":"F1700/(G1700*12*memoria!$B$47)","v":1.0936458333333333E-2}]
["Diadema","01691-Pavimento Térreo - Prédio Principal","Seladora De Mesa Manual. 30 Cm. Bivolt. Cor Branca","01-112211-00","2010-12-20",209.98,10,{"$f":"F1701*memoria!$B$44/(G1701*12*memoria!$B$47)","v":4.3745833333333336E-3},{"$f":"F1701/(G1701*12*memoria!$B$47)","v":1.0936458333333333E-2}]
["Diadema","01691-Pavimento Térreo - Prédio Principal","Seladora De Mesa Manual. 30 Cm. Bivolt. Cor Branca","01-112212-00","2010-12-20",209.98,10,{"$f":"F1702*memoria!$B$44/(G1702*12*memoria!$B$47)","v":4.3745833333333336E-3},{"$f":"F1702/(G1702*12*memoria!$B$47)","v":1.0936458333333333E-2}]
["Diadema","01691-Pavimento Térreo - Prédio Principal","Seladora De Mesa Manual. 30 Cm. Bivolt. Cor Branca","01-112213-00","2010-12-20",209.98,10,{"$f":"F1703*memoria!$B$44/(G1703*12*memoria!$B$47)","v":4.3745833333333336E-3},{"$f":"F1703/(G1703*12*memoria!$B$47)","v":1.0936458333333333E-2}]
["Diadema","01691-Pavimento Térreo - Prédio Principal","Chuveiro Lava-Olhos","01-112261-00","2011-04-04",850,10,{"$f":"F1704*memoria!$B$44/(G1704*12*memoria!$B$47)","v":1.7708333333333333E-2},{"$f":"F1704/(G1704*12*memoria!$B$47)","v":4.4270833333333336E-2}]
["Diadema","01691-Pavimento Térreo - Prédio Principal","Chuveiro Lava-Olhos","01-112262-00","2011-04-04",850,10,{"$f":"F1705*memoria!$B$44/(G1705*12*memoria!$B$47)","v":1.7708333333333333E-2},{"$f":"F1705/(G1705*12*memoria!$B$47)","v":4.4270833333333336E-2}]
["Diadema","01691-Pavimento Térreo - Prédio Principal","Chuveiro Lava-Olhos","01-112263-00","2011-04-04",850,10,{"$f":"F1706*memoria!$B$44/(G1706*12*memoria!$B$47)","v":1.7708333333333333E-2},{"$f":"F1706/(G1706*12*memoria!$B$47)","v":4.4270833333333336E-2}]
["Diadema","01691-Pavimento Térreo - Prédio Principal","Chuveiro Lava-Olhos","01-112264-00","2011-04-04",850,10,{"$f":"F1707*memoria!$B$44/(G1707*12*memoria!$B$47)","v":1.7708333333333333E-2},{"$f":"F1707/(G1707*12*memoria!$B$47)","v":4.4270833333333336E-2}]
["Diadema","01691-Pavimento Térreo - Prédio Principal","Chuveiro Lava-Olhos","01-112265-00","2011-04-04",850,10,{"$f":"F1708*memoria!$B$44/(G1708*12*memoria!$B$47)","v":1.7708333333333333E-2},{"$f":"F1708/(G1708*12*memoria!$B$47)","v":4.4270833333333336E-2}]
["Diadema","01691-Pavimento Térreo - Prédio Principal","Chuveiro Lava-Olhos","01-112266-00","2011-04-04",850,10,{"$f":"F1709*memoria!$B$44/(G1709*12*memoria!$B$47)","v":1.7708333333333333E-2},{"$f":"F1709/(G1709*12*memoria!$B$47)","v":4.4270833333333336E-2}]
["Diadema","01691-Pavimento Térreo - Prédio Principal","Chuveiro Lava-Olhos","01-112267-00","2011-04-04",850,10,{"$f":"F1710*memoria!$B$44/(G1710*12*memoria!$B$47)","v":1.7708333333333333E-2},{"$f":"F1710/(G1710*12*memoria!$B$47)","v":4.4270833333333336E-2}]
["Diadema","01691-Pavimento Térreo - Prédio Principal","Chuveiro Lava-Olhos","01-112268-00","2011-04-04",850,10,{"$f":"F1711*memoria!$B$44/(G1711*12*memoria!$B$47)","v":1.7708333333333333E-2},{"$f":"F1711/(G1711*12*memoria!$B$47)","v":4.4270833333333336E-2}]
["Diadema","01691-Pavimento Térreo - Prédio Principal","Chuveiro Lava-Olhos","01-112269-00","2011-04-04",850,10,{"$f":"F1712*memoria!$B$44/(G1712*12*memoria!$B$47)","v":1.7708333333333333E-2},{"$f":"F1712/(G1712*12*memoria!$B$47)","v":4.4270833333333336E-2}]
["Diadema","01691-Pavimento Térreo - Prédio Principal","Chuveiro Lava-Olhos","01-112270-00","2011-04-04",850,10,{"$f":"F1713*memoria!$B$44/(G1713*12*memoria!$B$47)","v":1.7708333333333333E-2},{"$f":"F1713/(G1713*12*memoria!$B$47)","v":4.4270833333333336E-2}]
["Diadema","01691-Pavimento Térreo - Prédio Principal","Chuveiro Lava-Olhos","01-112271-00","2011-04-04",850,10,{"$f":"F1714*memoria!$B$44/(G1714*12*memoria!$B$47)","v":1.7708333333333333E-2},{"$f":"F1714/(G1714*12*memoria!$B$47)","v":4.4270833333333336E-2}]
["Diadema","01691-Pavimento Térreo - Prédio Principal","Chuveiro Lava-Olhos","01-112272-00","2011-04-04",850,10,{"$f":"F1715*memoria!$B$44/(G1715*12*memoria!$B$47)","v":1.7708333333333333E-2},{"$f":"F1715/(G1715*12*memoria!$B$47)","v":4.4270833333333336E-2}]
["Diadema","01691-Pavimento Térreo - Prédio Principal","Chuveiro Lava-Olhos","01-112273-00","2011-04-04",850,10,{"$f":"F1716*memoria!$B$44/(G1716*12*memoria!$B$47)","v":1.7708333333333333E-2},{"$f":"F1716/(G1716*12*memoria!$B$47)","v":4.4270833333333336E-2}]
["Diadema","01691-Pavimento Térreo - Prédio Principal","Chuveiro Lava-Olhos","01-112274-00","2011-04-04",850,10,{"$f":"F1717*memoria!$B$44/(G1717*12*memoria!$B$47)","v":1.7708333333333333E-2},{"$f":"F1717/(G1717*12*memoria!$B$47)","v":4.4270833333333336E-2}]
["Diadema","01691-Pavimento Térreo - Prédio Principal","Chuveiro Lava-Olhos","01-112275-00","2011-04-04",850,10,{"$f":"F1718*memoria!$B$44/(G1718*12*memoria!$B$47)","v":1.7708333333333333E-2},{"$f":"F1718/(G1718*12*memoria!$B$47)","v":4.4270833333333336E-2}]
["Diadema","01691-Pavimento Térreo - Prédio Principal","Chuveiro Lava-Olhos","01-112276-00","2011-04-04",850,10,{"$f":"F1719*memoria!$B$44/(G1719*12*memoria!$B$47)","v":1.7708333333333333E-2},{"$f":"F1719/(G1719*12*memoria!$B$47)","v":4.4270833333333336E-2}]
["Diadema","01691-Pavimento Térreo - Prédio Principal","Chuveiro Lava-Olhos","01-112277-00","2011-04-04",850,10,{"$f":"F1720*memoria!$B$44/(G1720*12*memoria!$B$47)","v":1.7708333333333333E-2},{"$f":"F1720/(G1720*12*memoria!$B$47)","v":4.4270833333333336E-2}]
["Diadema","01691-Pavimento Térreo - Prédio Principal","Chuveiro Lava-Olhos","01-112278-00","2011-04-04",850,10,{"$f":"F1721*memoria!$B$44/(G1721*12*memoria!$B$47)","v":1.7708333333333333E-2},{"$f":"F1721/(G1721*12*memoria!$B$47)","v":4.4270833333333336E-2}]
["Diadema","01691-Pavimento Térreo - Prédio Principal","Chuveiro Lava-Olhos","01-112279-00","2011-04-04",850,10,{"$f":"F1722*memoria!$B$44/(G1722*12*memoria!$B$47)","v":1.7708333333333333E-2},{"$f":"F1722/(G1722*12*memoria!$B$47)","v":4.4270833333333336E-2}]
["Diadema","01691-Pavimento Térreo - Prédio Principal","Chuveiro Lava-Olhos","01-112280-00","2011-04-04",850,10,{"$f":"F1723*memoria!$B$44/(G1723*12*memoria!$B$47)","v":1.7708333333333333E-2},{"$f":"F1723/(G1723*12*memoria!$B$47)","v":4.4270833333333336E-2}]
["Diadema","01691-Pavimento Térreo - Prédio Principal","Sistema De Ventilacao Local Exaustora","01-112281-00","2011-04-04",5000,10,{"$f":"F1724*memoria!$B$44/(G1724*12*memoria!$B$47)","v":0.10416666666666667},{"$f":"F1724/(G1724*12*memoria!$B$47)","v":0.26041666666666669}]
["Diadema","01691-Pavimento Térreo - Prédio Principal","Sistema De Ventilacao Local Exaustora","01-112282-00","2011-04-04",5000,10,{"$f":"F1725*memoria!$B$44/(G1725*12*memoria!$B$47)","v":0.10416666666666667},{"$f":"F1725/(G1725*12*memoria!$B$47)","v":0.26041666666666669}]
["Diadema","01691-Pavimento Térreo - Prédio Principal","Sistema De Ventilacao Local Exaustora","01-112283-00","2011-04-04",5000,10,{"$f":"F1726*memoria!$B$44/(G1726*12*memoria!$B$47)","v":0.10416666666666667},{"$f":"F1726/(G1726*12*memoria!$B$47)","v":0.26041666666666669}]
["Diadema","01691-Pavimento Térreo - Prédio Principal","Lavador Autonatico De Pipetas","01-112290-00","2011-04-25",250,10,{"$f":"F1727*memoria!$B$44/(G1727*12*memoria!$B$47)","v":5.208333333333333E-3},{"$f":"F1727/(G1727*12*memoria!$B$47)","v":1.3020833333333334E-2}]
["Diadema","01691-Pavimento Térreo - Prédio Principal","Lavador Autonatico De Pipetas","01-112291-00","2011-04-25",250,10,{"$f":"F1728*memoria!$B$44/(G1728*12*memoria!$B$47)","v":5.208333333333333E-3},{"$f":"F1728/(G1728*12*memoria!$B$47)","v":1.3020833333333334E-2}]
["Diadema","01691-Pavimento Térreo - Prédio Principal","Lavador Autonatico De Pipetas","01-112292-00","2011-04-25",250,10,{"$f":"F1729*memoria!$B$44/(G1729*12*memoria!$B$47)","v":5.208333333333333E-3},{"$f":"F1729/(G1729*12*memoria!$B$47)","v":1.3020833333333334E-2}]
["Diadema","01691-Pavimento Térreo - Prédio Principal","Lavador Autonatico De Pipetas","01-112293-00","2011-04-25",250,10,{"$f":"F1730*memoria!$B$44/(G1730*12*memoria!$B$47)","v":5.208333333333333E-3},{"$f":"F1730/(G1730*12*memoria!$B$47)","v":1.3020833333333334E-2}]
["Diadema","01691-Pavimento Térreo - Prédio Principal","Lavador Autonatico De Pipetas","01-112294-00","2011-04-25",250,10,{"$f":"F1731*memoria!$B$44/(G1731*12*memoria!$B$47)","v":5.208333333333333E-3},{"$f":"F1731/(G1731*12*memoria!$B$47)","v":1.3020833333333334E-2}]
["Diadema","01691-Pavimento Térreo - Prédio Principal","Lavador Autonatico De Pipetas","01-112295-00","2011-04-25",250,10,{"$f":"F1732*memoria!$B$44/(G1732*12*memoria!$B$47)","v":5.208333333333333E-3},{"$f":"F1732/(G1732*12*memoria!$B$47)","v":1.3020833333333334E-2}]
["Diadema","01691-Pavimento Térreo - Prédio Principal","Lavador Autonatico De Pipetas","01-112296-00","2011-04-25",250,10,{"$f":"F1733*memoria!$B$44/(G1733*12*memoria!$B$47)","v":5.208333333333333E-3},{"$f":"F1733/(G1733*12*memoria!$B$47)","v":1.3020833333333334E-2}]
["Diadema","01691-Pavimento Térreo - Prédio Principal","Lavador Autonatico De Pipetas","01-112297-00","2011-04-25",250,10,{"$f":"F1734*memoria!$B$44/(G1734*12*memoria!$B$47)","v":5.208333333333333E-3},{"$f":"F1734/(G1734*12*memoria!$B$47)","v":1.3020833333333334E-2}]
["Diadema","01691-Pavimento Térreo - Prédio Principal","Lavador Autonatico De Pipetas","01-112298-00","2011-04-25",250,10,{"$f":"F1735*memoria!$B$44/(G1735*12*memoria!$B$47)","v":5.208333333333333E-3},{"$f":"F1735/(G1735*12*memoria!$B$47)","v":1.3020833333333334E-2}]
["Diadema","01691-Pavimento Térreo - Prédio Principal","Lavador Autonatico De Pipetas","01-112299-00","2011-04-25",250,10,{"$f":"F1736*memoria!$B$44/(G1736*12*memoria!$B$47)","v":5.208333333333333E-3},{"$f":"F1736/(G1736*12*memoria!$B$47)","v":1.3020833333333334E-2}]
["Diadema","01691-Pavimento Térreo - Prédio Principal","Seladora A Vacuo P/ Fechamento De Alimentos Processados","01-112341-00","2011-05-25",2700,10,{"$f":"F1737*memoria!$B$44/(G1737*12*memoria!$B$47)","v":5.6250000000000001E-2},{"$f":"F1737/(G1737*12*memoria!$B$47)","v":0.140625}]
["Diadema","01691-Pavimento Térreo - Prédio Principal","Calandra Misturadora De Laboratorio, Hp Trifasico, Pot.Aquec.1,6 Kw P/Rolo","01-112342-00","2011-05-30",61479.99,10,{"$f":"F1738*memoria!$B$44/(G1738*12*memoria!$B$47)","v":1.280833125},{"$f":"F1738/(G1738*12*memoria!$B$47)","v":3.2020828125}]
["Diadema","01691-Pavimento Térreo - Prédio Principal","Mesa Inercial P/Balança, Med. 100 X 70 X 90 Cm","01-112343-00","2011-04-27",800,10,{"$f":"F1739*memoria!$B$44/(G1739*12*memoria!$B$47)","v":1.6666666666666666E-2},{"$f":"F1739/(G1739*12*memoria!$B$47)","v":4.1666666666666664E-2}]
["Diadema","01691-Pavimento Térreo - Prédio Principal","Mesa Inercial P/Balança, Med. 100 X 70 X 90 Cm","01-112344-00","2011-04-27",800,10,{"$f":"F1740*memoria!$B$44/(G1740*12*memoria!$B$47)","v":1.6666666666666666E-2},{"$f":"F1740/(G1740*12*memoria!$B$47)","v":4.1666666666666664E-2}]
["Diadema","01691-Pavimento Térreo - Prédio Principal","Mesa Inercial P/Balança, Med. 100 X 70 X 90 Cm","01-112345-00","2011-04-27",800,10,{"$f":"F1741*memoria!$B$44/(G1741*12*memoria!$B$47)","v":1.6666666666666666E-2},{"$f":"F1741/(G1741*12*memoria!$B$47)","v":4.1666666666666664E-2}]
["Diadema","01691-Pavimento Térreo - Prédio Principal","Mesa Inercial P/Balança, Med. 100 X 70 X 90 Cm","01-112346-00","2011-04-27",800,10,{"$f":"F1742*memoria!$B$44/(G1742*12*memoria!$B$47)","v":1.6666666666666666E-2},{"$f":"F1742/(G1742*12*memoria!$B$47)","v":4.1666666666666664E-2}]
["Diadema","01691-Pavimento Térreo - Prédio Principal","Cadeira Caixa, Cor Preta","01-114587-00","2011-05-10",160,10,{"$f":"F1743*memoria!$B$44/(G1743*12*memoria!$B$47)","v":3.3333333333333335E-3},{"$f":"F1743/(G1743*12*memoria!$B$47)","v":8.3333333333333332E-3}]
["Diadema","01691-Pavimento Térreo - Prédio Principal","Cadeira Caixa, Cor Preta","01-114588-00","2011-05-10",160,10,{"$f":"F1744*memoria!$B$44/(G1744*12*memoria!$B$47)","v":3.3333333333333335E-3},{"$f":"F1744/(G1744*12*memoria!$B$47)","v":8.3333333333333332E-3}]
["Diadema","01691-Pavimento Térreo - Prédio Principal","Cadeira Caixa, Cor Preta","01-114589-00","2011-05-10",160,10,{"$f":"F1745*memoria!$B$44/(G1745*12*memoria!$B$47)","v":3.3333333333333335E-3},{"$f":"F1745/(G1745*12*memoria!$B$47)","v":8.3333333333333332E-3}]
["Diadema","01691-Pavimento Térreo - Prédio Principal","Cadeira Caixa, Cor Preta","01-114590-00","2011-05-10",160,10,{"$f":"F1746*memoria!$B$44/(G1746*12*memoria!$B$47)","v":3.3333333333333335E-3},{"$f":"F1746/(G1746*12*memoria!$B$47)","v":8.3333333333333332E-3}]
["Diadema","01691-Pavimento Térreo - Prédio Principal","Cadeira Caixa, Cor Preta","01-114591-00","2011-05-10",160,10,{"$f":"F1747*memoria!$B$44/(G1747*12*memoria!$B$47)","v":3.3333333333333335E-3},{"$f":"F1747/(G1747*12*memoria!$B$47)","v":8.3333333333333332E-3}]
["Diadema","01691-Pavimento Térreo - Prédio Principal","Cadeira Caixa, Cor Preta","01-114592-00","2011-05-10",160,10,{"$f":"F1748*memoria!$B$44/(G1748*12*memoria!$B$47)","v":3.3333333333333335E-3},{"$f":"F1748/(G1748*12*memoria!$B$47)","v":8.3333333333333332E-3}]
["Diadema","01691-Pavimento Térreo - Prédio Principal","Cadeira Caixa, Cor Preta","01-114593-00","2011-05-10",160,10,{"$f":"F1749*memoria!$B$44/(G1749*12*memoria!$B$47)","v":3.3333333333333335E-3},{"$f":"F1749/(G1749*12*memoria!$B$47)","v":8.3333333333333332E-3}]
["Diadema","01691-Pavimento Térreo - Prédio Principal","Cadeira Caixa, Cor Preta","01-114594-00","2011-05-10",160,10,{"$f":"F1750*memoria!$B$44/(G1750*12*memoria!$B$47)","v":3.3333333333333335E-3},{"$f":"F1750/(G1750*12*memoria!$B$47)","v":8.3333333333333332E-3}]
["Diadema","01691-Pavimento Térreo - Prédio Principal","Cadeira Caixa, Cor Preta","01-114595-00","2011-05-10",160,10,{"$f":"F1751*memoria!$B$44/(G1751*12*memoria!$B$47)","v":3.3333333333333335E-3},{"$f":"F1751/(G1751*12*memoria!$B$47)","v":8.3333333333333332E-3}]
["Diadema","01691-Pavimento Térreo - Prédio Principal","Cadeira Caixa, Cor Preta","01-114596-00","2011-05-10",160,10,{"$f":"F1752*memoria!$B$44/(G1752*12*memoria!$B$47)","v":3.3333333333333335E-3},{"$f":"F1752/(G1752*12*memoria!$B$47)","v":8.3333333333333332E-3}]
["Diadema","01691-Pavimento Térreo - Prédio Principal","Cadeira Caixa, Cor Preta","01-114597-00","2011-05-10",160,10,{"$f":"F1753*memoria!$B$44/(G1753*12*memoria!$B$47)","v":3.3333333333333335E-3},{"$f":"F1753/(G1753*12*memoria!$B$47)","v":8.3333333333333332E-3}]
["Diadema","01691-Pavimento Térreo - Prédio Principal","Cadeira Caixa, Cor Preta","01-114598-00","2011-05-10",160,10,{"$f":"F1754*memoria!$B$44/(G1754*12*memoria!$B$47)","v":3.3333333333333335E-3},{"$f":"F1754/(G1754*12*memoria!$B$47)","v":8.3333333333333332E-3}]
["Diadema","01691-Pavimento Térreo - Prédio Principal","Cadeira Caixa, Cor Preta","01-114599-00","2011-05-10",160,10,{"$f":"F1755*memoria!$B$44/(G1755*12*memoria!$B$47)","v":3.3333333333333335E-3},{"$f":"F1755/(G1755*12*memoria!$B$47)","v":8.3333333333333332E-3}]
["Diadema","01691-Pavimento Térreo - Prédio Principal","Cadeira Caixa, Cor Preta","01-114600-00","2011-05-10",160,10,{"$f":"F1756*memoria!$B$44/(G1756*12*memoria!$B$47)","v":3.3333333333333335E-3},{"$f":"F1756/(G1756*12*memoria!$B$47)","v":8.3333333333333332E-3}]
["Diadema","01691-Pavimento Térreo - Prédio Principal","Cadeira Caixa, Cor Preta","01-114601-00","2011-05-10",160,10,{"$f":"F1757*memoria!$B$44/(G1757*12*memoria!$B$47)","v":3.3333333333333335E-3},{"$f":"F1757/(G1757*12*memoria!$B$47)","v":8.3333333333333332E-3}]
["Diadema","01691-Pavimento Térreo - Prédio Principal","Cadeira Caixa, Cor Preta","01-114602-00","2011-05-10",160,10,{"$f":"F1758*memoria!$B$44/(G1758*12*memoria!$B$47)","v":3.3333333333333335E-3},{"$f":"F1758/(G1758*12*memoria!$B$47)","v":8.3333333333333332E-3}]
["Diadema","01691-Pavimento Térreo - Prédio Principal","Cadeira Caixa, Cor Preta","01-114603-00","2011-05-10",160,10,{"$f":"F1759*memoria!$B$44/(G1759*12*memoria!$B$47)","v":3.3333333333333335E-3},{"$f":"F1759/(G1759*12*memoria!$B$47)","v":8.3333333333333332E-3}]
["Diadema","01691-Pavimento Térreo - Prédio Principal","Cadeira Caixa, Cor Preta","01-114604-00","2011-05-10",160,10,{"$f":"F1760*memoria!$B$44/(G1760*12*memoria!$B$47)","v":3.3333333333333335E-3},{"$f":"F1760/(G1760*12*memoria!$B$47)","v":8.3333333333333332E-3}]
["Diadema","01691-Pavimento Térreo - Prédio Principal","Cadeira Caixa, Cor Preta","01-114605-00","2011-05-10",160,10,{"$f":"F1761*memoria!$B$44/(G1761*12*memoria!$B$47)","v":3.3333333333333335E-3},{"$f":"F1761/(G1761*12*memoria!$B$47)","v":8.3333333333333332E-3}]
["Diadema","01691-Pavimento Térreo - Prédio Principal","Cadeira Caixa, Cor Preta","01-114606-00","2011-05-10",160,10,{"$f":"F1762*memoria!$B$44/(G1762*12*memoria!$B$47)","v":3.3333333333333335E-3},{"$f":"F1762/(G1762*12*memoria!$B$47)","v":8.3333333333333332E-3}]
["Diadema","01691-Pavimento Térreo - Prédio Principal","Cadeira Caixa, Cor Preta","01-114607-00","2011-05-10",160,10,{"$f":"F1763*memoria!$B$44/(G1763*12*memoria!$B$47)","v":3.3333333333333335E-3},{"$f":"F1763/(G1763*12*memoria!$B$47)","v":8.3333333333333332E-3}]
["Diadema","01691-Pavimento Térreo - Prédio Principal","Cadeira Caixa, Cor Preta","01-114608-00","2011-05-10",160,10,{"$f":"F1764*memoria!$B$44/(G1764*12*memoria!$B$47)","v":3.3333333333333335E-3},{"$f":"F1764/(G1764*12*memoria!$B$47)","v":8.3333333333333332E-3}]
["Diadema","01691-Pavimento Térreo - Prédio Principal","Cadeira Caixa, Cor Preta","01-114609-00","2011-05-10",160,10,{"$f":"F1765*memoria!$B$44/(G1765*12*memoria!$B$47)","v":3.3333333333333335E-3},{"$f":"F1765/(G1765*12*memoria!$B$47)","v":8.3333333333333332E-3}]
["Diadema","01691-Pavimento Térreo - Prédio Principal","Cadeira Caixa, Cor Preta","01-114610-00","2011-05-10",160,10,{"$f":"F1766*memoria!$B$44/(G1766*12*memoria!$B$47)","v":3.3333333333333335E-3},{"$f":"F1766/(G1766*12*memoria!$B$47)","v":8.3333333333333332E-3}]
["Diadema","01691-Pavimento Térreo - Prédio Principal","Cadeira Caixa, Cor Preta","01-114611-00","2011-05-10",160,10,{"$f":"F1767*memoria!$B$44/(G1767*12*memoria!$B$47)","v":3.3333333333333335E-3},{"$f":"F1767/(G1767*12*memoria!$B$47)","v":8.3333333333333332E-3}]
["Diadema","01691-Pavimento Térreo - Prédio Principal","Cadeira Caixa, Cor Preta","01-114612-00","2011-05-10",160,10,{"$f":"F1768*memoria!$B$44/(G1768*12*memoria!$B$47)","v":3.3333333333333335E-3},{"$f":"F1768/(G1768*12*memoria!$B$47)","v":8.3333333333333332E-3}]
["Diadema","01691-Pavimento Térreo - Prédio Principal","Cadeira Caixa, Cor Preta","01-114613-00","2011-05-10",160,10,{"$f":"F1769*memoria!$B$44/(G1769*12*memoria!$B$47)","v":3.3333333333333335E-3},{"$f":"F1769/(G1769*12*memoria!$B$47)","v":8.3333333333333332E-3}]
["Diadema","01691-Pavimento Térreo - Prédio Principal","Cadeira Caixa, Cor Preta","01-114614-00","2011-05-10",160,10,{"$f":"F1770*memoria!$B$44/(G1770*12*memoria!$B$47)","v":3.3333333333333335E-3},{"$f":"F1770/(G1770*12*memoria!$B$47)","v":8.3333333333333332E-3}]
["Diadema","01691-Pavimento Térreo - Prédio Principal","Cadeira Caixa, Cor Preta","01-114615-00","2011-05-10",160,10,{"$f":"F1771*memoria!$B$44/(G1771*12*memoria!$B$47)","v":3.3333333333333335E-3},{"$f":"F1771/(G1771*12*memoria!$B$47)","v":8.3333333333333332E-3}]
["Diadema","01691-Pavimento Térreo - Prédio Principal","Cadeira Caixa, Cor Preta","01-114616-00","2011-05-10",160,10,{"$f":"F1772*memoria!$B$44/(G1772*12*memoria!$B$47)","v":3.3333333333333335E-3},{"$f":"F1772/(G1772*12*memoria!$B$47)","v":8.3333333333333332E-3}]
["Diadema","01691-Pavimento Térreo - Prédio Principal","Cadeira Caixa, Cor Preta","01-114617-00","2011-05-10",160,10,{"$f":"F1773*memoria!$B$44/(G1773*12*memoria!$B$47)","v":3.3333333333333335E-3},{"$f":"F1773/(G1773*12*memoria!$B$47)","v":8.3333333333333332E-3}]
["Diadema","01691-Pavimento Térreo - Prédio Principal","Cadeira Caixa, Cor Preta","01-114618-00","2011-05-10",160,10,{"$f":"F1774*memoria!$B$44/(G1774*12*memoria!$B$47)","v":3.3333333333333335E-3},{"$f":"F1774/(G1774*12*memoria!$B$47)","v":8.3333333333333332E-3}]
["Diadema","01691-Pavimento Térreo - Prédio Principal","Cadeira Caixa, Cor Preta","01-114619-00","2011-05-10",160,10,{"$f":"F1775*memoria!$B$44/(G1775*12*memoria!$B$47)","v":3.3333333333333335E-3},{"$f":"F1775/(G1775*12*memoria!$B$47)","v":8.3333333333333332E-3}]
["Diadema","01691-Pavimento Térreo - Prédio Principal","Cadeira Caixa, Cor Preta","01-114620-00","2011-05-10",160,10,{"$f":"F1776*memoria!$B$44/(G1776*12*memoria!$B$47)","v":3.3333333333333335E-3},{"$f":"F1776/(G1776*12*memoria!$B$47)","v":8.3333333333333332E-3}]
["Diadema","01691-Pavimento Térreo - Prédio Principal","Cadeira Caixa, Cor Preta","01-114621-00","2011-05-10",160,10,{"$f":"F1777*memoria!$B$44/(G1777*12*memoria!$B$47)","v":3.3333333333333335E-3},{"$f":"F1777/(G1777*12*memoria!$B$47)","v":8.3333333333333332E-3}]
["Diadema","01691-Pavimento Térreo - Prédio Principal","Cadeira Caixa, Cor Preta","01-114622-00","2011-05-10",160,10,{"$f":"F1778*memoria!$B$44/(G1778*12*memoria!$B$47)","v":3.3333333333333335E-3},{"$f":"F1778/(G1778*12*memoria!$B$47)","v":8.3333333333333332E-3}]
["Diadema","01691-Pavimento Térreo - Prédio Principal","Cadeira Caixa, Cor Preta","01-114623-00","2011-05-10",160,10,{"$f":"F1779*memoria!$B$44/(G1779*12*memoria!$B$47)","v":3.3333333333333335E-3},{"$f":"F1779/(G1779*12*memoria!$B$47)","v":8.3333333333333332E-3}]
["Diadema","01691-Pavimento Térreo - Prédio Principal","Cadeira Caixa, Cor Preta","01-114624-00","2011-05-10",160,10,{"$f":"F1780*memoria!$B$44/(G1780*12*memoria!$B$47)","v":3.3333333333333335E-3},{"$f":"F1780/(G1780*12*memoria!$B$47)","v":8.3333333333333332E-3}]
["Diadema","01691-Pavimento Térreo - Prédio Principal","Cadeira Caixa, Cor Preta","01-114625-00","2011-05-10",160,10,{"$f":"F1781*memoria!$B$44/(G1781*12*memoria!$B$47)","v":3.3333333333333335E-3},{"$f":"F1781/(G1781*12*memoria!$B$47)","v":8.3333333333333332E-3}]
["Diadema","01691-Pavimento Térreo - Prédio Principal","Cadeira Caixa, Cor Preta","01-114626-00","2011-05-10",160,10,{"$f":"F1782*memoria!$B$44/(G1782*12*memoria!$B$47)","v":3.3333333333333335E-3},{"$f":"F1782/(G1782*12*memoria!$B$47)","v":8.3333333333333332E-3}]
["Diadema","01691-Pavimento Térreo - Prédio Principal","Cadeira Caixa, Cor Preta","01-114627-00","2011-05-10",160,10,{"$f":"F1783*memoria!$B$44/(G1783*12*memoria!$B$47)","v":3.3333333333333335E-3},{"$f":"F1783/(G1783*12*memoria!$B$47)","v":8.3333333333333332E-3}]
["Diadema","01691-Pavimento Térreo - Prédio Principal","Cadeira Caixa, Cor Preta","01-114628-00","2011-05-10",160,10,{"$f":"F1784*memoria!$B$44/(G1784*12*memoria!$B$47)","v":3.3333333333333335E-3},{"$f":"F1784/(G1784*12*memoria!$B$47)","v":8.3333333333333332E-3}]
["Diadema","01691-Pavimento Térreo - Prédio Principal","Cadeira Caixa, Cor Preta","01-114629-00","2011-05-10",160,10,{"$f":"F1785*memoria!$B$44/(G1785*12*memoria!$B$47)","v":3.3333333333333335E-3},{"$f":"F1785/(G1785*12*memoria!$B$47)","v":8.3333333333333332E-3}]
["Diadema","01691-Pavimento Térreo - Prédio Principal","Cadeira Caixa, Cor Preta","01-114630-00","2011-05-10",160,10,{"$f":"F1786*memoria!$B$44/(G1786*12*memoria!$B$47)","v":3.3333333333333335E-3},{"$f":"F1786/(G1786*12*memoria!$B$47)","v":8.3333333333333332E-3}]
["Diadema","01691-Pavimento Térreo - Prédio Principal","Cadeira Caixa, Cor Preta","01-114631-00","2011-05-10",160,10,{"$f":"F1787*memoria!$B$44/(G1787*12*memoria!$B$47)","v":3.3333333333333335E-3},{"$f":"F1787/(G1787*12*memoria!$B$47)","v":8.3333333333333332E-3}]
["Diadema","01691-Pavimento Térreo - Prédio Principal","Cadeira Caixa, Cor Preta","01-114632-00","2011-05-10",160,10,{"$f":"F1788*memoria!$B$44/(G1788*12*memoria!$B$47)","v":3.3333333333333335E-3},{"$f":"F1788/(G1788*12*memoria!$B$47)","v":8.3333333333333332E-3}]
["Diadema","01691-Pavimento Térreo - Prédio Principal","Cadeira Caixa, Cor Preta","01-114633-00","2011-05-10",160,10,{"$f":"F1789*memoria!$B$44/(G1789*12*memoria!$B$47)","v":3.3333333333333335E-3},{"$f":"F1789/(G1789*12*memoria!$B$47)","v":8.3333333333333332E-3}]
["Diadema","01691-Pavimento Térreo - Prédio Principal","Cadeira Caixa, Cor Preta","01-114634-00","2011-05-10",160,10,{"$f":"F1790*memoria!$B$44/(G1790*12*memoria!$B$47)","v":3.3333333333333335E-3},{"$f":"F1790/(G1790*12*memoria!$B$47)","v":8.3333333333333332E-3}]
["Diadema","01691-Pavimento Térreo - Prédio Principal","Cadeira Caixa, Cor Preta","01-114635-00","2011-05-10",160,10,{"$f":"F1791*memoria!$B$44/(G1791*12*memoria!$B$47)","v":3.3333333333333335E-3},{"$f":"F1791/(G1791*12*memoria!$B$47)","v":8.3333333333333332E-3}]
["Diadema","01691-Pavimento Térreo - Prédio Principal","Cadeira Caixa, Cor Preta","01-114636-00","2011-05-10",160,10,{"$f":"F1792*memoria!$B$44/(G1792*12*memoria!$B$47)","v":3.3333333333333335E-3},{"$f":"F1792/(G1792*12*memoria!$B$47)","v":8.3333333333333332E-3}]
["Diadema","01691-Pavimento Térreo - Prédio Principal","Castelo Duplo Fechado, Suspenso, C/Espaço P/Embutir Linhas De Utilidades, Com","01-114637-00","2011-04-27",473.19,10,{"$f":"F1793*memoria!$B$44/(G1793*12*memoria!$B$47)","v":9.8581250000000006E-3},{"$f":"F1793/(G1793*12*memoria!$B$47)","v":2.4645312499999999E-2}]
["Diadema","01691-Pavimento Térreo - Prédio Principal","Castelo Duplo Fechado, Suspenso, C/Espaço P/Embutir Linhas De Utilidades, Com","01-114638-00","2011-04-27",473.74,10,{"$f":"F1794*memoria!$B$44/(G1794*12*memoria!$B$47)","v":9.8695833333333344E-3},{"$f":"F1794/(G1794*12*memoria!$B$47)","v":2.4673958333333332E-2}]
["Diadema","01691-Pavimento Térreo - Prédio Principal","Castelo Duplo Fechado, Suspenso, C/Espaço P/Embutir Linhas De Utilidades, Com","01-114639-00","2011-04-27",473.74,10,{"$f":"F1795*memoria!$B$44/(G1795*12*memoria!$B$47)","v":9.8695833333333344E-3},{"$f":"F1795/(G1795*12*memoria!$B$47)","v":2.4673958333333332E-2}]
["Diadema","01691-Pavimento Térreo - Prédio Principal","Castelo Duplo Fechado, Suspenso, C/Espaço P/Embutir Linhas De Utilidades, Com","01-114640-00","2011-04-27",473.74,10,{"$f":"F1796*memoria!$B$44/(G1796*12*memoria!$B$47)","v":9.8695833333333344E-3},{"$f":"F1796/(G1796*12*memoria!$B$47)","v":2.4673958333333332E-2}]
["Diadema","01691-Pavimento Térreo - Prédio Principal","Castelo Duplo Fechado, Suspenso, C/Espaço P/Embutir Linhas De Utilidades, Com","01-114641-00","2011-04-27",473.74,10,{"$f":"F1797*memoria!$B$44/(G1797*12*memoria!$B$47)","v":9.8695833333333344E-3},{"$f":"F1797/(G1797*12*memoria!$B$47)","v":2.4673958333333332E-2}]
["Diadema","01691-Pavimento Térreo - Prédio Principal","Castelo Duplo Fechado, Suspenso, C/Espaço P/Embutir Linhas De Utilidades, Com","01-114642-00","2011-04-27",473.74,10,{"$f":"F1798*memoria!$B$44/(G1798*12*memoria!$B$47)","v":9.8695833333333344E-3},{"$f":"F1798/(G1798*12*memoria!$B$47)","v":2.4673958333333332E-2}]
["Diadema","01691-Pavimento Térreo - Prédio Principal","Castelo Duplo Fechado, Suspenso, C/Espaço P/Embutir Linhas De Utilidades, Com","01-114643-00","2011-04-27",473.74,10,{"$f":"F1799*memoria!$B$44/(G1799*12*memoria!$B$47)","v":9.8695833333333344E-3},{"$f":"F1799/(G1799*12*memoria!$B$47)","v":2.4673958333333332E-2}]
["Diadema","01691-Pavimento Térreo - Prédio Principal","Castelo Duplo Fechado, Suspenso, C/Espaço P/Embutir Linhas De Utilidades, Com","01-114644-00","2011-04-27",473.74,10,{"$f":"F1800*memoria!$B$44/(G1800*12*memoria!$B$47)","v":9.8695833333333344E-3},{"$f":"F1800/(G1800*12*memoria!$B$47)","v":2.4673958333333332E-2}]
["Diadema","01691-Pavimento Térreo - Prédio Principal","Castelo Duplo Fechado, Suspenso, C/Espaço P/Embutir Linhas De Utilidades, Com","01-114645-00","2011-04-27",473.74,10,{"$f":"F1801*memoria!$B$44/(G1801*12*memoria!$B$47)","v":9.8695833333333344E-3},{"$f":"F1801/(G1801*12*memoria!$B$47)","v":2.4673958333333332E-2}]
["Diadema","01691-Pavimento Térreo - Prédio Principal","Castelo Duplo Fechado, Suspenso, C/Espaço P/Embutir Linhas De Utilidades, Com","01-114646-00","2011-04-27",473.74,10,{"$f":"F1802*memoria!$B$44/(G1802*12*memoria!$B$47)","v":9.8695833333333344E-3},{"$f":"F1802/(G1802*12*memoria!$B$47)","v":2.4673958333333332E-2}]
["Diadema","01691-Pavimento Térreo - Prédio Principal","Castelo Duplo Fechado, Suspenso, C/Espaço P/Embutir Linhas De Utilidades, Com","01-114647-00","2011-04-27",473.74,10,{"$f":"F1803*memoria!$B$44/(G1803*12*memoria!$B$47)","v":9.8695833333333344E-3},{"$f":"F1803/(G1803*12*memoria!$B$47)","v":2.4673958333333332E-2}]
["Diadema","01691-Pavimento Térreo - Prédio Principal","Castelo Duplo Fechado, Suspenso, C/Espaço P/Embutir Linhas De Utilidades, Com","01-114648-00","2011-04-27",473.74,10,{"$f":"F1804*memoria!$B$44/(G1804*12*memoria!$B$47)","v":9.8695833333333344E-3},{"$f":"F1804/(G1804*12*memoria!$B$47)","v":2.4673958333333332E-2}]
["Diadema","01691-Pavimento Térreo - Prédio Principal","Castelo Duplo Fechado, Suspenso, C/Espaço P/Embutir Linhas De Utilidades, Com","01-114649-00","2011-04-27",473.74,10,{"$f":"F1805*memoria!$B$44/(G1805*12*memoria!$B$47)","v":9.8695833333333344E-3},{"$f":"F1805/(G1805*12*memoria!$B$47)","v":2.4673958333333332E-2}]
["Diadema","01691-Pavimento Térreo - Prédio Principal","Castelo Duplo Fechado, Suspenso, C/Espaço P/Embutir Linhas De Utilidades, Com","01-114650-00","2011-04-27",473.74,10,{"$f":"F1806*memoria!$B$44/(G1806*12*memoria!$B$47)","v":9.8695833333333344E-3},{"$f":"F1806/(G1806*12*memoria!$B$47)","v":2.4673958333333332E-2}]
["Diadema","01691-Pavimento Térreo - Prédio Principal","Castelo Duplo Fechado, Suspenso, C/Espaço P/Embutir Linhas De Utilidades, Com","01-114651-00","2011-04-27",473.74,10,{"$f":"F1807*memoria!$B$44/(G1807*12*memoria!$B$47)","v":9.8695833333333344E-3},{"$f":"F1807/(G1807*12*memoria!$B$47)","v":2.4673958333333332E-2}]
["Diadema","01691-Pavimento Térreo - Prédio Principal","Castelo Duplo Fechado, Suspenso, C/Espaço P/Embutir Linhas De Utilidades, Com","01-114652-00","2011-04-27",473.74,10,{"$f":"F1808*memoria!$B$44/(G1808*12*memoria!$B$47)","v":9.8695833333333344E-3},{"$f":"F1808/(G1808*12*memoria!$B$47)","v":2.4673958333333332E-2}]
["Diadema","01691-Pavimento Térreo - Prédio Principal","Castelo Duplo Fechado, Suspenso, C/Espaço P/Embutir Linhas De Utilidades, Com","01-114653-00","2011-04-27",473.74,10,{"$f":"F1809*memoria!$B$44/(G1809*12*memoria!$B$47)","v":9.8695833333333344E-3},{"$f":"F1809/(G1809*12*memoria!$B$47)","v":2.4673958333333332E-2}]
["Diadema","01691-Pavimento Térreo - Prédio Principal","Castelo Duplo Fechado, Suspenso, C/Espaço P/Embutir Linhas De Utilidades, Com","01-114654-00","2011-04-27",473.74,10,{"$f":"F1810*memoria!$B$44/(G1810*12*memoria!$B$47)","v":9.8695833333333344E-3},{"$f":"F1810/(G1810*12*memoria!$B$47)","v":2.4673958333333332E-2}]
["Diadema","01691-Pavimento Térreo - Prédio Principal","Castelo Duplo Fechado, Suspenso, C/Espaço P/Embutir Linhas De Utilidades, Com","01-114655-00","2011-04-27",473.74,10,{"$f":"F1811*memoria!$B$44/(G1811*12*memoria!$B$47)","v":9.8695833333333344E-3},{"$f":"F1811/(G1811*12*memoria!$B$47)","v":2.4673958333333332E-2}]
["Diadema","01691-Pavimento Térreo - Prédio Principal","Castelo Duplo Fechado, Suspenso, C/Espaço P/Embutir Linhas De Utilidades, Com","01-114656-00","2011-04-27",473.74,10,{"$f":"F1812*memoria!$B$44/(G1812*12*memoria!$B$47)","v":9.8695833333333344E-3},{"$f":"F1812/(G1812*12*memoria!$B$47)","v":2.4673958333333332E-2}]
["Diadema","01691-Pavimento Térreo - Prédio Principal","Castelo Duplo Fechado, Suspenso, C/Espaço P/Embutir Linhas De Utilidades, Com","01-114657-00","2011-04-27",473.74,10,{"$f":"F1813*memoria!$B$44/(G1813*12*memoria!$B$47)","v":9.8695833333333344E-3},{"$f":"F1813/(G1813*12*memoria!$B$47)","v":2.4673958333333332E-2}]
["Diadema","01691-Pavimento Térreo - Prédio Principal","Castelo Duplo Fechado, Suspenso, C/Espaço P/Embutir Linhas De Utilidades, Com","01-114658-00","2011-04-27",473.74,10,{"$f":"F1814*memoria!$B$44/(G1814*12*memoria!$B$47)","v":9.8695833333333344E-3},{"$f":"F1814/(G1814*12*memoria!$B$47)","v":2.4673958333333332E-2}]
["Diadema","01691-Pavimento Térreo - Prédio Principal","Castelo Duplo Fechado, Suspenso, C/Espaço P/Embutir Linhas De Utilidades, Com","01-114659-00","2011-04-27",473.74,10,{"$f":"F1815*memoria!$B$44/(G1815*12*memoria!$B$47)","v":9.8695833333333344E-3},{"$f":"F1815/(G1815*12*memoria!$B$47)","v":2.4673958333333332E-2}]
["Diadema","01691-Pavimento Térreo - Prédio Principal","Castelo Duplo Fechado, Suspenso, C/Espaço P/Embutir Linhas De Utilidades, Com","01-114660-00","2011-04-27",473.74,10,{"$f":"F1816*memoria!$B$44/(G1816*12*memoria!$B$47)","v":9.8695833333333344E-3},{"$f":"F1816/(G1816*12*memoria!$B$47)","v":2.4673958333333332E-2}]
["Diadema","01691-Pavimento Térreo - Prédio Principal","Castelo Duplo Fechado, Suspenso, C/Espaço P/Embutir Linhas De Utilidades, Com","01-114661-00","2011-04-27",473.74,10,{"$f":"F1817*memoria!$B$44/(G1817*12*memoria!$B$47)","v":9.8695833333333344E-3},{"$f":"F1817/(G1817*12*memoria!$B$47)","v":2.4673958333333332E-2}]
["Diadema","01691-Pavimento Térreo - Prédio Principal","Castelo Duplo Fechado, Suspenso, C/Espaço P/Embutir Linhas De Utilidades, Com","01-114662-00","2011-04-27",473.74,10,{"$f":"F1818*memoria!$B$44/(G1818*12*memoria!$B$47)","v":9.8695833333333344E-3},{"$f":"F1818/(G1818*12*memoria!$B$47)","v":2.4673958333333332E-2}]
["Diadema","01691-Pavimento Térreo - Prédio Principal","Castelo Duplo Fechado, Suspenso, C/Espaço P/Embutir Linhas De Utilidades, Com","01-114663-00","2011-04-27",473.74,10,{"$f":"F1819*memoria!$B$44/(G1819*12*memoria!$B$47)","v":9.8695833333333344E-3},{"$f":"F1819/(G1819*12*memoria!$B$47)","v":2.4673958333333332E-2}]
["Diadema","01691-Pavimento Térreo - Prédio Principal","Castelo Duplo Fechado, Suspenso, C/Espaço P/Embutir Linhas De Utilidades, Com","01-114664-00","2011-04-27",473.74,10,{"$f":"F1820*memoria!$B$44/(G1820*12*memoria!$B$47)","v":9.8695833333333344E-3},{"$f":"F1820/(G1820*12*memoria!$B$47)","v":2.4673958333333332E-2}]
["Diadema","01691-Pavimento Térreo - Prédio Principal","Castelo Duplo Fechado, Suspenso, C/Espaço P/Embutir Linhas De Utilidades, Com","01-114665-00","2011-04-27",473.74,10,{"$f":"F1821*memoria!$B$44/(G1821*12*memoria!$B$47)","v":9.8695833333333344E-3},{"$f":"F1821/(G1821*12*memoria!$B$47)","v":2.4673958333333332E-2}]
["Diadema","01691-Pavimento Térreo - Prédio Principal","Castelo Duplo Fechado, Suspenso, C/Espaço P/Embutir Linhas De Utilidades, Com","01-114666-00","2011-04-27",473.74,10,{"$f":"F1822*memoria!$B$44/(G1822*12*memoria!$B$47)","v":9.8695833333333344E-3},{"$f":"F1822/(G1822*12*memoria!$B$47)","v":2.4673958333333332E-2}]
["Diadema","01691-Pavimento Térreo - Prédio Principal","Castelo Duplo Fechado, Suspenso, C/Espaço P/Embutir Linhas De Utilidades, Com","01-114667-00","2011-04-27",473.74,10,{"$f":"F1823*memoria!$B$44/(G1823*12*memoria!$B$47)","v":9.8695833333333344E-3},{"$f":"F1823/(G1823*12*memoria!$B$47)","v":2.4673958333333332E-2}]
["Diadema","01691-Pavimento Térreo - Prédio Principal","Castelo Duplo Fechado, Suspenso, C/Espaço P/Embutir Linhas De Utilidades, Com","01-114668-00","2011-04-27",473.74,10,{"$f":"F1824*memoria!$B$44/(G1824*12*memoria!$B$47)","v":9.8695833333333344E-3},{"$f":"F1824/(G1824*12*memoria!$B$47)","v":2.4673958333333332E-2}]
["Diadema","01691-Pavimento Térreo - Prédio Principal","Castelo Duplo Fechado, Suspenso, C/Espaço P/Embutir Linhas De Utilidades, Com","01-114669-00","2011-04-27",473.74,10,{"$f":"F1825*memoria!$B$44/(G1825*12*memoria!$B$47)","v":9.8695833333333344E-3},{"$f":"F1825/(G1825*12*memoria!$B$47)","v":2.4673958333333332E-2}]
["Diadema","01691-Pavimento Térreo - Prédio Principal","Castelo Duplo Fechado, Suspenso, C/Espaço P/Embutir Linhas De Utilidades, Com","01-114670-00","2011-04-27",473.74,10,{"$f":"F1826*memoria!$B$44/(G1826*12*memoria!$B$47)","v":9.8695833333333344E-3},{"$f":"F1826/(G1826*12*memoria!$B$47)","v":2.4673958333333332E-2}]
["Diadema","01691-Pavimento Térreo - Prédio Principal","Castelo Duplo Fechado, Suspenso, C/Espaço P/Embutir Linhas De Utilidades, Com","01-114671-00","2011-04-27",473.74,10,{"$f":"F1827*memoria!$B$44/(G1827*12*memoria!$B$47)","v":9.8695833333333344E-3},{"$f":"F1827/(G1827*12*memoria!$B$47)","v":2.4673958333333332E-2}]
["Diadema","01691-Pavimento Térreo - Prédio Principal","Castelo Duplo Fechado, Suspenso, C/Espaço P/Embutir Linhas De Utilidades, Com","01-114672-00","2011-04-27",473.74,10,{"$f":"F1828*memoria!$B$44/(G1828*12*memoria!$B$47)","v":9.8695833333333344E-3},{"$f":"F1828/(G1828*12*memoria!$B$47)","v":2.4673958333333332E-2}]
["Diadema","01691-Pavimento Térreo - Prédio Principal","Castelo Duplo Fechado, Suspenso, C/Espaço P/Embutir Linhas De Utilidades, Com","01-114673-00","2011-04-27",473.74,10,{"$f":"F1829*memoria!$B$44/(G1829*12*memoria!$B$47)","v":9.8695833333333344E-3},{"$f":"F1829/(G1829*12*memoria!$B$47)","v":2.4673958333333332E-2}]
["Diadema","01691-Pavimento Térreo - Prédio Principal","Castelo Duplo Fechado, Suspenso, C/Espaço P/Embutir Linhas De Utilidades, Com","01-114674-00","2011-04-27",473.74,10,{"$f":"F1830*memoria!$B$44/(G1830*12*memoria!$B$47)","v":9.8695833333333344E-3},{"$f":"F1830/(G1830*12*memoria!$B$47)","v":2.4673958333333332E-2}]
["Diadema","01691-Pavimento Térreo - Prédio Principal","Castelo Duplo Fechado, Suspenso, C/Espaço P/Embutir Linhas De Utilidades, Com","01-114675-00","2011-04-27",473.74,10,{"$f":"F1831*memoria!$B$44/(G1831*12*memoria!$B$47)","v":9.8695833333333344E-3},{"$f":"F1831/(G1831*12*memoria!$B$47)","v":2.4673958333333332E-2}]
["Diadema","01691-Pavimento Térreo - Prédio Principal","Castelo Duplo Fechado, Suspenso, C/Espaço P/Embutir Linhas De Utilidades, Com","01-114676-00","2011-04-27",473.74,10,{"$f":"F1832*memoria!$B$44/(G1832*12*memoria!$B$47)","v":9.8695833333333344E-3},{"$f":"F1832/(G1832*12*memoria!$B$47)","v":2.4673958333333332E-2}]
["Diadema","01691-Pavimento Térreo - Prédio Principal","Castelo Duplo Fechado, Suspenso, C/Espaço P/Embutir Linhas De Utilidades, Com","01-114677-00","2011-04-27",473.74,10,{"$f":"F1833*memoria!$B$44/(G1833*12*memoria!$B$47)","v":9.8695833333333344E-3},{"$f":"F1833/(G1833*12*memoria!$B$47)","v":2.4673958333333332E-2}]
["Diadema","01691-Pavimento Térreo - Prédio Principal","Castelo Duplo Fechado, Suspenso, C/Espaço P/Embutir Linhas De Utilidades, Com","01-114678-00","2011-04-27",473.74,10,{"$f":"F1834*memoria!$B$44/(G1834*12*memoria!$B$47)","v":9.8695833333333344E-3},{"$f":"F1834/(G1834*12*memoria!$B$47)","v":2.4673958333333332E-2}]
["Diadema","01691-Pavimento Térreo - Prédio Principal","Castelo Duplo Fechado, Suspenso, C/Espaço P/Embutir Linhas De Utilidades, Com","01-114679-00","2011-04-27",473.74,10,{"$f":"F1835*memoria!$B$44/(G1835*12*memoria!$B$47)","v":9.8695833333333344E-3},{"$f":"F1835/(G1835*12*memoria!$B$47)","v":2.4673958333333332E-2}]
["Diadema","01691-Pavimento Térreo - Prédio Principal","Castelo Duplo Fechado, Suspenso, C/Espaço P/Embutir Linhas De Utilidades, Com","01-114680-00","2011-04-27",473.74,10,{"$f":"F1836*memoria!$B$44/(G1836*12*memoria!$B$47)","v":9.8695833333333344E-3},{"$f":"F1836/(G1836*12*memoria!$B$47)","v":2.4673958333333332E-2}]
["Diadema","01691-Pavimento Térreo - Prédio Principal","Castelo Duplo Fechado, Suspenso, C/Espaço P/Embutir Linhas De Utilidades, Com","01-114681-00","2011-04-27",473.74,10,{"$f":"F1837*memoria!$B$44/(G1837*12*memoria!$B$47)","v":9.8695833333333344E-3},{"$f":"F1837/(G1837*12*memoria!$B$47)","v":2.4673958333333332E-2}]
["Diadema","01691-Pavimento Térreo - Prédio Principal","Castelo Duplo Fechado, Suspenso, C/Espaço P/Embutir Linhas De Utilidades, Com","01-114682-00","2011-04-27",473.74,10,{"$f":"F1838*memoria!$B$44/(G1838*12*memoria!$B$47)","v":9.8695833333333344E-3},{"$f":"F1838/(G1838*12*memoria!$B$47)","v":2.4673958333333332E-2}]
["Diadema","01691-Pavimento Térreo - Prédio Principal","Castelo Duplo Fechado, Suspenso, C/Espaço P/Embutir Linhas De Utilidades, Com","01-114683-00","2011-04-27",473.74,10,{"$f":"F1839*memoria!$B$44/(G1839*12*memoria!$B$47)","v":9.8695833333333344E-3},{"$f":"F1839/(G1839*12*memoria!$B$47)","v":2.4673958333333332E-2}]
["Diadema","01691-Pavimento Térreo - Prédio Principal","Castelo Duplo Fechado, Suspenso, C/Espaço P/Embutir Linhas De Utilidades, Com","01-114684-00","2011-04-27",473.74,10,{"$f":"F1840*memoria!$B$44/(G1840*12*memoria!$B$47)","v":9.8695833333333344E-3},{"$f":"F1840/(G1840*12*memoria!$B$47)","v":2.4673958333333332E-2}]
["Diadema","01691-Pavimento Térreo - Prédio Principal","Castelo Duplo Fechado, Suspenso, C/Espaço P/Embutir Linhas De Utilidades, Com","01-114685-00","2011-04-27",473.74,10,{"$f":"F1841*memoria!$B$44/(G1841*12*memoria!$B$47)","v":9.8695833333333344E-3},{"$f":"F1841/(G1841*12*memoria!$B$47)","v":2.4673958333333332E-2}]
["Diadema","01691-Pavimento Térreo - Prédio Principal","Castelo Duplo Fechado, Suspenso, C/Espaço P/Embutir Linhas De Utilidades, Com","01-114686-00","2011-04-27",473.74,10,{"$f":"F1842*memoria!$B$44/(G1842*12*memoria!$B$47)","v":9.8695833333333344E-3},{"$f":"F1842/(G1842*12*memoria!$B$47)","v":2.4673958333333332E-2}]
["Diadema","01691-Pavimento Térreo - Prédio Principal","Castelo Duplo Fechado, Suspenso, C/Espaço P/Embutir Linhas De Utilidades, Com","01-114687-00","2011-04-27",473.74,10,{"$f":"F1843*memoria!$B$44/(G1843*12*memoria!$B$47)","v":9.8695833333333344E-3},{"$f":"F1843/(G1843*12*memoria!$B$47)","v":2.4673958333333332E-2}]
["Diadema","01691-Pavimento Térreo - Prédio Principal","Castelo Duplo Fechado, Suspenso, C/Espaço P/Embutir Linhas De Utilidades, Com","01-114688-00","2011-04-27",473.74,10,{"$f":"F1844*memoria!$B$44/(G1844*12*memoria!$B$47)","v":9.8695833333333344E-3},{"$f":"F1844/(G1844*12*memoria!$B$47)","v":2.4673958333333332E-2}]
["Diadema","01691-Pavimento Térreo - Prédio Principal","Castelo Duplo Fechado, Suspenso, C/Espaço P/Embutir Linhas De Utilidades, Com","01-114689-00","2011-04-27",473.74,10,{"$f":"F1845*memoria!$B$44/(G1845*12*memoria!$B$47)","v":9.8695833333333344E-3},{"$f":"F1845/(G1845*12*memoria!$B$47)","v":2.4673958333333332E-2}]
["Diadema","01691-Pavimento Térreo - Prédio Principal","Castelo Duplo Fechado, Suspenso, C/Espaço P/Embutir Linhas De Utilidades, Com","01-114690-00","2011-04-27",473.74,10,{"$f":"F1846*memoria!$B$44/(G1846*12*memoria!$B$47)","v":9.8695833333333344E-3},{"$f":"F1846/(G1846*12*memoria!$B$47)","v":2.4673958333333332E-2}]
["Diadema","01691-Pavimento Térreo - Prédio Principal","Castelo Duplo Fechado, Suspenso, C/Espaço P/Embutir Linhas De Utilidades, Com","01-114691-00","2011-04-27",473.74,10,{"$f":"F1847*memoria!$B$44/(G1847*12*memoria!$B$47)","v":9.8695833333333344E-3},{"$f":"F1847/(G1847*12*memoria!$B$47)","v":2.4673958333333332E-2}]
["Diadema","01691-Pavimento Térreo - Prédio Principal","Castelo Duplo Fechado, Suspenso, C/Espaço P/Embutir Linhas De Utilidades, Com","01-114692-00","2011-04-27",473.74,10,{"$f":"F1848*memoria!$B$44/(G1848*12*memoria!$B$47)","v":9.8695833333333344E-3},{"$f":"F1848/(G1848*12*memoria!$B$47)","v":2.4673958333333332E-2}]
["Diadema","01691-Pavimento Térreo - Prédio Principal","Castelo Duplo Fechado, Suspenso, C/Espaço P/Embutir Linhas De Utilidades, Com","01-114693-00","2011-04-27",473.74,10,{"$f":"F1849*memoria!$B$44/(G1849*12*memoria!$B$47)","v":9.8695833333333344E-3},{"$f":"F1849/(G1849*12*memoria!$B$47)","v":2.4673958333333332E-2}]
["Diadema","01691-Pavimento Térreo - Prédio Principal","Castelo Duplo Fechado, Suspenso, C/Espaço P/Embutir Linhas De Utilidades, Com","01-114694-00","2011-04-27",473.74,10,{"$f":"F1850*memoria!$B$44/(G1850*12*memoria!$B$47)","v":9.8695833333333344E-3},{"$f":"F1850/(G1850*12*memoria!$B$47)","v":2.4673958333333332E-2}]
["Diadema","01691-Pavimento Térreo - Prédio Principal","Castelo Duplo Fechado, Suspenso, C/Espaço P/Embutir Linhas De Utilidades, Com","01-114695-00","2011-04-27",473.74,10,{"$f":"F1851*memoria!$B$44/(G1851*12*memoria!$B$47)","v":9.8695833333333344E-3},{"$f":"F1851/(G1851*12*memoria!$B$47)","v":2.4673958333333332E-2}]
["Diadema","01691-Pavimento Térreo - Prédio Principal","Castelo Duplo Fechado, Suspenso, C/Espaço P/Embutir Linhas De Utilidades, Com","01-114696-00","2011-04-27",473.74,10,{"$f":"F1852*memoria!$B$44/(G1852*12*memoria!$B$47)","v":9.8695833333333344E-3},{"$f":"F1852/(G1852*12*memoria!$B$47)","v":2.4673958333333332E-2}]
["Diadema","01691-Pavimento Térreo - Prédio Principal","Castelo Duplo Fechado, Suspenso, C/Espaço P/Embutir Linhas De Utilidades, Com","01-114697-00","2011-04-27",473.74,10,{"$f":"F1853*memoria!$B$44/(G1853*12*memoria!$B$47)","v":9.8695833333333344E-3},{"$f":"F1853/(G1853*12*memoria!$B$47)","v":2.4673958333333332E-2}]
["Diadema","01691-Pavimento Térreo - Prédio Principal","Castelo Duplo Fechado, Suspenso, C/Espaço P/Embutir Linhas De Utilidades, Com","01-114698-00","2011-04-27",473.74,10,{"$f":"F1854*memoria!$B$44/(G1854*12*memoria!$B$47)","v":9.8695833333333344E-3},{"$f":"F1854/(G1854*12*memoria!$B$47)","v":2.4673958333333332E-2}]
["Diadema","01691-Pavimento Térreo - Prédio Principal","Castelo Duplo Fechado, Suspenso, C/Espaço P/Embutir Linhas De Utilidades, Com","01-114699-00","2011-04-27",473.74,10,{"$f":"F1855*memoria!$B$44/(G1855*12*memoria!$B$47)","v":9.8695833333333344E-3},{"$f":"F1855/(G1855*12*memoria!$B$47)","v":2.4673958333333332E-2}]
["Diadema","01691-Pavimento Térreo - Prédio Principal","Castelo Duplo Fechado, Suspenso, C/Espaço P/Embutir Linhas De Utilidades, Com","01-114700-00","2011-04-27",473.74,10,{"$f":"F1856*memoria!$B$44/(G1856*12*memoria!$B$47)","v":9.8695833333333344E-3},{"$f":"F1856/(G1856*12*memoria!$B$47)","v":2.4673958333333332E-2}]
["Diadema","01691-Pavimento Térreo - Prédio Principal","Castelo Duplo Fechado, Suspenso, C/Espaço P/Embutir Linhas De Utilidades, Com","01-114701-00","2011-04-27",473.74,10,{"$f":"F1857*memoria!$B$44/(G1857*12*memoria!$B$47)","v":9.8695833333333344E-3},{"$f":"F1857/(G1857*12*memoria!$B$47)","v":2.4673958333333332E-2}]
["Diadema","01691-Pavimento Térreo - Prédio Principal","Castelo Duplo Fechado, Suspenso, C/Espaço P/Embutir Linhas De Utilidades, Com","01-114702-00","2011-04-27",473.74,10,{"$f":"F1858*memoria!$B$44/(G1858*12*memoria!$B$47)","v":9.8695833333333344E-3},{"$f":"F1858/(G1858*12*memoria!$B$47)","v":2.4673958333333332E-2}]
["Diadema","01691-Pavimento Térreo - Prédio Principal","Castelo Duplo Fechado, Suspenso, C/Espaço P/Embutir Linhas De Utilidades, Com","01-114703-00","2011-04-27",473.74,10,{"$f":"F1859*memoria!$B$44/(G1859*12*memoria!$B$47)","v":9.8695833333333344E-3},{"$f":"F1859/(G1859*12*memoria!$B$47)","v":2.4673958333333332E-2}]
["Diadema","01691-Pavimento Térreo - Prédio Principal","Castelo Duplo Fechado, Suspenso, C/Espaço P/Embutir Linhas De Utilidades, Com","01-114704-00","2011-04-27",473.74,10,{"$f":"F1860*memoria!$B$44/(G1860*12*memoria!$B$47)","v":9.8695833333333344E-3},{"$f":"F1860/(G1860*12*memoria!$B$47)","v":2.4673958333333332E-2}]
["Diadema","01691-Pavimento Térreo - Prédio Principal","Castelo Duplo Fechado, Suspenso, C/Espaço P/Embutir Linhas De Utilidades, Com","01-114705-00","2011-04-27",473.74,10,{"$f":"F1861*memoria!$B$44/(G1861*12*memoria!$B$47)","v":9.8695833333333344E-3},{"$f":"F1861/(G1861*12*memoria!$B$47)","v":2.4673958333333332E-2}]
["Diadema","01691-Pavimento Térreo - Prédio Principal","Castelo Duplo Fechado, Suspenso, C/Espaço P/Embutir Linhas De Utilidades, Com","01-114706-00","2011-04-27",473.74,10,{"$f":"F1862*memoria!$B$44/(G1862*12*memoria!$B$47)","v":9.8695833333333344E-3},{"$f":"F1862/(G1862*12*memoria!$B$47)","v":2.4673958333333332E-2}]
["Diadema","01691-Pavimento Térreo - Prédio Principal","Castelo Duplo Fechado, Suspenso, C/Espaço P/Embutir Linhas De Utilidades, Com","01-114707-00","2011-04-27",473.74,10,{"$f":"F1863*memoria!$B$44/(G1863*12*memoria!$B$47)","v":9.8695833333333344E-3},{"$f":"F1863/(G1863*12*memoria!$B$47)","v":2.4673958333333332E-2}]
["Diadema","01691-Pavimento Térreo - Prédio Principal","Castelo Duplo Fechado, Suspenso, C/Espaço P/Embutir Linhas De Utilidades, Com","01-114708-00","2011-04-27",473.74,10,{"$f":"F1864*memoria!$B$44/(G1864*12*memoria!$B$47)","v":9.8695833333333344E-3},{"$f":"F1864/(G1864*12*memoria!$B$47)","v":2.4673958333333332E-2}]
["Diadema","01691-Pavimento Térreo - Prédio Principal","Castelo Duplo Fechado, Suspenso, C/Espaço P/Embutir Linhas De Utilidades, Com","01-114709-00","2011-04-27",473.74,10,{"$f":"F1865*memoria!$B$44/(G1865*12*memoria!$B$47)","v":9.8695833333333344E-3},{"$f":"F1865/(G1865*12*memoria!$B$47)","v":2.4673958333333332E-2}]
["Diadema","01691-Pavimento Térreo - Prédio Principal","Castelo Duplo Fechado, Suspenso, C/Espaço P/Embutir Linhas De Utilidades, Com","01-114710-00","2011-04-27",473.74,10,{"$f":"F1866*memoria!$B$44/(G1866*12*memoria!$B$47)","v":9.8695833333333344E-3},{"$f":"F1866/(G1866*12*memoria!$B$47)","v":2.4673958333333332E-2}]
["Diadema","01691-Pavimento Térreo - Prédio Principal","Castelo Duplo Fechado, Suspenso, C/Espaço P/Embutir Linhas De Utilidades, Com","01-114711-00","2011-04-27",473.74,10,{"$f":"F1867*memoria!$B$44/(G1867*12*memoria!$B$47)","v":9.8695833333333344E-3},{"$f":"F1867/(G1867*12*memoria!$B$47)","v":2.4673958333333332E-2}]
["Diadema","01691-Pavimento Térreo - Prédio Principal","Castelo Duplo Fechado, Suspenso, C/Espaço P/Embutir Linhas De Utilidades, Com","01-114712-00","2011-04-27",473.74,10,{"$f":"F1868*memoria!$B$44/(G1868*12*memoria!$B$47)","v":9.8695833333333344E-3},{"$f":"F1868/(G1868*12*memoria!$B$47)","v":2.4673958333333332E-2}]
["Diadema","01691-Pavimento Térreo - Prédio Principal","Castelo Duplo Fechado, Suspenso, C/Espaço P/Embutir Linhas De Utilidades, Com","01-114713-00","2011-04-27",473.74,10,{"$f":"F1869*memoria!$B$44/(G1869*12*memoria!$B$47)","v":9.8695833333333344E-3},{"$f":"F1869/(G1869*12*memoria!$B$47)","v":2.4673958333333332E-2}]
["Diadema","01691-Pavimento Térreo - Prédio Principal","Castelo Duplo Fechado, Suspenso, C/Espaço P/Embutir Linhas De Utilidades, Com","01-114714-00","2011-04-27",473.74,10,{"$f":"F1870*memoria!$B$44/(G1870*12*memoria!$B$47)","v":9.8695833333333344E-3},{"$f":"F1870/(G1870*12*memoria!$B$47)","v":2.4673958333333332E-2}]
["Diadema","01691-Pavimento Térreo - Prédio Principal","Castelo Duplo Fechado, Suspenso, C/Espaço P/Embutir Linhas De Utilidades, Com","01-114715-00","2011-04-27",473.74,10,{"$f":"F1871*memoria!$B$44/(G1871*12*memoria!$B$47)","v":9.8695833333333344E-3},{"$f":"F1871/(G1871*12*memoria!$B$47)","v":2.4673958333333332E-2}]
["Diadema","01691-Pavimento Térreo - Prédio Principal","Castelo Duplo Fechado, Suspenso, C/Espaço P/Embutir Linhas De Utilidades, Com","01-114716-00","2011-04-27",473.74,10,{"$f":"F1872*memoria!$B$44/(G1872*12*memoria!$B$47)","v":9.8695833333333344E-3},{"$f":"F1872/(G1872*12*memoria!$B$47)","v":2.4673958333333332E-2}]
["Diadema","01691-Pavimento Térreo - Prédio Principal","Castelo Duplo Fechado, Suspenso, C/Espaço P/Embutir Linhas De Utilidades, Com","01-114717-00","2011-04-27",473.74,10,{"$f":"F1873*memoria!$B$44/(G1873*12*memoria!$B$47)","v":9.8695833333333344E-3},{"$f":"F1873/(G1873*12*memoria!$B$47)","v":2.4673958333333332E-2}]
["Diadema","01691-Pavimento Térreo - Prédio Principal","Castelo Duplo Fechado, Suspenso, C/Espaço P/Embutir Linhas De Utilidades, Com","01-114718-00","2011-04-27",473.74,10,{"$f":"F1874*memoria!$B$44/(G1874*12*memoria!$B$47)","v":9.8695833333333344E-3},{"$f":"F1874/(G1874*12*memoria!$B$47)","v":2.4673958333333332E-2}]
["Diadema","01691-Pavimento Térreo - Prédio Principal","Castelo Duplo Fechado, Suspenso, C/Espaço P/Embutir Linhas De Utilidades, Com","01-114719-00","2011-04-27",473.74,10,{"$f":"F1875*memoria!$B$44/(G1875*12*memoria!$B$47)","v":9.8695833333333344E-3},{"$f":"F1875/(G1875*12*memoria!$B$47)","v":2.4673958333333332E-2}]
["Diadema","01691-Pavimento Térreo - Prédio Principal","Castelo Duplo Fechado, Suspenso, C/Espaço P/Embutir Linhas De Utilidades, Com","01-114720-00","2011-04-27",473.74,10,{"$f":"F1876*memoria!$B$44/(G1876*12*memoria!$B$47)","v":9.8695833333333344E-3},{"$f":"F1876/(G1876*12*memoria!$B$47)","v":2.4673958333333332E-2}]
["Diadema","01691-Pavimento Térreo - Prédio Principal","Castelo Duplo Fechado, Suspenso, C/Espaço P/Embutir Linhas De Utilidades, Com","01-114721-00","2011-04-27",473.74,10,{"$f":"F1877*memoria!$B$44/(G1877*12*memoria!$B$47)","v":9.8695833333333344E-3},{"$f":"F1877/(G1877*12*memoria!$B$47)","v":2.4673958333333332E-2}]
["Diadema","01691-Pavimento Térreo - Prédio Principal","Castelo Duplo Fechado, Suspenso, C/Espaço P/Embutir Linhas De Utilidades, Com","01-114722-00","2011-04-27",473.74,10,{"$f":"F1878*memoria!$B$44/(G1878*12*memoria!$B$47)","v":9.8695833333333344E-3},{"$f":"F1878/(G1878*12*memoria!$B$47)","v":2.4673958333333332E-2}]
["Diadema","01691-Pavimento Térreo - Prédio Principal","Castelo Duplo Fechado, Suspenso, C/Espaço P/Embutir Linhas De Utilidades, Com","01-114723-00","2011-04-27",473.74,10,{"$f":"F1879*memoria!$B$44/(G1879*12*memoria!$B$47)","v":9.8695833333333344E-3},{"$f":"F1879/(G1879*12*memoria!$B$47)","v":2.4673958333333332E-2}]
["Diadema","01691-Pavimento Térreo - Prédio Principal","Castelo Duplo Fechado, Suspenso, C/Espaço P/Embutir Linhas De Utilidades, Com","01-114724-00","2011-04-27",473.74,10,{"$f":"F1880*memoria!$B$44/(G1880*12*memoria!$B$47)","v":9.8695833333333344E-3},{"$f":"F1880/(G1880*12*memoria!$B$47)","v":2.4673958333333332E-2}]
["Diadema","01691-Pavimento Térreo - Prédio Principal","Castelo Duplo Fechado, Suspenso, C/Espaço P/Embutir Linhas De Utilidades, Com","01-114725-00","2011-04-27",473.74,10,{"$f":"F1881*memoria!$B$44/(G1881*12*memoria!$B$47)","v":9.8695833333333344E-3},{"$f":"F1881/(G1881*12*memoria!$B$47)","v":2.4673958333333332E-2}]
["Diadema","01691-Pavimento Térreo - Prédio Principal","Castelo Duplo Fechado, Suspenso, C/Espaço P/Embutir Linhas De Utilidades, Com","01-114726-00","2011-04-27",473.74,10,{"$f":"F1882*memoria!$B$44/(G1882*12*memoria!$B$47)","v":9.8695833333333344E-3},{"$f":"F1882/(G1882*12*memoria!$B$47)","v":2.4673958333333332E-2}]
["Diadema","01691-Pavimento Térreo - Prédio Principal","Castelo Duplo Fechado, Suspenso, C/Espaço P/Embutir Linhas De Utilidades, Com","01-114727-00","2011-04-27",473.74,10,{"$f":"F1883*memoria!$B$44/(G1883*12*memoria!$B$47)","v":9.8695833333333344E-3},{"$f":"F1883/(G1883*12*memoria!$B$47)","v":2.4673958333333332E-2}]
["Diadema","01691-Pavimento Térreo - Prédio Principal","Castelo Duplo Fechado, Suspenso, C/Espaço P/Embutir Linhas De Utilidades, Com","01-114728-00","2011-04-27",473.74,10,{"$f":"F1884*memoria!$B$44/(G1884*12*memoria!$B$47)","v":9.8695833333333344E-3},{"$f":"F1884/(G1884*12*memoria!$B$47)","v":2.4673958333333332E-2}]
["Diadema","01691-Pavimento Térreo - Prédio Principal","Castelo Duplo Fechado, Suspenso, C/Espaço P/Embutir Linhas De Utilidades, Com","01-114729-00","2011-04-27",473.74,10,{"$f":"F1885*memoria!$B$44/(G1885*12*memoria!$B$47)","v":9.8695833333333344E-3},{"$f":"F1885/(G1885*12*memoria!$B$47)","v":2.4673958333333332E-2}]
["Diadema","01691-Pavimento Térreo - Prédio Principal","Castelo Duplo Fechado, Suspenso, C/Espaço P/Embutir Linhas De Utilidades, Com","01-114730-00","2011-04-27",473.74,10,{"$f":"F1886*memoria!$B$44/(G1886*12*memoria!$B$47)","v":9.8695833333333344E-3},{"$f":"F1886/(G1886*12*memoria!$B$47)","v":2.4673958333333332E-2}]
["Diadema","01691-Pavimento Térreo - Prédio Principal","Castelo Duplo Fechado, Suspenso, C/Espaço P/Embutir Linhas De Utilidades, Com","01-114731-00","2011-04-27",473.74,10,{"$f":"F1887*memoria!$B$44/(G1887*12*memoria!$B$47)","v":9.8695833333333344E-3},{"$f":"F1887/(G1887*12*memoria!$B$47)","v":2.4673958333333332E-2}]
["Diadema","01691-Pavimento Térreo - Prédio Principal","Castelo Duplo Fechado, Suspenso, C/Espaço P/Embutir Linhas De Utilidades, Com","01-114732-00","2011-04-27",473.74,10,{"$f":"F1888*memoria!$B$44/(G1888*12*memoria!$B$47)","v":9.8695833333333344E-3},{"$f":"F1888/(G1888*12*memoria!$B$47)","v":2.4673958333333332E-2}]
["Diadema","01691-Pavimento Térreo - Prédio Principal","Castelo Duplo Fechado, Suspenso, C/Espaço P/Embutir Linhas De Utilidades, Com","01-114733-00","2011-04-27",473.74,10,{"$f":"F1889*memoria!$B$44/(G1889*12*memoria!$B$47)","v":9.8695833333333344E-3},{"$f":"F1889/(G1889*12*memoria!$B$47)","v":2.4673958333333332E-2}]
["Diadema","01691-Pavimento Térreo - Prédio Principal","Castelo Duplo Fechado, Suspenso, C/Espaço P/Embutir Linhas De Utilidades, Com","01-114734-00","2011-04-27",473.74,10,{"$f":"F1890*memoria!$B$44/(G1890*12*memoria!$B$47)","v":9.8695833333333344E-3},{"$f":"F1890/(G1890*12*memoria!$B$47)","v":2.4673958333333332E-2}]
["Diadema","01691-Pavimento Térreo - Prédio Principal","Castelo Duplo Fechado, Suspenso, C/Espaço P/Embutir Linhas De Utilidades, Com","01-114735-00","2011-04-27",473.74,10,{"$f":"F1891*memoria!$B$44/(G1891*12*memoria!$B$47)","v":9.8695833333333344E-3},{"$f":"F1891/(G1891*12*memoria!$B$47)","v":2.4673958333333332E-2}]
["Diadema","01691-Pavimento Térreo - Prédio Principal","Castelo Duplo Fechado, Suspenso, C/Espaço P/Embutir Linhas De Utilidades, Com","01-114736-00","2011-04-27",473.74,10,{"$f":"F1892*memoria!$B$44/(G1892*12*memoria!$B$47)","v":9.8695833333333344E-3},{"$f":"F1892/(G1892*12*memoria!$B$47)","v":2.4673958333333332E-2}]
["Diadema","01691-Pavimento Térreo - Prédio Principal","Castelo Duplo Fechado, Suspenso, C/Espaço P/Embutir Linhas De Utilidades, Com","01-114737-00","2011-04-27",473.74,10,{"$f":"F1893*memoria!$B$44/(G1893*12*memoria!$B$47)","v":9.8695833333333344E-3},{"$f":"F1893/(G1893*12*memoria!$B$47)","v":2.4673958333333332E-2}]
["Diadema","01691-Pavimento Térreo - Prédio Principal","Castelo Duplo Fechado, Suspenso, C/Espaço P/Embutir Linhas De Utilidades, Com","01-114738-00","2011-04-27",473.74,10,{"$f":"F1894*memoria!$B$44/(G1894*12*memoria!$B$47)","v":9.8695833333333344E-3},{"$f":"F1894/(G1894*12*memoria!$B$47)","v":2.4673958333333332E-2}]
["Diadema","01691-Pavimento Térreo - Prédio Principal","Castelo Duplo Fechado, Suspenso, C/Espaço P/Embutir Linhas De Utilidades, Com","01-114739-00","2011-04-27",473.74,10,{"$f":"F1895*memoria!$B$44/(G1895*12*memoria!$B$47)","v":9.8695833333333344E-3},{"$f":"F1895/(G1895*12*memoria!$B$47)","v":2.4673958333333332E-2}]
["Diadema","01691-Pavimento Térreo - Prédio Principal","Castelo Duplo Fechado, Suspenso, C/Espaço P/Embutir Linhas De Utilidades, Com","01-114740-00","2011-04-27",473.74,10,{"$f":"F1896*memoria!$B$44/(G1896*12*memoria!$B$47)","v":9.8695833333333344E-3},{"$f":"F1896/(G1896*12*memoria!$B$47)","v":2.4673958333333332E-2}]
["Diadema","01691-Pavimento Térreo - Prédio Principal","Castelo Duplo Fechado, Suspenso, C/Espaço P/Embutir Linhas De Utilidades, Com","01-114741-00","2011-04-27",473.74,10,{"$f":"F1897*memoria!$B$44/(G1897*12*memoria!$B$47)","v":9.8695833333333344E-3},{"$f":"F1897/(G1897*12*memoria!$B$47)","v":2.4673958333333332E-2}]
["Diadema","01691-Pavimento Térreo - Prédio Principal","Castelo Duplo Fechado, Suspenso, C/Espaço P/Embutir Linhas De Utilidades, Com","01-114742-00","2011-04-27",473.74,10,{"$f":"F1898*memoria!$B$44/(G1898*12*memoria!$B$47)","v":9.8695833333333344E-3},{"$f":"F1898/(G1898*12*memoria!$B$47)","v":2.4673958333333332E-2}]
["Diadema","01691-Pavimento Térreo - Prédio Principal","Castelo Duplo Fechado, Suspenso, C/Espaço P/Embutir Linhas De Utilidades, Com","01-114743-00","2011-04-27",473.74,10,{"$f":"F1899*memoria!$B$44/(G1899*12*memoria!$B$47)","v":9.8695833333333344E-3},{"$f":"F1899/(G1899*12*memoria!$B$47)","v":2.4673958333333332E-2}]
["Diadema","01691-Pavimento Térreo - Prédio Principal","Castelo Duplo Fechado, Suspenso, C/Espaço P/Embutir Linhas De Utilidades, Com","01-114744-00","2011-04-27",473.74,10,{"$f":"F1900*memoria!$B$44/(G1900*12*memoria!$B$47)","v":9.8695833333333344E-3},{"$f":"F1900/(G1900*12*memoria!$B$47)","v":2.4673958333333332E-2}]
["Diadema","01691-Pavimento Térreo - Prédio Principal","Castelo Duplo Fechado, Suspenso, C/Espaço P/Embutir Linhas De Utilidades, Com","01-114745-00","2011-04-27",473.74,10,{"$f":"F1901*memoria!$B$44/(G1901*12*memoria!$B$47)","v":9.8695833333333344E-3},{"$f":"F1901/(G1901*12*memoria!$B$47)","v":2.4673958333333332E-2}]
["Diadema","01691-Pavimento Térreo - Prédio Principal","Castelo Duplo Fechado, Suspenso, C/Espaço P/Embutir Linhas De Utilidades, Com","01-114746-00","2011-04-27",473.74,10,{"$f":"F1902*memoria!$B$44/(G1902*12*memoria!$B$47)","v":9.8695833333333344E-3},{"$f":"F1902/(G1902*12*memoria!$B$47)","v":2.4673958333333332E-2}]
["Diadema","01691-Pavimento Térreo - Prédio Principal","Castelo Duplo Fechado, Suspenso, C/Espaço P/Embutir Linhas De Utilidades, Com","01-114747-00","2011-04-27",473.74,10,{"$f":"F1903*memoria!$B$44/(G1903*12*memoria!$B$47)","v":9.8695833333333344E-3},{"$f":"F1903/(G1903*12*memoria!$B$47)","v":2.4673958333333332E-2}]
["Diadema","01691-Pavimento Térreo - Prédio Principal","Castelo Duplo Fechado, Suspenso, C/Espaço P/Embutir Linhas De Utilidades, Com","01-114748-00","2011-04-27",473.74,10,{"$f":"F1904*memoria!$B$44/(G1904*12*memoria!$B$47)","v":9.8695833333333344E-3},{"$f":"F1904/(G1904*12*memoria!$B$47)","v":2.4673958333333332E-2}]
["Diadema","01691-Pavimento Térreo - Prédio Principal","Castelo Duplo Fechado, Suspenso, C/Espaço P/Embutir Linhas De Utilidades, Com","01-114749-00","2011-04-27",473.74,10,{"$f":"F1905*memoria!$B$44/(G1905*12*memoria!$B$47)","v":9.8695833333333344E-3},{"$f":"F1905/(G1905*12*memoria!$B$47)","v":2.4673958333333332E-2}]
["Diadema","01691-Pavimento Térreo - Prédio Principal","Castelo Duplo Fechado, Suspenso, C/Espaço P/Embutir Linhas De Utilidades, Com","01-114750-00","2011-04-27",473.74,10,{"$f":"F1906*memoria!$B$44/(G1906*12*memoria!$B$47)","v":9.8695833333333344E-3},{"$f":"F1906/(G1906*12*memoria!$B$47)","v":2.4673958333333332E-2}]
["Diadema","01691-Pavimento Térreo - Prédio Principal","Castelo Duplo Fechado, Suspenso, C/Espaço P/Embutir Linhas De Utilidades, Com","01-114751-00","2011-04-27",473.74,10,{"$f":"F1907*memoria!$B$44/(G1907*12*memoria!$B$47)","v":9.8695833333333344E-3},{"$f":"F1907/(G1907*12*memoria!$B$47)","v":2.4673958333333332E-2}]
["Diadema","01691-Pavimento Térreo - Prédio Principal","Castelo Duplo Fechado, Suspenso, C/Espaço P/Embutir Linhas De Utilidades, Com","01-114752-00","2011-04-27",473.74,10,{"$f":"F1908*memoria!$B$44/(G1908*12*memoria!$B$47)","v":9.8695833333333344E-3},{"$f":"F1908/(G1908*12*memoria!$B$47)","v":2.4673958333333332E-2}]
["Diadema","01691-Pavimento Térreo - Prédio Principal","Castelo Duplo Fechado, Suspenso, C/Espaço P/Embutir Linhas De Utilidades, Com","01-114753-00","2011-04-27",473.74,10,{"$f":"F1909*memoria!$B$44/(G1909*12*memoria!$B$47)","v":9.8695833333333344E-3},{"$f":"F1909/(G1909*12*memoria!$B$47)","v":2.4673958333333332E-2}]
["Diadema","01691-Pavimento Térreo - Prédio Principal","Castelo Duplo Fechado, Suspenso, C/Espaço P/Embutir Linhas De Utilidades, Com","01-114754-00","2011-04-27",473.74,10,{"$f":"F1910*memoria!$B$44/(G1910*12*memoria!$B$47)","v":9.8695833333333344E-3},{"$f":"F1910/(G1910*12*memoria!$B$47)","v":2.4673958333333332E-2}]
["Diadema","01691-Pavimento Térreo - Prédio Principal","Castelo Duplo Fechado, Suspenso, C/Espaço P/Embutir Linhas De Utilidades, Com","01-114755-00","2011-04-27",473.74,10,{"$f":"F1911*memoria!$B$44/(G1911*12*memoria!$B$47)","v":9.8695833333333344E-3},{"$f":"F1911/(G1911*12*memoria!$B$47)","v":2.4673958333333332E-2}]
["Diadema","01691-Pavimento Térreo - Prédio Principal","Castelo Duplo Fechado, Suspenso, C/Espaço P/Embutir Linhas De Utilidades, Com","01-114756-00","2011-04-27",473.74,10,{"$f":"F1912*memoria!$B$44/(G1912*12*memoria!$B$47)","v":9.8695833333333344E-3},{"$f":"F1912/(G1912*12*memoria!$B$47)","v":2.4673958333333332E-2}]
["Diadema","01691-Pavimento Térreo - Prédio Principal","Castelo Duplo Fechado, Suspenso, C/Espaço P/Embutir Linhas De Utilidades, Com","01-114757-00","2011-04-27",473.74,10,{"$f":"F1913*memoria!$B$44/(G1913*12*memoria!$B$47)","v":9.8695833333333344E-3},{"$f":"F1913/(G1913*12*memoria!$B$47)","v":2.4673958333333332E-2}]
["Diadema","01691-Pavimento Térreo - Prédio Principal","Castelo Duplo Fechado, Suspenso, C/Espaço P/Embutir Linhas De Utilidades, Com","01-114758-00","2011-04-27",473.74,10,{"$f":"F1914*memoria!$B$44/(G1914*12*memoria!$B$47)","v":9.8695833333333344E-3},{"$f":"F1914/(G1914*12*memoria!$B$47)","v":2.4673958333333332E-2}]
["Diadema","01691-Pavimento Térreo - Prédio Principal","Castelo Duplo Fechado, Suspenso, C/Espaço P/Embutir Linhas De Utilidades, Com","01-114759-00","2011-04-27",473.74,10,{"$f":"F1915*memoria!$B$44/(G1915*12*memoria!$B$47)","v":9.8695833333333344E-3},{"$f":"F1915/(G1915*12*memoria!$B$47)","v":2.4673958333333332E-2}]
["Diadema","01691-Pavimento Térreo - Prédio Principal","Castelo Duplo Fechado, Suspenso, C/Espaço P/Embutir Linhas De Utilidades, Com","01-114760-00","2011-04-27",473.74,10,{"$f":"F1916*memoria!$B$44/(G1916*12*memoria!$B$47)","v":9.8695833333333344E-3},{"$f":"F1916/(G1916*12*memoria!$B$47)","v":2.4673958333333332E-2}]
["Diadema","01691-Pavimento Térreo - Prédio Principal","Castelo Duplo Fechado, Suspenso, C/Espaço P/Embutir Linhas De Utilidades, Com","01-114761-00","2011-04-27",473.74,10,{"$f":"F1917*memoria!$B$44/(G1917*12*memoria!$B$47)","v":9.8695833333333344E-3},{"$f":"F1917/(G1917*12*memoria!$B$47)","v":2.4673958333333332E-2}]
["Diadema","01691-Pavimento Térreo - Prédio Principal","Castelo Duplo Fechado, Suspenso, C/Espaço P/Embutir Linhas De Utilidades, Com","01-114762-00","2011-04-27",473.74,10,{"$f":"F1918*memoria!$B$44/(G1918*12*memoria!$B$47)","v":9.8695833333333344E-3},{"$f":"F1918/(G1918*12*memoria!$B$47)","v":2.4673958333333332E-2}]
["Diadema","01691-Pavimento Térreo - Prédio Principal","Castelo Duplo Fechado, Suspenso, C/Espaço P/Embutir Linhas De Utilidades, Com","01-114763-00","2011-04-27",473.74,10,{"$f":"F1919*memoria!$B$44/(G1919*12*memoria!$B$47)","v":9.8695833333333344E-3},{"$f":"F1919/(G1919*12*memoria!$B$47)","v":2.4673958333333332E-2}]
["Diadema","01691-Pavimento Térreo - Prédio Principal","Castelo Duplo Fechado, Suspenso, C/Espaço P/Embutir Linhas De Utilidades, Com","01-114764-00","2011-04-27",473.74,10,{"$f":"F1920*memoria!$B$44/(G1920*12*memoria!$B$47)","v":9.8695833333333344E-3},{"$f":"F1920/(G1920*12*memoria!$B$47)","v":2.4673958333333332E-2}]
["Diadema","01691-Pavimento Térreo - Prédio Principal","Castelo Duplo Fechado, Suspenso, C/Espaço P/Embutir Linhas De Utilidades, Com","01-114765-00","2011-04-27",473.74,10,{"$f":"F1921*memoria!$B$44/(G1921*12*memoria!$B$47)","v":9.8695833333333344E-3},{"$f":"F1921/(G1921*12*memoria!$B$47)","v":2.4673958333333332E-2}]
["Diadema","01691-Pavimento Térreo - Prédio Principal","Castelo Duplo Fechado, Suspenso, C/Espaço P/Embutir Linhas De Utilidades, Com","01-114766-00","2011-04-27",473.74,10,{"$f":"F1922*memoria!$B$44/(G1922*12*memoria!$B$47)","v":9.8695833333333344E-3},{"$f":"F1922/(G1922*12*memoria!$B$47)","v":2.4673958333333332E-2}]
["Diadema","01691-Pavimento Térreo - Prédio Principal","Estufa De Secagem E Esterilizacao, 110/220 V, 132 W-20a","01-114767-00","2011-05-17",1629,10,{"$f":"F1923*memoria!$B$44/(G1923*12*memoria!$B$47)","v":3.3937500000000002E-2},{"$f":"F1923/(G1923*12*memoria!$B$47)","v":8.4843749999999996E-2}]
["Diadema","01691-Pavimento Térreo - Prédio Principal","Estufa De Secagem E Esterilizacao, 110/220 V, 132 W-20a","01-114768-00","2011-05-17",1629,10,{"$f":"F1924*memoria!$B$44/(G1924*12*memoria!$B$47)","v":3.3937500000000002E-2},{"$f":"F1924/(G1924*12*memoria!$B$47)","v":8.4843749999999996E-2}]
["Diadema","01691-Pavimento Térreo - Prédio Principal","Estufa De Secagem E Esterilizacao, 110/220 V, 132 W-20a","01-114769-00","2011-05-17",1629,10,{"$f":"F1925*memoria!$B$44/(G1925*12*memoria!$B$47)","v":3.3937500000000002E-2},{"$f":"F1925/(G1925*12*memoria!$B$47)","v":8.4843749999999996E-2}]
["Diadema","01691-Pavimento Térreo - Prédio Principal","Estufa De Secagem E Esterilizacao, 110/220 V, 132 W-20a","01-114770-00","2011-05-17",1629,10,{"$f":"F1926*memoria!$B$44/(G1926*12*memoria!$B$47)","v":3.3937500000000002E-2},{"$f":"F1926/(G1926*12*memoria!$B$47)","v":8.4843749999999996E-2}]
["Diadema","01691-Pavimento Térreo - Prédio Principal","Estufa De Secagem E Esterilizacao, 110/220 V, 132 W-20a","01-114771-00","2011-05-17",1629,10,{"$f":"F1927*memoria!$B$44/(G1927*12*memoria!$B$47)","v":3.3937500000000002E-2},{"$f":"F1927/(G1927*12*memoria!$B$47)","v":8.4843749999999996E-2}]
["Diadema","01691-Pavimento Térreo - Prédio Principal","Estufa De Secagem E Esterilizacao, 110/220 V, 132 W-20a","01-114772-00","2011-05-17",1629,10,{"$f":"F1928*memoria!$B$44/(G1928*12*memoria!$B$47)","v":3.3937500000000002E-2},{"$f":"F1928/(G1928*12*memoria!$B$47)","v":8.4843749999999996E-2}]
["Diadema","01691-Pavimento Térreo - Prédio Principal","Estufa De Secagem E Esterilizacao, 110/220 V, 132 W-20a","01-114774-00","2011-05-17",1629,10,{"$f":"F1929*memoria!$B$44/(G1929*12*memoria!$B$47)","v":3.3937500000000002E-2},{"$f":"F1929/(G1929*12*memoria!$B$47)","v":8.4843749999999996E-2}]
["Diadema","01691-Pavimento Térreo - Prédio Principal","Estufa De Secagem E Esterilizacao, 110/220 V, 132 W-20a","01-114775-00","2011-05-17",1629,10,{"$f":"F1930*memoria!$B$44/(G1930*12*memoria!$B$47)","v":3.3937500000000002E-2},{"$f":"F1930/(G1930*12*memoria!$B$47)","v":8.4843749999999996E-2}]
["Diadema","01691-Pavimento Térreo - Prédio Principal","Estufa De Secagem E Esterilizacao, 110/220 V, 132 W-20a","01-114776-00","2011-05-17",1629,10,{"$f":"F1931*memoria!$B$44/(G1931*12*memoria!$B$47)","v":3.3937500000000002E-2},{"$f":"F1931/(G1931*12*memoria!$B$47)","v":8.4843749999999996E-2}]
["Diadema","01691-Pavimento Térreo - Prédio Principal","Termociclador Automatico P/ Amplificacao De Dna C/ Bloco Em Gradiente","01-114820-00","2011-05-25",11600,10,{"$f":"F1932*memoria!$B$44/(G1932*12*memoria!$B$47)","v":0.24166666666666667},{"$f":"F1932/(G1932*12*memoria!$B$47)","v":0.60416666666666663}]
["Diadema","01691-Pavimento Térreo - Prédio Principal","Microprocessador Uc508, Baseado Digital, Process Controller","01-114821-00","2011-04-07",938.75,10,{"$f":"F1933*memoria!$B$44/(G1933*12*memoria!$B$47)","v":1.9557291666666667E-2},{"$f":"F1933/(G1933*12*memoria!$B$47)","v":4.889322916666667E-2}]
["Diadema","01691-Pavimento Térreo - Prédio Principal","Microprocessador Uc508, Baseado Digital, Process Controller","01-114822-00","2011-04-07",938.75,10,{"$f":"F1934*memoria!$B$44/(G1934*12*memoria!$B$47)","v":1.9557291666666667E-2},{"$f":"F1934/(G1934*12*memoria!$B$47)","v":4.889322916666667E-2}]
["Diadema","01691-Pavimento Térreo - Prédio Principal","Microprocessador Uc508, Baseado Digital, Process Controller","01-114823-00","2011-04-07",938.75,10,{"$f":"F1935*memoria!$B$44/(G1935*12*memoria!$B$47)","v":1.9557291666666667E-2},{"$f":"F1935/(G1935*12*memoria!$B$47)","v":4.889322916666667E-2}]
["Diadema","01691-Pavimento Térreo - Prédio Principal","Microprocessador Uc508, Baseado Digital, Process Controller","01-114824-00","2011-04-07",938.75,10,{"$f":"F1936*memoria!$B$44/(G1936*12*memoria!$B$47)","v":1.9557291666666667E-2},{"$f":"F1936/(G1936*12*memoria!$B$47)","v":4.889322916666667E-2}]
["Diadema","01691-Pavimento Térreo - Prédio Principal","Microprocessador Uc508, Baseado Digital, Process Controller","01-114825-00","2011-04-07",938.75,10,{"$f":"F1937*memoria!$B$44/(G1937*12*memoria!$B$47)","v":1.9557291666666667E-2},{"$f":"F1937/(G1937*12*memoria!$B$47)","v":4.889322916666667E-2}]
["Diadema","01691-Pavimento Térreo - Prédio Principal","Microprocessador Uc508, Baseado Digital, Process Controller","01-114826-00","2011-04-07",938.75,10,{"$f":"F1938*memoria!$B$44/(G1938*12*memoria!$B$47)","v":1.9557291666666667E-2},{"$f":"F1938/(G1938*12*memoria!$B$47)","v":4.889322916666667E-2}]
["Diadema","01691-Pavimento Térreo - Prédio Principal","Soprador Termico, 2 Estagios De Temperatura, 50-450 / 90-600º C, 110v, 1500w","01-114827-00","2011-04-07",128.41,10,{"$f":"F1939*memoria!$B$44/(G1939*12*memoria!$B$47)","v":2.6752083333333337E-3},{"$f":"F1939/(G1939*12*memoria!$B$47)","v":6.6880208333333331E-3}]
["Diadema","01691-Pavimento Térreo - Prédio Principal","Soprador Termico, 2 Estagios De Temperatura, 50-450 / 90-600º C, 110v, 1500w","01-114828-00","2011-04-07",128.41,10,{"$f":"F1940*memoria!$B$44/(G1940*12*memoria!$B$47)","v":2.6752083333333337E-3},{"$f":"F1940/(G1940*12*memoria!$B$47)","v":6.6880208333333331E-3}]
["Diadema","01691-Pavimento Térreo - Prédio Principal","Soprador Termico, 2 Estagios De Temperatura, 50-450 / 90-600º C, 110v, 1500w","01-114829-00","2011-04-07",128.41,10,{"$f":"F1941*memoria!$B$44/(G1941*12*memoria!$B$47)","v":2.6752083333333337E-3},{"$f":"F1941/(G1941*12*memoria!$B$47)","v":6.6880208333333331E-3}]
["Diadema","01691-Pavimento Térreo - Prédio Principal","Soprador Termico, 2 Estagios De Temperatura, 50-450 / 90-600º C, 110v, 1500w","01-114830-00","2011-04-07",128.41,10,{"$f":"F1942*memoria!$B$44/(G1942*12*memoria!$B$47)","v":2.6752083333333337E-3},{"$f":"F1942/(G1942*12*memoria!$B$47)","v":6.6880208333333331E-3}]
["Diadema","01691-Pavimento Térreo - Prédio Principal","Soprador Termico, 2 Estagios De Temperatura, 50-450 / 90-600º C, 110v, 1500w","01-114831-00","2011-04-07",128.41,10,{"$f":"F1943*memoria!$B$44/(G1943*12*memoria!$B$47)","v":2.6752083333333337E-3},{"$f":"F1943/(G1943*12*memoria!$B$47)","v":6.6880208333333331E-3}]
["Diadema","01691-Pavimento Térreo - Prédio Principal","Soprador Termico, 2 Estagios De Temperatura, 50-450 / 90-600º C, 110v, 1500w","01-114832-00","2011-04-07",128.41,10,{"$f":"F1944*memoria!$B$44/(G1944*12*memoria!$B$47)","v":2.6752083333333337E-3},{"$f":"F1944/(G1944*12*memoria!$B$47)","v":6.6880208333333331E-3}]
["Diadema","01691-Pavimento Térreo - Prédio Principal","Soprador Termico, 2 Estagios De Temperatura, 50-450 / 90-600º C, 110v, 1500w","01-114833-00","2011-04-07",128.41,10,{"$f":"F1945*memoria!$B$44/(G1945*12*memoria!$B$47)","v":2.6752083333333337E-3},{"$f":"F1945/(G1945*12*memoria!$B$47)","v":6.6880208333333331E-3}]
["Diadema","01691-Pavimento Térreo - Prédio Principal","Soprador Termico, 2 Estagios De Temperatura, 50-450 / 90-600º C, 110v, 1500w","01-114834-00","2011-04-07",128.41,10,{"$f":"F1946*memoria!$B$44/(G1946*12*memoria!$B$47)","v":2.6752083333333337E-3},{"$f":"F1946/(G1946*12*memoria!$B$47)","v":6.6880208333333331E-3}]
["Diadema","01691-Pavimento Térreo - Prédio Principal","Soprador Termico, 2 Estagios De Temperatura, 50-450 / 90-600º C, 110v, 1500w","01-114835-00","2011-04-07",128.41,10,{"$f":"F1947*memoria!$B$44/(G1947*12*memoria!$B$47)","v":2.6752083333333337E-3},{"$f":"F1947/(G1947*12*memoria!$B$47)","v":6.6880208333333331E-3}]
["Diadema","01691-Pavimento Térreo - Prédio Principal","Soprador Termico, 2 Estagios De Temperatura, 50-450 / 90-600º C, 110v, 1500w","01-114836-00","2011-04-07",128.41,10,{"$f":"F1948*memoria!$B$44/(G1948*12*memoria!$B$47)","v":2.6752083333333337E-3},{"$f":"F1948/(G1948*12*memoria!$B$47)","v":6.6880208333333331E-3}]
["Diadema","01691-Pavimento Térreo - Prédio Principal","Soprador Termico, 2 Estagios De Temperatura, 50-450 / 90-600º C, 110v, 1500w","01-114837-00","2011-04-07",128.41,10,{"$f":"F1949*memoria!$B$44/(G1949*12*memoria!$B$47)","v":2.6752083333333337E-3},{"$f":"F1949/(G1949*12*memoria!$B$47)","v":6.6880208333333331E-3}]
["Diadema","01691-Pavimento Térreo - Prédio Principal","Soprador Termico, 2 Estagios De Temperatura, 50-450 / 90-600º C, 110v, 1500w","01-114838-00","2011-04-07",128.41,10,{"$f":"F1950*memoria!$B$44/(G1950*12*memoria!$B$47)","v":2.6752083333333337E-3},{"$f":"F1950/(G1950*12*memoria!$B$47)","v":6.6880208333333331E-3}]
["Diadema","01691-Pavimento Térreo - Prédio Principal","Soprador Termico, 2 Estagios De Temperatura, 50-450 / 90-600º C, 110v, 1500w","01-114839-00","2011-04-07",128.41,10,{"$f":"F1951*memoria!$B$44/(G1951*12*memoria!$B$47)","v":2.6752083333333337E-3},{"$f":"F1951/(G1951*12*memoria!$B$47)","v":6.6880208333333331E-3}]
["Diadema","01691-Pavimento Térreo - Prédio Principal","Soprador Termico, 2 Estagios De Temperatura, 50-450 / 90-600º C, 110v, 1500w","01-114840-00","2011-04-07",128.41,10,{"$f":"F1952*memoria!$B$44/(G1952*12*memoria!$B$47)","v":2.6752083333333337E-3},{"$f":"F1952/(G1952*12*memoria!$B$47)","v":6.6880208333333331E-3}]
["Diadema","01691-Pavimento Térreo - Prédio Principal","Soprador Termico, 2 Estagios De Temperatura, 50-450 / 90-600º C, 110v, 1500w","01-114841-00","2011-04-07",128.41,10,{"$f":"F1953*memoria!$B$44/(G1953*12*memoria!$B$47)","v":2.6752083333333337E-3},{"$f":"F1953/(G1953*12*memoria!$B$47)","v":6.6880208333333331E-3}]
["Diadema","01691-Pavimento Térreo - Prédio Principal","Soprador Termico, 2 Estagios De Temperatura, 50-450 / 90-600º C, 110v, 1500w","01-114842-00","2011-04-07",128.41,10,{"$f":"F1954*memoria!$B$44/(G1954*12*memoria!$B$47)","v":2.6752083333333337E-3},{"$f":"F1954/(G1954*12*memoria!$B$47)","v":6.6880208333333331E-3}]
["Diadema","01691-Pavimento Térreo - Prédio Principal","Soprador Termico, 2 Estagios De Temperatura, 50-450 / 90-600º C, 110v, 1500w","01-114843-00","2011-04-07",128.41,10,{"$f":"F1955*memoria!$B$44/(G1955*12*memoria!$B$47)","v":2.6752083333333337E-3},{"$f":"F1955/(G1955*12*memoria!$B$47)","v":6.6880208333333331E-3}]
["Diadema","01691-Pavimento Térreo - Prédio Principal","Soprador Termico, 2 Estagios De Temperatura, 50-450 / 90-600º C, 110v, 1500w","01-114844-00","2011-04-07",128.41,10,{"$f":"F1956*memoria!$B$44/(G1956*12*memoria!$B$47)","v":2.6752083333333337E-3},{"$f":"F1956/(G1956*12*memoria!$B$47)","v":6.6880208333333331E-3}]
["Diadema","01691-Pavimento Térreo - Prédio Principal","Soprador Termico, 2 Estagios De Temperatura, 50-450 / 90-600º C, 110v, 1500w","01-114845-00","2011-04-07",128.41,10,{"$f":"F1957*memoria!$B$44/(G1957*12*memoria!$B$47)","v":2.6752083333333337E-3},{"$f":"F1957/(G1957*12*memoria!$B$47)","v":6.6880208333333331E-3}]
["Diadema","01691-Pavimento Térreo - Prédio Principal","Soprador Termico, 2 Estagios De Temperatura, 50-450 / 90-600º C, 110v, 1500w","01-114846-00","2011-04-07",128.41,10,{"$f":"F1958*memoria!$B$44/(G1958*12*memoria!$B$47)","v":2.6752083333333337E-3},{"$f":"F1958/(G1958*12*memoria!$B$47)","v":6.6880208333333331E-3}]
["Diadema","01691-Pavimento Térreo - Prédio Principal","Banho-Maria Microprocessado, Temp. +5ºC A 120ºC, 220 V, Kw 0,150, Branco","01-114870-00","2011-04-07",972.99,10,{"$f":"F1959*memoria!$B$44/(G1959*12*memoria!$B$47)","v":2.0270625E-2},{"$f":"F1959/(G1959*12*memoria!$B$47)","v":5.0676562500000001E-2}]
["Diadema","01691-Pavimento Térreo - Prédio Principal","Banho-Maria Microprocessado, Temp. +5ºC A 120ºC, 220 V, Kw 0,150, Branco","01-114871-00","2011-04-07",972.99,10,{"$f":"F1960*memoria!$B$44/(G1960*12*memoria!$B$47)","v":2.0270625E-2},{"$f":"F1960/(G1960*12*memoria!$B$47)","v":5.0676562500000001E-2}]
["Diadema","01691-Pavimento Térreo - Prédio Principal","Banho-Maria Microprocessado, Temp. +5ºC A 120ºC, 220 V, Kw 0,150, Branco","01-114872-00","2011-04-07",972.99,10,{"$f":"F1961*memoria!$B$44/(G1961*12*memoria!$B$47)","v":2.0270625E-2},{"$f":"F1961/(G1961*12*memoria!$B$47)","v":5.0676562500000001E-2}]
["Diadema","01691-Pavimento Térreo - Prédio Principal","Banho-Maria Microprocessado, Temp. +5ºC A 120ºC, 220 V, Kw 0,150, Branco","01-114873-00","2011-04-07",972.99,10,{"$f":"F1962*memoria!$B$44/(G1962*12*memoria!$B$47)","v":2.0270625E-2},{"$f":"F1962/(G1962*12*memoria!$B$47)","v":5.0676562500000001E-2}]
["Diadema","01691-Pavimento Térreo - Prédio Principal","Banho-Maria Microprocessado, Temp. +5ºC A 120ºC, 220 V, Kw 0,150, Branco","01-114874-00","2011-04-07",972.99,10,{"$f":"F1963*memoria!$B$44/(G1963*12*memoria!$B$47)","v":2.0270625E-2},{"$f":"F1963/(G1963*12*memoria!$B$47)","v":5.0676562500000001E-2}]
["Diadema","01691-Pavimento Térreo - Prédio Principal","Banho-Maria Microprocessado, Temp. +5ºC A 120ºC, 220 V, Kw 0,150, Branco","01-114875-00","2011-04-07",972.99,10,{"$f":"F1964*memoria!$B$44/(G1964*12*memoria!$B$47)","v":2.0270625E-2},{"$f":"F1964/(G1964*12*memoria!$B$47)","v":5.0676562500000001E-2}]
["Diadema","01691-Pavimento Térreo - Prédio Principal","Banho-Maria Microprocessado, Temp. +5ºC A 120ºC, 220 V, Kw 0,150, Branco","01-114876-00","2011-04-07",972.99,10,{"$f":"F1965*memoria!$B$44/(G1965*12*memoria!$B$47)","v":2.0270625E-2},{"$f":"F1965/(G1965*12*memoria!$B$47)","v":5.0676562500000001E-2}]
["Diadema","01691-Pavimento Térreo - Prédio Principal","Banho-Maria Microprocessado, Temp. +5ºC A 120ºC, 220 V, Kw 0,150, Branco","01-114877-00","2011-04-07",972.99,10,{"$f":"F1966*memoria!$B$44/(G1966*12*memoria!$B$47)","v":2.0270625E-2},{"$f":"F1966/(G1966*12*memoria!$B$47)","v":5.0676562500000001E-2}]
["Diadema","01691-Pavimento Térreo - Prédio Principal","Banho-Maria Microprocessado, Temp. +5ºC A 120ºC, 220 V, Kw 0,150, Branco","01-114878-00","2011-04-07",972.99,10,{"$f":"F1967*memoria!$B$44/(G1967*12*memoria!$B$47)","v":2.0270625E-2},{"$f":"F1967/(G1967*12*memoria!$B$47)","v":5.0676562500000001E-2}]
["Diadema","01691-Pavimento Térreo - Prédio Principal","Banho-Maria Microprocessado, 750 W, 110 V, Branco","01-114879-00","2011-04-07",972.99,10,{"$f":"F1968*memoria!$B$44/(G1968*12*memoria!$B$47)","v":2.0270625E-2},{"$f":"F1968/(G1968*12*memoria!$B$47)","v":5.0676562500000001E-2}]
["Diadema","01691-Pavimento Térreo - Prédio Principal","Lanterna, Holofote 2 Milhoes Velas, 12 Lds 3 X 1, 12 V, Amarela","01-114880-00","2011-04-07",84.4,10,{"$f":"F1969*memoria!$B$44/(G1969*12*memoria!$B$47)","v":1.7583333333333335E-3},{"$f":"F1969/(G1969*12*memoria!$B$47)","v":4.3958333333333341E-3}]
["Diadema","01691-Pavimento Térreo - Prédio Principal","Lanterna, Holofote 2 Milhoes Velas, 12 Lds 3 X 1, 12 V, Amarela","01-114881-00","2011-04-07",84.4,10,{"$f":"F1970*memoria!$B$44/(G1970*12*memoria!$B$47)","v":1.7583333333333335E-3},{"$f":"F1970/(G1970*12*memoria!$B$47)","v":4.3958333333333341E-3}]
["Diadema","01691-Pavimento Térreo - Prédio Principal","Lanterna, Holofote 2 Milhoes Velas, 12 Lds 3 X 1, 12 V, Amarela","01-114882-00","2011-04-07",84.4,10,{"$f":"F1971*memoria!$B$44/(G1971*12*memoria!$B$47)","v":1.7583333333333335E-3},{"$f":"F1971/(G1971*12*memoria!$B$47)","v":4.3958333333333341E-3}]
["Diadema","01691-Pavimento Térreo - Prédio Principal","Lanterna, Holofote 2 Milhoes Velas, 12 Lds 3 X 1, 12 V, Amarela","01-114883-00","2011-04-07",84.4,10,{"$f":"F1972*memoria!$B$44/(G1972*12*memoria!$B$47)","v":1.7583333333333335E-3},{"$f":"F1972/(G1972*12*memoria!$B$47)","v":4.3958333333333341E-3}]
["Diadema","01691-Pavimento Térreo - Prédio Principal","Lanterna, Holofote 2 Milhoes Velas, 12 Lds 3 X 1, 12 V, Amarela","01-114884-00","2011-04-07",84.4,10,{"$f":"F1973*memoria!$B$44/(G1973*12*memoria!$B$47)","v":1.7583333333333335E-3},{"$f":"F1973/(G1973*12*memoria!$B$47)","v":4.3958333333333341E-3}]
["Diadema","01691-Pavimento Térreo - Prédio Principal","Lanterna, Holofote 2 Milhoes Velas, 12 Lds 3 X 1, 12 V, Amarela","01-114885-00","2011-04-07",84.4,10,{"$f":"F1974*memoria!$B$44/(G1974*12*memoria!$B$47)","v":1.7583333333333335E-3},{"$f":"F1974/(G1974*12*memoria!$B$47)","v":4.3958333333333341E-3}]
["Diadema","01691-Pavimento Térreo - Prédio Principal","Lanterna, Holofote 2 Milhoes Velas, 12 Lds 3 X 1, 12 V, Amarela","01-114886-00","2011-04-07",84.4,10,{"$f":"F1975*memoria!$B$44/(G1975*12*memoria!$B$47)","v":1.7583333333333335E-3},{"$f":"F1975/(G1975*12*memoria!$B$47)","v":4.3958333333333341E-3}]
["Diadema","01691-Pavimento Térreo - Prédio Principal","Lanterna, Holofote 2 Milhoes Velas, 12 Lds 3 X 1, 12 V, Amarela","01-114887-00","2011-04-07",84.4,10,{"$f":"F1976*memoria!$B$44/(G1976*12*memoria!$B$47)","v":1.7583333333333335E-3},{"$f":"F1976/(G1976*12*memoria!$B$47)","v":4.3958333333333341E-3}]
["Diadema","01691-Pavimento Térreo - Prédio Principal","Lanterna, Holofote 2 Milhoes Velas, 12 Lds 3 X 1, 12 V, Amarela","01-114888-00","2011-04-07",84.4,10,{"$f":"F1977*memoria!$B$44/(G1977*12*memoria!$B$47)","v":1.7583333333333335E-3},{"$f":"F1977/(G1977*12*memoria!$B$47)","v":4.3958333333333341E-3}]
["Diadema","01691-Pavimento Térreo - Prédio Principal","Lanterna, Holofote 2 Milhoes Velas, 12 Lds 3 X 1, 12 V, Amarela","01-114889-00","2011-04-07",84.4,10,{"$f":"F1978*memoria!$B$44/(G1978*12*memoria!$B$47)","v":1.7583333333333335E-3},{"$f":"F1978/(G1978*12*memoria!$B$47)","v":4.3958333333333341E-3}]
["Diadema","01691-Pavimento Térreo - Prédio Principal","Lanterna, Holofote 2 Milhoes Velas, 12 Lds 3 X 1, 12 V, Amarela","01-114890-00","2011-04-07",84.4,10,{"$f":"F1979*memoria!$B$44/(G1979*12*memoria!$B$47)","v":1.7583333333333335E-3},{"$f":"F1979/(G1979*12*memoria!$B$47)","v":4.3958333333333341E-3}]
["Diadema","01691-Pavimento Térreo - Prédio Principal","Lanterna, Holofote 2 Milhoes Velas, 12 Lds 3 X 1, 12 V, Amarela","01-114891-00","2011-04-07",84.4,10,{"$f":"F1980*memoria!$B$44/(G1980*12*memoria!$B$47)","v":1.7583333333333335E-3},{"$f":"F1980/(G1980*12*memoria!$B$47)","v":4.3958333333333341E-3}]
["Diadema","01691-Pavimento Térreo - Prédio Principal","Lanterna, Holofote 2 Milhoes Velas, 12 Lds 3 X 1, 12 V, Amarela","01-114892-00","2011-04-07",84.4,10,{"$f":"F1981*memoria!$B$44/(G1981*12*memoria!$B$47)","v":1.7583333333333335E-3},{"$f":"F1981/(G1981*12*memoria!$B$47)","v":4.3958333333333341E-3}]
["Diadema","01691-Pavimento Térreo - Prédio Principal","Lanterna, Holofote 2 Milhoes Velas, 12 Lds 3 X 1, 12 V, Amarela","01-114893-00","2011-04-07",84.4,10,{"$f":"F1982*memoria!$B$44/(G1982*12*memoria!$B$47)","v":1.7583333333333335E-3},{"$f":"F1982/(G1982*12*memoria!$B$47)","v":4.3958333333333341E-3}]
["Diadema","01691-Pavimento Térreo - Prédio Principal","Lanterna, Holofote 2 Milhoes Velas, 12 Lds 3 X 1, 12 V, Amarela","01-114894-00","2011-04-07",84.4,10,{"$f":"F1983*memoria!$B$44/(G1983*12*memoria!$B$47)","v":1.7583333333333335E-3},{"$f":"F1983/(G1983*12*memoria!$B$47)","v":4.3958333333333341E-3}]
["Diadema","01691-Pavimento Térreo - Prédio Principal","Lanterna, Holofote 2 Milhoes Velas, 12 Lds 3 X 1, 12 V, Amarela","01-114895-00","2011-04-07",84.4,10,{"$f":"F1984*memoria!$B$44/(G1984*12*memoria!$B$47)","v":1.7583333333333335E-3},{"$f":"F1984/(G1984*12*memoria!$B$47)","v":4.3958333333333341E-3}]
["Diadema","01691-Pavimento Térreo - Prédio Principal","Lanterna, Holofote 2 Milhoes Velas, 12 Lds 3 X 1, 12 V, Amarela","01-114896-00","2011-04-07",84.4,10,{"$f":"F1985*memoria!$B$44/(G1985*12*memoria!$B$47)","v":1.7583333333333335E-3},{"$f":"F1985/(G1985*12*memoria!$B$47)","v":4.3958333333333341E-3}]
["Diadema","01691-Pavimento Térreo - Prédio Principal","Lanterna, Holofote 2 Milhoes Velas, 12 Lds 3 X 1, 12 V, Amarela","01-114897-00","2011-04-07",84.4,10,{"$f":"F1986*memoria!$B$44/(G1986*12*memoria!$B$47)","v":1.7583333333333335E-3},{"$f":"F1986/(G1986*12*memoria!$B$47)","v":4.3958333333333341E-3}]
["Diadema","01691-Pavimento Térreo - Prédio Principal","Lanterna, Holofote 2 Milhoes Velas, 12 Lds 3 X 1, 12 V, Amarela","01-114898-00","2011-04-07",84.4,10,{"$f":"F1987*memoria!$B$44/(G1987*12*memoria!$B$47)","v":1.7583333333333335E-3},{"$f":"F1987/(G1987*12*memoria!$B$47)","v":4.3958333333333341E-3}]
["Diadema","01691-Pavimento Térreo - Prédio Principal","Lanterna, Holofote 2 Milhoes Velas, 12 Lds 3 X 1, 12 V, Amarela","01-114899-00","2011-04-07",84.4,10,{"$f":"F1988*memoria!$B$44/(G1988*12*memoria!$B$47)","v":1.7583333333333335E-3},{"$f":"F1988/(G1988*12*memoria!$B$47)","v":4.3958333333333341E-3}]
["Diadema","01691-Pavimento Térreo - Prédio Principal","Cromatografo Fase Liquida De Alta Eficiencia, Semi-Preparativo","01-114909-00","2011-06-21",166800,10,{"$f":"F1989*memoria!$B$44/(G1989*12*memoria!$B$47)","v":3.4750000000000001},{"$f":"F1989/(G1989*12*memoria!$B$47)","v":8.6875}]
["Diadema","01691-Pavimento Térreo - Prédio Principal","Potenciostato/Galvanostato, Corrente Max. 2a, Compliancia Potencial 30v,","01-114915-00","2011-06-22",180000,10,{"$f":"F1990*memoria!$B$44/(G1990*12*memoria!$B$47)","v":3.75},{"$f":"F1990/(G1990*12*memoria!$B$47)","v":9.375}]
["Diadema","01691-Pavimento Térreo - Prédio Principal","Prensa P/ Extracao Hidraulica E Esmagamento, C/ Plataforma De Aquecimento","01-114916-00","2011-06-20",9900,10,{"$f":"F1991*memoria!$B$44/(G1991*12*memoria!$B$47)","v":0.20624999999999999},{"$f":"F1991/(G1991*12*memoria!$B$47)","v":0.515625}]
["Diadema","01691-Pavimento Térreo - Prédio Principal","Cabine De Seguranca Biologica, Classe Ii A1, Pot. 396w, 220 V, Amperagem 1.8a","01-114917-00","2011-06-28",9500,10,{"$f":"F1992*memoria!$B$44/(G1992*12*memoria!$B$47)","v":0.19791666666666666},{"$f":"F1992/(G1992*12*memoria!$B$47)","v":0.49479166666666669}]
["Diadema","01691-Pavimento Térreo - Prédio Principal","Cabine De Seguranca Biologica, Classe Ii A1, Pot. 396w, 220 V, Amperagem 1.8a","01-114918-00","2011-06-28",9500,10,{"$f":"F1993*memoria!$B$44/(G1993*12*memoria!$B$47)","v":0.19791666666666666},{"$f":"F1993/(G1993*12*memoria!$B$47)","v":0.49479166666666669}]
["Diadema","01691-Pavimento Térreo - Prédio Principal","Cabine De Seguranca Biologica, Classe Ii A1, Pot. 396w, 220 V, Amperagem 1.8a","01-114919-00","2011-06-28",9500,10,{"$f":"F1994*memoria!$B$44/(G1994*12*memoria!$B$47)","v":0.19791666666666666},{"$f":"F1994/(G1994*12*memoria!$B$47)","v":0.49479166666666669}]
["Diadema","01691-Pavimento Térreo - Prédio Principal","Cabine De Seguranca Biologica, Classe Ii A1, Pot. 396w, 220 V, Amperagem 1.8a","01-114920-00","2011-06-28",9500,10,{"$f":"F1995*memoria!$B$44/(G1995*12*memoria!$B$47)","v":0.19791666666666666},{"$f":"F1995/(G1995*12*memoria!$B$47)","v":0.49479166666666669}]
["Diadema","01691-Pavimento Térreo - Prédio Principal","Cabine De Seguranca Biologica, Classe Ii A1, Pot. 396w, 220 V, Amperagem 1.8a","01-114921-00","2011-06-28",9500,10,{"$f":"F1996*memoria!$B$44/(G1996*12*memoria!$B$47)","v":0.19791666666666666},{"$f":"F1996/(G1996*12*memoria!$B$47)","v":0.49479166666666669}]
["Diadema","01691-Pavimento Térreo - Prédio Principal","Cabine De Seguranca Biologica, Classe Ii A1, Pot. 396w, 220 V, Amperagem 1.8a","01-114922-00","2011-06-28",9500,10,{"$f":"F1997*memoria!$B$44/(G1997*12*memoria!$B$47)","v":0.19791666666666666},{"$f":"F1997/(G1997*12*memoria!$B$47)","v":0.49479166666666669}]
["Diadema","01691-Pavimento Térreo - Prédio Principal","Autoclave Vertical, Tensao 220v, Corrente 18,2a, Freq. 50/60 Hz, Pot. 4,0kw","01-114923-00","2011-07-01",4675,10,{"$f":"F1998*memoria!$B$44/(G1998*12*memoria!$B$47)","v":9.7395833333333334E-2},{"$f":"F1998/(G1998*12*memoria!$B$47)","v":0.24348958333333334}]
["Diadema","01691-Pavimento Térreo - Prédio Principal","Autoclave Vertical, Tensao 220v, Corrente 18,2a, Freq. 50/60 Hz, Pot. 4,0kw","01-114924-00","2011-07-01",4675,10,{"$f":"F1999*memoria!$B$44/(G1999*12*memoria!$B$47)","v":9.7395833333333334E-2},{"$f":"F1999/(G1999*12*memoria!$B$47)","v":0.24348958333333334}]
["Diadema","01691-Pavimento Térreo - Prédio Principal","Agitador","01-115174-00","2011-07-06",62000,10,{"$f":"F2000*memoria!$B$44/(G2000*12*memoria!$B$47)","v":1.2916666666666667},{"$f":"F2000/(G2000*12*memoria!$B$47)","v":3.2291666666666665}]
["Diadema","01691-Pavimento Térreo - Prédio Principal","Agitador","01-115175-00","2011-07-06",62000,10,{"$f":"F2001*memoria!$B$44/(G2001*12*memoria!$B$47)","v":1.2916666666666667},{"$f":"F2001/(G2001*12*memoria!$B$47)","v":3.2291666666666665}]
["Diadema","01691-Pavimento Térreo - Prédio Principal","Lavadora De Microplacas, 220 V","01-115181-00","2011-07-06",10850,10,{"$f":"F2007*memoria!$B$44/(G2007*12*memoria!$B$47)","v":0.22604166666666667},{"$f":"F2007/(G2007*12*memoria!$B$47)","v":0.56510416666666663}]
["Diadema","01691-Pavimento Térreo - Prédio Principal","Incubadora Co2, 220v","01-115186-00","2011-07-06",16500,10,{"$f":"F2012*memoria!$B$44/(G2012*12*memoria!$B$47)","v":0.34375},{"$f":"F2012/(G2012*12*memoria!$B$47)","v":0.859375}]
["Diadema","01691-Pavimento Térreo - Prédio Principal","Freezer Vertical","01-116745-00","2011-07-12",54000,10,{"$f":"F2018*memoria!$B$44/(G2018*12*memoria!$B$47)","v":1.125},{"$f":"F2018/(G2018*12*memoria!$B$47)","v":2.8125}]
["Diadema","01691-Pavimento Térreo - Prédio Principal","Microscópio Metalográfico De Campo Claro","01-116780-00","2011-08-04",38270,10,{"$f":"F2023*memoria!$B$44/(G2023*12*memoria!$B$47)","v":0.79729166666666662},{"$f":"F2023/(G2023*12*memoria!$B$47)","v":1.9932291666666666}]
["Diadema","01691-Pavimento Térreo - Prédio Principal","Agitador Eletromagnetico, 110/220v, C/ Tampa, Fundo, Acomp. Haste P/3 E P/8,","01-116813-00","2011-09-20",4277.37,10,{"$f":"F2028*memoria!$B$44/(G2028*12*memoria!$B$47)","v":8.9111875000000007E-2},{"$f":"F2028/(G2028*12*memoria!$B$47)","v":0.22277968749999999}]
["Diadema","01691-Pavimento Térreo - Prédio Principal","Batedeira Planetaria, C/ Duplo Movimento Do Batedor, 127v, 60hz, 300w","01-116819-00","2011-09-01",471.9,10,{"$f":"F2034*memoria!$B$44/(G2034*12*memoria!$B$47)","v":9.8312499999999997E-3},{"$f":"F2034/(G2034*12*memoria!$B$47)","v":2.4578124999999999E-2}]
["Diadema","01691-Pavimento Térreo - Prédio Principal","Sistema De Purificacao De Agua Com Dispensacao Adaptavel","01-116824-00","2011-09-26",16279,10,{"$f":"F2039*memoria!$B$44/(G2039*12*memoria!$B$47)","v":0.33914583333333337},{"$f":"F2039/(G2039*12*memoria!$B$47)","v":0.84786458333333337}]
["Diadema","01691-Pavimento Térreo - Prédio Principal","Determinador De Quantidade De Agua Absorvida Pela Superficie - Cobb Test","01-116827-00","2011-09-29",5900,10,{"$f":"F2042*memoria!$B$44/(G2042*12*memoria!$B$47)","v":0.12291666666666666},{"$f":"F2042/(G2042*12*memoria!$B$47)","v":0.30729166666666669}]
["Diadema","01691-Pavimento Térreo - Prédio Principal","Balanca Analitica Digital, Microprocessada, Capac. Acima De 3100g","01-117203-00","2011-09-23",1757,10,{"$f":"F2051*memoria!$B$44/(G2051*12*memoria!$B$47)","v":3.6604166666666667E-2},{"$f":"F2051/(G2051*12*memoria!$B$47)","v":9.1510416666666664E-2}]
["Diadema","01691-Pavimento Térreo - Prédio Principal","Balanca Analitica Digital, Microprocessada, Capac. Acima De 3100g","01-117208-00","2011-09-23",1757,10,{"$f":"F2056*memoria!$B$44/(G2056*12*memoria!$B$47)","v":3.6604166666666667E-2},{"$f":"F2056/(G2056*12*memoria!$B$47)","v":9.1510416666666664E-2}]
["Diadema","01691-Pavimento Térreo - Prédio Principal","Balanca Analitica Digital, Microprocessada, Capac. Acima De 3100g","01-117209-00","2011-09-23",1757,10,{"$f":"F2057*memoria!$B$44/(G2057*12*memoria!$B$47)","v":3.6604166666666667E-2},{"$f":"F2057/(G2057*12*memoria!$B$47)","v":9.1510416666666664E-2}]
["Diadema","01691-Pavimento Térreo - Prédio Principal","Balanca Semi-Analitica Digital, Microprocessada, Capac. Acima De 3100g","01-117214-00","2011-09-23",774,10,{"$f":"F2062*memoria!$B$44/(G2062*12*memoria!$B$47)","v":1.6125E-2},{"$f":"F2062/(G2062*12*memoria!$B$47)","v":4.0312500000000001E-2}]
["Diadema","01691-Pavimento Térreo - Prédio Principal","Balanca Semi-Analitica Digital, Microprocessada, Capac. Acima De 3100g","01-117219-00","2011-09-23",774,10,{"$f":"F2067*memoria!$B$44/(G2067*12*memoria!$B$47)","v":1.6125E-2},{"$f":"F2067/(G2067*12*memoria!$B$47)","v":4.0312500000000001E-2}]
["Diadema","01691-Pavimento Térreo - Prédio Principal","Chuveiro Lava-Olhos","01-117236-00","2011-09-06",850,10,{"$f":"F2073*memoria!$B$44/(G2073*12*memoria!$B$47)","v":1.7708333333333333E-2},{"$f":"F2073/(G2073*12*memoria!$B$47)","v":4.4270833333333336E-2}]
["Diadema","01691-Pavimento Térreo - Prédio Principal","Chuveiro Lava-Olhos","01-117241-00","2011-09-06",850,10,{"$f":"F2078*memoria!$B$44/(G2078*12*memoria!$B$47)","v":1.7708333333333333E-2},{"$f":"F2078/(G2078*12*memoria!$B$47)","v":4.4270833333333336E-2}]
["Diadema","01691-Pavimento Térreo - Prédio Principal","Chuveiro Lava-Olhos","01-117246-00","2011-09-06",850,10,{"$f":"F2083*memoria!$B$44/(G2083*12*memoria!$B$47)","v":1.7708333333333333E-2},{"$f":"F2083/(G2083*12*memoria!$B$47)","v":4.4270833333333336E-2}]
["Diadema","01691-Pavimento Térreo - Prédio Principal","Chuveiro Lava-Olhos","01-117253-00","2011-09-06",850,10,{"$f":"F2090*memoria!$B$44/(G2090*12*memoria!$B$47)","v":1.7708333333333333E-2},{"$f":"F2090/(G2090*12*memoria!$B$47)","v":4.4270833333333336E-2}]
["Diadema","01691-Pavimento Térreo - Prédio Principal","Chuveiro Lava-Olhos","01-117258-00","2011-09-06",850,10,{"$f":"F2095*memoria!$B$44/(G2095*12*memoria!$B$47)","v":1.7708333333333333E-2},{"$f":"F2095/(G2095*12*memoria!$B$47)","v":4.4270833333333336E-2}]
["Diadema","01691-Pavimento Térreo - Prédio Principal","Mesa Inercial Para Balança Med. 100 X 70 X 90 Cm","01-117286-00","2011-10-18",800,10,{"$f":"F2101*memoria!$B$44/(G2101*12*memoria!$B$47)","v":1.6666666666666666E-2},{"$f":"F2101/(G2101*12*memoria!$B$47)","v":4.1666666666666664E-2}]
["Diadema","01691-Pavimento Térreo - Prédio Principal","Mesa Inercial Para Balança Med. 100 X 70 X 90 Cm","01-117291-00","2011-10-18",800,10,{"$f":"F2106*memoria!$B$44/(G2106*12*memoria!$B$47)","v":1.6666666666666666E-2},{"$f":"F2106/(G2106*12*memoria!$B$47)","v":4.1666666666666664E-2}]
["Diadema","01691-Pavimento Térreo - Prédio Principal","Estufa De Secagem E Esterilização","01-117297-00","2011-10-17",1625,10,{"$f":"F2112*memoria!$B$44/(G2112*12*memoria!$B$47)","v":3.3854166666666664E-2},{"$f":"F2112/(G2112*12*memoria!$B$47)","v":8.4635416666666671E-2}]
["Diadema","01691-Pavimento Térreo - Prédio Principal","Conjunto De Termologia E Queda Livre","01-118143-00","2011-10-14",12793.6,10,{"$f":"F2117*memoria!$B$44/(G2117*12*memoria!$B$47)","v":0.26653333333333334},{"$f":"F2117/(G2117*12*memoria!$B$47)","v":0.66633333333333333}]
["Diadema","01691-Pavimento Térreo - Prédio Principal","Banho Ultratermostatizado Com Circulação, 220v, 2100 Pot","01-118148-00","2011-10-18",3555,10,{"$f":"F2122*memoria!$B$44/(G2122*12*memoria!$B$47)","v":7.4062500000000003E-2},{"$f":"F2122/(G2122*12*memoria!$B$47)","v":0.18515624999999999}]
["Diadema","01691-Pavimento Térreo - Prédio Principal","Banho Ultratermostatizado Com Circulação, 220v, 2100 Pot","01-118149-00","2011-10-18",3555,10,{"$f":"F2123*memoria!$B$44/(G2123*12*memoria!$B$47)","v":7.4062500000000003E-2},{"$f":"F2123/(G2123*12*memoria!$B$47)","v":0.18515624999999999}]
["Diadema","01691-Pavimento Térreo - Prédio Principal","Estufa De Secagem C/ Circulacao De Ar","01-118158-00","2011-10-28",3045,10,{"$f":"F2132*memoria!$B$44/(G2132*12*memoria!$B$47)","v":6.3437499999999994E-2},{"$f":"F2132/(G2132*12*memoria!$B$47)","v":0.15859375000000001}]
["Diadema","01691-Pavimento Térreo - Prédio Principal","Espectrofotometro Ultra-Violeta Visivel","01-118160-00","2011-11-21",28099,10,{"$f":"F2134*memoria!$B$44/(G2134*12*memoria!$B$47)","v":0.58539583333333334},{"$f":"F2134/(G2134*12*memoria!$B$47)","v":1.4634895833333332}]
["Diadema","01691-Pavimento Térreo - Prédio Principal","Estufa Bacteriologica, Capac. 250 L, 220 V","01-118168-00","2011-10-28",2800,10,{"$f":"F2140*memoria!$B$44/(G2140*12*memoria!$B$47)","v":5.8333333333333334E-2},{"$f":"F2140/(G2140*12*memoria!$B$47)","v":0.14583333333333334}]
["Diadema","01691-Pavimento Térreo - Prédio Principal","Autoclave Vertical","01-118328-00","2011-10-25",4649,10,{"$f":"F2145*memoria!$B$44/(G2145*12*memoria!$B$47)","v":9.6854166666666672E-2},{"$f":"F2145/(G2145*12*memoria!$B$47)","v":0.24213541666666666}]
["Diadema","01691-Pavimento Térreo - Prédio Principal","Desumidificador Para Grandes Areas","01-118334-00","2011-10-18",3883.88,10,{"$f":"F2151*memoria!$B$44/(G2151*12*memoria!$B$47)","v":8.0914166666666676E-2},{"$f":"F2151/(G2151*12*memoria!$B$47)","v":0.20228541666666666}]
["Diadema","01691-Pavimento Térreo - Prédio Principal","Capela De Exaustao","01-118339-00","2011-11-10",10500,10,{"$f":"F2156*memoria!$B$44/(G2156*12*memoria!$B$47)","v":0.21875},{"$f":"F2156/(G2156*12*memoria!$B$47)","v":0.546875}]
["Diadema","01691-Pavimento Térreo - Prédio Principal","Capela De Exaustao","01-118344-00","2011-11-10",10500,10,{"$f":"F2161*memoria!$B$44/(G2161*12*memoria!$B$47)","v":0.21875},{"$f":"F2161/(G2161*12*memoria!$B$47)","v":0.546875}]
["Diadema","01691-Pavimento Térreo - Prédio Principal","Kit Mecanica I P/ Computador C/ Sensores E Software","01-118350-00","2011-10-17",4842.05,10,{"$f":"F2167*memoria!$B$44/(G2167*12*memoria!$B$47)","v":0.10087604166666668},{"$f":"F2167/(G2167*12*memoria!$B$47)","v":0.25219010416666665}]
["Diadema","01691-Pavimento Térreo - Prédio Principal","Kit Mecanica I P/ Computador C/ Sensores E Software","01-118356-00","2011-10-17",4842.05,10,{"$f":"F2173*memoria!$B$44/(G2173*12*memoria!$B$47)","v":0.10087604166666668},{"$f":"F2173/(G2173*12*memoria!$B$47)","v":0.25219010416666665}]
["Diadema","01691-Pavimento Térreo - Prédio Principal","Sistema De Ventilacao Local Exaustora","01-118411-00","2011-12-06",5000,10,{"$f":"F2178*memoria!$B$44/(G2178*12*memoria!$B$47)","v":0.10416666666666667},{"$f":"F2178/(G2178*12*memoria!$B$47)","v":0.26041666666666669}]
["Diadema","01691-Pavimento Térreo - Prédio Principal","Mesa Inercial Para Balanca","01-118417-00","2011-12-06",800,10,{"$f":"F2184*memoria!$B$44/(G2184*12*memoria!$B$47)","v":1.6666666666666666E-2},{"$f":"F2184/(G2184*12*memoria!$B$47)","v":4.1666666666666664E-2}]
["Diadema","01691-Pavimento Térreo - Prédio Principal","Analisador De Particulas Por Difracao A Laser","01-118442-00","2011-12-21",174000,10,{"$f":"F2189*memoria!$B$44/(G2189*12*memoria!$B$47)","v":3.625},{"$f":"F2189/(G2189*12*memoria!$B$47)","v":9.0625}]
["Diadema","01691-Pavimento Térreo - Prédio Principal","Mesa Organica C/ 02 Gavetas, Suporte P/ Cpu E Painel Divisor","01-123023-00","2011-12-13",1234,10,{"$f":"F2190*memoria!$B$44/(G2190*12*memoria!$B$47)","v":2.5708333333333333E-2},{"$f":"F2190/(G2190*12*memoria!$B$47)","v":6.4270833333333333E-2}]
["Diadema","01691-Pavimento Térreo - Prédio Principal","Freezer Vertical, Capac. Min. 320 L., Cor Branca","01-123480-00","2012-01-02",1843.2,10,{"$f":"F2195*memoria!$B$44/(G2195*12*memoria!$B$47)","v":3.8400000000000004E-2},{"$f":"F2195/(G2195*12*memoria!$B$47)","v":9.6000000000000002E-2}]
["Diadema","01691-Pavimento Térreo - Prédio Principal","Freezer Vertical, Capac. Min. 320 L., Cor Branca","01-123485-00","2011-12-15",1843.2,10,{"$f":"F2200*memoria!$B$44/(G2200*12*memoria!$B$47)","v":3.8400000000000004E-2},{"$f":"F2200/(G2200*12*memoria!$B$47)","v":9.6000000000000002E-2}]
["Diadema","01691-Pavimento Térreo - Prédio Principal","Balanca Semi-Analitica, Max. 3200 G., Min. 0,5 G.","01-123501-00","2012-01-11",774,10,{"$f":"F2206*memoria!$B$44/(G2206*12*memoria!$B$47)","v":1.6125E-2},{"$f":"F2206/(G2206*12*memoria!$B$47)","v":4.0312500000000001E-2}]
["Diadema","01691-Pavimento Térreo - Prédio Principal","Microscopio Binocular","01-123509-00","2012-01-16",3230,10,{"$f":"F2214*memoria!$B$44/(G2214*12*memoria!$B$47)","v":6.7291666666666666E-2},{"$f":"F2214/(G2214*12*memoria!$B$47)","v":0.16822916666666668}]
["Diadema","01691-Pavimento Térreo - Prédio Principal","Microscopio Binocular","01-123513-00","2012-01-16",3230,10,{"$f":"F2218*memoria!$B$44/(G2218*12*memoria!$B$47)","v":6.7291666666666666E-2},{"$f":"F2218/(G2218*12*memoria!$B$47)","v":0.16822916666666668}]
["Diadema","01691-Pavimento Térreo - Prédio Principal","Microscopio Binocular","01-123518-00","2012-01-16",3230,10,{"$f":"F2223*memoria!$B$44/(G2223*12*memoria!$B$47)","v":6.7291666666666666E-2},{"$f":"F2223/(G2223*12*memoria!$B$47)","v":0.16822916666666668}]
["Diadema","01691-Pavimento Térreo - Prédio Principal","Microscopio Binocular","01-123523-00","2012-01-16",3230,10,{"$f":"F2228*memoria!$B$44/(G2228*12*memoria!$B$47)","v":6.7291666666666666E-2},{"$f":"F2228/(G2228*12*memoria!$B$47)","v":0.16822916666666668}]
["Diadema","01691-Pavimento Térreo - Prédio Principal","Microscopio Binocular","01-123529-00","2012-01-16",3230,10,{"$f":"F2234*memoria!$B$44/(G2234*12*memoria!$B$47)","v":6.7291666666666666E-2},{"$f":"F2234/(G2234*12*memoria!$B$47)","v":0.16822916666666668}]
["Diadema","01691-Pavimento Térreo - Prédio Principal","Microscopio Binocular","01-123534-00","2012-01-16",3230,10,{"$f":"F2239*memoria!$B$44/(G2239*12*memoria!$B$47)","v":6.7291666666666666E-2},{"$f":"F2239/(G2239*12*memoria!$B$47)","v":0.16822916666666668}]
["Diadema","01691-Pavimento Térreo - Prédio Principal","Microscopio Binocular","01-123539-00","2012-01-16",3230,10,{"$f":"F2244*memoria!$B$44/(G2244*12*memoria!$B$47)","v":6.7291666666666666E-2},{"$f":"F2244/(G2244*12*memoria!$B$47)","v":0.16822916666666668}]
["Diadema","01691-Pavimento Térreo - Prédio Principal","Microscopio Binocular","01-123545-00","2012-01-16",3230,10,{"$f":"F2250*memoria!$B$44/(G2250*12*memoria!$B$47)","v":6.7291666666666666E-2},{"$f":"F2250/(G2250*12*memoria!$B$47)","v":0.16822916666666668}]
["Diadema","01691-Pavimento Térreo - Prédio Principal","Microscopio Binocular","01-123550-00","2012-01-16",3230,10,{"$f":"F2255*memoria!$B$44/(G2255*12*memoria!$B$47)","v":6.7291666666666666E-2},{"$f":"F2255/(G2255*12*memoria!$B$47)","v":0.16822916666666668}]
["Diadema","01691-Pavimento Térreo - Prédio Principal","Refrigerador Vertical, Capac. Min. 320 L., 02 Portas, C/ Freezer","01-123556-00","2012-01-09",1230,10,{"$f":"F2261*memoria!$B$44/(G2261*12*memoria!$B$47)","v":2.5624999999999998E-2},{"$f":"F2261/(G2261*12*memoria!$B$47)","v":6.4062499999999994E-2}]
["Diadema","01691-Pavimento Térreo - Prédio Principal","Refrigerador Vertical, Capac. Min. 320 L., 02 Portas, C/ Freezer","01-123557-00","2012-01-09",1230,10,{"$f":"F2262*memoria!$B$44/(G2262*12*memoria!$B$47)","v":2.5624999999999998E-2},{"$f":"F2262/(G2262*12*memoria!$B$47)","v":6.4062499999999994E-2}]
["Diadema","01691-Pavimento Térreo - Prédio Principal","Refrigerador Vertical, Capac. Min. 320 L., 02 Portas, C/ Freezer","01-123562-00","2012-01-09",1230,10,{"$f":"F2267*memoria!$B$44/(G2267*12*memoria!$B$47)","v":2.5624999999999998E-2},{"$f":"F2267/(G2267*12*memoria!$B$47)","v":6.4062499999999994E-2}]
["Diadema","01691-Pavimento Térreo - Prédio Principal","Microscopio Trinocular, De Fluorescencia, C/ Fototubo E Otica Infinita","01-123568-00","2012-01-10",60417,10,{"$f":"F2273*memoria!$B$44/(G2273*12*memoria!$B$47)","v":1.2586875000000002},{"$f":"F2273/(G2273*12*memoria!$B$47)","v":3.1467187499999998}]
["Diadema","01691-Pavimento Térreo - Prédio Principal","Cilindro P/ Gas Dioxido Carbono, 25 Kgs, C/ Pescador E Carrinho Para Transporte","01-127447-00","2011-09-13",1410,10,{"$f":"F2278*memoria!$B$44/(G2278*12*memoria!$B$47)","v":2.9374999999999998E-2},{"$f":"F2278/(G2278*12*memoria!$B$47)","v":7.3437500000000003E-2}]
["Diadema","01691-Pavimento Térreo - Prédio Principal","Refrigerador, 462 L, 110 V","01-127455-00","2011-12-20",1790,10,{"$f":"F2284*memoria!$B$44/(G2284*12*memoria!$B$47)","v":3.7291666666666667E-2},{"$f":"F2284/(G2284*12*memoria!$B$47)","v":9.3229166666666669E-2}]
["Diadema","01691-Pavimento Térreo - Prédio Principal","Banho Maria, 127 V","01-127461-00","2011-12-20",586.29999999999995,10,{"$f":"F2289*memoria!$B$44/(G2289*12*memoria!$B$47)","v":1.2214583333333333E-2},{"$f":"F2289/(G2289*12*memoria!$B$47)","v":3.0536458333333332E-2}]
["Diadema","01691-Pavimento Térreo - Prédio Principal","Microscopio Estereoscopico Trinocular","01-127558-00","2011-07-18",2400,10,{"$f":"F2294*memoria!$B$44/(G2294*12*memoria!$B$47)","v":0.05},{"$f":"F2294/(G2294*12*memoria!$B$47)","v":0.125}]
["Diadema","01691-Pavimento Térreo - Prédio Principal","Termohigrometro Digital","01-127567-00","2012-03-02",51,10,{"$f":"F2302*memoria!$B$44/(G2302*12*memoria!$B$47)","v":1.0625000000000001E-3},{"$f":"F2302/(G2302*12*memoria!$B$47)","v":2.6562500000000002E-3}]
["Diadema","01691-Pavimento Térreo - Prédio Principal","Termohigrometro Digital","01-127571-00","2012-03-02",51,10,{"$f":"F2306*memoria!$B$44/(G2306*12*memoria!$B$47)","v":1.0625000000000001E-3},{"$f":"F2306/(G2306*12*memoria!$B$47)","v":2.6562500000000002E-3}]
["Diadema","01691-Pavimento Térreo - Prédio Principal","Microscopio Trinocular, C/ Platina Mecanica, Tubo Trinocular, Par De Oculares","01-127578-00","2011-07-18",9679.16,10,{"$f":"F2311*memoria!$B$44/(G2311*12*memoria!$B$47)","v":0.20164916666666668},{"$f":"F2311/(G2311*12*memoria!$B$47)","v":0.50412291666666664}]
["Diadema","01691-Pavimento Térreo - Prédio Principal","Camara De Video Digital, C/ Adaptador C-Mount 055x","01-127584-00","2011-07-18",8400,10,{"$f":"F2317*memoria!$B$44/(G2317*12*memoria!$B$47)","v":0.17499999999999999},{"$f":"F2317/(G2317*12*memoria!$B$47)","v":0.4375}]
["Diadema","01691-Pavimento Térreo - Prédio Principal","Balanca Analitica, 210g X 1mg","01-127589-00","2011-07-18",2730,10,{"$f":"F2322*memoria!$B$44/(G2322*12*memoria!$B$47)","v":5.6875000000000002E-2},{"$f":"F2322/(G2322*12*memoria!$B$47)","v":0.14218749999999999}]
["Diadema","01691-Pavimento Térreo - Prédio Principal","Capela De Fluxo Laminar, Classe 100, De Ar Regulavel, Luz Branca E Uv, 3000w","01-127590-00","2011-07-18",3945,10,{"$f":"F2323*memoria!$B$44/(G2323*12*memoria!$B$47)","v":8.2187499999999997E-2},{"$f":"F2323/(G2323*12*memoria!$B$47)","v":0.20546875000000001}]
["Diadema","01691-Pavimento Térreo - Prédio Principal","Sistema De Fotodocumentacao, 110v, C/ Gelquant, Coro Roxa","01-127597-00","2011-07-18",13003.95,10,{"$f":"F2328*memoria!$B$44/(G2328*12*memoria!$B$47)","v":0.27091562500000005},{"$f":"F2328/(G2328*12*memoria!$B$47)","v":0.67728906249999998}]
["Diadema","01691-Pavimento Térreo - Prédio Principal","Rotoevaporador, 230 V","01-127604-00","2011-11-04",14164.38,10,{"$f":"F2333*memoria!$B$44/(G2333*12*memoria!$B$47)","v":0.29509125000000003},{"$f":"F2333/(G2333*12*memoria!$B$47)","v":0.73772812499999996}]
["Diadema","01691-Pavimento Térreo - Prédio Principal","Fogao 06 Bocas Modular A Gas","01-127647-00","2012-08-14",6600,10,{"$f":"F2343*memoria!$B$44/(G2343*12*memoria!$B$47)","v":0.13750000000000001},{"$f":"F2343/(G2343*12*memoria!$B$47)","v":0.34375}]
["Diadema","01691-Pavimento Térreo - Prédio Principal","Lavadora De Alta Pressao, 220v, 60 Hz, 2500w","01-127658-00","2013-06-06",1299,10,{"$f":"F2345*memoria!$B$44/(G2345*12*memoria!$B$47)","v":2.70625E-2},{"$f":"F2345/(G2345*12*memoria!$B$47)","v":6.7656250000000001E-2}]
["Diadema","01691-Pavimento Térreo - Prédio Principal","Multiprocessador De Alimentos Industrial","01-127664-00","2012-09-04",8600,10,{"$f":"F2350*memoria!$B$44/(G2350*12*memoria!$B$47)","v":0.17916666666666667},{"$f":"F2350/(G2350*12*memoria!$B$47)","v":0.44791666666666669}]
["Diadema","01691-Pavimento Térreo - Prédio Principal","Modulo Didatico P/ Ensaios, Experimento C/ Reatores","01-127687-00","2012-09-06",43999,10,{"$f":"F2356*memoria!$B$44/(G2356*12*memoria!$B$47)","v":0.91664583333333349},{"$f":"F2356/(G2356*12*memoria!$B$47)","v":2.2916145833333332}]
["Diadema","01691-Pavimento Térreo - Prédio Principal","Fluorimetro, C/ Kits De Ensaio","01-127708-00","2012-07-05",6020.04,10,{"$f":"F2361*memoria!$B$44/(G2361*12*memoria!$B$47)","v":0.12541750000000002},{"$f":"F2361/(G2361*12*memoria!$B$47)","v":0.31354375000000001}]
["Diadema","01691-Pavimento Térreo - Prédio Principal","Agitador Mecanico","01-127714-00","2012-05-30",1050,10,{"$f":"F2367*memoria!$B$44/(G2367*12*memoria!$B$47)","v":2.1874999999999999E-2},{"$f":"F2367/(G2367*12*memoria!$B$47)","v":5.46875E-2}]
["Diadema","01691-Pavimento Térreo - Prédio Principal","Balanca Analitica, Capac. 210 Gr, Prec. 0,1 Mg","01-127719-00","2012-05-30",2492,10,{"$f":"F2372*memoria!$B$44/(G2372*12*memoria!$B$47)","v":5.1916666666666673E-2},{"$f":"F2372/(G2372*12*memoria!$B$47)","v":0.12979166666666667}]
["Diadema","01691-Pavimento Térreo - Prédio Principal","Mini Fermentador, 3 L, Unid.Base C/ 2 Rotametros, Defletores E","01-127725-00","2012-07-03",99000,10,{"$f":"F2377*memoria!$B$44/(G2377*12*memoria!$B$47)","v":2.0625},{"$f":"F2377/(G2377*12*memoria!$B$47)","v":5.15625}]
["Diadema","01691-Pavimento Térreo - Prédio Principal","Balanca Analitica Eletronica","01-127732-00","2012-06-25",10918.29,10,{"$f":"F2383*memoria!$B$44/(G2383*12*memoria!$B$47)","v":0.22746437500000002},{"$f":"F2383/(G2383*12*memoria!$B$47)","v":0.56866093750000002}]
["Diadema","01691-Pavimento Térreo - Prédio Principal","Sistema De Rotoevaporacao, 100/240 Vac","01-127736-00","2012-09-14",20000,10,{"$f":"F2386*memoria!$B$44/(G2386*12*memoria!$B$47)","v":0.41666666666666669},{"$f":"F2386/(G2386*12*memoria!$B$47)","v":1.0416666666666667}]
["Diadema","01691-Pavimento Térreo - Prédio Principal","Controlador De Vacuo, V-850","01-127740-00","2012-09-14",2000,10,{"$f":"F2390*memoria!$B$44/(G2390*12*memoria!$B$47)","v":4.1666666666666664E-2},{"$f":"F2390/(G2390*12*memoria!$B$47)","v":0.10416666666666667}]
["Diadema","01691-Pavimento Térreo - Prédio Principal","Mesa De Manipulacao","01-127750-00","2012-02-13",1224,10,{"$f":"F2395*memoria!$B$44/(G2395*12*memoria!$B$47)","v":2.5500000000000002E-2},{"$f":"F2395/(G2395*12*memoria!$B$47)","v":6.3750000000000001E-2}]
["Diadema","01691-Pavimento Térreo - Prédio Principal","Sistema Avancado De Ensino P/ Aquisicao De Parametros Fisiologicos","01-127755-00","2012-03-14",27276,10,{"$f":"F2400*memoria!$B$44/(G2400*12*memoria!$B$47)","v":0.56825000000000003},{"$f":"F2400/(G2400*12*memoria!$B$47)","v":1.420625}]
["Diadema","01691-Pavimento Térreo - Prédio Principal","Estereomicroscopio Binocular","01-127763-00","2012-03-15",3700,10,{"$f":"F2406*memoria!$B$44/(G2406*12*memoria!$B$47)","v":7.7083333333333337E-2},{"$f":"F2406/(G2406*12*memoria!$B$47)","v":0.19270833333333334}]
["Diadema","01691-Pavimento Térreo - Prédio Principal","Estereomicroscopio Binocular","01-127768-00","2012-03-15",3700,10,{"$f":"F2411*memoria!$B$44/(G2411*12*memoria!$B$47)","v":7.7083333333333337E-2},{"$f":"F2411/(G2411*12*memoria!$B$47)","v":0.19270833333333334}]
["Diadema","01691-Pavimento Térreo - Prédio Principal","Estereomicroscopio Binocular","01-127773-00","2012-03-15",3700,10,{"$f":"F2416*memoria!$B$44/(G2416*12*memoria!$B$47)","v":7.7083333333333337E-2},{"$f":"F2416/(G2416*12*memoria!$B$47)","v":0.19270833333333334}]
["Diadema","01691-Pavimento Térreo - Prédio Principal","Estereomicroscopio Binocular","01-127779-00","2012-03-15",3700,10,{"$f":"F2422*memoria!$B$44/(G2422*12*memoria!$B$47)","v":7.7083333333333337E-2},{"$f":"F2422/(G2422*12*memoria!$B$47)","v":0.19270833333333334}]
["Diadema","01691-Pavimento Térreo - Prédio Principal","Estereomicroscopio Binocular","01-127784-00","2012-03-15",3700,10,{"$f":"F2427*memoria!$B$44/(G2427*12*memoria!$B$47)","v":7.7083333333333337E-2},{"$f":"F2427/(G2427*12*memoria!$B$47)","v":0.19270833333333334}]
["Diadema","01691-Pavimento Térreo - Prédio Principal","Estereomicroscopio Binocular","01-127791-00","2012-03-15",3700,10,{"$f":"F2434*memoria!$B$44/(G2434*12*memoria!$B$47)","v":7.7083333333333337E-2},{"$f":"F2434/(G2434*12*memoria!$B$47)","v":0.19270833333333334}]
["Diadema","01691-Pavimento Térreo - Prédio Principal","Estereomicroscopio Binocular","01-127796-00","2012-03-15",3700,10,{"$f":"F2439*memoria!$B$44/(G2439*12*memoria!$B$47)","v":7.7083333333333337E-2},{"$f":"F2439/(G2439*12*memoria!$B$47)","v":0.19270833333333334}]
["Diadema","01691-Pavimento Térreo - Prédio Principal","Balanca Analitica Digital","01-127801-00","2012-03-29",1757,10,{"$f":"F2444*memoria!$B$44/(G2444*12*memoria!$B$47)","v":3.6604166666666667E-2},{"$f":"F2444/(G2444*12*memoria!$B$47)","v":9.1510416666666664E-2}]
["Diadema","01691-Pavimento Térreo - Prédio Principal","Batedeira Planetaria Industrial","01-127807-00","2012-03-30",2190,10,{"$f":"F2450*memoria!$B$44/(G2450*12*memoria!$B$47)","v":4.5624999999999999E-2},{"$f":"F2450/(G2450*12*memoria!$B$47)","v":0.1140625}]
["Diadema","01691-Pavimento Térreo - Prédio Principal","Centrifuga De Bancada","01-127812-00","2012-04-02",4165,10,{"$f":"F2455*memoria!$B$44/(G2455*12*memoria!$B$47)","v":8.6770833333333339E-2},{"$f":"F2455/(G2455*12*memoria!$B$47)","v":0.21692708333333333}]
["Diadema","01691-Pavimento Térreo - Prédio Principal","Centrifuga De Bancada","01-127817-00","2012-04-02",4165,10,{"$f":"F2460*memoria!$B$44/(G2460*12*memoria!$B$47)","v":8.6770833333333339E-2},{"$f":"F2460/(G2460*12*memoria!$B$47)","v":0.21692708333333333}]
["Diadema","01691-Pavimento Térreo - Prédio Principal","Balanca P/ Determinacao De Umidade C/ Aquecimento Halogeno","01-127818-00","2012-03-28",7400,10,{"$f":"F2461*memoria!$B$44/(G2461*12*memoria!$B$47)","v":0.15416666666666667},{"$f":"F2461/(G2461*12*memoria!$B$47)","v":0.38541666666666669}]
["Diadema","01691-Pavimento Térreo - Prédio Principal","Sistema De Ventilacao Local Exaustora","01-127823-00","2012-03-29",2650,10,{"$f":"F2466*memoria!$B$44/(G2466*12*memoria!$B$47)","v":5.5208333333333331E-2},{"$f":"F2466/(G2466*12*memoria!$B$47)","v":0.13802083333333334}]
["Diadema","01691-Pavimento Térreo - Prédio Principal","Prateleira Metalica Tipo Bandeja Movel","01-127831-00","2012-03-29",380,10,{"$f":"F2474*memoria!$B$44/(G2474*12*memoria!$B$47)","v":7.9166666666666673E-3},{"$f":"F2474/(G2474*12*memoria!$B$47)","v":1.9791666666666666E-2}]
["Diadema","01691-Pavimento Térreo - Prédio Principal","Prateleira Metalica Tipo Bandeja Movel","01-127835-00","2012-03-29",380,10,{"$f":"F2478*memoria!$B$44/(G2478*12*memoria!$B$47)","v":7.9166666666666673E-3},{"$f":"F2478/(G2478*12*memoria!$B$47)","v":1.9791666666666666E-2}]
["Diadema","01691-Pavimento Térreo - Prédio Principal","Lavadora Ultrasonica","01-127840-00","2012-03-31",1357,10,{"$f":"F2483*memoria!$B$44/(G2483*12*memoria!$B$47)","v":2.8270833333333335E-2},{"$f":"F2483/(G2483*12*memoria!$B$47)","v":7.0677083333333335E-2}]
["Diadema","01691-Pavimento Térreo - Prédio Principal","Freezer Horizontal, Capac. Min. 305 L.","01-127846-00","2012-04-19",1119.3,10,{"$f":"F2489*memoria!$B$44/(G2489*12*memoria!$B$47)","v":2.3318750000000003E-2},{"$f":"F2489/(G2489*12*memoria!$B$47)","v":5.8296874999999998E-2}]
["Diadema","01691-Pavimento Térreo - Prédio Principal","Balanca Analitica","01-127851-00","2012-04-09",2465,10,{"$f":"F2494*memoria!$B$44/(G2494*12*memoria!$B$47)","v":5.1354166666666666E-2},{"$f":"F2494/(G2494*12*memoria!$B$47)","v":0.12838541666666667}]
["Diadema","01691-Pavimento Térreo - Prédio Principal","Balanca Semi-Analitica","01-127857-00","2012-04-09",1160,10,{"$f":"F2500*memoria!$B$44/(G2500*12*memoria!$B$47)","v":2.4166666666666666E-2},{"$f":"F2500/(G2500*12*memoria!$B$47)","v":6.0416666666666667E-2}]
["Diadema","01691-Pavimento Térreo - Prédio Principal","Agitador Orbital Vortex, Pot. 40 W, 230 Volts","01-127868-00","2012-03-28",249,10,{"$f":"F2505*memoria!$B$44/(G2505*12*memoria!$B$47)","v":5.1875000000000003E-3},{"$f":"F2505/(G2505*12*memoria!$B$47)","v":1.2968749999999999E-2}]
["Diadema","01691-Pavimento Térreo - Prédio Principal","Agitador Orbital Vortex, Pot. 40 W, 230 Volts","01-127873-00","2012-03-28",249,10,{"$f":"F2510*memoria!$B$44/(G2510*12*memoria!$B$47)","v":5.1875000000000003E-3},{"$f":"F2510/(G2510*12*memoria!$B$47)","v":1.2968749999999999E-2}]
["Diadema","01691-Pavimento Térreo - Prédio Principal","Resfriador E Congelador Rapido","01-127878-00","2012-04-05",40500,10,{"$f":"F2515*memoria!$B$44/(G2515*12*memoria!$B$47)","v":0.84375},{"$f":"F2515/(G2515*12*memoria!$B$47)","v":2.109375}]
["Diadema","01691-Pavimento Térreo - Prédio Principal","Homogenizador De Amostras Digital ( Stomacher )","01-127922-00","2012-04-18",6586,10,{"$f":"F2522*memoria!$B$44/(G2522*12*memoria!$B$47)","v":0.13720833333333335},{"$f":"F2522/(G2522*12*memoria!$B$47)","v":0.34302083333333333}]
["Diadema","01691-Pavimento Térreo - Prédio Principal","Potenciostato/Galvanostato Portatil, Incluso Software, Cabos, Suporte De","01-127927-00","2012-04-25",18800,10,{"$f":"F2527*memoria!$B$44/(G2527*12*memoria!$B$47)","v":0.39166666666666666},{"$f":"F2527/(G2527*12*memoria!$B$47)","v":0.97916666666666663}]
["Diadema","01691-Pavimento Térreo - Prédio Principal","Sistema P/ Determinacao De Fluidez Intrinseca De Pos","01-127928-00","2012-04-24",62500,10,{"$f":"F2528*memoria!$B$44/(G2528*12*memoria!$B$47)","v":1.3020833333333333},{"$f":"F2528/(G2528*12*memoria!$B$47)","v":3.2552083333333335}]
["Diadema","01691-Pavimento Térreo - Prédio Principal","Equipamento De Jar Test, P/ Estudo De Floculacao: Dosagem De Floculante,","01-127933-00","2012-05-18",2449.65,10,{"$f":"F2533*memoria!$B$44/(G2533*12*memoria!$B$47)","v":5.1034375000000007E-2},{"$f":"F2533/(G2533*12*memoria!$B$47)","v":0.1275859375}]
["Diadema","01691-Pavimento Térreo - Prédio Principal","Placa Aquecedora, Med. 13 X 18 Cm, C/ Agitacao","01-127946-00","2012-04-09",2100,10,{"$f":"F2539*memoria!$B$44/(G2539*12*memoria!$B$47)","v":4.3749999999999997E-2},{"$f":"F2539/(G2539*12*memoria!$B$47)","v":0.109375}]
["Diadema","01691-Pavimento Térreo - Prédio Principal","Lavador De Gases Corrosivos","01-127951-00","2012-05-22",22000,10,{"$f":"F2544*memoria!$B$44/(G2544*12*memoria!$B$47)","v":0.45833333333333331},{"$f":"F2544/(G2544*12*memoria!$B$47)","v":1.1458333333333333}]
["Diadema","01691-Pavimento Térreo - Prédio Principal","Lavador De Gases Corrosivos","01-127956-00","2012-05-22",22000,10,{"$f":"F2549*memoria!$B$44/(G2549*12*memoria!$B$47)","v":0.45833333333333331},{"$f":"F2549/(G2549*12*memoria!$B$47)","v":1.1458333333333333}]
["Diadema","01691-Pavimento Térreo - Prédio Principal","Freezer Vertical, 220v, 60hz, 120w, Branco","01-127990-00","2013-06-13",1731.6,10,{"$f":"F2556*memoria!$B$44/(G2556*12*memoria!$B$47)","v":3.6074999999999996E-2},{"$f":"F2556/(G2556*12*memoria!$B$47)","v":9.018749999999999E-2}]
["Diadema","01691-Pavimento Térreo - Prédio Principal","Centrifuga Microrefrigerada","01-128002-00","2012-02-24",11132.47,10,{"$f":"F2561*memoria!$B$44/(G2561*12*memoria!$B$47)","v":0.23192645833333334},{"$f":"F2561/(G2561*12*memoria!$B$47)","v":0.5798161458333333}]
["Diadema","01691-Pavimento Térreo - Prédio Principal","Capela De Fluxo Laminar A1","01-128009-00","2012-02-24",15300,10,{"$f":"F2567*memoria!$B$44/(G2567*12*memoria!$B$47)","v":0.31874999999999998},{"$f":"F2567/(G2567*12*memoria!$B$47)","v":0.796875}]
["Diadema","01691-Pavimento Térreo - Prédio Principal","Bomba De Vacuo","01-128019-00","2012-02-24",1253.7,10,{"$f":"F2572*memoria!$B$44/(G2572*12*memoria!$B$47)","v":2.611875E-2},{"$f":"F2572/(G2572*12*memoria!$B$47)","v":6.5296875000000004E-2}]
["Diadema","01691-Pavimento Térreo - Prédio Principal","Phmetro De Bancada, Lg-001, 110 V","01-128024-00","2008-12-11",434.85,10,{"$f":"F2577*memoria!$B$44/(G2577*12*memoria!$B$47)","v":9.0593750000000015E-3},{"$f":"F2577/(G2577*12*memoria!$B$47)","v":2.26484375E-2}]
["Diadema","01709-Pavimento Único - Gráfica","Modulo Didatico De Associação De Bombas Em Serie/Paralelo","01-128030-00","2012-06-13",19500,10,{"$f":"F2583*memoria!$B$44/(G2583*12*memoria!$B$47)","v":0.40625},{"$f":"F2583/(G2583*12*memoria!$B$47)","v":1.015625}]
["Diadema","01691-Pavimento Térreo - Prédio Principal","Refrigerador Duas Portas Com Freezer Cor Branco","01-128035-00","2012-06-12",1230,10,{"$f":"F2588*memoria!$B$44/(G2588*12*memoria!$B$47)","v":2.5624999999999998E-2},{"$f":"F2588/(G2588*12*memoria!$B$47)","v":6.4062499999999994E-2}]
["Diadema","01691-Pavimento Térreo - Prédio Principal","Bomba De Vacuo E Compressor De Ar Palheta Rotativa 220v","01-128040-00","2012-06-25",1069,10,{"$f":"F2593*memoria!$B$44/(G2593*12*memoria!$B$47)","v":2.2270833333333333E-2},{"$f":"F2593/(G2593*12*memoria!$B$47)","v":5.5677083333333335E-2}]
["Diadema","01691-Pavimento Térreo - Prédio Principal","Bomba De Vacuo E Compressor De Ar Palheta Rotativa 220v","01-128041-00","2012-06-25",1069,10,{"$f":"F2594*memoria!$B$44/(G2594*12*memoria!$B$47)","v":2.2270833333333333E-2},{"$f":"F2594/(G2594*12*memoria!$B$47)","v":5.5677083333333335E-2}]
["Diadema","01691-Pavimento Térreo - Prédio Principal","Medidor Multiparametro Digital","01-128049-00","2012-08-03",17399.990000000002,10,{"$f":"F2599*memoria!$B$44/(G2599*12*memoria!$B$47)","v":0.36249979166666674},{"$f":"F2599/(G2599*12*memoria!$B$47)","v":0.90624947916666676}]
["Diadema","01691-Pavimento Térreo - Prédio Principal","Bancada De Mecflu Com Rotametro, Mod. Hidraulico, Sistema De Bomba-Tubulacao","01-128058-00","2012-08-13",20180,10,{"$f":"F2606*memoria!$B$44/(G2606*12*memoria!$B$47)","v":0.42041666666666666},{"$f":"F2606/(G2606*12*memoria!$B$47)","v":1.0510416666666667}]
["Diadema","01691-Pavimento Térreo - Prédio Principal","Modulo Didatico P/ Estudo De Termodinamica E Controle De Processos","01-128063-00","2012-07-12",84000,10,{"$f":"F2611*memoria!$B$44/(G2611*12*memoria!$B$47)","v":1.75},{"$f":"F2611/(G2611*12*memoria!$B$47)","v":4.375}]
["Diadema","01691-Pavimento Térreo - Prédio Principal","Lavador De Gases Corrosivos","01-128072-00","2012-07-18",22000,10,{"$f":"F2616*memoria!$B$44/(G2616*12*memoria!$B$47)","v":0.45833333333333331},{"$f":"F2616/(G2616*12*memoria!$B$47)","v":1.1458333333333333}]
["Diadema","01691-Pavimento Térreo - Prédio Principal","Sistema Vertical De Eletroforese, Dual 10 X 12cm, 400va, 50/60hz","01-128357-00","2012-08-24",8900,10,{"$f":"F2622*memoria!$B$44/(G2622*12*memoria!$B$47)","v":0.18541666666666667},{"$f":"F2622/(G2622*12*memoria!$B$47)","v":0.46354166666666669}]
["Diadema","01691-Pavimento Térreo - Prédio Principal","Sistema Vertical De Eletroforese, Dual 10 X 12cm, 400va, 50/60hz","01-128362-00","2012-08-24",8900,10,{"$f":"F2627*memoria!$B$44/(G2627*12*memoria!$B$47)","v":0.18541666666666667},{"$f":"F2627/(G2627*12*memoria!$B$47)","v":0.46354166666666669}]
["Diadema","01691-Pavimento Térreo - Prédio Principal","Osciloscopio, 60 Mhz, 1 Gs/S, 2-Ch, Color Display","01-128368-00","2010-06-11",3855,10,{"$f":"F2632*memoria!$B$44/(G2632*12*memoria!$B$47)","v":8.0312499999999995E-2},{"$f":"F2632/(G2632*12*memoria!$B$47)","v":0.20078124999999999}]
["Diadema","01691-Pavimento Térreo - Prédio Principal","Dinamometro Digital Portatil, Escala 0 / 1000kg, C/ Cabo Conversor,","01-128374-00","2011-12-22",1336.27,10,{"$f":"F2638*memoria!$B$44/(G2638*12*memoria!$B$47)","v":2.7838958333333334E-2},{"$f":"F2638/(G2638*12*memoria!$B$47)","v":6.9597395833333339E-2}]
["Diadema","01691-Pavimento Térreo - Prédio Principal","Equipamento P/ Teste De Densidade Compactada, 110/120v, 60 Hz E A2a","01-128376-00","2012-06-06",24300,10,{"$f":"F2640*memoria!$B$44/(G2640*12*memoria!$B$47)","v":0.50624999999999998},{"$f":"F2640/(G2640*12*memoria!$B$47)","v":1.265625}]
["Diadema","01691-Pavimento Térreo - Prédio Principal","Bomba Monofasica, 1/4 Cv, 220 V","01-128435-00","2010-06-11",320,10,{"$f":"F2650*memoria!$B$44/(G2650*12*memoria!$B$47)","v":6.6666666666666671E-3},{"$f":"F2650/(G2650*12*memoria!$B$47)","v":1.6666666666666666E-2}]
["Diadema","01691-Pavimento Térreo - Prédio Principal","Fonte Tipo Digital, 30v/3a, Dupla 5v","01-128440-00","2010-06-11",645.34,10,{"$f":"F2655*memoria!$B$44/(G2655*12*memoria!$B$47)","v":1.3444583333333334E-2},{"$f":"F2655/(G2655*12*memoria!$B$47)","v":3.3611458333333337E-2}]
["Diadema","01691-Pavimento Térreo - Prédio Principal","Mesa Organica C/ 02 Gavetas","01-137270-00","2012-08-13",997,10,{"$f":"F2660*memoria!$B$44/(G2660*12*memoria!$B$47)","v":2.0770833333333336E-2},{"$f":"F2660/(G2660*12*memoria!$B$47)","v":5.1927083333333332E-2}]
["Diadema","01691-Pavimento Térreo - Prédio Principal","Mesa Organica C/ 02 Gavetas","01-137271-00","2012-08-13",997,10,{"$f":"F2661*memoria!$B$44/(G2661*12*memoria!$B$47)","v":2.0770833333333336E-2},{"$f":"F2661/(G2661*12*memoria!$B$47)","v":5.1927083333333332E-2}]
["Diadema","01691-Pavimento Térreo - Prédio Principal","Mesa Organica C/ 02 Gavetas","01-137276-00","2012-08-13",997,10,{"$f":"F2666*memoria!$B$44/(G2666*12*memoria!$B$47)","v":2.0770833333333336E-2},{"$f":"F2666/(G2666*12*memoria!$B$47)","v":5.1927083333333332E-2}]
["Diadema","01691-Pavimento Térreo - Prédio Principal","Agitador Magnetico, C/ Aquecimento, Controlador De Temperatura,","01-137311-00","2013-04-26",810,10,{"$f":"F2672*memoria!$B$44/(G2672*12*memoria!$B$47)","v":1.6875000000000001E-2},{"$f":"F2672/(G2672*12*memoria!$B$47)","v":4.2187500000000003E-2}]
["Diadema","01691-Pavimento Térreo - Prédio Principal","Capela De Fluxo Laminar Vertical, 220 V, 60 Hz, C/ Base, Mamometro, Ventilador","01-137316-00","2013-11-19",10000,10,{"$f":"F2677*memoria!$B$44/(G2677*12*memoria!$B$47)","v":0.20833333333333334},{"$f":"F2677/(G2677*12*memoria!$B$47)","v":0.52083333333333337}]
["Diadema","01691-Pavimento Térreo - Prédio Principal","Impressora Térmica","01-138117-00","2012-11-29",879,10,{"$f":"F2681*memoria!$B$44/(G2681*12*memoria!$B$47)","v":1.8312500000000002E-2},{"$f":"F2681/(G2681*12*memoria!$B$47)","v":4.5781250000000002E-2}]
["Diadema","01691-Pavimento Térreo - Prédio Principal","Balanca Analitica Eletronica, Capac. 220 G","01-141518-00","2012-07-30",3350.57,10,{"$f":"F2689*memoria!$B$44/(G2689*12*memoria!$B$47)","v":6.9803541666666677E-2},{"$f":"F2689/(G2689*12*memoria!$B$47)","v":0.17450885416666667}]
["Diadema","01691-Pavimento Térreo - Prédio Principal","Modulo Didatico De Tratamento De Afluentes,","01-141523-00","2012-11-09",36000,10,{"$f":"F2694*memoria!$B$44/(G2694*12*memoria!$B$47)","v":0.75},{"$f":"F2694/(G2694*12*memoria!$B$47)","v":1.875}]
["Diadema","01691-Pavimento Térreo - Prédio Principal","Agitador De Tubos Vortex, C/ Cont. Elet.","01-141680-00","2013-11-01",400,10,{"$f":"F2699*memoria!$B$44/(G2699*12*memoria!$B$47)","v":8.3333333333333332E-3},{"$f":"F2699/(G2699*12*memoria!$B$47)","v":2.0833333333333332E-2}]
["Diadema","01691-Pavimento Térreo - Prédio Principal","Estufa De Cultura Bacteriologica, C/ Controle De Temperatura Digital,","01-141686-00","2013-11-01",2750,10,{"$f":"F2705*memoria!$B$44/(G2705*12*memoria!$B$47)","v":5.7291666666666664E-2},{"$f":"F2705/(G2705*12*memoria!$B$47)","v":0.14322916666666666}]
["Diadema","01691-Pavimento Térreo - Prédio Principal","Balanca Analitica, 220 V","01-141692-00","2013-10-11",4200,10,{"$f":"F2710*memoria!$B$44/(G2710*12*memoria!$B$47)","v":8.7499999999999994E-2},{"$f":"F2710/(G2710*12*memoria!$B$47)","v":0.21875}]
["Diadema","01691-Pavimento Térreo - Prédio Principal","Banho Maria Digital, 127v, 40w-5a, 60hz","01-141710-00","2013-10-22",1350,10,{"$f":"F2716*memoria!$B$44/(G2716*12*memoria!$B$47)","v":2.8125000000000001E-2},{"$f":"F2716/(G2716*12*memoria!$B$47)","v":7.03125E-2}]
["Diadema","01691-Pavimento Térreo - Prédio Principal","Agitador Magnetico, C/ Modo Reverso, 12 Vdc, 1 Amps","01-141718-00","2013-11-19",980,10,{"$f":"F2721*memoria!$B$44/(G2721*12*memoria!$B$47)","v":2.0416666666666666E-2},{"$f":"F2721/(G2721*12*memoria!$B$47)","v":5.1041666666666666E-2}]
["Diadema","01691-Pavimento Térreo - Prédio Principal","Agitador Orbital Digital, 24 V, 800 Ma","01-141726-00","2013-10-21",1501.38,10,{"$f":"F2726*memoria!$B$44/(G2726*12*memoria!$B$47)","v":3.1278750000000001E-2},{"$f":"F2726/(G2726*12*memoria!$B$47)","v":7.8196874999999999E-2}]
["Diadema","01691-Pavimento Térreo - Prédio Principal","Sistema De Fotodocumentacao Digital, C/ Camera Digital 8mpx, Cartao De Memoria","01-141728-00","2013-11-01",12589.5,10,{"$f":"F2728*memoria!$B$44/(G2728*12*memoria!$B$47)","v":0.26228125000000002},{"$f":"F2728/(G2728*12*memoria!$B$47)","v":0.65570312500000005}]
["Diadema","01691-Pavimento Térreo - Prédio Principal","Osciloscopio Digital, 100 Mhz, 2 Gs/S, 2 Canais","01-141748-00","2013-10-21",3508.21,10,{"$f":"F2733*memoria!$B$44/(G2733*12*memoria!$B$47)","v":7.3087708333333334E-2},{"$f":"F2733/(G2733*12*memoria!$B$47)","v":0.18271927083333334}]
["Diadema","01691-Pavimento Térreo - Prédio Principal","Agitador Magnetico, C/ Aquecimento, Capac. 5 L","01-141755-00","2013-11-01",500,10,{"$f":"F2739*memoria!$B$44/(G2739*12*memoria!$B$47)","v":1.0416666666666666E-2},{"$f":"F2739/(G2739*12*memoria!$B$47)","v":2.6041666666666668E-2}]
["Diadema","01691-Pavimento Térreo - Prédio Principal","Espectrofotometro","01-141760-00","2013-11-01",4700,10,{"$f":"F2744*memoria!$B$44/(G2744*12*memoria!$B$47)","v":9.7916666666666666E-2},{"$f":"F2744/(G2744*12*memoria!$B$47)","v":0.24479166666666666}]
["Diadema","01691-Pavimento Térreo - Prédio Principal","Termociclador Automatico/Programavel, C/ Modulo De Reacao 96 X 0,2 Ml","01-141765-00","2013-11-01",12551.42,10,{"$f":"F2749*memoria!$B$44/(G2749*12*memoria!$B$47)","v":0.26148791666666665},{"$f":"F2749/(G2749*12*memoria!$B$47)","v":0.65371979166666672}]
["Diadema","01691-Pavimento Térreo - Prédio Principal","Agitador Vortex, 120 V","01-141771-00","2013-11-01",2130,10,{"$f":"F2755*memoria!$B$44/(G2755*12*memoria!$B$47)","v":4.4374999999999998E-2},{"$f":"F2755/(G2755*12*memoria!$B$47)","v":0.11093749999999999}]
["Diadema","01691-Pavimento Térreo - Prédio Principal","Refrigerador Frost Free, 220 V","01-142179-00","2013-10-11",1519.05,10,{"$f":"F2760*memoria!$B$44/(G2760*12*memoria!$B$47)","v":3.1646874999999998E-2},{"$f":"F2760/(G2760*12*memoria!$B$47)","v":7.9117187499999991E-2}]
["Diadema","01691-Pavimento Térreo - Prédio Principal","Lavadora Ultrasonica, 110/220 V, C/ Aquecimento/Timer, Cuba 1,5 L","01-142184-00","2013-11-21",1383,10,{"$f":"F2765*memoria!$B$44/(G2765*12*memoria!$B$47)","v":2.8812500000000001E-2},{"$f":"F2765/(G2765*12*memoria!$B$47)","v":7.2031250000000005E-2}]
["Diadema","01691-Pavimento Térreo - Prédio Principal","Banho Seco, S/ Agitacao, C/ Bloco P/ Microtubos 2 Ml","01-142191-00","2014-01-30",1000,10,{"$f":"F2769*memoria!$B$44/(G2769*12*memoria!$B$47)","v":2.0833333333333332E-2},{"$f":"F2769/(G2769*12*memoria!$B$47)","v":5.2083333333333336E-2}]
["Diadema","01691-Pavimento Térreo - Prédio Principal","Digitalizador De Imagem","01-142201-00","2013-10-11",12874.88,10,{"$f":"F2777*memoria!$B$44/(G2777*12*memoria!$B$47)","v":0.26822666666666667},{"$f":"F2777/(G2777*12*memoria!$B$47)","v":0.67056666666666664}]
["Diadema","01691-Pavimento Térreo - Prédio Principal","Refrigerador, 127 V, Branco","01-142459-00","2013-12-09",1799,10,{"$f":"F2783*memoria!$B$44/(G2783*12*memoria!$B$47)","v":3.7479166666666668E-2},{"$f":"F2783/(G2783*12*memoria!$B$47)","v":9.3697916666666672E-2}]
["Diadema","01691-Pavimento Térreo - Prédio Principal","Freezer, Frost Free, Vertical, Capac. 197 L, C/ 01 Porta","01-142464-00","2013-11-12",1659,10,{"$f":"F2788*memoria!$B$44/(G2788*12*memoria!$B$47)","v":3.4562500000000003E-2},{"$f":"F2788/(G2788*12*memoria!$B$47)","v":8.6406250000000004E-2}]
["Diadema","01691-Pavimento Térreo - Prédio Principal","Refrigerador Duplex, 260 L, 110 V, Branco","01-142507-00","2012-10-25",959,10,{"$f":"F2793*memoria!$B$44/(G2793*12*memoria!$B$47)","v":1.9979166666666669E-2},{"$f":"F2793/(G2793*12*memoria!$B$47)","v":4.9947916666666668E-2}]
["Diadema","01691-Pavimento Térreo - Prédio Principal","Sistema P/ Armazenamento De Nitrogenio Liquido, C/ Suporte E Base C/ Rodizios","01-142508-00","2012-10-25",6867.61,10,{"$f":"F2794*memoria!$B$44/(G2794*12*memoria!$B$47)","v":0.14307520833333331},{"$f":"F2794/(G2794*12*memoria!$B$47)","v":0.35768802083333334}]
["Diadema","01691-Pavimento Térreo - Prédio Principal","Sistema De Medida E Controle: Evaporador - Modulo Didatico De Evaporador","01-142517-00","2012-11-29",97000,10,{"$f":"F2799*memoria!$B$44/(G2799*12*memoria!$B$47)","v":2.0208333333333335},{"$f":"F2799/(G2799*12*memoria!$B$47)","v":5.052083333333333}]
["Diadema","01691-Pavimento Térreo - Prédio Principal","Espectrofotometro Tipo Dna/Rna/Proteina","01-142522-00","2012-11-12",19482.37,10,{"$f":"F2804*memoria!$B$44/(G2804*12*memoria!$B$47)","v":0.40588270833333334},{"$f":"F2804/(G2804*12*memoria!$B$47)","v":1.0147067708333333}]
["Diadema","01691-Pavimento Térreo - Prédio Principal","Sistema De Purificacao De Agua, Tipo Ultrapura","01-142528-00","2012-11-12",25496.799999999999,10,{"$f":"F2810*memoria!$B$44/(G2810*12*memoria!$B$47)","v":0.53118333333333334},{"$f":"F2810/(G2810*12*memoria!$B$47)","v":1.3279583333333334}]
["Diadema","01691-Pavimento Térreo - Prédio Principal","Estufa De Cultura E Bacteriologica","01-142538-00","2012-11-12",2000,10,{"$f":"F2816*memoria!$B$44/(G2816*12*memoria!$B$47)","v":4.1666666666666664E-2},{"$f":"F2816/(G2816*12*memoria!$B$47)","v":0.10416666666666667}]
["Diadema","01691-Pavimento Térreo - Prédio Principal","Sistema De Purificacao De Agua Ultra Pura, C/ Acessorios","01-142670-00","2012-12-11",18162.64,10,{"$f":"F2822*memoria!$B$44/(G2822*12*memoria!$B$47)","v":0.37838833333333338},{"$f":"F2822/(G2822*12*memoria!$B$47)","v":0.94597083333333332}]
["Diadema","01691-Pavimento Térreo - Prédio Principal","Agitador Magnetico, C/ Aquecimento, 230v, 50/60hz","01-142679-00","2013-02-25",810,10,{"$f":"F2827*memoria!$B$44/(G2827*12*memoria!$B$47)","v":1.6875000000000001E-2},{"$f":"F2827/(G2827*12*memoria!$B$47)","v":4.2187500000000003E-2}]
["Diadema","01691-Pavimento Térreo - Prédio Principal","Estufa De Esterilizacao E Secagem, 220v","01-142684-00","2013-02-25",2000,10,{"$f":"F2832*memoria!$B$44/(G2832*12*memoria!$B$47)","v":4.1666666666666664E-2},{"$f":"F2832/(G2832*12*memoria!$B$47)","v":0.10416666666666667}]
["Diadema","01691-Pavimento Térreo - Prédio Principal","Sistema De Vácuo, C/ Turbo Stand 100, Bomba Seca Stand A100dn, Pirani","01-142935-00","2012-12-31",45204.89,10,{"$f":"F2838*memoria!$B$44/(G2838*12*memoria!$B$47)","v":0.94176854166666679},{"$f":"F2838/(G2838*12*memoria!$B$47)","v":2.3544213541666665}]
["Diadema","01691-Pavimento Térreo - Prédio Principal","Agitador Magnetico C/ Aquecimento, 10 Posicoes, Capac. 04 Lts","01-142988-00","2012-12-05",3532.23,10,{"$f":"F2843*memoria!$B$44/(G2843*12*memoria!$B$47)","v":7.3588125000000004E-2},{"$f":"F2843/(G2843*12*memoria!$B$47)","v":0.18397031250000001}]
["Diadema","01691-Pavimento Térreo - Prédio Principal","Aparelho P/ Purificacao De Agua, Osmose Reversa, Capac. 10 L/H","01-142996-00","2012-12-05",1420,10,{"$f":"F2849*memoria!$B$44/(G2849*12*memoria!$B$47)","v":2.9583333333333333E-2},{"$f":"F2849/(G2849*12*memoria!$B$47)","v":7.3958333333333334E-2}]
["Diadema","01691-Pavimento Térreo - Prédio Principal","Condutivimetro De Bancada","01-143001-00","2012-12-05",1450,10,{"$f":"F2854*memoria!$B$44/(G2854*12*memoria!$B$47)","v":3.0208333333333334E-2},{"$f":"F2854/(G2854*12*memoria!$B$47)","v":7.5520833333333329E-2}]
["Diadema","01691-Pavimento Térreo - Prédio Principal","Sistema De Eletroforese, C. Sist.De Eletroforese Vertical 4 Geis, Mod. De Fund.","01-143189-00","2013-02-14",8811.7099999999991,10,{"$f":"F2859*memoria!$B$44/(G2859*12*memoria!$B$47)","v":0.18357729166666664},{"$f":"F2859/(G2859*12*memoria!$B$47)","v":0.45894322916666663}]
["Diadema","01691-Pavimento Térreo - Prédio Principal","Homogeneizador, Ultra Turrax, C/ Elemento Dispersor","01-143191-00","2013-02-14",6200,10,{"$f":"F2861*memoria!$B$44/(G2861*12*memoria!$B$47)","v":0.12916666666666668},{"$f":"F2861/(G2861*12*memoria!$B$47)","v":0.32291666666666669}]
["Diadema","01691-Pavimento Térreo - Prédio Principal","Cromatografo De Fase Liquida","01-143199-00","2013-02-21",255750,10,{"$f":"F2866*memoria!$B$44/(G2866*12*memoria!$B$47)","v":5.328125},{"$f":"F2866/(G2866*12*memoria!$B$47)","v":13.3203125}]
["Diadema","01691-Pavimento Térreo - Prédio Principal","Agitador Magnetico, C/ Aquecimento, 230v, 50/60hz, 1020w","01-143207-00","2013-02-25",1310,10,{"$f":"F2871*memoria!$B$44/(G2871*12*memoria!$B$47)","v":2.7291666666666665E-2},{"$f":"F2871/(G2871*12*memoria!$B$47)","v":6.822916666666666E-2}]
["Diadema","01691-Pavimento Térreo - Prédio Principal","Plataforma Ajustavel","01-143213-00","2013-02-25",427,10,{"$f":"F2877*memoria!$B$44/(G2877*12*memoria!$B$47)","v":8.8958333333333337E-3},{"$f":"F2877/(G2877*12*memoria!$B$47)","v":2.2239583333333333E-2}]
["Diadema","01691-Pavimento Térreo - Prédio Principal","Agitador Mecnaico, C/ Suporte, 115/230v, 60 Hz","01-143242-00","2013-04-11",1477.25,10,{"$f":"F2882*memoria!$B$44/(G2882*12*memoria!$B$47)","v":3.0776041666666667E-2},{"$f":"F2882/(G2882*12*memoria!$B$47)","v":7.6940104166666662E-2}]
["Diadema","01691-Pavimento Térreo - Prédio Principal","Agitador Mecanico, C/ Aquecimento E Controlador De Temperatura, 02 Hastes,","01-143248-00","2013-04-26",1340,10,{"$f":"F2888*memoria!$B$44/(G2888*12*memoria!$B$47)","v":2.7916666666666666E-2},{"$f":"F2888/(G2888*12*memoria!$B$47)","v":6.9791666666666669E-2}]
["Diadema","01691-Pavimento Térreo - Prédio Principal","Destilador De Agua Pilsen","01-143253-00","2013-04-26",2929.85,10,{"$f":"F2893*memoria!$B$44/(G2893*12*memoria!$B$47)","v":6.1038541666666668E-2},{"$f":"F2893/(G2893*12*memoria!$B$47)","v":0.15259635416666667}]
["Diadema","01691-Pavimento Térreo - Prédio Principal","Sistema De Eletroforese, C/ Unidade Mini Trans Blot, Sist.De Fundicao C/ Grampo","01-143265-00","2013-03-20",6270.84,10,{"$f":"F2900*memoria!$B$44/(G2900*12*memoria!$B$47)","v":0.13064250000000002},{"$f":"F2900/(G2900*12*memoria!$B$47)","v":0.32660624999999999}]
["Diadema","01691-Pavimento Térreo - Prédio Principal","Sistema De Fotodocumentacao, C/ Impressora Termica De Alta Resolucao Mod.Up-D897","01-150449-00","2013-05-29",31700,10,{"$f":"F2905*memoria!$B$44/(G2905*12*memoria!$B$47)","v":0.66041666666666665},{"$f":"F2905/(G2905*12*memoria!$B$47)","v":1.6510416666666667}]
["Diadema","01691-Pavimento Térreo - Prédio Principal","Espectrofotometro, Iv Por Trasnformada De Fourier","01-150460-00","2013-06-21",47809.41,10,{"$f":"F2910*memoria!$B$44/(G2910*12*memoria!$B$47)","v":0.99602937500000011},{"$f":"F2910/(G2910*12*memoria!$B$47)","v":2.4900734375}]
["Diadema","01691-Pavimento Térreo - Prédio Principal","Agitador Magnetico, C/ Aquecimento, 230v","01-150466-00","2013-06-21",2800,10,{"$f":"F2915*memoria!$B$44/(G2915*12*memoria!$B$47)","v":5.8333333333333334E-2},{"$f":"F2915/(G2915*12*memoria!$B$47)","v":0.14583333333333334}]
["Diadema","01691-Pavimento Térreo - Prédio Principal","Balanca Analitica, 220g","01-150477-00","2013-03-21",4942,10,{"$f":"F2921*memoria!$B$44/(G2921*12*memoria!$B$47)","v":0.10295833333333335},{"$f":"F2921/(G2921*12*memoria!$B$47)","v":0.25739583333333332}]
["Diadema","01691-Pavimento Térreo - Prédio Principal","Estufa Para Secagem E Esterilizacao, C/ Circ. De Ar, Capac. 40 L., 200º C, 220v","01-150482-00","2013-07-18",1802,10,{"$f":"F2926*memoria!$B$44/(G2926*12*memoria!$B$47)","v":3.7541666666666668E-2},{"$f":"F2926/(G2926*12*memoria!$B$47)","v":9.3854166666666669E-2}]
["Diadema","01691-Pavimento Térreo - Prédio Principal","Sistema De Purificacao De Agua, Por Osmose Reversa, 10 L/H","01-150483-00","2013-07-18",2302.5500000000002,10,{"$f":"F2927*memoria!$B$44/(G2927*12*memoria!$B$47)","v":4.7969791666666671E-2},{"$f":"F2927/(G2927*12*memoria!$B$47)","v":0.11992447916666668}]
["Diadema","01691-Pavimento Térreo - Prédio Principal","Multiplicador De Voltagem","01-150495-00","2013-07-18",3155.17,10,{"$f":"F2932*memoria!$B$44/(G2932*12*memoria!$B$47)","v":6.5732708333333348E-2},{"$f":"F2932/(G2932*12*memoria!$B$47)","v":0.16433177083333333}]
["Diadema","01691-Pavimento Térreo - Prédio Principal","Forno Mufla, Em Inox, 3 Portas, Fluxo De Gas, 220 V","01-150502-00","2013-07-18",4050,10,{"$f":"F2937*memoria!$B$44/(G2937*12*memoria!$B$47)","v":8.4375000000000006E-2},{"$f":"F2937/(G2937*12*memoria!$B$47)","v":0.2109375}]
["Diadema","01691-Pavimento Térreo - Prédio Principal","Bomba De Vacuo E Ar Comprimido, Isenta De Oleo","01-150526-00","2013-07-18",998.5,10,{"$f":"F2947*memoria!$B$44/(G2947*12*memoria!$B$47)","v":2.0802083333333336E-2},{"$f":"F2947/(G2947*12*memoria!$B$47)","v":5.200520833333333E-2}]
["Diadema","01691-Pavimento Térreo - Prédio Principal","Lavadora Ultrassom, Ultracleaner, Capac. 28l, C/ Suporte P/ Cesto","01-150533-00","2013-07-18",915.23,10,{"$f":"F2949*memoria!$B$44/(G2949*12*memoria!$B$47)","v":1.906729166666667E-2},{"$f":"F2949/(G2949*12*memoria!$B$47)","v":4.7668229166666666E-2}]
["Diadema","01691-Pavimento Térreo - Prédio Principal","Plataforma Elevatoria, Tipo Jack, Capac. 10 Kg, Med. 20,5 X 20 Cm","01-150539-00","2013-08-09",618,10,{"$f":"F2955*memoria!$B$44/(G2955*12*memoria!$B$47)","v":1.2875000000000001E-2},{"$f":"F2955/(G2955*12*memoria!$B$47)","v":3.2187500000000001E-2}]
["Diadema","01691-Pavimento Térreo - Prédio Principal","Refrigerador, 430 L","01-150546-00","2013-08-09",1899.05,10,{"$f":"F2960*memoria!$B$44/(G2960*12*memoria!$B$47)","v":3.9563541666666667E-2},{"$f":"F2960/(G2960*12*memoria!$B$47)","v":9.8908854166666671E-2}]
["Diadema","01691-Pavimento Térreo - Prédio Principal","Tensiometro, Tipo Goniometro, C/ 2 Suportes, Sendo 1 Mod. Sd-Dm E 1 Mod.Fsc 80,","01-150553-00","2013-06-27",38087.980000000003,10,{"$f":"F2965*memoria!$B$44/(G2965*12*memoria!$B$47)","v":0.79349958333333348},{"$f":"F2965/(G2965*12*memoria!$B$47)","v":1.9837489583333334}]
["Diadema","01691-Pavimento Térreo - Prédio Principal","Sistema De Purificacao De Agua, Tipo Osmose Reversa, 10 L/H","01-150585-00","2013-08-19",4997,10,{"$f":"F2971*memoria!$B$44/(G2971*12*memoria!$B$47)","v":0.10410416666666668},{"$f":"F2971/(G2971*12*memoria!$B$47)","v":0.26026041666666666}]
["Diadema","01691-Pavimento Térreo - Prédio Principal","Microscopio Digital Binocular, C/ Optica Infinita, Sist.Focalizacao Macro/","01-150592-00","2013-06-27",3640,10,{"$f":"F2976*memoria!$B$44/(G2976*12*memoria!$B$47)","v":7.5833333333333336E-2},{"$f":"F2976/(G2976*12*memoria!$B$47)","v":0.18958333333333333}]
["Diadema","01691-Pavimento Térreo - Prédio Principal","Espectrofotometro, Uv/Vis, 110-230v, 50-60 Hz, C/ Otica Duplo Feixe, Fonte De","01-150597-00","2013-06-27",32000,10,{"$f":"F2981*memoria!$B$44/(G2981*12*memoria!$B$47)","v":0.66666666666666663},{"$f":"F2981/(G2981*12*memoria!$B$47)","v":1.6666666666666667}]
["Diadema","01691-Pavimento Térreo - Prédio Principal","Bomba Centrifuga, Em Termoplastico Reforcado C/ Fibra De Vidro, Rotor Fechado,","01-150618-00","2013-07-03",395,10,{"$f":"F2988*memoria!$B$44/(G2988*12*memoria!$B$47)","v":8.2291666666666659E-3},{"$f":"F2988/(G2988*12*memoria!$B$47)","v":2.0572916666666666E-2}]
["Diadema","01691-Pavimento Térreo - Prédio Principal","Agitador Magnetico, 100w (Sistema De Obtencao De Filmes )","01-150623-00","2013-04-03",1089,10,{"$f":"F2993*memoria!$B$44/(G2993*12*memoria!$B$47)","v":2.2687500000000003E-2},{"$f":"F2993/(G2993*12*memoria!$B$47)","v":5.6718749999999998E-2}]
["Diadema","01691-Pavimento Térreo - Prédio Principal","Estufa De Secagem ( Sistema De Obtencao De Filmes )","01-150624-00","2013-04-03",1068,10,{"$f":"F2994*memoria!$B$44/(G2994*12*memoria!$B$47)","v":2.2250000000000002E-2},{"$f":"F2994/(G2994*12*memoria!$B$47)","v":5.5625000000000001E-2}]
["Diadema","01691-Pavimento Térreo - Prédio Principal","Climatizador Compacto, Ventilador De Torre C/ Umidificacao","01-150645-00","2013-08-12",330,10,{"$f":"F2999*memoria!$B$44/(G2999*12*memoria!$B$47)","v":6.875E-3},{"$f":"F2999/(G2999*12*memoria!$B$47)","v":1.7187500000000001E-2}]
["Diadema","01691-Pavimento Térreo - Prédio Principal","Bomba De Alta Pressao","01-150664-00","2013-04-01",74000,10,{"$f":"F3004*memoria!$B$44/(G3004*12*memoria!$B$47)","v":1.5416666666666667},{"$f":"F3004/(G3004*12*memoria!$B$47)","v":3.8541666666666665}]
["Diadema","01691-Pavimento Térreo - Prédio Principal","Centrifuga, Tipo Mini, C/ Rotor De 1.5/2.0 Ml, Adaptadores E Tampa Aquecedora","01-150686-00","2013-09-25",803.16,10,{"$f":"F3010*memoria!$B$44/(G3010*12*memoria!$B$47)","v":1.6732500000000001E-2},{"$f":"F3010/(G3010*12*memoria!$B$47)","v":4.183125E-2}]
["Diadema","01691-Pavimento Térreo - Prédio Principal","Bomba De Vacuo E Pressao, 1/3 Hp, 53 A 58 L/M, 66 Db","01-150691-00","2013-09-25",1810,10,{"$f":"F3015*memoria!$B$44/(G3015*12*memoria!$B$47)","v":3.7708333333333337E-2},{"$f":"F3015/(G3015*12*memoria!$B$47)","v":9.4270833333333331E-2}]
["Diadema","01691-Pavimento Térreo - Prédio Principal","Agitador De Tubos Vortex, 110v","01-150697-00","2013-09-25",310,10,{"$f":"F3021*memoria!$B$44/(G3021*12*memoria!$B$47)","v":6.4583333333333333E-3},{"$f":"F3021/(G3021*12*memoria!$B$47)","v":1.6145833333333335E-2}]
["Diadema","01691-Pavimento Térreo - Prédio Principal","Refrigerador, 346l, 2 Portas, 110","01-150706-00","2013-09-25",1424.05,10,{"$f":"F3029*memoria!$B$44/(G3029*12*memoria!$B$47)","v":2.9667708333333334E-2},{"$f":"F3029/(G3029*12*memoria!$B$47)","v":7.4169270833333328E-2}]
["Diadema","01691-Pavimento Térreo - Prédio Principal","Refrigerador, 356l, 1 Porta, 110v","01-150709-00","2013-09-25",1139.05,10,{"$f":"F3032*memoria!$B$44/(G3032*12*memoria!$B$47)","v":2.3730208333333332E-2},{"$f":"F3032/(G3032*12*memoria!$B$47)","v":5.9325520833333333E-2}]
["Diadema","01691-Pavimento Térreo - Prédio Principal","Banho Maria, C/ Circulacao Interna De Agua, 220 V, 4 A, 750 W","01-150725-00","2013-09-25",1875.75,10,{"$f":"F3038*memoria!$B$44/(G3038*12*memoria!$B$47)","v":3.9078125000000005E-2},{"$f":"F3038/(G3038*12*memoria!$B$47)","v":9.7695312500000006E-2}]
["Diadema","01691-Pavimento Térreo - Prédio Principal","Bomba De Vacuo, Isenta De Oleo, C/ Vacuometro, 10 Mbar","01-150999-00","2013-11-12",2744,10,{"$f":"F3043*memoria!$B$44/(G3043*12*memoria!$B$47)","v":5.7166666666666671E-2},{"$f":"F3043/(G3043*12*memoria!$B$47)","v":0.14291666666666666}]
["Diadema","01691-Pavimento Térreo - Prédio Principal","Placa Aquecedora, C/ Agitacao, Ceramica, 230 V","01-151004-00","2013-11-07",808.5,10,{"$f":"F3048*memoria!$B$44/(G3048*12*memoria!$B$47)","v":1.6843750000000001E-2},{"$f":"F3048/(G3048*12*memoria!$B$47)","v":4.2109374999999998E-2}]
["Diadema","01691-Pavimento Térreo - Prédio Principal","Carabina De Pressao, F22, Gii5","01-151020-00","2013-12-11",832.54,10,{"$f":"F3054*memoria!$B$44/(G3054*12*memoria!$B$47)","v":1.7344583333333333E-2},{"$f":"F3054/(G3054*12*memoria!$B$47)","v":4.3361458333333332E-2}]
["Diadema","01691-Pavimento Térreo - Prédio Principal","Espectometro Tipo Microprocessador","01-151035-00","2014-01-23",45292.94,10,{"$f":"F3059*memoria!$B$44/(G3059*12*memoria!$B$47)","v":0.94360291666666685},{"$f":"F3059/(G3059*12*memoria!$B$47)","v":2.3590072916666669}]
["Diadema","01691-Pavimento Térreo - Prédio Principal","Freezer Ultrabaixa Temperatura","01-151037-00","2014-01-23",33000,10,{"$f":"F3060*memoria!$B$44/(G3060*12*memoria!$B$47)","v":0.6875},{"$f":"F3060/(G3060*12*memoria!$B$47)","v":1.71875}]
["Diadema","01691-Pavimento Térreo - Prédio Principal","Botijao P/ Nitrogenio Liquido, Capac. 20l.","01-151061-00","2014-01-23",3000,10,{"$f":"F3065*memoria!$B$44/(G3065*12*memoria!$B$47)","v":6.25E-2},{"$f":"F3065/(G3065*12*memoria!$B$47)","v":0.15625}]
["Diadema","01691-Pavimento Térreo - Prédio Principal","Refrigerador Frost Free, Capac. 459l, C/ Painel Blue Touch","01-151074-00","2014-02-27",2630,10,{"$f":"F3072*memoria!$B$44/(G3072*12*memoria!$B$47)","v":5.4791666666666669E-2},{"$f":"F3072/(G3072*12*memoria!$B$47)","v":0.13697916666666668}]
["Diadema","01691-Pavimento Térreo - Prédio Principal","Capela De Fluxo Laminar Vertical, Em Aluminio Naval, Gab.De Trabalho Em Aco Inox","01-151083-00","2014-02-27",10000,10,{"$f":"F3077*memoria!$B$44/(G3077*12*memoria!$B$47)","v":0.20833333333333334},{"$f":"F3077/(G3077*12*memoria!$B$47)","v":0.52083333333333337}]
["Diadema","01691-Pavimento Térreo - Prédio Principal","Microscopio, 120v, C/ Tubo Trinocular, Ocular De Campo Estendido 10x,","01-151088-00","2014-02-27",25333.759999999998,10,{"$f":"F3082*memoria!$B$44/(G3082*12*memoria!$B$47)","v":0.52778666666666674},{"$f":"F3082/(G3082*12*memoria!$B$47)","v":1.3194666666666666}]
["Diadema","01691-Pavimento Térreo - Prédio Principal","Maquina De Lavar E Secar Roupa, Capac. Min. 9 Kg, 140 Rpm, 220v, 2100w, 60hz","01-151106-00","2014-04-28",1847,10,{"$f":"F3087*memoria!$B$44/(G3087*12*memoria!$B$47)","v":3.8479166666666668E-2},{"$f":"F3087/(G3087*12*memoria!$B$47)","v":9.6197916666666661E-2}]
["Diadema","01691-Pavimento Térreo - Prédio Principal","Modulo Habitacional Duplo/Triplo, C/ Instalacao Eletrica E Ar-Condicionado","01-151112-00","2012-11-14",96180,10,{"$f":"F3093*memoria!$B$44/(G3093*12*memoria!$B$47)","v":2.0037500000000001},{"$f":"F3093/(G3093*12*memoria!$B$47)","v":5.0093750000000004}]
["Diadema","01691-Pavimento Térreo - Prédio Principal","Modulo Habitacional Duplo/Triplo, C/ Instalacao Eletrica E Ar-Condicionado","01-151117-00","2013-02-04",96180,10,{"$f":"F3098*memoria!$B$44/(G3098*12*memoria!$B$47)","v":2.0037500000000001},{"$f":"F3098/(G3098*12*memoria!$B$47)","v":5.0093750000000004}]
["Diadema","01691-Pavimento Térreo - Prédio Principal","Modulo Habitacional Duplo/Triplo, C/ Inst.Eletrica E Ar-Condicionado","01-151124-00","2013-03-19",96180,10,{"$f":"F3104*memoria!$B$44/(G3104*12*memoria!$B$47)","v":2.0037500000000001},{"$f":"F3104/(G3104*12*memoria!$B$47)","v":5.0093750000000004}]
["Diadema","01691-Pavimento Térreo - Prédio Principal","Estufa, 110v, C/ Fotoperiodo, Alternancia De Temperatura","01-151130-00","2014-02-18",5074,10,{"$f":"F3109*memoria!$B$44/(G3109*12*memoria!$B$47)","v":0.10570833333333333},{"$f":"F3109/(G3109*12*memoria!$B$47)","v":0.26427083333333334}]
["Diadema","01691-Pavimento Térreo - Prédio Principal","Estufa De Esterilizacao/Secagem, 110v, C/ Circulacao De Ar Forcada","01-151134-00","2014-02-18",5563,10,{"$f":"F3113*memoria!$B$44/(G3113*12*memoria!$B$47)","v":0.11589583333333335},{"$f":"F3113/(G3113*12*memoria!$B$47)","v":0.28973958333333333}]
["Diadema","01691-Pavimento Térreo - Prédio Principal","Banho Termostatico Microprocessado","01-151147-00","2014-02-24",4500,10,{"$f":"F3121*memoria!$B$44/(G3121*12*memoria!$B$47)","v":9.375E-2},{"$f":"F3121/(G3121*12*memoria!$B$47)","v":0.234375}]
["Diadema","01691-Pavimento Térreo - Prédio Principal","Placa Aquecedora, C/ Agitacao","01-151152-00","2014-02-24",1246.4100000000001,10,{"$f":"F3126*memoria!$B$44/(G3126*12*memoria!$B$47)","v":2.5966875000000004E-2},{"$f":"F3126/(G3126*12*memoria!$B$47)","v":6.4917187500000001E-2}]
["Diadema","01691-Pavimento Térreo - Prédio Principal","Bomba De Vacuo/Pressao, 115v/60hz, C/ Diafragma Flexivel, Vacuo Maximo 700mmhg","01-151153-00","2014-02-24",2686.98,10,{"$f":"F3127*memoria!$B$44/(G3127*12*memoria!$B$47)","v":5.5978750000000008E-2},{"$f":"F3127/(G3127*12*memoria!$B$47)","v":0.139946875}]
["Diadema","01691-Pavimento Térreo - Prédio Principal","Termobloco, 115v, Med. 20 X 26,5 X 8,3 Cm, C/ Blocos","01-151162-00","2014-01-30",2466,10,{"$f":"F3132*memoria!$B$44/(G3132*12*memoria!$B$47)","v":5.1375000000000004E-2},{"$f":"F3132/(G3132*12*memoria!$B$47)","v":0.12843750000000001}]
["Diadema","01899-primeiro andar","Medidor De Vacuo","01-151168-00","2014-04-25",5207,10,{"$f":"F3137*memoria!$B$44/(G3137*12*memoria!$B$47)","v":0.10847916666666668},{"$f":"F3137/(G3137*12*memoria!$B$47)","v":0.27119791666666665}]
["Diadema","01691-Pavimento Térreo - Prédio Principal","Agitador De Plataforma, S2025-230v, 50/60hz","01-151174-00","2014-05-08",3106.06,10,{"$f":"F3143*memoria!$B$44/(G3143*12*memoria!$B$47)","v":6.4709583333333334E-2},{"$f":"F3143/(G3143*12*memoria!$B$47)","v":0.16177395833333333}]
["Diadema","01691-Pavimento Térreo - Prédio Principal","Phmetro De Bancada, 230v, C/ Eletrodo Primatrode","01-151179-00","2014-05-08",2425,10,{"$f":"F3148*memoria!$B$44/(G3148*12*memoria!$B$47)","v":5.0520833333333334E-2},{"$f":"F3148/(G3148*12*memoria!$B$47)","v":0.12630208333333334}]
["Diadema","01691-Pavimento Térreo - Prédio Principal","Container Criogenico, C/ 30 Caixas De 25 Celulas 2\", Base Rodizio","01-151185-00","2014-05-08",7218.85,10,{"$f":"F3154*memoria!$B$44/(G3154*12*memoria!$B$47)","v":0.15039270833333335},{"$f":"F3154/(G3154*12*memoria!$B$47)","v":0.37598177083333334}]
["Diadema","01691-Pavimento Térreo - Prédio Principal","Capela De Fluxo Laminar Tipo A1 Classe Ii, C/ 30% De Renovacao, 220v, 520w","01-151195-00","2014-05-08",14200,10,{"$f":"F3160*memoria!$B$44/(G3160*12*memoria!$B$47)","v":0.29583333333333334},{"$f":"F3160/(G3160*12*memoria!$B$47)","v":0.73958333333333337}]
["Diadema","01691-Pavimento Térreo - Prédio Principal","Agitador P/ Tubos Tipo Vortex","01-151209-00","2014-04-03",562.51,10,{"$f":"F3165*memoria!$B$44/(G3165*12*memoria!$B$47)","v":1.1718958333333335E-2},{"$f":"F3165/(G3165*12*memoria!$B$47)","v":2.9297395833333333E-2}]
["Diadema","01691-Pavimento Térreo - Prédio Principal","Nebulizador Ultrassonico","01-151215-00","2014-04-03",179,10,{"$f":"F3171*memoria!$B$44/(G3171*12*memoria!$B$47)","v":3.7291666666666671E-3},{"$f":"F3171/(G3171*12*memoria!$B$47)","v":9.3229166666666669E-3}]
["Diadema","01691-Pavimento Térreo - Prédio Principal","Capela De Exaustao De Gases Pequena","01-151220-00","2014-04-03",1444.45,10,{"$f":"F3176*memoria!$B$44/(G3176*12*memoria!$B$47)","v":3.0092708333333339E-2},{"$f":"F3176/(G3176*12*memoria!$B$47)","v":7.5231770833333336E-2}]
["Diadema","01691-Pavimento Térreo - Prédio Principal","Contador Diferencial De Celulas, 127/220, C/ 11 Teclas","01-151226-00","2014-04-03",950,10,{"$f":"F3181*memoria!$B$44/(G3181*12*memoria!$B$47)","v":1.9791666666666666E-2},{"$f":"F3181/(G3181*12*memoria!$B$47)","v":4.9479166666666664E-2}]
["Diadema","01691-Pavimento Térreo - Prédio Principal","Refrigerador, 220v, C/ 01 Porta","01-151242-00","2014-04-10",695,10,{"$f":"F3187*memoria!$B$44/(G3187*12*memoria!$B$47)","v":1.4479166666666666E-2},{"$f":"F3187/(G3187*12*memoria!$B$47)","v":3.619791666666667E-2}]
["Diadema","01691-Pavimento Térreo - Prédio Principal","Sistema De Criogenia, 120l, C/ Suportes, Base Rodizio","01-151247-00","2014-04-10",7013.68,10,{"$f":"F3192*memoria!$B$44/(G3192*12*memoria!$B$47)","v":0.14611833333333335},{"$f":"F3192/(G3192*12*memoria!$B$47)","v":0.36529583333333338}]
["Diadema","01691-Pavimento Térreo - Prédio Principal","Phmetro De Bancada","01-151252-00","2014-04-10",2722.34,10,{"$f":"F3197*memoria!$B$44/(G3197*12*memoria!$B$47)","v":5.6715416666666678E-2},{"$f":"F3197/(G3197*12*memoria!$B$47)","v":0.14178854166666668}]
["Diadema","01691-Pavimento Térreo - Prédio Principal","Balanca Analitica, Capac. 220 Gr.","01-151297-00","2014-04-17",3200,10,{"$f":"F3201*memoria!$B$44/(G3201*12*memoria!$B$47)","v":6.6666666666666666E-2},{"$f":"F3201/(G3201*12*memoria!$B$47)","v":0.16666666666666666}]
["Diadema","01691-Pavimento Térreo - Prédio Principal","Tripe Slik Pro Ii 3 Way Bk","01-151300-00","2014-01-09",379,10,{"$f":"F3204*memoria!$B$44/(G3204*12*memoria!$B$47)","v":7.8958333333333328E-3},{"$f":"F3204/(G3204*12*memoria!$B$47)","v":1.9739583333333335E-2}]
["Diadema","01691-Pavimento Térreo - Prédio Principal","Sistema De Controle De Acesso C/ Controlador, Fechadura Eletromagnetica,","01-151384-00","2014-06-17",3480,10,{"$f":"F3210*memoria!$B$44/(G3210*12*memoria!$B$47)","v":7.2499999999999995E-2},{"$f":"F3210/(G3210*12*memoria!$B$47)","v":0.18124999999999999}]
["Diadema","01691-Pavimento Térreo - Prédio Principal","Analisador Bioquimico Semi-Automatico, C/ Aquecedor De Bloco Seco, 100/240vac","01-151389-00","2014-06-17",15236.61,10,{"$f":"F3215*memoria!$B$44/(G3215*12*memoria!$B$47)","v":0.31742937500000001},{"$f":"F3215/(G3215*12*memoria!$B$47)","v":0.79357343749999998}]
["Diadema","01691-Pavimento Térreo - Prédio Principal","Refrigerador Frost Free, Capac. 430l, 110v","01-151418-00","2014-04-17",1899,10,{"$f":"F3220*memoria!$B$44/(G3220*12*memoria!$B$47)","v":3.95625E-2},{"$f":"F3220/(G3220*12*memoria!$B$47)","v":9.8906250000000001E-2}]
["Diadema","01691-Pavimento Térreo - Prédio Principal","Agitador Magnetico, C/ Aquecimento","01-151424-00","2014-08-13",1146,10,{"$f":"F3226*memoria!$B$44/(G3226*12*memoria!$B$47)","v":2.3875E-2},{"$f":"F3226/(G3226*12*memoria!$B$47)","v":5.9687499999999998E-2}]
["Diadema","01691-Pavimento Térreo - Prédio Principal","Bomba De Vacuo, 100-127 / 200-240v, 50/60hz","01-151432-00","2014-08-13",18772.939999999999,10,{"$f":"F3231*memoria!$B$44/(G3231*12*memoria!$B$47)","v":0.39110291666666663},{"$f":"F3231/(G3231*12*memoria!$B$47)","v":0.97775729166666658}]
["Diadema","01691-Pavimento Térreo - Prédio Principal","Dermatometro, 16-1990, 75mm, 115v, 60hz, 130va","01-151439-00","2014-09-10",11402.74,10,{"$f":"F3237*memoria!$B$44/(G3237*12*memoria!$B$47)","v":0.23755708333333336},{"$f":"F3237/(G3237*12*memoria!$B$47)","v":0.5938927083333333}]
["Diadema","01691-Pavimento Térreo - Prédio Principal","Reffrigerador Frost Free, Capac. 403 L, 110 V, Branco","01-161972-00","2014-10-02",1999,10,{"$f":"F3242*memoria!$B$44/(G3242*12*memoria!$B$47)","v":4.1645833333333333E-2},{"$f":"F3242/(G3242*12*memoria!$B$47)","v":0.10411458333333333}]
["Diadema","01691-Pavimento Térreo - Prédio Principal","Phmetro De Bancada, Digital","01-161984-00","2014-12-03",1657,10,{"$f":"F3248*memoria!$B$44/(G3248*12*memoria!$B$47)","v":3.4520833333333334E-2},{"$f":"F3248/(G3248*12*memoria!$B$47)","v":8.6302083333333335E-2}]
["Diadema","01691-Pavimento Térreo - Prédio Principal","Centrifuga Digital, C/ Velocidade Variavel","01-161993-00","2014-12-03",3625,10,{"$f":"F3254*memoria!$B$44/(G3254*12*memoria!$B$47)","v":7.5520833333333329E-2},{"$f":"F3254/(G3254*12*memoria!$B$47)","v":0.18880208333333334}]
["Diadema","01691-Pavimento Térreo - Prédio Principal","Bomba Peristaltica, C/ 08 Canais, 2 Tubos Tygon, C/ Travas","01-161998-00","2014-12-03",7988.2,10,{"$f":"F3259*memoria!$B$44/(G3259*12*memoria!$B$47)","v":0.16642083333333335},{"$f":"F3259/(G3259*12*memoria!$B$47)","v":0.41605208333333332}]
["Diadema","01691-Pavimento Térreo - Prédio Principal","Camara Bod, 220v, C/ Fotoperiodo, 60hz, Amp 8a/15a, 800w","01-162009-00","2014-06-27",5896.98,10,{"$f":"F3264*memoria!$B$44/(G3264*12*memoria!$B$47)","v":0.12285375},{"$f":"F3264/(G3264*12*memoria!$B$47)","v":0.30713437499999996}]
["Diadema","01691-Pavimento Térreo - Prédio Principal","Termociclador Automatico, Bivolt, C/ Gradiente, Interface Grafica Touch Screen,","01-162010-00","2014-06-27",14912.39,10,{"$f":"F3265*memoria!$B$44/(G3265*12*memoria!$B$47)","v":0.31067479166666667},{"$f":"F3265/(G3265*12*memoria!$B$47)","v":0.77668697916666662}]
["Diadema","01691-Pavimento Térreo - Prédio Principal","Regulador De Pressao Segundo Estágio","01-162015-00","2014-12-04",1200,10,{"$f":"F3270*memoria!$B$44/(G3270*12*memoria!$B$47)","v":2.5000000000000001E-2},{"$f":"F3270/(G3270*12*memoria!$B$47)","v":6.25E-2}]
["Diadema","01902-quarto andar","Contador De Celulas Automatico, 12v - 10a","01-162030-00","2014-03-14",15961.39,10,{"$f":"F3276*memoria!$B$44/(G3276*12*memoria!$B$47)","v":0.33252895833333335},{"$f":"F3276/(G3276*12*memoria!$B$47)","v":0.83132239583333334}]
["Diadema","01708-Pavimento Único - Galpão","Estereomicroscopio Branco/Azul","01-162035-00","2014-04-14",119950,10,{"$f":"F3281*memoria!$B$44/(G3281*12*memoria!$B$47)","v":2.4989583333333334},{"$f":"F3281/(G3281*12*memoria!$B$47)","v":6.247395833333333}]
["Diadema","01708-Pavimento Único - Galpão","Autoclave Vertical, Cor Bege Claro","01-162041-00","2014-04-14",27031.24,10,{"$f":"F3285*memoria!$B$44/(G3285*12*memoria!$B$47)","v":0.56315083333333338},{"$f":"F3285/(G3285*12*memoria!$B$47)","v":1.4078770833333334}]
["Diadema","01691-Pavimento Térreo - Prédio Principal","Agitador Magnetico C/ Aquecimento, 110 / 120 V, 50/60hz, 515w","01-162049-00","2015-08-03",799,10,{"$f":"F3293*memoria!$B$44/(G3293*12*memoria!$B$47)","v":1.6645833333333335E-2},{"$f":"F3293/(G3293*12*memoria!$B$47)","v":4.1614583333333337E-2}]
["Diadema","01691-Pavimento Térreo - Prédio Principal","Agitador Magnetico C/ Aquecimento, 110 / 120 V, 50/60hz, 515w","01-162054-00","2015-08-03",799,10,{"$f":"F3298*memoria!$B$44/(G3298*12*memoria!$B$47)","v":1.6645833333333335E-2},{"$f":"F3298/(G3298*12*memoria!$B$47)","v":4.1614583333333337E-2}]
["Diadema","01691-Pavimento Térreo - Prédio Principal","Agitador Magnetico C/ Aquecimento, 110 / 120 V, 50/60hz, 515w","01-162060-00","2015-08-03",799,10,{"$f":"F3304*memoria!$B$44/(G3304*12*memoria!$B$47)","v":1.6645833333333335E-2},{"$f":"F3304/(G3304*12*memoria!$B$47)","v":4.1614583333333337E-2}]
["Diadema","01691-Pavimento Térreo - Prédio Principal","Agitador Magnetico C/ Aquecimento, 110 / 120 V, 50/60hz, 515w","01-162065-00","2015-08-03",799,10,{"$f":"F3309*memoria!$B$44/(G3309*12*memoria!$B$47)","v":1.6645833333333335E-2},{"$f":"F3309/(G3309*12*memoria!$B$47)","v":4.1614583333333337E-2}]
["Diadema","01691-Pavimento Térreo - Prédio Principal","Manta Aquecedora, 250ml, 127v, 330w, Temp Max. 300ºC","01-162070-00","2015-07-31",160,10,{"$f":"F3314*memoria!$B$44/(G3314*12*memoria!$B$47)","v":3.3333333333333335E-3},{"$f":"F3314/(G3314*12*memoria!$B$47)","v":8.3333333333333332E-3}]
["Diadema","01691-Pavimento Térreo - Prédio Principal","Manta Aquecedora, 250ml, 127v, 330w, Temp Max. 300ºC","01-162076-00","2015-07-31",160,10,{"$f":"F3320*memoria!$B$44/(G3320*12*memoria!$B$47)","v":3.3333333333333335E-3},{"$f":"F3320/(G3320*12*memoria!$B$47)","v":8.3333333333333332E-3}]
["Diadema","01691-Pavimento Térreo - Prédio Principal","Manta Aquecedora, 500 Ml, 127v, 330w, Temp. Max 300ºC","01-162081-00","2015-07-31",185,10,{"$f":"F3325*memoria!$B$44/(G3325*12*memoria!$B$47)","v":3.8541666666666668E-3},{"$f":"F3325/(G3325*12*memoria!$B$47)","v":9.6354166666666671E-3}]
["Diadema","01691-Pavimento Térreo - Prédio Principal","Manta Aquecedora, 500 Ml, 127v, 330w, Temp. Max 300ºC","01-162082-00","2015-07-31",185,10,{"$f":"F3326*memoria!$B$44/(G3326*12*memoria!$B$47)","v":3.8541666666666668E-3},{"$f":"F3326/(G3326*12*memoria!$B$47)","v":9.6354166666666671E-3}]
["Diadema","01691-Pavimento Térreo - Prédio Principal","Condutivimetro De Bancada Completo, 110/220v, Consumo 5w","01-162088-00","2015-08-04",606,10,{"$f":"F3332*memoria!$B$44/(G3332*12*memoria!$B$47)","v":1.2625000000000001E-2},{"$f":"F3332/(G3332*12*memoria!$B$47)","v":3.15625E-2}]
["Diadema","01691-Pavimento Térreo - Prédio Principal","Condutivimetro De Bancada Completo, 110/220v, Consumo 5w","01-162093-00","2015-08-04",606,10,{"$f":"F3337*memoria!$B$44/(G3337*12*memoria!$B$47)","v":1.2625000000000001E-2},{"$f":"F3337/(G3337*12*memoria!$B$47)","v":3.15625E-2}]
["Diadema","01898-térreo","Camara Escura Ultra Violeta, 220v, 40w","01-162099-00","2015-08-11",1349,10,{"$f":"F3343*memoria!$B$44/(G3343*12*memoria!$B$47)","v":2.8104166666666666E-2},{"$f":"F3343/(G3343*12*memoria!$B$47)","v":7.0260416666666672E-2}]
["Diadema","01902-quarto andar","Refrigerador Tipo Frost Free, Cap 382l, C/2 Portas, 127v, Cor Branca","01-168102-00","2015-05-08",1691,10,{"$f":"F3348*memoria!$B$44/(G3348*12*memoria!$B$47)","v":3.5229166666666673E-2},{"$f":"F3348/(G3348*12*memoria!$B$47)","v":8.8072916666666667E-2}]
["Diadema","01900-segundo andar","Agitador Tipo Magnetico, C/ Aquecimento, 230v, 50/60 Hz, 1020w","01-168109-00","2015-06-30",1350,10,{"$f":"F3353*memoria!$B$44/(G3353*12*memoria!$B$47)","v":2.8125000000000001E-2},{"$f":"F3353/(G3353*12*memoria!$B$47)","v":7.03125E-2}]
["Diadema","01691-Pavimento Térreo - Prédio Principal","Microscopio Biologico Trinocular C/ Estimativa","01-168119-00","2015-06-26",102336.76,10,{"$f":"F3359*memoria!$B$44/(G3359*12*memoria!$B$47)","v":2.1320158333333334},{"$f":"F3359/(G3359*12*memoria!$B$47)","v":5.3300395833333329}]
["Diadema","01899-primeiro andar","Banho Tipo De Ultrasom, 220","01-168124-00","2015-05-11",400,10,{"$f":"F3364*memoria!$B$44/(G3364*12*memoria!$B$47)","v":8.3333333333333332E-3},{"$f":"F3364/(G3364*12*memoria!$B$47)","v":2.0833333333333332E-2}]
["Diadema","01691-Pavimento Térreo - Prédio Principal","Espectrofotometro, Lite C/ Impressora, 6 Vdc, 18w","01-168141-00","2015-06-11",15881.55,10,{"$f":"F3367*memoria!$B$44/(G3367*12*memoria!$B$47)","v":0.330865625},{"$f":"F3367/(G3367*12*memoria!$B$47)","v":0.82716406249999996}]
["Diadema","01900-segundo andar","Estufa De Esterilizacao, 220v, Med. 60 X 50 X 50cm","01-168159-00","2015-06-22",3150,10,{"$f":"F3376*memoria!$B$44/(G3376*12*memoria!$B$47)","v":6.5625000000000003E-2},{"$f":"F3376/(G3376*12*memoria!$B$47)","v":0.1640625}]
["Diadema","01900-segundo andar","Forno Mufla, 3p, Inox Line, 220v, 1200ºC, Capac. 1,7l, C/ Venturi De Exaustao,","01-168165-00","2015-06-22",4240,10,{"$f":"F3381*memoria!$B$44/(G3381*12*memoria!$B$47)","v":8.8333333333333333E-2},{"$f":"F3381/(G3381*12*memoria!$B$47)","v":0.22083333333333333}]
["Diadema","01902-quarto andar","Controlador De Vazao Massica, Tipo Medidor","01-168173-00","2014-10-30",5446.87,10,{"$f":"F3387*memoria!$B$44/(G3387*12*memoria!$B$47)","v":0.11347645833333334},{"$f":"F3387/(G3387*12*memoria!$B$47)","v":0.28369114583333332}]
["Diadema","01902-quarto andar","Transmissor De Umidade Relativa / Temperatura","01-168179-00","2015-04-29",608,10,{"$f":"F3392*memoria!$B$44/(G3392*12*memoria!$B$47)","v":1.2666666666666668E-2},{"$f":"F3392/(G3392*12*memoria!$B$47)","v":3.1666666666666669E-2}]
["Diadema","01691-Pavimento Térreo - Prédio Principal","Freezer Ultra Baixa Temperatura, Vertical, Temp. -50ºC A .86ºC, Cap. 519l","01-168184-00","2015-03-03",36761.040000000001,10,{"$f":"F3397*memoria!$B$44/(G3397*12*memoria!$B$47)","v":0.76585500000000006},{"$f":"F3397/(G3397*12*memoria!$B$47)","v":1.9146375}]
["Diadema","01899-primeiro andar","Balanca Analitica","01-168185-00","2014-10-07",3745,10,{"$f":"F3398*memoria!$B$44/(G3398*12*memoria!$B$47)","v":7.8020833333333331E-2},{"$f":"F3398/(G3398*12*memoria!$B$47)","v":0.19505208333333332}]
["Diadema","01899-primeiro andar","Esterilizador Tipo De Agulhas","01-168190-00","2014-10-07",1079,10,{"$f":"F3403*memoria!$B$44/(G3403*12*memoria!$B$47)","v":2.2479166666666668E-2},{"$f":"F3403/(G3403*12*memoria!$B$47)","v":5.6197916666666667E-2}]
["Diadema","01899-primeiro andar","Balança Analitica, Cap. 220 Gr., 90-240v, 50/60 Hz, C/ Kit Hidrostatico Sup.","01-168198-00","2015-02-13",3254.54,10,{"$f":"F3409*memoria!$B$44/(G3409*12*memoria!$B$47)","v":6.7802916666666671E-2},{"$f":"F3409/(G3409*12*memoria!$B$47)","v":0.16950729166666667}]
["Diadema","01899-primeiro andar","Bomba, 220v, 60hz, Hmax 65m, Qmax 2300 L/H, Qmin=750 L/H","01-168216-00","2015-08-25",370,10,{"$f":"F3414*memoria!$B$44/(G3414*12*memoria!$B$47)","v":7.7083333333333335E-3},{"$f":"F3414/(G3414*12*memoria!$B$47)","v":1.9270833333333334E-2}]
["Diadema","01901-terceiro andar","Unidade Para Testes Cataliticos","01-168231-00","2015-03-25",33970,10,{"$f":"F3420*memoria!$B$44/(G3420*12*memoria!$B$47)","v":0.70770833333333338},{"$f":"F3420/(G3420*12*memoria!$B$47)","v":1.7692708333333333}]
["Diadema","01899-primeiro andar","Forno De Hibridizacao, 115v/ 60 Hz, Temp Ambiente A 99,9ºC, Controlado Por Micro","01-168253-00","2015-10-28",20889.57,10,{"$f":"F3426*memoria!$B$44/(G3426*12*memoria!$B$47)","v":0.435199375},{"$f":"F3426/(G3426*12*memoria!$B$47)","v":1.0879984375}]
["Diadema","01691-Pavimento Térreo - Prédio Principal","Sistema De Eletroforese Horizontal, C/ Fonte 100/240 Volts, 47/60 Hz, 200 Wats","01-168265-00","2015-11-24",4441,10,{"$f":"F3431*memoria!$B$44/(G3431*12*memoria!$B$47)","v":9.2520833333333344E-2},{"$f":"F3431/(G3431*12*memoria!$B$47)","v":0.23130208333333332}]
["Diadema","01691-Pavimento Térreo - Prédio Principal","Medidor De Ph De Bancada, Voltagem 12 Vdc, Consumo 5w","01-168278-00","2015-12-14",764,10,{"$f":"F3436*memoria!$B$44/(G3436*12*memoria!$B$47)","v":1.5916666666666669E-2},{"$f":"F3436/(G3436*12*memoria!$B$47)","v":3.979166666666667E-2}]
["Diadema","01691-Pavimento Térreo - Prédio Principal","Medidor De Ph De Bancada, Voltagem 12 Vdc, Consumo 5w","01-168284-00","2015-12-14",764,10,{"$f":"F3442*memoria!$B$44/(G3442*12*memoria!$B$47)","v":1.5916666666666669E-2},{"$f":"F3442/(G3442*12*memoria!$B$47)","v":3.979166666666667E-2}]
["Diadema","01691-Pavimento Térreo - Prédio Principal","Medidor De Ph De Bancada, Voltagem 12 Vdc, Consumo 5w","01-168289-00","2015-12-14",764,10,{"$f":"F3447*memoria!$B$44/(G3447*12*memoria!$B$47)","v":1.5916666666666669E-2},{"$f":"F3447/(G3447*12*memoria!$B$47)","v":3.979166666666667E-2}]
["Diadema","01691-Pavimento Térreo - Prédio Principal","Medidor De Ph De Bancada, Voltagem 12 Vdc, Consumo 5w","01-168295-00","2015-12-14",764,10,{"$f":"F3453*memoria!$B$44/(G3453*12*memoria!$B$47)","v":1.5916666666666669E-2},{"$f":"F3453/(G3453*12*memoria!$B$47)","v":3.979166666666667E-2}]
["Diadema","01691-Pavimento Térreo - Prédio Principal","Medidor De Ph De Bancada, Voltagem 12 Vdc, Consumo 5w","01-168297-00","2015-12-14",764,10,{"$f":"F3455*memoria!$B$44/(G3455*12*memoria!$B$47)","v":1.5916666666666669E-2},{"$f":"F3455/(G3455*12*memoria!$B$47)","v":3.979166666666667E-2}]
["Diadema","01691-Pavimento Térreo - Prédio Principal","Tanque De Nitrogenio Liquido, 196ºC, Extreme Cold","01-168310-00","2012-05-03",16100,10,{"$f":"F3464*memoria!$B$44/(G3464*12*memoria!$B$47)","v":0.33541666666666664},{"$f":"F3464/(G3464*12*memoria!$B$47)","v":0.83854166666666663}]
["Diadema","01898-térreo","Rack Ventilado P/ Camundongos, Confec. Em Aço Inoxidavel E Policarbono, S/Portas","01-168314-00","2013-02-27",75776.5,10,{"$f":"F3465*memoria!$B$44/(G3465*12*memoria!$B$47)","v":1.5786770833333335},{"$f":"F3465/(G3465*12*memoria!$B$47)","v":3.9466927083333334}]
["Diadema","01902-quarto andar","Freezer Vertical, 220v, 50/60hz, Com Uma Porta","01-168357-00","2015-12-04",1300,10,{"$f":"F3470*memoria!$B$44/(G3470*12*memoria!$B$47)","v":2.7083333333333334E-2},{"$f":"F3470/(G3470*12*memoria!$B$47)","v":6.7708333333333329E-2}]
["Diadema","01691-Pavimento Térreo - Prédio Principal","Refrigerador Duplex, 422l, Inverse Inox, 220v","01-168469-00","2016-02-15",2529.9,10,{"$f":"F3476*memoria!$B$44/(G3476*12*memoria!$B$47)","v":5.2706250000000003E-2},{"$f":"F3476/(G3476*12*memoria!$B$47)","v":0.131765625}]
["Diadema","01902-quarto andar","Microscopio Trinocular C/ Iluminacao Led, 02 Oculares De 10x, Objetivas De 4x,","01-168475-00","2016-02-22",4500,10,{"$f":"F3481*memoria!$B$44/(G3481*12*memoria!$B$47)","v":9.375E-2},{"$f":"F3481/(G3481*12*memoria!$B$47)","v":0.234375}]
["Diadema","01901-terceiro andar","Analisador Elementar","01-168483-00","2014-12-12",184736.23,10,{"$f":"F3486*memoria!$B$44/(G3486*12*memoria!$B$47)","v":3.8486714583333339},{"$f":"F3486/(G3486*12*memoria!$B$47)","v":9.6216786458333345}]
["Diadema","01691-Pavimento Térreo - Prédio Principal","Desumidificador De Ambiente","01-168491-00","2016-04-27",2721,10,{"$f":"F3492*memoria!$B$44/(G3492*12*memoria!$B$47)","v":5.6687500000000002E-2},{"$f":"F3492/(G3492*12*memoria!$B$47)","v":0.14171875}]
["Diadema","01901-terceiro andar","Sistema De Analise, 100-127 V, 220/240v, Com Eletromemetro Diferencial. 2 Multip","01-168500-00","2016-04-13",62968.65,10,{"$f":"F3496*memoria!$B$44/(G3496*12*memoria!$B$47)","v":1.3118468750000001},{"$f":"F3496/(G3496*12*memoria!$B$47)","v":3.2796171875}]
["Diadema","01895-Térreo","Coletor De Residuos Reciclaveis, Tipo Container, 1000 Lts, Cor Verde","01-168520-00","2016-06-17",1246.69,10,{"$f":"F3503*memoria!$B$44/(G3503*12*memoria!$B$47)","v":2.5972708333333337E-2},{"$f":"F3503/(G3503*12*memoria!$B$47)","v":6.4931770833333333E-2}]
["Diadema","01691-Pavimento Térreo - Prédio Principal","Coletor Para Residuos Reciclaveis, Tipo Conainer, 700 Lts, Cor Preta","01-168526-00","2016-06-17",994.99,10,{"$f":"F3509*memoria!$B$44/(G3509*12*memoria!$B$47)","v":2.0728958333333335E-2},{"$f":"F3509/(G3509*12*memoria!$B$47)","v":5.1822395833333333E-2}]
["Diadema","01691-Pavimento Térreo - Prédio Principal","Coletor Para Residuos Reciclaveis, Tipo Carro Coletor, 120 Lts, Cor Preta","01-168531-00","2016-06-17",151,10,{"$f":"F3514*memoria!$B$44/(G3514*12*memoria!$B$47)","v":3.1458333333333338E-3},{"$f":"F3514/(G3514*12*memoria!$B$47)","v":7.8645833333333328E-3}]
["Diadema","01708-Pavimento Único - Galpão","Centrifuga 220/240 V, 50/60 Hz, 4000 Rpm","01-168543-00","2016-06-01",9997.67,10,{"$f":"F3520*memoria!$B$44/(G3520*12*memoria!$B$47)","v":0.20828479166666669},{"$f":"F3520/(G3520*12*memoria!$B$47)","v":0.52071197916666667}]
["Diadema","01708-Pavimento Único - Galpão","Sistema De Armazenamento De Dados","01-168552-00","2016-06-01",434.05,10,{"$f":"F3525*memoria!$B$44/(G3525*12*memoria!$B$47)","v":9.0427083333333332E-3},{"$f":"F3525/(G3525*12*memoria!$B$47)","v":2.2606770833333335E-2}]
["Diadema","01900-segundo andar","Forno Tipo Reator Industrial Com Powermax De Refrig Simultan E Sensor De Pressao","01-168563-00","2016-07-12",73892.52,10,{"$f":"F3530*memoria!$B$44/(G3530*12*memoria!$B$47)","v":1.5394275000000002},{"$f":"F3530/(G3530*12*memoria!$B$47)","v":3.8485687500000001}]
["Diadema","01900-segundo andar","Refrigerador Tipo Frost Free Cap 300l, 1 Porta, 220v","01-168564-00","2016-07-12",899,10,{"$f":"F3531*memoria!$B$44/(G3531*12*memoria!$B$47)","v":1.8729166666666668E-2},{"$f":"F3531/(G3531*12*memoria!$B$47)","v":4.6822916666666665E-2}]
["Diadema","01899-primeiro andar","Phmetro Digital Portatil, C/ Eletrodo, Microprocessado","01-168575-00","2016-06-14",1100,10,{"$f":"F3536*memoria!$B$44/(G3536*12*memoria!$B$47)","v":2.2916666666666665E-2},{"$f":"F3536/(G3536*12*memoria!$B$47)","v":5.7291666666666664E-2}]
["Diadema","01902-quarto andar","Permeametro De Solo","01-168589-00","2016-07-12",20692,10,{"$f":"F3545*memoria!$B$44/(G3545*12*memoria!$B$47)","v":0.43108333333333337},{"$f":"F3545/(G3545*12*memoria!$B$47)","v":1.0777083333333333}]
["Diadema","01901-terceiro andar","Sistema Espectrometro De Massa, Vl Inerte C Detetor Triplo, Software","01-168594-00","2016-07-12",97034.18,10,{"$f":"F3548*memoria!$B$44/(G3548*12*memoria!$B$47)","v":2.0215454166666667},{"$f":"F3548/(G3548*12*memoria!$B$47)","v":5.053863541666666}]
["Diadema","01902-quarto andar","Bomba Peristaltica, 2 Canais, Drive Digital, C/ Cabeca","01-168599-00","2016-07-12",11044.96,10,{"$f":"F3553*memoria!$B$44/(G3553*12*memoria!$B$47)","v":0.2301033333333333},{"$f":"F3553/(G3553*12*memoria!$B$47)","v":0.57525833333333332}]
["Diadema","01691-Pavimento Térreo - Prédio Principal","Controlador De Temperatura","01-173073-00","2016-08-31",0.1,10,{"$f":"F3559*memoria!$B$44/(G3559*12*memoria!$B$47)","v":2.0833333333333339E-6},{"$f":"F3559/(G3559*12*memoria!$B$47)","v":5.208333333333334E-6}]
["Diadema","01691-Pavimento Térreo - Prédio Principal","Sistema De Exaustao Industrial","01-173087-00","2016-08-31",230,10,{"$f":"F3564*memoria!$B$44/(G3564*12*memoria!$B$47)","v":4.7916666666666663E-3},{"$f":"F3564/(G3564*12*memoria!$B$47)","v":1.1979166666666667E-2}]
["Diadema","01691-Pavimento Térreo - Prédio Principal","Talha Eletrica, 127v","01-173093-00","2016-08-31",843.16,10,{"$f":"F3569*memoria!$B$44/(G3569*12*memoria!$B$47)","v":1.7565833333333333E-2},{"$f":"F3569/(G3569*12*memoria!$B$47)","v":4.3914583333333333E-2}]
[null,null,null,null,null,null,null,{"$f":"F3575*memoria!$B$44/(G3575*12*memoria!$B$47)","v":{"$error":"#DIV/0!"}},{"$f":"F3575/(G3575*12*memoria!$B$47)","v":{"$error":"#DIV/0!"}}]
[null,null,null,null,null,null,null,{"$f":"F3580*memoria!$B$44/(G3580*12*memoria!$B$47)","v":{"$error":"#DIV/0!"}},{"$f":"F3580/(G3580*12*memoria!$B$47)","v":{"$error":"#DIV/0!"}}]
[null,null,null,null,null,null,null,{"$f":"F3584*memoria!$B$44/(G3584*12*memoria!$B$47)","v":{"$error":"#DIV/0!"}},{"$f":"F3584/(G3584*12*memoria!$B$47)","v":{"$error":"#DIV/0!"}}]
[null,null,null,null,null,null,null,{"$f":"F3592*memoria!$B$44/(G3592*12*memoria!$B$47)","v":{"$error":"#DIV/0!"}},{"$f":"F3592/(G3592*12*memoria!$B$47)","v":{"$error":"#DIV/0!"}}]
[null,null,null,null,null,null,null,{"$f":"F3597*memoria!$B$44/(G3597*12*memoria!$B$47)","v":{"$error":"#DIV/0!"}},{"$f":"F3597/(G3597*12*memoria!$B$47)","v":{"$error":"#DIV/0!"}}]
[null,null,null,null,null,null,null,{"$f":"F3598*memoria!$B$44/(G3598*12*memoria!$B$47)","v":{"$error":"#DIV/0!"}},{"$f":"F3598/(G3598*12*memoria!$B$47)","v":{"$error":"#DIV/0!"}}]
[null,null,null,null,null,null,null,{"$f":"F3603*memoria!$B$44/(G3603*12*memoria!$B$47)","v":{"$error":"#DIV/0!"}},{"$f":"F3603/(G3603*12*memoria!$B$47)","v":{"$error":"#DIV/0!"}}]
[null,null,null,null,null,null,null,{"$f":"F3608*memoria!$B$44/(G3608*12*memoria!$B$47)","v":{"$error":"#DIV/0!"}},{"$f":"F3608/(G3608*12*memoria!$B$47)","v":{"$error":"#DIV/0!"}}]
[null,null,null,null,null,null,null,{"$f":"F3614*memoria!$B$44/(G3614*12*memoria!$B$47)","v":{"$error":"#DIV/0!"}},{"$f":"F3614/(G3614*12*memoria!$B$47)","v":{"$error":"#DIV/0!"}}]
[null,null,null,null,null,null,null,{"$f":"F3619*memoria!$B$44/(G3619*12*memoria!$B$47)","v":{"$error":"#DIV/0!"}},{"$f":"F3619/(G3619*12*memoria!$B$47)","v":{"$error":"#DIV/0!"}}]
[null,null,null,null,null,null,null,{"$f":"F3625*memoria!$B$44/(G3625*12*memoria!$B$47)","v":{"$error":"#DIV/0!"}},{"$f":"F3625/(G3625*12*memoria!$B$47)","v":{"$error":"#DIV/0!"}}]
[null,null,null,null,null,null,null,{"$f":"F3631*memoria!$B$44/(G3631*12*memoria!$B$47)","v":{"$error":"#DIV/0!"}},{"$f":"F3631/(G3631*12*memoria!$B$47)","v":{"$error":"#DIV/0!"}}]
[null,null,null,null,null,null,null,{"$f":"F3636*memoria!$B$44/(G3636*12*memoria!$B$47)","v":{"$error":"#DIV/0!"}},{"$f":"F3636/(G3636*12*memoria!$B$47)","v":{"$error":"#DIV/0!"}}]
[null,null,null,null,null,null,null,{"$f":"F3642*memoria!$B$44/(G3642*12*memoria!$B$47)","v":{"$error":"#DIV/0!"}},{"$f":"F3642/(G3642*12*memoria!$B$47)","v":{"$error":"#DIV/0!"}}]
[null,null,null,null,null,null,null,{"$f":"F3647*memoria!$B$44/(G3647*12*memoria!$B$47)","v":{"$error":"#DIV/0!"}},{"$f":"F3647/(G3647*12*memoria!$B$47)","v":{"$error":"#DIV/0!"}}]
[null,null,null,null,null,null,null,{"$f":"F3652*memoria!$B$44/(G3652*12*memoria!$B$47)","v":{"$error":"#DIV/0!"}},{"$f":"F3652/(G3652*12*memoria!$B$47)","v":{"$error":"#DIV/0!"}}]
[null,null,null,null,null,null,null,{"$f":"F3658*memoria!$B$44/(G3658*12*memoria!$B$47)","v":{"$error":"#DIV/0!"}},{"$f":"F3658/(G3658*12*memoria!$B$47)","v":{"$error":"#DIV/0!"}}]
[null,null,null,null,null,null,null,{"$f":"F3663*memoria!$B$44/(G3663*12*memoria!$B$47)","v":{"$error":"#DIV/0!"}},{"$f":"F3663/(G3663*12*memoria!$B$47)","v":{"$error":"#DIV/0!"}}]
[null,null,null,null,null,null,null,{"$f":"F3664*memoria!$B$44/(G3664*12*memoria!$B$47)","v":{"$error":"#DIV/0!"}},{"$f":"F3664/(G3664*12*memoria!$B$47)","v":{"$error":"#DIV/0!"}}]
[null,null,null,null,null,null,null,{"$f":"F3674*memoria!$B$44/(G3674*12*memoria!$B$47)","v":{"$error":"#DIV/0!"}},{"$f":"F3674/(G3674*12*memoria!$B$47)","v":{"$error":"#DIV/0!"}}]
[null,null,null,null,null,null,null,{"$f":"F3675*memoria!$B$44/(G3675*12*memoria!$B$47)","v":{"$error":"#DIV/0!"}},{"$f":"F3675/(G3675*12*memoria!$B$47)","v":{"$error":"#DIV/0!"}}]
[null,null,null,null,null,null,null,{"$f":"F3681*memoria!$B$44/(G3681*12*memoria!$B$47)","v":{"$error":"#DIV/0!"}},{"$f":"F3681/(G3681*12*memoria!$B$47)","v":{"$error":"#DIV/0!"}}]
[null,null,null,null,null,null,null,{"$f":"F3686*memoria!$B$44/(G3686*12*memoria!$B$47)","v":{"$error":"#DIV/0!"}},{"$f":"F3686/(G3686*12*memoria!$B$47)","v":{"$error":"#DIV/0!"}}]
[null,null,null,null,null,null,null,{"$f":"F3692*memoria!$B$44/(G3692*12*memoria!$B$47)","v":{"$error":"#DIV/0!"}},{"$f":"F3692/(G3692*12*memoria!$B$47)","v":{"$error":"#DIV/0!"}}]
[null,null,null,null,null,null,null,{"$f":"F3697*memoria!$B$44/(G3697*12*memoria!$B$47)","v":{"$error":"#DIV/0!"}},{"$f":"F3697/(G3697*12*memoria!$B$47)","v":{"$error":"#DIV/0!"}}]
[null,null,null,null,null,null,null,{"$f":"F3702*memoria!$B$44/(G3702*12*memoria!$B$47)","v":{"$error":"#DIV/0!"}},{"$f":"F3702/(G3702*12*memoria!$B$47)","v":{"$error":"#DIV/0!"}}]
[null,null,null,null,null,null,null,{"$f":"F3708*memoria!$B$44/(G3708*12*memoria!$B$47)","v":{"$error":"#DIV/0!"}},{"$f":"F3708/(G3708*12*memoria!$B$47)","v":{"$error":"#DIV/0!"}}]
[null,null,null,null,null,null,null,{"$f":"F3715*memoria!$B$44/(G3715*12*memoria!$B$47)","v":{"$error":"#DIV/0!"}},{"$f":"F3715/(G3715*12*memoria!$B$47)","v":{"$error":"#DIV/0!"}}]
[null,null,null,null,null,null,null,{"$f":"F3719*memoria!$B$44/(G3719*12*memoria!$B$47)","v":{"$error":"#DIV/0!"}},{"$f":"F3719/(G3719*12*memoria!$B$47)","v":{"$error":"#DIV/0!"}}]
[null,null,null,null,null,null,null,{"$f":"F3725*memoria!$B$44/(G3725*12*memoria!$B$47)","v":{"$error":"#DIV/0!"}},{"$f":"F3725/(G3725*12*memoria!$B$47)","v":{"$error":"#DIV/0!"}}]
[null,null,null,null,null,null,null,{"$f":"F3730*memoria!$B$44/(G3730*12*memoria!$B$47)","v":{"$error":"#DIV/0!"}},{"$f":"F3730/(G3730*12*memoria!$B$47)","v":{"$error":"#DIV/0!"}}]
[null,null,null,null,null,null,null,{"$f":"F3731*memoria!$B$44/(G3731*12*memoria!$B$47)","v":{"$error":"#DIV/0!"}},{"$f":"F3731/(G3731*12*memoria!$B$47)","v":{"$error":"#DIV/0!"}}]
[null,null,null,null,null,null,null,{"$f":"F3736*memoria!$B$44/(G3736*12*memoria!$B$47)","v":{"$error":"#DIV/0!"}},{"$f":"F3736/(G3736*12*memoria!$B$47)","v":{"$error":"#DIV/0!"}}]
[null,null,null,null,null,null,null,{"$f":"F3741*memoria!$B$44/(G3741*12*memoria!$B$47)","v":{"$error":"#DIV/0!"}},{"$f":"F3741/(G3741*12*memoria!$B$47)","v":{"$error":"#DIV/0!"}}]
[null,null,null,null,null,null,null,{"$f":"F3747*memoria!$B$44/(G3747*12*memoria!$B$47)","v":{"$error":"#DIV/0!"}},{"$f":"F3747/(G3747*12*memoria!$B$47)","v":{"$error":"#DIV/0!"}}]
[null,null,null,null,null,null,null,{"$f":"F3752*memoria!$B$44/(G3752*12*memoria!$B$47)","v":{"$error":"#DIV/0!"}},{"$f":"F3752/(G3752*12*memoria!$B$47)","v":{"$error":"#DIV/0!"}}]
[null,null,null,null,null,null,null,{"$f":"F3756*memoria!$B$44/(G3756*12*memoria!$B$47)","v":{"$error":"#DIV/0!"}},{"$f":"F3756/(G3756*12*memoria!$B$47)","v":{"$error":"#DIV/0!"}}]
[null,null,null,null,null,null,null,{"$f":"F3764*memoria!$B$44/(G3764*12*memoria!$B$47)","v":{"$error":"#DIV/0!"}},{"$f":"F3764/(G3764*12*memoria!$B$47)","v":{"$error":"#DIV/0!"}}]
[null,null,null,null,null,null,null,{"$f":"F3769*memoria!$B$44/(G3769*12*memoria!$B$47)","v":{"$error":"#DIV/0!"}},{"$f":"F3769/(G3769*12*memoria!$B$47)","v":{"$error":"#DIV/0!"}}]
[null,null,null,null,null,null,null,{"$f":"F3775*memoria!$B$44/(G3775*12*memoria!$B$47)","v":{"$error":"#DIV/0!"}},{"$f":"F3775/(G3775*12*memoria!$B$47)","v":{"$error":"#DIV/0!"}}]
[null,null,null,null,null,null,null,{"$f":"F3780*memoria!$B$44/(G3780*12*memoria!$B$47)","v":{"$error":"#DIV/0!"}},{"$f":"F3780/(G3780*12*memoria!$B$47)","v":{"$error":"#DIV/0!"}}]
[null,null,null,null,null,null,null,{"$f":"F3785*memoria!$B$44/(G3785*12*memoria!$B$47)","v":{"$error":"#DIV/0!"}},{"$f":"F3785/(G3785*12*memoria!$B$47)","v":{"$error":"#DIV/0!"}}]
[null,null,null,null,null,null,null,{"$f":"F3791*memoria!$B$44/(G3791*12*memoria!$B$47)","v":{"$error":"#DIV/0!"}},{"$f":"F3791/(G3791*12*memoria!$B$47)","v":{"$error":"#DIV/0!"}}]
[null,null,null,null,null,null,null,{"$f":"F3796*memoria!$B$44/(G3796*12*memoria!$B$47)","v":{"$error":"#DIV/0!"}},{"$f":"F3796/(G3796*12*memoria!$B$47)","v":{"$error":"#DIV/0!"}}]
[null,null,null,null,null,null,null,{"$f":"F3797*memoria!$B$44/(G3797*12*memoria!$B$47)","v":{"$error":"#DIV/0!"}},{"$f":"F3797/(G3797*12*memoria!$B$47)","v":{"$error":"#DIV/0!"}}]
[null,null,null,null,null,null,null,{"$f":"F3803*memoria!$B$44/(G3803*12*memoria!$B$47)","v":{"$error":"#DIV/0!"}},{"$f":"F3803/(G3803*12*memoria!$B$47)","v":{"$error":"#DIV/0!"}}]
[null,null,null,null,null,null,null,{"$f":"F3808*memoria!$B$44/(G3808*12*memoria!$B$47)","v":{"$error":"#DIV/0!"}},{"$f":"F3808/(G3808*12*memoria!$B$47)","v":{"$error":"#DIV/0!"}}]
[null,null,null,null,null,null,null,{"$f":"F3814*memoria!$B$44/(G3814*12*memoria!$B$47)","v":{"$error":"#DIV/0!"}},{"$f":"F3814/(G3814*12*memoria!$B$47)","v":{"$error":"#DIV/0!"}}]
[null,null,null,null,null,null,null,{"$f":"F3819*memoria!$B$44/(G3819*12*memoria!$B$47)","v":{"$error":"#DIV/0!"}},{"$f":"F3819/(G3819*12*memoria!$B$47)","v":{"$error":"#DIV/0!"}}]
[null,null,null,null,null,null,null,{"$f":"F3824*memoria!$B$44/(G3824*12*memoria!$B$47)","v":{"$error":"#DIV/0!"}},{"$f":"F3824/(G3824*12*memoria!$B$47)","v":{"$error":"#DIV/0!"}}]
[null,null,null,null,null,null,null,{"$f":"F3830*memoria!$B$44/(G3830*12*memoria!$B$47)","v":{"$error":"#DIV/0!"}},{"$f":"F3830/(G3830*12*memoria!$B$47)","v":{"$error":"#DIV/0!"}}]
[null,null,null,null,null,null,null,{"$f":"F3835*memoria!$B$44/(G3835*12*memoria!$B$47)","v":{"$error":"#DIV/0!"}},{"$f":"F3835/(G3835*12*memoria!$B$47)","v":{"$error":"#DIV/0!"}}]
[null,null,null,null,null,null,null,{"$f":"F3838*memoria!$B$44/(G3838*12*memoria!$B$47)","v":{"$error":"#DIV/0!"}},{"$f":"F3838/(G3838*12*memoria!$B$47)","v":{"$error":"#DIV/0!"}}]
[null,null,null,null,null,null,null,{"$f":"F3847*memoria!$B$44/(G3847*12*memoria!$B$47)","v":{"$error":"#DIV/0!"}},{"$f":"F3847/(G3847*12*memoria!$B$47)","v":{"$error":"#DIV/0!"}}]
[null,null,null,null,null,null,null,{"$f":"F3852*memoria!$B$44/(G3852*12*memoria!$B$47)","v":{"$error":"#DIV/0!"}},{"$f":"F3852/(G3852*12*memoria!$B$47)","v":{"$error":"#DIV/0!"}}]
[null,null,null,null,null,null,null,{"$f":"F3858*memoria!$B$44/(G3858*12*memoria!$B$47)","v":{"$error":"#DIV/0!"}},{"$f":"F3858/(G3858*12*memoria!$B$47)","v":{"$error":"#DIV/0!"}}]
[null,null,null,null,null,null,null,{"$f":"F3863*memoria!$B$44/(G3863*12*memoria!$B$47)","v":{"$error":"#DIV/0!"}},{"$f":"F3863/(G3863*12*memoria!$B$47)","v":{"$error":"#DIV/0!"}}]
[null,null,null,null,null,null,null,{"$f":"F3864*memoria!$B$44/(G3864*12*memoria!$B$47)","v":{"$error":"#DIV/0!"}},{"$f":"F3864/(G3864*12*memoria!$B$47)","v":{"$error":"#DIV/0!"}}]
[null,null,null,null,null,null,null,{"$f":"F3869*memoria!$B$44/(G3869*12*memoria!$B$47)","v":{"$error":"#DIV/0!"}},{"$f":"F3869/(G3869*12*memoria!$B$47)","v":{"$error":"#DIV/0!"}}]
[null,null,null,null,null,null,null,{"$f":"F3874*memoria!$B$44/(G3874*12*memoria!$B$47)","v":{"$error":"#DIV/0!"}},{"$f":"F3874/(G3874*12*memoria!$B$47)","v":{"$error":"#DIV/0!"}}]
[null,null,null,null,null,null,null,{"$f":"F3880*memoria!$B$44/(G3880*12*memoria!$B$47)","v":{"$error":"#DIV/0!"}},{"$f":"F3880/(G3880*12*memoria!$B$47)","v":{"$error":"#DIV/0!"}}]
[null,null,null,null,null,null,null,{"$f":"F3887*memoria!$B$44/(G3887*12*memoria!$B$47)","v":{"$error":"#DIV/0!"}},{"$f":"F3887/(G3887*12*memoria!$B$47)","v":{"$error":"#DIV/0!"}}]
[null,null,null,null,null,null,null,{"$f":"F3891*memoria!$B$44/(G3891*12*memoria!$B$47)","v":{"$error":"#DIV/0!"}},{"$f":"F3891/(G3891*12*memoria!$B$47)","v":{"$error":"#DIV/0!"}}]
[null,null,null,null,null,null,null,{"$f":"F3897*memoria!$B$44/(G3897*12*memoria!$B$47)","v":{"$error":"#DIV/0!"}},{"$f":"F3897/(G3897*12*memoria!$B$47)","v":{"$error":"#DIV/0!"}}]
[null,null,null,null,null,null,null,{"$f":"F3902*memoria!$B$44/(G3902*12*memoria!$B$47)","v":{"$error":"#DIV/0!"}},{"$f":"F3902/(G3902*12*memoria!$B$47)","v":{"$error":"#DIV/0!"}}]
[null,null,null,null,null,null,null,{"$f":"F3908*memoria!$B$44/(G3908*12*memoria!$B$47)","v":{"$error":"#DIV/0!"}},{"$f":"F3908/(G3908*12*memoria!$B$47)","v":{"$error":"#DIV/0!"}}]
[null,null,null,null,null,null,null,{"$f":"F3913*memoria!$B$44/(G3913*12*memoria!$B$47)","v":{"$error":"#DIV/0!"}},{"$f":"F3913/(G3913*12*memoria!$B$47)","v":{"$error":"#DIV/0!"}}]
[null,null,null,null,null,null,null,{"$f":"F3918*memoria!$B$44/(G3918*12*memoria!$B$47)","v":{"$error":"#DIV/0!"}},{"$f":"F3918/(G3918*12*memoria!$B$47)","v":{"$error":"#DIV/0!"}}]
[null,null,null,null,null,null,null,{"$f":"F3924*memoria!$B$44/(G3924*12*memoria!$B$47)","v":{"$error":"#DIV/0!"}},{"$f":"F3924/(G3924*12*memoria!$B$47)","v":{"$error":"#DIV/0!"}}]
[null,null,null,null,null,null,null,{"$f":"F3928*memoria!$B$44/(G3928*12*memoria!$B$47)","v":{"$error":"#DIV/0!"}},{"$f":"F3928/(G3928*12*memoria!$B$47)","v":{"$error":"#DIV/0!"}}]
[null,null,null,null,null,null,null,{"$f":"F3931*memoria!$B$44/(G3931*12*memoria!$B$47)","v":{"$error":"#DIV/0!"}},{"$f":"F3931/(G3931*12*memoria!$B$47)","v":{"$error":"#DIV/0!"}}]
[null,null,null,null,null,null,null,{"$f":"F3936*memoria!$B$44/(G3936*12*memoria!$B$47)","v":{"$error":"#DIV/0!"}},{"$f":"F3936/(G3936*12*memoria!$B$47)","v":{"$error":"#DIV/0!"}}]
[null,null,null,null,null,null,null,{"$f":"F3941*memoria!$B$44/(G3941*12*memoria!$B$47)","v":{"$error":"#DIV/0!"}},{"$f":"F3941/(G3941*12*memoria!$B$47)","v":{"$error":"#DIV/0!"}}]
[null,null,null,null,null,null,null,{"$f":"F3947*memoria!$B$44/(G3947*12*memoria!$B$47)","v":{"$error":"#DIV/0!"}},{"$f":"F3947/(G3947*12*memoria!$B$47)","v":{"$error":"#DIV/0!"}}]
[null,null,null,null,null,null,null,{"$f":"F3952*memoria!$B$44/(G3952*12*memoria!$B$47)","v":{"$error":"#DIV/0!"}},{"$f":"F3952/(G3952*12*memoria!$B$47)","v":{"$error":"#DIV/0!"}}]
[null,null,null,null,null,null,null,{"$f":"F3957*memoria!$B$44/(G3957*12*memoria!$B$47)","v":{"$error":"#DIV/0!"}},{"$f":"F3957/(G3957*12*memoria!$B$47)","v":{"$error":"#DIV/0!"}}]
[null,null,null,null,null,null,null,{"$f":"F3963*memoria!$B$44/(G3963*12*memoria!$B$47)","v":{"$error":"#DIV/0!"}},{"$f":"F3963/(G3963*12*memoria!$B$47)","v":{"$error":"#DIV/0!"}}]
[null,null,null,null,null,null,null,{"$f":"F3969*memoria!$B$44/(G3969*12*memoria!$B$47)","v":{"$error":"#DIV/0!"}},{"$f":"F3969/(G3969*12*memoria!$B$47)","v":{"$error":"#DIV/0!"}}]
[null,null,null,null,null,null,null,{"$f":"F3975*memoria!$B$44/(G3975*12*memoria!$B$47)","v":{"$error":"#DIV/0!"}},{"$f":"F3975/(G3975*12*memoria!$B$47)","v":{"$error":"#DIV/0!"}}]
[null,null,null,null,null,null,null,{"$f":"F3980*memoria!$B$44/(G3980*12*memoria!$B$47)","v":{"$error":"#DIV/0!"}},{"$f":"F3980/(G3980*12*memoria!$B$47)","v":{"$error":"#DIV/0!"}}]
[null,null,null,null,null,null,null,{"$f":"F3985*memoria!$B$44/(G3985*12*memoria!$B$47)","v":{"$error":"#DIV/0!"}},{"$f":"F3985/(G3985*12*memoria!$B$47)","v":{"$error":"#DIV/0!"}}]
[null,null,null,null,null,null,null,{"$f":"F3991*memoria!$B$44/(G3991*12*memoria!$B$47)","v":{"$error":"#DIV/0!"}},{"$f":"F3991/(G3991*12*memoria!$B$47)","v":{"$error":"#DIV/0!"}}]
[null,null,null,null,null,null,null,{"$f":"F3996*memoria!$B$44/(G3996*12*memoria!$B$47)","v":{"$error":"#DIV/0!"}},{"$f":"F3996/(G3996*12*memoria!$B$47)","v":{"$error":"#DIV/0!"}}]
[null,null,null,null,null,null,null,{"$f":"F4001*memoria!$B$44/(G4001*12*memoria!$B$47)","v":{"$error":"#DIV/0!"}},{"$f":"F4001/(G4001*12*memoria!$B$47)","v":{"$error":"#DIV/0!"}}]
[null,null,null,null,null,null,null,{"$f":"F4002*memoria!$B$44/(G4002*12*memoria!$B$47)","v":{"$error":"#DIV/0!"}},{"$f":"F4002/(G4002*12*memoria!$B$47)","v":{"$error":"#DIV/0!"}}]
[null,null,null,null,null,null,null,{"$f":"F4007*memoria!$B$44/(G4007*12*memoria!$B$47)","v":{"$error":"#DIV/0!"}},{"$f":"F4007/(G4007*12*memoria!$B$47)","v":{"$error":"#DIV/0!"}}]
[null,null,null,null,null,null,null,{"$f":"F4016*memoria!$B$44/(G4016*12*memoria!$B$47)","v":{"$error":"#DIV/0!"}},{"$f":"F4016/(G4016*12*memoria!$B$47)","v":{"$error":"#DIV/0!"}}]
[null,null,null,null,null,null,null,{"$f":"F4019*memoria!$B$44/(G4019*12*memoria!$B$47)","v":{"$error":"#DIV/0!"}},{"$f":"F4019/(G4019*12*memoria!$B$47)","v":{"$error":"#DIV/0!"}}]
[null,null,null,null,null,null,null,{"$f":"F4024*memoria!$B$44/(G4024*12*memoria!$B$47)","v":{"$error":"#DIV/0!"}},{"$f":"F4024/(G4024*12*memoria!$B$47)","v":{"$error":"#DIV/0!"}}]
[null,null,null,null,null,null,null,{"$f":"F4030*memoria!$B$44/(G4030*12*memoria!$B$47)","v":{"$error":"#DIV/0!"}},{"$f":"F4030/(G4030*12*memoria!$B$47)","v":{"$error":"#DIV/0!"}}]
[null,null,null,null,null,null,null,{"$f":"F4035*memoria!$B$44/(G4035*12*memoria!$B$47)","v":{"$error":"#DIV/0!"}},{"$f":"F4035/(G4035*12*memoria!$B$47)","v":{"$error":"#DIV/0!"}}]
[null,null,null,null,null,null,null,{"$f":"F4041*memoria!$B$44/(G4041*12*memoria!$B$47)","v":{"$error":"#DIV/0!"}},{"$f":"F4041/(G4041*12*memoria!$B$47)","v":{"$error":"#DIV/0!"}}]
[null,null,null,null,null,null,null,{"$f":"F4046*memoria!$B$44/(G4046*12*memoria!$B$47)","v":{"$error":"#DIV/0!"}},{"$f":"F4046/(G4046*12*memoria!$B$47)","v":{"$error":"#DIV/0!"}}]
[null,null,null,null,null,null,null,{"$f":"F4051*memoria!$B$44/(G4051*12*memoria!$B$47)","v":{"$error":"#DIV/0!"}},{"$f":"F4051/(G4051*12*memoria!$B$47)","v":{"$error":"#DIV/0!"}}]
[null,null,null,null,null,null,null,{"$f":"F4057*memoria!$B$44/(G4057*12*memoria!$B$47)","v":{"$error":"#DIV/0!"}},{"$f":"F4057/(G4057*12*memoria!$B$47)","v":{"$error":"#DIV/0!"}}]
[null,null,null,null,null,null,null,{"$f":"F4063*memoria!$B$44/(G4063*12*memoria!$B$47)","v":{"$error":"#DIV/0!"}},{"$f":"F4063/(G4063*12*memoria!$B$47)","v":{"$error":"#DIV/0!"}}]
[null,null,null,null,null,null,null,{"$f":"F4068*memoria!$B$44/(G4068*12*memoria!$B$47)","v":{"$error":"#DIV/0!"}},{"$f":"F4068/(G4068*12*memoria!$B$47)","v":{"$error":"#DIV/0!"}}]
[null,null,null,null,null,null,null,{"$f":"F4069*memoria!$B$44/(G4069*12*memoria!$B$47)","v":{"$error":"#DIV/0!"}},{"$f":"F4069/(G4069*12*memoria!$B$47)","v":{"$error":"#DIV/0!"}}]
[null,null,null,null,null,null,null,{"$f":"F4074*memoria!$B$44/(G4074*12*memoria!$B$47)","v":{"$error":"#DIV/0!"}},{"$f":"F4074/(G4074*12*memoria!$B$47)","v":{"$error":"#DIV/0!"}}]
[null,null,null,null,null,null,null,{"$f":"F4080*memoria!$B$44/(G4080*12*memoria!$B$47)","v":{"$error":"#DIV/0!"}},{"$f":"F4080/(G4080*12*memoria!$B$47)","v":{"$error":"#DIV/0!"}}]
[null,null,null,null,null,null,null,{"$f":"F4085*memoria!$B$44/(G4085*12*memoria!$B$47)","v":{"$error":"#DIV/0!"}},{"$f":"F4085/(G4085*12*memoria!$B$47)","v":{"$error":"#DIV/0!"}}]
[null,null,null,null,null,null,null,{"$f":"F4090*memoria!$B$44/(G4090*12*memoria!$B$47)","v":{"$error":"#DIV/0!"}},{"$f":"F4090/(G4090*12*memoria!$B$47)","v":{"$error":"#DIV/0!"}}]
[null,null,null,null,null,null,null,{"$f":"F4096*memoria!$B$44/(G4096*12*memoria!$B$47)","v":{"$error":"#DIV/0!"}},{"$f":"F4096/(G4096*12*memoria!$B$47)","v":{"$error":"#DIV/0!"}}]
[null,null,null,null,null,null,null,{"$f":"F4100*memoria!$B$44/(G4100*12*memoria!$B$47)","v":{"$error":"#DIV/0!"}},{"$f":"F4100/(G4100*12*memoria!$B$47)","v":{"$error":"#DIV/0!"}}]
[null,null,null,null,null,null,null,{"$f":"F4107*memoria!$B$44/(G4107*12*memoria!$B$47)","v":{"$error":"#DIV/0!"}},{"$f":"F4107/(G4107*12*memoria!$B$47)","v":{"$error":"#DIV/0!"}}]
[null,null,null,null,null,null,null,{"$f":"F4113*memoria!$B$44/(G4113*12*memoria!$B$47)","v":{"$error":"#DIV/0!"}},{"$f":"F4113/(G4113*12*memoria!$B$47)","v":{"$error":"#DIV/0!"}}]
[null,null,null,null,null,null,null,{"$f":"F4118*memoria!$B$44/(G4118*12*memoria!$B$47)","v":{"$error":"#DIV/0!"}},{"$f":"F4118/(G4118*12*memoria!$B$47)","v":{"$error":"#DIV/0!"}}]
[null,null,null,null,null,null,null,{"$f":"F4124*memoria!$B$44/(G4124*12*memoria!$B$47)","v":{"$error":"#DIV/0!"}},{"$f":"F4124/(G4124*12*memoria!$B$47)","v":{"$error":"#DIV/0!"}}]
[null,null,null,null,null,null,null,{"$f":"F4129*memoria!$B$44/(G4129*12*memoria!$B$47)","v":{"$error":"#DIV/0!"}},{"$f":"F4129/(G4129*12*memoria!$B$47)","v":{"$error":"#DIV/0!"}}]
[null,null,null,null,null,null,null,{"$f":"F4134*memoria!$B$44/(G4134*12*memoria!$B$47)","v":{"$error":"#DIV/0!"}},{"$f":"F4134/(G4134*12*memoria!$B$47)","v":{"$error":"#DIV/0!"}}]
[null,null,null,null,null,null,null,{"$f":"F4135*memoria!$B$44/(G4135*12*memoria!$B$47)","v":{"$error":"#DIV/0!"}},{"$f":"F4135/(G4135*12*memoria!$B$47)","v":{"$error":"#DIV/0!"}}]
[null,null,null,null,null,null,null,{"$f":"F4141*memoria!$B$44/(G4141*12*memoria!$B$47)","v":{"$error":"#DIV/0!"}},{"$f":"F4141/(G4141*12*memoria!$B$47)","v":{"$error":"#DIV/0!"}}]
[null,null,null,null,null,null,null,{"$f":"F4147*memoria!$B$44/(G4147*12*memoria!$B$47)","v":{"$error":"#DIV/0!"}},{"$f":"F4147/(G4147*12*memoria!$B$47)","v":{"$error":"#DIV/0!"}}]
[null,null,null,null,null,null,null,{"$f":"F4152*memoria!$B$44/(G4152*12*memoria!$B$47)","v":{"$error":"#DIV/0!"}},{"$f":"F4152/(G4152*12*memoria!$B$47)","v":{"$error":"#DIV/0!"}}]
[null,null,null,null,null,null,null,{"$f":"F4157*memoria!$B$44/(G4157*12*memoria!$B$47)","v":{"$error":"#DIV/0!"}},{"$f":"F4157/(G4157*12*memoria!$B$47)","v":{"$error":"#DIV/0!"}}]
[null,null,null,null,null,null,null,{"$f":"F4163*memoria!$B$44/(G4163*12*memoria!$B$47)","v":{"$error":"#DIV/0!"}},{"$f":"F4163/(G4163*12*memoria!$B$47)","v":{"$error":"#DIV/0!"}}]
[null,null,null,null,null,null,null,{"$f":"F4168*memoria!$B$44/(G4168*12*memoria!$B$47)","v":{"$error":"#DIV/0!"}},{"$f":"F4168/(G4168*12*memoria!$B$47)","v":{"$error":"#DIV/0!"}}]
[null,null,null,null,null,null,null,{"$f":"F4173*memoria!$B$44/(G4173*12*memoria!$B$47)","v":{"$error":"#DIV/0!"}},{"$f":"F4173/(G4173*12*memoria!$B$47)","v":{"$error":"#DIV/0!"}}]
[null,null,null,null,null,null,null,{"$f":"F4179*memoria!$B$44/(G4179*12*memoria!$B$47)","v":{"$error":"#DIV/0!"}},{"$f":"F4179/(G4179*12*memoria!$B$47)","v":{"$error":"#DIV/0!"}}]
[null,null,null,null,null,null,null,{"$f":"F4182*memoria!$B$44/(G4182*12*memoria!$B$47)","v":{"$error":"#DIV/0!"}},{"$f":"F4182/(G4182*12*memoria!$B$47)","v":{"$error":"#DIV/0!"}}]
[null,null,null,null,null,null,null,{"$f":"F4191*memoria!$B$44/(G4191*12*memoria!$B$47)","v":{"$error":"#DIV/0!"}},{"$f":"F4191/(G4191*12*memoria!$B$47)","v":{"$error":"#DIV/0!"}}]
[null,null,null,null,null,null,null,{"$f":"F4196*memoria!$B$44/(G4196*12*memoria!$B$47)","v":{"$error":"#DIV/0!"}},{"$f":"F4196/(G4196*12*memoria!$B$47)","v":{"$error":"#DIV/0!"}}]
[null,null,null,null,null,null,null,{"$f":"F4201*memoria!$B$44/(G4201*12*memoria!$B$47)","v":{"$error":"#DIV/0!"}},{"$f":"F4201/(G4201*12*memoria!$B$47)","v":{"$error":"#DIV/0!"}}]
[null,null,null,null,null,null,null,{"$f":"F4202*memoria!$B$44/(G4202*12*memoria!$B$47)","v":{"$error":"#DIV/0!"}},{"$f":"F4202/(G4202*12*memoria!$B$47)","v":{"$error":"#DIV/0!"}}]
[null,null,null,null,null,null,null,{"$f":"F4207*memoria!$B$44/(G4207*12*memoria!$B$47)","v":{"$error":"#DIV/0!"}},{"$f":"F4207/(G4207*12*memoria!$B$47)","v":{"$error":"#DIV/0!"}}]
[null,null,null,null,null,null,null,{"$f":"F4213*memoria!$B$44/(G4213*12*memoria!$B$47)","v":{"$error":"#DIV/0!"}},{"$f":"F4213/(G4213*12*memoria!$B$47)","v":{"$error":"#DIV/0!"}}]
[null,null,null,null,null,null,null,{"$f":"F4218*memoria!$B$44/(G4218*12*memoria!$B$47)","v":{"$error":"#DIV/0!"}},{"$f":"F4218/(G4218*12*memoria!$B$47)","v":{"$error":"#DIV/0!"}}]
[null,null,null,null,null,null,null,{"$f":"F4223*memoria!$B$44/(G4223*12*memoria!$B$47)","v":{"$error":"#DIV/0!"}},{"$f":"F4223/(G4223*12*memoria!$B$47)","v":{"$error":"#DIV/0!"}}]
[null,null,null,null,null,null,null,{"$f":"F4229*memoria!$B$44/(G4229*12*memoria!$B$47)","v":{"$error":"#DIV/0!"}},{"$f":"F4229/(G4229*12*memoria!$B$47)","v":{"$error":"#DIV/0!"}}]
[null,null,null,null,null,null,null,{"$f":"F4235*memoria!$B$44/(G4235*12*memoria!$B$47)","v":{"$error":"#DIV/0!"}},{"$f":"F4235/(G4235*12*memoria!$B$47)","v":{"$error":"#DIV/0!"}}]
[null,null,null,null,null,null,null,{"$f":"F4240*memoria!$B$44/(G4240*12*memoria!$B$47)","v":{"$error":"#DIV/0!"}},{"$f":"F4240/(G4240*12*memoria!$B$47)","v":{"$error":"#DIV/0!"}}]
[null,null,null,null,null,null,null,{"$f":"F4246*memoria!$B$44/(G4246*12*memoria!$B$47)","v":{"$error":"#DIV/0!"}},{"$f":"F4246/(G4246*12*memoria!$B$47)","v":{"$error":"#DIV/0!"}}]
[null,null,null,null,null,null,null,{"$f":"F4251*memoria!$B$44/(G4251*12*memoria!$B$47)","v":{"$error":"#DIV/0!"}},{"$f":"F4251/(G4251*12*memoria!$B$47)","v":{"$error":"#DIV/0!"}}]
[null,null,null,null,null,null,null,{"$f":"F4257*memoria!$B$44/(G4257*12*memoria!$B$47)","v":{"$error":"#DIV/0!"}},{"$f":"F4257/(G4257*12*memoria!$B$47)","v":{"$error":"#DIV/0!"}}]
[null,null,null,null,null,null,null,{"$f":"F4262*memoria!$B$44/(G4262*12*memoria!$B$47)","v":{"$error":"#DIV/0!"}},{"$f":"F4262/(G4262*12*memoria!$B$47)","v":{"$error":"#DIV/0!"}}]
[null,null,null,null,null,null,null,{"$f":"F4267*memoria!$B$44/(G4267*12*memoria!$B$47)","v":{"$error":"#DIV/0!"}},{"$f":"F4267/(G4267*12*memoria!$B$47)","v":{"$error":"#DIV/0!"}}]
[null,null,null,null,null,null,null,{"$f":"F4270*memoria!$B$44/(G4270*12*memoria!$B$47)","v":{"$error":"#DIV/0!"}},{"$f":"F4270/(G4270*12*memoria!$B$47)","v":{"$error":"#DIV/0!"}}]
[null,null,null,null,null,null,null,{"$f":"F4274*memoria!$B$44/(G4274*12*memoria!$B$47)","v":{"$error":"#DIV/0!"}},{"$f":"F4274/(G4274*12*memoria!$B$47)","v":{"$error":"#DIV/0!"}}]
[null,null,null,null,null,null,null,{"$f":"F4279*memoria!$B$44/(G4279*12*memoria!$B$47)","v":{"$error":"#DIV/0!"}},{"$f":"F4279/(G4279*12*memoria!$B$47)","v":{"$error":"#DIV/0!"}}]
[null,null,null,null,null,null,null,{"$f":"F4285*memoria!$B$44/(G4285*12*memoria!$B$47)","v":{"$error":"#DIV/0!"}},{"$f":"F4285/(G4285*12*memoria!$B$47)","v":{"$error":"#DIV/0!"}}]
[null,null,null,null,null,null,null,{"$f":"F4290*memoria!$B$44/(G4290*12*memoria!$B$47)","v":{"$error":"#DIV/0!"}},{"$f":"F4290/(G4290*12*memoria!$B$47)","v":{"$error":"#DIV/0!"}}]
[null,null,null,null,null,null,null,{"$f":"F4296*memoria!$B$44/(G4296*12*memoria!$B$47)","v":{"$error":"#DIV/0!"}},{"$f":"F4296/(G4296*12*memoria!$B$47)","v":{"$error":"#DIV/0!"}}]
[null,null,null,null,null,null,null,{"$f":"F4301*memoria!$B$44/(G4301*12*memoria!$B$47)","v":{"$error":"#DIV/0!"}},{"$f":"F4301/(G4301*12*memoria!$B$47)","v":{"$error":"#DIV/0!"}}]
[null,null,null,null,null,null,null,{"$f":"F4306*memoria!$B$44/(G4306*12*memoria!$B$47)","v":{"$error":"#DIV/0!"}},{"$f":"F4306/(G4306*12*memoria!$B$47)","v":{"$error":"#DIV/0!"}}]
[null,null,null,null,null,null,null,{"$f":"F4311*memoria!$B$44/(G4311*12*memoria!$B$47)","v":{"$error":"#DIV/0!"}},{"$f":"F4311/(G4311*12*memoria!$B$47)","v":{"$error":"#DIV/0!"}}]
[null,null,null,null,null,null,null,{"$f":"F4318*memoria!$B$44/(G4318*12*memoria!$B$47)","v":{"$error":"#DIV/0!"}},{"$f":"F4318/(G4318*12*memoria!$B$47)","v":{"$error":"#DIV/0!"}}]
[null,null,null,null,null,null,null,{"$f":"F4324*memoria!$B$44/(G4324*12*memoria!$B$47)","v":{"$error":"#DIV/0!"}},{"$f":"F4324/(G4324*12*memoria!$B$47)","v":{"$error":"#DIV/0!"}}]
[null,null,null,null,null,null,null,{"$f":"F4329*memoria!$B$44/(G4329*12*memoria!$B$47)","v":{"$error":"#DIV/0!"}},{"$f":"F4329/(G4329*12*memoria!$B$47)","v":{"$error":"#DIV/0!"}}]
[null,null,null,null,null,null,null,{"$f":"F4334*memoria!$B$44/(G4334*12*memoria!$B$47)","v":{"$error":"#DIV/0!"}},{"$f":"F4334/(G4334*12*memoria!$B$47)","v":{"$error":"#DIV/0!"}}]
[null,null,null,null,null,null,null,{"$f":"F4335*memoria!$B$44/(G4335*12*memoria!$B$47)","v":{"$error":"#DIV/0!"}},{"$f":"F4335/(G4335*12*memoria!$B$47)","v":{"$error":"#DIV/0!"}}]
[null,null,null,null,null,null,null,{"$f":"F4340*memoria!$B$44/(G4340*12*memoria!$B$47)","v":{"$error":"#DIV/0!"}},{"$f":"F4340/(G4340*12*memoria!$B$47)","v":{"$error":"#DIV/0!"}}]
[null,null,null,null,null,null,null,{"$f":"F4345*memoria!$B$44/(G4345*12*memoria!$B$47)","v":{"$error":"#DIV/0!"}},{"$f":"F4345/(G4345*12*memoria!$B$47)","v":{"$error":"#DIV/0!"}}]
[null,null,null,null,null,null,null,{"$f":"F4351*memoria!$B$44/(G4351*12*memoria!$B$47)","v":{"$error":"#DIV/0!"}},{"$f":"F4351/(G4351*12*memoria!$B$47)","v":{"$error":"#DIV/0!"}}]
[null,null,null,null,null,null,null,{"$f":"F4360*memoria!$B$44/(G4360*12*memoria!$B$47)","v":{"$error":"#DIV/0!"}},{"$f":"F4360/(G4360*12*memoria!$B$47)","v":{"$error":"#DIV/0!"}}]
[null,null,null,null,null,null,null,{"$f":"F4363*memoria!$B$44/(G4363*12*memoria!$B$47)","v":{"$error":"#DIV/0!"}},{"$f":"F4363/(G4363*12*memoria!$B$47)","v":{"$error":"#DIV/0!"}}]
[null,null,null,null,null,null,null,{"$f":"F4368*memoria!$B$44/(G4368*12*memoria!$B$47)","v":{"$error":"#DIV/0!"}},{"$f":"F4368/(G4368*12*memoria!$B$47)","v":{"$error":"#DIV/0!"}}]
[null,null,null,null,null,null,null,{"$f":"F4373*memoria!$B$44/(G4373*12*memoria!$B$47)","v":{"$error":"#DIV/0!"}},{"$f":"F4373/(G4373*12*memoria!$B$47)","v":{"$error":"#DIV/0!"}}]
[null,null,null,null,null,null,null,{"$f":"F4379*memoria!$B$44/(G4379*12*memoria!$B$47)","v":{"$error":"#DIV/0!"}},{"$f":"F4379/(G4379*12*memoria!$B$47)","v":{"$error":"#DIV/0!"}}]
[null,null,null,null,null,null,null,{"$f":"F4384*memoria!$B$44/(G4384*12*memoria!$B$47)","v":{"$error":"#DIV/0!"}},{"$f":"F4384/(G4384*12*memoria!$B$47)","v":{"$error":"#DIV/0!"}}]
[null,null,null,null,null,null,null,{"$f":"F4389*memoria!$B$44/(G4389*12*memoria!$B$47)","v":{"$error":"#DIV/0!"}},{"$f":"F4389/(G4389*12*memoria!$B$47)","v":{"$error":"#DIV/0!"}}]
[null,null,null,null,null,null,null,{"$f":"F4395*memoria!$B$44/(G4395*12*memoria!$B$47)","v":{"$error":"#DIV/0!"}},{"$f":"F4395/(G4395*12*memoria!$B$47)","v":{"$error":"#DIV/0!"}}]
[null,null,null,null,null,null,null,{"$f":"F4401*memoria!$B$44/(G4401*12*memoria!$B$47)","v":{"$error":"#DIV/0!"}},{"$f":"F4401/(G4401*12*memoria!$B$47)","v":{"$error":"#DIV/0!"}}]
[null,null,null,null,null,null,null,{"$f":"F4402*memoria!$B$44/(G4402*12*memoria!$B$47)","v":{"$error":"#DIV/0!"}},{"$f":"F4402/(G4402*12*memoria!$B$47)","v":{"$error":"#DIV/0!"}}]
[null,null,null,null,null,null,null,{"$f":"F4407*memoria!$B$44/(G4407*12*memoria!$B$47)","v":{"$error":"#DIV/0!"}},{"$f":"F4407/(G4407*12*memoria!$B$47)","v":{"$error":"#DIV/0!"}}]
[null,null,null,null,null,null,null,{"$f":"F4412*memoria!$B$44/(G4412*12*memoria!$B$47)","v":{"$error":"#DIV/0!"}},{"$f":"F4412/(G4412*12*memoria!$B$47)","v":{"$error":"#DIV/0!"}}]
[null,null,null,null,null,null,null,{"$f":"F4418*memoria!$B$44/(G4418*12*memoria!$B$47)","v":{"$error":"#DIV/0!"}},{"$f":"F4418/(G4418*12*memoria!$B$47)","v":{"$error":"#DIV/0!"}}]
[null,null,null,null,null,null,null,{"$f":"F4423*memoria!$B$44/(G4423*12*memoria!$B$47)","v":{"$error":"#DIV/0!"}},{"$f":"F4423/(G4423*12*memoria!$B$47)","v":{"$error":"#DIV/0!"}}]
[null,null,null,null,null,null,null,{"$f":"F4429*memoria!$B$44/(G4429*12*memoria!$B$47)","v":{"$error":"#DIV/0!"}},{"$f":"F4429/(G4429*12*memoria!$B$47)","v":{"$error":"#DIV/0!"}}]
[null,null,null,null,null,null,null,{"$f":"F4434*memoria!$B$44/(G4434*12*memoria!$B$47)","v":{"$error":"#DIV/0!"}},{"$f":"F4434/(G4434*12*memoria!$B$47)","v":{"$error":"#DIV/0!"}}]
[null,null,null,null,null,null,null,{"$f":"F4442*memoria!$B$44/(G4442*12*memoria!$B$47)","v":{"$error":"#DIV/0!"}},{"$f":"F4442/(G4442*12*memoria!$B$47)","v":{"$error":"#DIV/0!"}}]
[null,null,null,null,null,null,null,{"$f":"F4446*memoria!$B$44/(G4446*12*memoria!$B$47)","v":{"$error":"#DIV/0!"}},{"$f":"F4446/(G4446*12*memoria!$B$47)","v":{"$error":"#DIV/0!"}}]
[null,null,null,null,null,null,null,{"$f":"F4451*memoria!$B$44/(G4451*12*memoria!$B$47)","v":{"$error":"#DIV/0!"}},{"$f":"F4451/(G4451*12*memoria!$B$47)","v":{"$error":"#DIV/0!"}}]
[null,null,null,null,null,null,null,{"$f":"F4456*memoria!$B$44/(G4456*12*memoria!$B$47)","v":{"$error":"#DIV/0!"}},{"$f":"F4456/(G4456*12*memoria!$B$47)","v":{"$error":"#DIV/0!"}}]
[null,null,null,null,null,null,null,{"$f":"F4462*memoria!$B$44/(G4462*12*memoria!$B$47)","v":{"$error":"#DIV/0!"}},{"$f":"F4462/(G4462*12*memoria!$B$47)","v":{"$error":"#DIV/0!"}}]
[null,null,null,null,null,null,null,{"$f":"F4467*memoria!$B$44/(G4467*12*memoria!$B$47)","v":{"$error":"#DIV/0!"}},{"$f":"F4467/(G4467*12*memoria!$B$47)","v":{"$error":"#DIV/0!"}}]
[null,null,null,null,null,null,null,{"$f":"F4468*memoria!$B$44/(G4468*12*memoria!$B$47)","v":{"$error":"#DIV/0!"}},{"$f":"F4468/(G4468*12*memoria!$B$47)","v":{"$error":"#DIV/0!"}}]
[null,null,null,null,null,null,null,{"$f":"F4473*memoria!$B$44/(G4473*12*memoria!$B$47)","v":{"$error":"#DIV/0!"}},{"$f":"F4473/(G4473*12*memoria!$B$47)","v":{"$error":"#DIV/0!"}}]
[null,null,null,null,null,null,null,{"$f":"F4478*memoria!$B$44/(G4478*12*memoria!$B$47)","v":{"$error":"#DIV/0!"}},{"$f":"F4478/(G4478*12*memoria!$B$47)","v":{"$error":"#DIV/0!"}}]
[null,null,null,null,null,null,null,{"$f":"F4483*memoria!$B$44/(G4483*12*memoria!$B$47)","v":{"$error":"#DIV/0!"}},{"$f":"F4483/(G4483*12*memoria!$B$47)","v":{"$error":"#DIV/0!"}}]
[null,null,null,null,null,null,null,{"$f":"F4490*memoria!$B$44/(G4490*12*memoria!$B$47)","v":{"$error":"#DIV/0!"}},{"$f":"F4490/(G4490*12*memoria!$B$47)","v":{"$error":"#DIV/0!"}}]
[null,null,null,null,null,null,null,{"$f":"F4496*memoria!$B$44/(G4496*12*memoria!$B$47)","v":{"$error":"#DIV/0!"}},{"$f":"F4496/(G4496*12*memoria!$B$47)","v":{"$error":"#DIV/0!"}}]
[null,null,null,null,null,null,null,{"$f":"F4501*memoria!$B$44/(G4501*12*memoria!$B$47)","v":{"$error":"#DIV/0!"}},{"$f":"F4501/(G4501*12*memoria!$B$47)","v":{"$error":"#DIV/0!"}}]
[null,null,null,null,null,null,null,{"$f":"F4506*memoria!$B$44/(G4506*12*memoria!$B$47)","v":{"$error":"#DIV/0!"}},{"$f":"F4506/(G4506*12*memoria!$B$47)","v":{"$error":"#DIV/0!"}}]
[null,null,null,null,null,null,null,{"$f":"F4512*memoria!$B$44/(G4512*12*memoria!$B$47)","v":{"$error":"#DIV/0!"}},{"$f":"F4512/(G4512*12*memoria!$B$47)","v":{"$error":"#DIV/0!"}}]
[null,null,null,null,null,null,null,{"$f":"F4517*memoria!$B$44/(G4517*12*memoria!$B$47)","v":{"$error":"#DIV/0!"}},{"$f":"F4517/(G4517*12*memoria!$B$47)","v":{"$error":"#DIV/0!"}}]
[null,null,null,null,null,null,null,{"$f":"F4522*memoria!$B$44/(G4522*12*memoria!$B$47)","v":{"$error":"#DIV/0!"}},{"$f":"F4522/(G4522*12*memoria!$B$47)","v":{"$error":"#DIV/0!"}}]
[null,null,null,null,null,null,null,{"$f":"F4524*memoria!$B$44/(G4524*12*memoria!$B$47)","v":{"$error":"#DIV/0!"}},{"$f":"F4524/(G4524*12*memoria!$B$47)","v":{"$error":"#DIV/0!"}}]
[null,null,null,null,null,null,null,{"$f":"F4534*memoria!$B$44/(G4534*12*memoria!$B$47)","v":{"$error":"#DIV/0!"}},{"$f":"F4534/(G4534*12*memoria!$B$47)","v":{"$error":"#DIV/0!"}}]
[null,null,null,null,null,null,null,{"$f":"F4535*memoria!$B$44/(G4535*12*memoria!$B$47)","v":{"$error":"#DIV/0!"}},{"$f":"F4535/(G4535*12*memoria!$B$47)","v":{"$error":"#DIV/0!"}}]
[null,null,null,null,null,null,null,{"$f":"F4540*memoria!$B$44/(G4540*12*memoria!$B$47)","v":{"$error":"#DIV/0!"}},{"$f":"F4540/(G4540*12*memoria!$B$47)","v":{"$error":"#DIV/0!"}}]
[null,null,null,null,null,null,null,{"$f":"F4545*memoria!$B$44/(G4545*12*memoria!$B$47)","v":{"$error":"#DIV/0!"}},{"$f":"F4545/(G4545*12*memoria!$B$47)","v":{"$error":"#DIV/0!"}}]
[null,null,null,null,null,null,null,{"$f":"F4551*memoria!$B$44/(G4551*12*memoria!$B$47)","v":{"$error":"#DIV/0!"}},{"$f":"F4551/(G4551*12*memoria!$B$47)","v":{"$error":"#DIV/0!"}}]
[null,null,null,null,null,null,null,{"$f":"F4556*memoria!$B$44/(G4556*12*memoria!$B$47)","v":{"$error":"#DIV/0!"}},{"$f":"F4556/(G4556*12*memoria!$B$47)","v":{"$error":"#DIV/0!"}}]
[null,null,null,null,null,null,null,{"$f":"F4561*memoria!$B$44/(G4561*12*memoria!$B$47)","v":{"$error":"#DIV/0!"}},{"$f":"F4561/(G4561*12*memoria!$B$47)","v":{"$error":"#DIV/0!"}}]
[null,null,null,null,null,null,null,{"$f":"F4567*memoria!$B$44/(G4567*12*memoria!$B$47)","v":{"$error":"#DIV/0!"}},{"$f":"F4567/(G4567*12*memoria!$B$47)","v":{"$error":"#DIV/0!"}}]
[null,null,null,null,null,null,null,{"$f":"F4573*memoria!$B$44/(G4573*12*memoria!$B$47)","v":{"$error":"#DIV/0!"}},{"$f":"F4573/(G4573*12*memoria!$B$47)","v":{"$error":"#DIV/0!"}}]
[null,null,null,null,null,null,null,{"$f":"F4579*memoria!$B$44/(G4579*12*memoria!$B$47)","v":{"$error":"#DIV/0!"}},{"$f":"F4579/(G4579*12*memoria!$B$47)","v":{"$error":"#DIV/0!"}}]
[null,null,null,null,null,null,null,{"$f":"F4584*memoria!$B$44/(G4584*12*memoria!$B$47)","v":{"$error":"#DIV/0!"}},{"$f":"F4584/(G4584*12*memoria!$B$47)","v":{"$error":"#DIV/0!"}}]
[null,null,null,null,null,null,null,{"$f":"F4589*memoria!$B$44/(G4589*12*memoria!$B$47)","v":{"$error":"#DIV/0!"}},{"$f":"F4589/(G4589*12*memoria!$B$47)","v":{"$error":"#DIV/0!"}}]
[null,null,null,null,null,null,null,{"$f":"F4595*memoria!$B$44/(G4595*12*memoria!$B$47)","v":{"$error":"#DIV/0!"}},{"$f":"F4595/(G4595*12*memoria!$B$47)","v":{"$error":"#DIV/0!"}}]
[null,null,null,null,null,null,null,{"$f":"F4600*memoria!$B$44/(G4600*12*memoria!$B$47)","v":{"$error":"#DIV/0!"}},{"$f":"F4600/(G4600*12*memoria!$B$47)","v":{"$error":"#DIV/0!"}}]
[null,null,null,null,null,null,null,{"$f":"F4601*memoria!$B$44/(G4601*12*memoria!$B$47)","v":{"$error":"#DIV/0!"}},{"$f":"F4601/(G4601*12*memoria!$B$47)","v":{"$error":"#DIV/0!"}}]
[null,null,null,null,null,null,null,{"$f":"F4606*memoria!$B$44/(G4606*12*memoria!$B$47)","v":{"$error":"#DIV/0!"}},{"$f":"F4606/(G4606*12*memoria!$B$47)","v":{"$error":"#DIV/0!"}}]
[null,null,null,null,null,null,null,{"$f":"F4614*memoria!$B$44/(G4614*12*memoria!$B$47)","v":{"$error":"#DIV/0!"}},{"$f":"F4614/(G4614*12*memoria!$B$47)","v":{"$error":"#DIV/0!"}}]
[null,null,null,null,null,null,null,{"$f":"F4618*memoria!$B$44/(G4618*12*memoria!$B$47)","v":{"$error":"#DIV/0!"}},{"$f":"F4618/(G4618*12*memoria!$B$47)","v":{"$error":"#DIV/0!"}}]
[null,null,null,null,null,null,null,{"$f":"F4623*memoria!$B$44/(G4623*12*memoria!$B$47)","v":{"$error":"#DIV/0!"}},{"$f":"F4623/(G4623*12*memoria!$B$47)","v":{"$error":"#DIV/0!"}}]
[null,null,null,null,null,null,null,{"$f":"F4628*memoria!$B$44/(G4628*12*memoria!$B$47)","v":{"$error":"#DIV/0!"}},{"$f":"F4628/(G4628*12*memoria!$B$47)","v":{"$error":"#DIV/0!"}}]
[null,null,null,null,null,null,null,{"$f":"F4634*memoria!$B$44/(G4634*12*memoria!$B$47)","v":{"$error":"#DIV/0!"}},{"$f":"F4634/(G4634*12*memoria!$B$47)","v":{"$error":"#DIV/0!"}}]
[null,null,null,null,null,null,null,{"$f":"F4639*memoria!$B$44/(G4639*12*memoria!$B$47)","v":{"$error":"#DIV/0!"}},{"$f":"F4639/(G4639*12*memoria!$B$47)","v":{"$error":"#DIV/0!"}}]
[null,null,null,null,null,null,null,{"$f":"F4645*memoria!$B$44/(G4645*12*memoria!$B$47)","v":{"$error":"#DIV/0!"}},{"$f":"F4645/(G4645*12*memoria!$B$47)","v":{"$error":"#DIV/0!"}}]
[null,null,null,null,null,null,null,{"$f":"F4650*memoria!$B$44/(G4650*12*memoria!$B$47)","v":{"$error":"#DIV/0!"}},{"$f":"F4650/(G4650*12*memoria!$B$47)","v":{"$error":"#DIV/0!"}}]
[null,null,null,null,null,null,null,{"$f":"F4655*memoria!$B$44/(G4655*12*memoria!$B$47)","v":{"$error":"#DIV/0!"}},{"$f":"F4655/(G4655*12*memoria!$B$47)","v":{"$error":"#DIV/0!"}}]
[null,null,null,null,null,null,null,{"$f":"F4662*memoria!$B$44/(G4662*12*memoria!$B$47)","v":{"$error":"#DIV/0!"}},{"$f":"F4662/(G4662*12*memoria!$B$47)","v":{"$error":"#DIV/0!"}}]
[null,null,null,null,null,null,null,{"$f":"F4667*memoria!$B$44/(G4667*12*memoria!$B$47)","v":{"$error":"#DIV/0!"}},{"$f":"F4667/(G4667*12*memoria!$B$47)","v":{"$error":"#DIV/0!"}}]
[null,null,null,null,null,null,null,{"$f":"F4668*memoria!$B$44/(G4668*12*memoria!$B$47)","v":{"$error":"#DIV/0!"}},{"$f":"F4668/(G4668*12*memoria!$B$47)","v":{"$error":"#DIV/0!"}}]
[null,null,null,null,null,null,null,{"$f":"F4673*memoria!$B$44/(G4673*12*memoria!$B$47)","v":{"$error":"#DIV/0!"}},{"$f":"F4673/(G4673*12*memoria!$B$47)","v":{"$error":"#DIV/0!"}}]
[null,null,null,null,null,null,null,{"$f":"F4678*memoria!$B$44/(G4678*12*memoria!$B$47)","v":{"$error":"#DIV/0!"}},{"$f":"F4678/(G4678*12*memoria!$B$47)","v":{"$error":"#DIV/0!"}}]
[null,null,null,null,null,null,null,{"$f":"F4684*memoria!$B$44/(G4684*12*memoria!$B$47)","v":{"$error":"#DIV/0!"}},{"$f":"F4684/(G4684*12*memoria!$B$47)","v":{"$error":"#DIV/0!"}}]
[null,null,null,null,null,null,null,{"$f":"F4689*memoria!$B$44/(G4689*12*memoria!$B$47)","v":{"$error":"#DIV/0!"}},{"$f":"F4689/(G4689*12*memoria!$B$47)","v":{"$error":"#DIV/0!"}}]
[null,null,null,null,null,null,null,{"$f":"F4694*memoria!$B$44/(G4694*12*memoria!$B$47)","v":{"$error":"#DIV/0!"}},{"$f":"F4694/(G4694*12*memoria!$B$47)","v":{"$error":"#DIV/0!"}}]
[null,null,null,null,null,null,null,{"$f":"F4702*memoria!$B$44/(G4702*12*memoria!$B$47)","v":{"$error":"#DIV/0!"}},{"$f":"F4702/(G4702*12*memoria!$B$47)","v":{"$error":"#DIV/0!"}}]
[null,null,null,null,null,null,null,{"$f":"F4706*memoria!$B$44/(G4706*12*memoria!$B$47)","v":{"$error":"#DIV/0!"}},{"$f":"F4706/(G4706*12*memoria!$B$47)","v":{"$error":"#DIV/0!"}}]
[null,null,null,null,null,null,null,{"$f":"F4712*memoria!$B$44/(G4712*12*memoria!$B$47)","v":{"$error":"#DIV/0!"}},{"$f":"F4712/(G4712*12*memoria!$B$47)","v":{"$error":"#DIV/0!"}}]
[null,null,null,null,null,null,null,{"$f":"F4717*memoria!$B$44/(G4717*12*memoria!$B$47)","v":{"$error":"#DIV/0!"}},{"$f":"F4717/(G4717*12*memoria!$B$47)","v":{"$error":"#DIV/0!"}}]
[null,null,null,null,null,null,null,{"$f":"F4722*memoria!$B$44/(G4722*12*memoria!$B$47)","v":{"$error":"#DIV/0!"}},{"$f":"F4722/(G4722*12*memoria!$B$47)","v":{"$error":"#DIV/0!"}}]
[null,null,null,null,null,null,null,{"$f":"F4728*memoria!$B$44/(G4728*12*memoria!$B$47)","v":{"$error":"#DIV/0!"}},{"$f":"F4728/(G4728*12*memoria!$B$47)","v":{"$error":"#DIV/0!"}}]
[null,null,null,null,null,null,null,{"$f":"F4733*memoria!$B$44/(G4733*12*memoria!$B$47)","v":{"$error":"#DIV/0!"}},{"$f":"F4733/(G4733*12*memoria!$B$47)","v":{"$error":"#DIV/0!"}}]
[null,null,null,null,null,null,null,{"$f":"F4738*memoria!$B$44/(G4738*12*memoria!$B$47)","v":{"$error":"#DIV/0!"}},{"$f":"F4738/(G4738*12*memoria!$B$47)","v":{"$error":"#DIV/0!"}}]
[null,null,null,null,null,null,null,{"$f":"F4743*memoria!$B$44/(G4743*12*memoria!$B$47)","v":{"$error":"#DIV/0!"}},{"$f":"F4743/(G4743*12*memoria!$B$47)","v":{"$error":"#DIV/0!"}}]
[null,null,null,null,null,null,null,{"$f":"F4745*memoria!$B$44/(G4745*12*memoria!$B$47)","v":{"$error":"#DIV/0!"}},{"$f":"F4745/(G4745*12*memoria!$B$47)","v":{"$error":"#DIV/0!"}}]
[null,null,null,null,null,null,null,{"$f":"F4751*memoria!$B$44/(G4751*12*memoria!$B$47)","v":{"$error":"#DIV/0!"}},{"$f":"F4751/(G4751*12*memoria!$B$47)","v":{"$error":"#DIV/0!"}}]
[null,null,null,null,null,null,null,{"$f":"F4756*memoria!$B$44/(G4756*12*memoria!$B$47)","v":{"$error":"#DIV/0!"}},{"$f":"F4756/(G4756*12*memoria!$B$47)","v":{"$error":"#DIV/0!"}}]
[null,null,null,null,null,null,null,{"$f":"F4761*memoria!$B$44/(G4761*12*memoria!$B$47)","v":{"$error":"#DIV/0!"}},{"$f":"F4761/(G4761*12*memoria!$B$47)","v":{"$error":"#DIV/0!"}}]
[null,null,null,null,null,null,null,{"$f":"F4767*memoria!$B$44/(G4767*12*memoria!$B$47)","v":{"$error":"#DIV/0!"}},{"$f":"F4767/(G4767*12*memoria!$B$47)","v":{"$error":"#DIV/0!"}}]
[null,null,null,null,null,null,null,{"$f":"F4772*memoria!$B$44/(G4772*12*memoria!$B$47)","v":{"$error":"#DIV/0!"}},{"$f":"F4772/(G4772*12*memoria!$B$47)","v":{"$error":"#DIV/0!"}}]
[null,null,null,null,null,null,null,{"$f":"F4778*memoria!$B$44/(G4778*12*memoria!$B$47)","v":{"$error":"#DIV/0!"}},{"$f":"F4778/(G4778*12*memoria!$B$47)","v":{"$error":"#DIV/0!"}}]
[null,null,null,null,null,null,null,{"$f":"F4784*memoria!$B$44/(G4784*12*memoria!$B$47)","v":{"$error":"#DIV/0!"}},{"$f":"F4784/(G4784*12*memoria!$B$47)","v":{"$error":"#DIV/0!"}}]
[null,null,null,null,null,null,null,{"$f":"F4789*memoria!$B$44/(G4789*12*memoria!$B$47)","v":{"$error":"#DIV/0!"}},{"$f":"F4789/(G4789*12*memoria!$B$47)","v":{"$error":"#DIV/0!"}}]
[null,null,null,null,null,null,null,{"$f":"F4795*memoria!$B$44/(G4795*12*memoria!$B$47)","v":{"$error":"#DIV/0!"}},{"$f":"F4795/(G4795*12*memoria!$B$47)","v":{"$error":"#DIV/0!"}}]
[null,null,null,null,null,null,null,{"$f":"F4800*memoria!$B$44/(G4800*12*memoria!$B$47)","v":{"$error":"#DIV/0!"}},{"$f":"F4800/(G4800*12*memoria!$B$47)","v":{"$error":"#DIV/0!"}}]
[null,null,null,null,null,null,null,{"$f":"F4805*memoria!$B$44/(G4805*12*memoria!$B$47)","v":{"$error":"#DIV/0!"}},{"$f":"F4805/(G4805*12*memoria!$B$47)","v":{"$error":"#DIV/0!"}}]
[null,null,null,null,null,null,null,{"$f":"F4806*memoria!$B$44/(G4806*12*memoria!$B$47)","v":{"$error":"#DIV/0!"}},{"$f":"F4806/(G4806*12*memoria!$B$47)","v":{"$error":"#DIV/0!"}}]
[null,null,null,null,null,null,null,{"$f":"F4811*memoria!$B$44/(G4811*12*memoria!$B$47)","v":{"$error":"#DIV/0!"}},{"$f":"F4811/(G4811*12*memoria!$B$47)","v":{"$error":"#DIV/0!"}}]
[null,null,null,null,null,null,null,{"$f":"F4817*memoria!$B$44/(G4817*12*memoria!$B$47)","v":{"$error":"#DIV/0!"}},{"$f":"F4817/(G4817*12*memoria!$B$47)","v":{"$error":"#DIV/0!"}}]
[null,null,null,null,null,null,null,{"$f":"F4822*memoria!$B$44/(G4822*12*memoria!$B$47)","v":{"$error":"#DIV/0!"}},{"$f":"F4822/(G4822*12*memoria!$B$47)","v":{"$error":"#DIV/0!"}}]
[null,null,null,null,null,null,null,{"$f":"F4827*memoria!$B$44/(G4827*12*memoria!$B$47)","v":{"$error":"#DIV/0!"}},{"$f":"F4827/(G4827*12*memoria!$B$47)","v":{"$error":"#DIV/0!"}}]
[null,null,null,null,null,null,null,{"$f":"F4834*memoria!$B$44/(G4834*12*memoria!$B$47)","v":{"$error":"#DIV/0!"}},{"$f":"F4834/(G4834*12*memoria!$B$47)","v":{"$error":"#DIV/0!"}}]
[null,null,null,null,null,null,null,{"$f":"F4839*memoria!$B$44/(G4839*12*memoria!$B$47)","v":{"$error":"#DIV/0!"}},{"$f":"F4839/(G4839*12*memoria!$B$47)","v":{"$error":"#DIV/0!"}}]
[null,null,null,null,null,null,null,{"$f":"F4844*memoria!$B$44/(G4844*12*memoria!$B$47)","v":{"$error":"#DIV/0!"}},{"$f":"F4844/(G4844*12*memoria!$B$47)","v":{"$error":"#DIV/0!"}}]
[null,null,null,null,null,null,null,{"$f":"F4850*memoria!$B$44/(G4850*12*memoria!$B$47)","v":{"$error":"#DIV/0!"}},{"$f":"F4850/(G4850*12*memoria!$B$47)","v":{"$error":"#DIV/0!"}}]
[null,null,null,null,null,null,null,{"$f":"F4855*memoria!$B$44/(G4855*12*memoria!$B$47)","v":{"$error":"#DIV/0!"}},{"$f":"F4855/(G4855*12*memoria!$B$47)","v":{"$error":"#DIV/0!"}}]
[null,null,null,null,null,null,null,{"$f":"F4861*memoria!$B$44/(G4861*12*memoria!$B$47)","v":{"$error":"#DIV/0!"}},{"$f":"F4861/(G4861*12*memoria!$B$47)","v":{"$error":"#DIV/0!"}}]
[null,null,null,null,null,null,null,{"$f":"F4866*memoria!$B$44/(G4866*12*memoria!$B$47)","v":{"$error":"#DIV/0!"}},{"$f":"F4866/(G4866*12*memoria!$B$47)","v":{"$error":"#DIV/0!"}}]
[null,null,null,null,null,null,null,{"$f":"F4868*memoria!$B$44/(G4868*12*memoria!$B$47)","v":{"$error":"#DIV/0!"}},{"$f":"F4868/(G4868*12*memoria!$B$47)","v":{"$error":"#DIV/0!"}}]
[null,null,null,null,null,null,null,{"$f":"F4873*memoria!$B$44/(G4873*12*memoria!$B$47)","v":{"$error":"#DIV/0!"}},{"$f":"F4873/(G4873*12*memoria!$B$47)","v":{"$error":"#DIV/0!"}}]
[null,null,null,null,null,null,null,{"$f":"F4878*memoria!$B$44/(G4878*12*memoria!$B$47)","v":{"$error":"#DIV/0!"}},{"$f":"F4878/(G4878*12*memoria!$B$47)","v":{"$error":"#DIV/0!"}}]
[null,null,null,null,null,null,null,{"$f":"F4884*memoria!$B$44/(G4884*12*memoria!$B$47)","v":{"$error":"#DIV/0!"}},{"$f":"F4884/(G4884*12*memoria!$B$47)","v":{"$error":"#DIV/0!"}}]
[null,null,null,null,null,null,null,{"$f":"F4889*memoria!$B$44/(G4889*12*memoria!$B$47)","v":{"$error":"#DIV/0!"}},{"$f":"F4889/(G4889*12*memoria!$B$47)","v":{"$error":"#DIV/0!"}}]
[null,null,null,null,null,null,null,{"$f":"F4894*memoria!$B$44/(G4894*12*memoria!$B$47)","v":{"$error":"#DIV/0!"}},{"$f":"F4894/(G4894*12*memoria!$B$47)","v":{"$error":"#DIV/0!"}}]
[null,null,null,null,null,null,null,{"$f":"F4900*memoria!$B$44/(G4900*12*memoria!$B$47)","v":{"$error":"#DIV/0!"}},{"$f":"F4900/(G4900*12*memoria!$B$47)","v":{"$error":"#DIV/0!"}}]
[null,null,null,null,null,null,null,{"$f":"F4905*memoria!$B$44/(G4905*12*memoria!$B$47)","v":{"$error":"#DIV/0!"}},{"$f":"F4905/(G4905*12*memoria!$B$47)","v":{"$error":"#DIV/0!"}}]
[null,null,null,null,null,null,null,{"$f":"F4910*memoria!$B$44/(G4910*12*memoria!$B$47)","v":{"$error":"#DIV/0!"}},{"$f":"F4910/(G4910*12*memoria!$B$47)","v":{"$error":"#DIV/0!"}}]
[null,null,null,null,null,null,null,{"$f":"F4915*memoria!$B$44/(G4915*12*memoria!$B$47)","v":{"$error":"#DIV/0!"}},{"$f":"F4915/(G4915*12*memoria!$B$47)","v":{"$error":"#DIV/0!"}}]
[null,null,null,null,null,null,null,{"$f":"F4922*memoria!$B$44/(G4922*12*memoria!$B$47)","v":{"$error":"#DIV/0!"}},{"$f":"F4922/(G4922*12*memoria!$B$47)","v":{"$error":"#DIV/0!"}}]
[null,null,null,null,null,null,null,{"$f":"F4928*memoria!$B$44/(G4928*12*memoria!$B$47)","v":{"$error":"#DIV/0!"}},{"$f":"F4928/(G4928*12*memoria!$B$47)","v":{"$error":"#DIV/0!"}}]
[null,null,null,null,null,null,null,{"$f":"F4933*memoria!$B$44/(G4933*12*memoria!$B$47)","v":{"$error":"#DIV/0!"}},{"$f":"F4933/(G4933*12*memoria!$B$47)","v":{"$error":"#DIV/0!"}}]
[null,null,null,null,null,null,null,{"$f":"F4938*memoria!$B$44/(G4938*12*memoria!$B$47)","v":{"$error":"#DIV/0!"}},{"$f":"F4938/(G4938*12*memoria!$B$47)","v":{"$error":"#DIV/0!"}}]
[null,null,null,null,null,null,null,{"$f":"F4939*memoria!$B$44/(G4939*12*memoria!$B$47)","v":{"$error":"#DIV/0!"}},{"$f":"F4939/(G4939*12*memoria!$B$47)","v":{"$error":"#DIV/0!"}}]
[null,null,null,null,null,null,null,{"$f":"F4944*memoria!$B$44/(G4944*12*memoria!$B$47)","v":{"$error":"#DIV/0!"}},{"$f":"F4944/(G4944*12*memoria!$B$47)","v":{"$error":"#DIV/0!"}}]
[null,null,null,null,null,null,null,{"$f":"F4950*memoria!$B$44/(G4950*12*memoria!$B$47)","v":{"$error":"#DIV/0!"}},{"$f":"F4950/(G4950*12*memoria!$B$47)","v":{"$error":"#DIV/0!"}}]
[null,null,null,null,null,null,null,{"$f":"F4956*memoria!$B$44/(G4956*12*memoria!$B$47)","v":{"$error":"#DIV/0!"}},{"$f":"F4956/(G4956*12*memoria!$B$47)","v":{"$error":"#DIV/0!"}}]
[null,null,null,null,null,null,null,{"$f":"F4961*memoria!$B$44/(G4961*12*memoria!$B$47)","v":{"$error":"#DIV/0!"}},{"$f":"F4961/(G4961*12*memoria!$B$47)","v":{"$error":"#DIV/0!"}}]
[null,null,null,null,null,null,null,{"$f":"F4967*memoria!$B$44/(G4967*12*memoria!$B$47)","v":{"$error":"#DIV/0!"}},{"$f":"F4967/(G4967*12*memoria!$B$47)","v":{"$error":"#DIV/0!"}}]
[null,null,null,null,null,null,null,{"$f":"F4972*memoria!$B$44/(G4972*12*memoria!$B$47)","v":{"$error":"#DIV/0!"}},{"$f":"F4972/(G4972*12*memoria!$B$47)","v":{"$error":"#DIV/0!"}}]
[null,null,null,null,null,null,null,{"$f":"F4977*memoria!$B$44/(G4977*12*memoria!$B$47)","v":{"$error":"#DIV/0!"}},{"$f":"F4977/(G4977*12*memoria!$B$47)","v":{"$error":"#DIV/0!"}}]
[null,null,null,null,null,null,null,{"$f":"F4983*memoria!$B$44/(G4983*12*memoria!$B$47)","v":{"$error":"#DIV/0!"}},{"$f":"F4983/(G4983*12*memoria!$B$47)","v":{"$error":"#DIV/0!"}}]
[null,null,null,null,null,null,null,{"$f":"F4988*memoria!$B$44/(G4988*12*memoria!$B$47)","v":{"$error":"#DIV/0!"}},{"$f":"F4988/(G4988*12*memoria!$B$47)","v":{"$error":"#DIV/0!"}}]
[null,null,null,null,null,null,null,{"$f":"F4994*memoria!$B$44/(G4994*12*memoria!$B$47)","v":{"$error":"#DIV/0!"}},{"$f":"F4994/(G4994*12*memoria!$B$47)","v":{"$error":"#DIV/0!"}}]
[null,null,null,null,null,null,null,{"$f":"F4997*memoria!$B$44/(G4997*12*memoria!$B$47)","v":{"$error":"#DIV/0!"}},{"$f":"F4997/(G4997*12*memoria!$B$47)","v":{"$error":"#DIV/0!"}}]
[null,null,null,null,null,null,null,{"$f":"F5005*memoria!$B$44/(G5005*12*memoria!$B$47)","v":{"$error":"#DIV/0!"}},{"$f":"F5005/(G5005*12*memoria!$B$47)","v":{"$error":"#DIV/0!"}}]
[null,null,null,null,null,null,null,{"$f":"F5006*memoria!$B$44/(G5006*12*memoria!$B$47)","v":{"$error":"#DIV/0!"}},{"$f":"F5006/(G5006*12*memoria!$B$47)","v":{"$error":"#DIV/0!"}}]
[null,null,null,null,null,null,null,{"$f":"F5011*memoria!$B$44/(G5011*12*memoria!$B$47)","v":{"$error":"#DIV/0!"}},{"$f":"F5011/(G5011*12*memoria!$B$47)","v":{"$error":"#DIV/0!"}}]
[null,null,null,null,null,null,null,{"$f":"F5016*memoria!$B$44/(G5016*12*memoria!$B$47)","v":{"$error":"#DIV/0!"}},{"$f":"F5016/(G5016*12*memoria!$B$47)","v":{"$error":"#DIV/0!"}}]
[null,null,null,null,null,null,null,{"$f":"F5022*memoria!$B$44/(G5022*12*memoria!$B$47)","v":{"$error":"#DIV/0!"}},{"$f":"F5022/(G5022*12*memoria!$B$47)","v":{"$error":"#DIV/0!"}}]
[null,null,null,null,null,null,null,{"$f":"F5027*memoria!$B$44/(G5027*12*memoria!$B$47)","v":{"$error":"#DIV/0!"}},{"$f":"F5027/(G5027*12*memoria!$B$47)","v":{"$error":"#DIV/0!"}}]
[null,null,null,null,null,null,null,{"$f":"F5033*memoria!$B$44/(G5033*12*memoria!$B$47)","v":{"$error":"#DIV/0!"}},{"$f":"F5033/(G5033*12*memoria!$B$47)","v":{"$error":"#DIV/0!"}}]
[null,null,null,null,null,null,null,{"$f":"F5038*memoria!$B$44/(G5038*12*memoria!$B$47)","v":{"$error":"#DIV/0!"}},{"$f":"F5038/(G5038*12*memoria!$B$47)","v":{"$error":"#DIV/0!"}}]
[null,null,null,null,null,null,null,{"$f":"F5046*memoria!$B$44/(G5046*12*memoria!$B$47)","v":{"$error":"#DIV/0!"}},{"$f":"F5046/(G5046*12*memoria!$B$47)","v":{"$error":"#DIV/0!"}}]
[null,null,null,null,null,null,null,{"$f":"F5050*memoria!$B$44/(G5050*12*memoria!$B$47)","v":{"$error":"#DIV/0!"}},{"$f":"F5050/(G5050*12*memoria!$B$47)","v":{"$error":"#DIV/0!"}}]
[null,null,null,null,null,null,null,{"$f":"F5055*memoria!$B$44/(G5055*12*memoria!$B$47)","v":{"$error":"#DIV/0!"}},{"$f":"F5055/(G5055*12*memoria!$B$47)","v":{"$error":"#DIV/0!"}}]
[null,null,null,null,null,null,null,{"$f":"F5061*memoria!$B$44/(G5061*12*memoria!$B$47)","v":{"$error":"#DIV/0!"}},{"$f":"F5061/(G5061*12*memoria!$B$47)","v":{"$error":"#DIV/0!"}}]
[null,null,null,null,null,null,null,{"$f":"F5066*memoria!$B$44/(G5066*12*memoria!$B$47)","v":{"$error":"#DIV/0!"}},{"$f":"F5066/(G5066*12*memoria!$B$47)","v":{"$error":"#DIV/0!"}}]
[null,null,null,null,null,null,null,{"$f":"F5071*memoria!$B$44/(G5071*12*memoria!$B$47)","v":{"$error":"#DIV/0!"}},{"$f":"F5071/(G5071*12*memoria!$B$47)","v":{"$error":"#DIV/0!"}}]
[null,null,null,null,null,null,null,{"$f":"F5072*memoria!$B$44/(G5072*12*memoria!$B$47)","v":{"$error":"#DIV/0!"}},{"$f":"F5072/(G5072*12*memoria!$B$47)","v":{"$error":"#DIV/0!"}}]
[null,null,null,null,null,null,null,{"$f":"F5077*memoria!$B$44/(G5077*12*memoria!$B$47)","v":{"$error":"#DIV/0!"}},{"$f":"F5077/(G5077*12*memoria!$B$47)","v":{"$error":"#DIV/0!"}}]
[null,null,null,null,null,null,null,{"$f":"F5087*memoria!$B$44/(G5087*12*memoria!$B$47)","v":{"$error":"#DIV/0!"}},{"$f":"F5087/(G5087*12*memoria!$B$47)","v":{"$error":"#DIV/0!"}}]
[null,null,null,null,null,null,null,{"$f":"F5089*memoria!$B$44/(G5089*12*memoria!$B$47)","v":{"$error":"#DIV/0!"}},{"$f":"F5089/(G5089*12*memoria!$B$47)","v":{"$error":"#DIV/0!"}}]
[null,null,null,null,null,null,null,{"$f":"F5094*memoria!$B$44/(G5094*12*memoria!$B$47)","v":{"$error":"#DIV/0!"}},{"$f":"F5094/(G5094*12*memoria!$B$47)","v":{"$error":"#DIV/0!"}}]
[null,null,null,null,null,null,null,{"$f":"F5100*memoria!$B$44/(G5100*12*memoria!$B$47)","v":{"$error":"#DIV/0!"}},{"$f":"F5100/(G5100*12*memoria!$B$47)","v":{"$error":"#DIV/0!"}}]
[null,null,null,null,null,null,null,{"$f":"F5105*memoria!$B$44/(G5105*12*memoria!$B$47)","v":{"$error":"#DIV/0!"}},{"$f":"F5105/(G5105*12*memoria!$B$47)","v":{"$error":"#DIV/0!"}}]
[null,null,null,null,null,null,null,{"$f":"F5110*memoria!$B$44/(G5110*12*memoria!$B$47)","v":{"$error":"#DIV/0!"}},{"$f":"F5110/(G5110*12*memoria!$B$47)","v":{"$error":"#DIV/0!"}}]
[null,null,null,null,null,null,null,{"$f":"F5116*memoria!$B$44/(G5116*12*memoria!$B$47)","v":{"$error":"#DIV/0!"}},{"$f":"F5116/(G5116*12*memoria!$B$47)","v":{"$error":"#DIV/0!"}}]
[null,null,null,null,null,null,null,{"$f":"F5121*memoria!$B$44/(G5121*12*memoria!$B$47)","v":{"$error":"#DIV/0!"}},{"$f":"F5121/(G5121*12*memoria!$B$47)","v":{"$error":"#DIV/0!"}}]
[null,null,null,null,null,null,null,{"$f":"F5128*memoria!$B$44/(G5128*12*memoria!$B$47)","v":{"$error":"#DIV/0!"}},{"$f":"F5128/(G5128*12*memoria!$B$47)","v":{"$error":"#DIV/0!"}}]
[null,null,null,null,null,null,null,{"$f":"F5133*memoria!$B$44/(G5133*12*memoria!$B$47)","v":{"$error":"#DIV/0!"}},{"$f":"F5133/(G5133*12*memoria!$B$47)","v":{"$error":"#DIV/0!"}}]
[null,null,null,null,null,null,null,{"$f":"F5138*memoria!$B$44/(G5138*12*memoria!$B$47)","v":{"$error":"#DIV/0!"}},{"$f":"F5138/(G5138*12*memoria!$B$47)","v":{"$error":"#DIV/0!"}}]
[null,null,null,null,null,null,null,{"$f":"F5139*memoria!$B$44/(G5139*12*memoria!$B$47)","v":{"$error":"#DIV/0!"}},{"$f":"F5139/(G5139*12*memoria!$B$47)","v":{"$error":"#DIV/0!"}}]
[null,null,null,null,null,null,null,{"$f":"F5144*memoria!$B$44/(G5144*12*memoria!$B$47)","v":{"$error":"#DIV/0!"}},{"$f":"F5144/(G5144*12*memoria!$B$47)","v":{"$error":"#DIV/0!"}}]
[null,null,null,null,null,null,null,{"$f":"F5149*memoria!$B$44/(G5149*12*memoria!$B$47)","v":{"$error":"#DIV/0!"}},{"$f":"F5149/(G5149*12*memoria!$B$47)","v":{"$error":"#DIV/0!"}}]
[null,null,null,null,null,null,null,{"$f":"F5155*memoria!$B$44/(G5155*12*memoria!$B$47)","v":{"$error":"#DIV/0!"}},{"$f":"F5155/(G5155*12*memoria!$B$47)","v":{"$error":"#DIV/0!"}}]
[null,null,null,null,null,null,null,{"$f":"F5160*memoria!$B$44/(G5160*12*memoria!$B$47)","v":{"$error":"#DIV/0!"}},{"$f":"F5160/(G5160*12*memoria!$B$47)","v":{"$error":"#DIV/0!"}}]
[null,null,null,null,null,null,null,{"$f":"F5166*memoria!$B$44/(G5166*12*memoria!$B$47)","v":{"$error":"#DIV/0!"}},{"$f":"F5166/(G5166*12*memoria!$B$47)","v":{"$error":"#DIV/0!"}}]
[null,null,null,null,null,null,null,{"$f":"F5169*memoria!$B$44/(G5169*12*memoria!$B$47)","v":{"$error":"#DIV/0!"}},{"$f":"F5169/(G5169*12*memoria!$B$47)","v":{"$error":"#DIV/0!"}}]
[null,null,null,null,null,null,null,{"$f":"F5177*memoria!$B$44/(G5177*12*memoria!$B$47)","v":{"$error":"#DIV/0!"}},{"$f":"F5177/(G5177*12*memoria!$B$47)","v":{"$error":"#DIV/0!"}}]
[null,null,null,null,null,null,null,{"$f":"F5183*memoria!$B$44/(G5183*12*memoria!$B$47)","v":{"$error":"#DIV/0!"}},{"$f":"F5183/(G5183*12*memoria!$B$47)","v":{"$error":"#DIV/0!"}}]
[null,null,null,null,null,null,null,{"$f":"F5188*memoria!$B$44/(G5188*12*memoria!$B$47)","v":{"$error":"#DIV/0!"}},{"$f":"F5188/(G5188*12*memoria!$B$47)","v":{"$error":"#DIV/0!"}}]
[null,null,null,null,null,null,null,{"$f":"F5193*memoria!$B$44/(G5193*12*memoria!$B$47)","v":{"$error":"#DIV/0!"}},{"$f":"F5193/(G5193*12*memoria!$B$47)","v":{"$error":"#DIV/0!"}}]
[null,null,null,null,null,null,null,{"$f":"F5199*memoria!$B$44/(G5199*12*memoria!$B$47)","v":{"$error":"#DIV/0!"}},{"$f":"F5199/(G5199*12*memoria!$B$47)","v":{"$error":"#DIV/0!"}}]
[null,null,null,null,null,null,null,{"$f":"F5204*memoria!$B$44/(G5204*12*memoria!$B$47)","v":{"$error":"#DIV/0!"}},{"$f":"F5204/(G5204*12*memoria!$B$47)","v":{"$error":"#DIV/0!"}}]
[null,null,null,null,null,null,null,{"$f":"F5205*memoria!$B$44/(G5205*12*memoria!$B$47)","v":{"$error":"#DIV/0!"}},{"$f":"F5205/(G5205*12*memoria!$B$47)","v":{"$error":"#DIV/0!"}}]
[null,null,null,null,null,null,null,{"$f":"F5210*memoria!$B$44/(G5210*12*memoria!$B$47)","v":{"$error":"#DIV/0!"}},{"$f":"F5210/(G5210*12*memoria!$B$47)","v":{"$error":"#DIV/0!"}}]
[null,null,null,null,null,null,null,{"$f":"F5216*memoria!$B$44/(G5216*12*memoria!$B$47)","v":{"$error":"#DIV/0!"}},{"$f":"F5216/(G5216*12*memoria!$B$47)","v":{"$error":"#DIV/0!"}}]
[null,null,null,null,null,null,null,{"$f":"F5222*memoria!$B$44/(G5222*12*memoria!$B$47)","v":{"$error":"#DIV/0!"}},{"$f":"F5222/(G5222*12*memoria!$B$47)","v":{"$error":"#DIV/0!"}}]
[null,null,null,null,null,null,null,{"$f":"F5227*memoria!$B$44/(G5227*12*memoria!$B$47)","v":{"$error":"#DIV/0!"}},{"$f":"F5227/(G5227*12*memoria!$B$47)","v":{"$error":"#DIV/0!"}}]
[null,null,null,null,null,null,null,{"$f":"F5233*memoria!$B$44/(G5233*12*memoria!$B$47)","v":{"$error":"#DIV/0!"}},{"$f":"F5233/(G5233*12*memoria!$B$47)","v":{"$error":"#DIV/0!"}}]
[null,null,null,null,null,null,null,{"$f":"F5238*memoria!$B$44/(G5238*12*memoria!$B$47)","v":{"$error":"#DIV/0!"}},{"$f":"F5238/(G5238*12*memoria!$B$47)","v":{"$error":"#DIV/0!"}}]
[null,null,null,null,null,null,null,{"$f":"F5243*memoria!$B$44/(G5243*12*memoria!$B$47)","v":{"$error":"#DIV/0!"}},{"$f":"F5243/(G5243*12*memoria!$B$47)","v":{"$error":"#DIV/0!"}}]
[null,null,null,null,null,null,null,{"$f":"F5249*memoria!$B$44/(G5249*12*memoria!$B$47)","v":{"$error":"#DIV/0!"}},{"$f":"F5249/(G5249*12*memoria!$B$47)","v":{"$error":"#DIV/0!"}}]
[null,null,null,null,null,null,null,{"$f":"F5251*memoria!$B$44/(G5251*12*memoria!$B$47)","v":{"$error":"#DIV/0!"}},{"$f":"F5251/(G5251*12*memoria!$B$47)","v":{"$error":"#DIV/0!"}}]
[null,null,null,null,null,null,null,{"$f":"F5260*memoria!$B$44/(G5260*12*memoria!$B$47)","v":{"$error":"#DIV/0!"}},{"$f":"F5260/(G5260*12*memoria!$B$47)","v":{"$error":"#DIV/0!"}}]
[null,null,null,null,null,null,null,{"$f":"F5266*memoria!$B$44/(G5266*12*memoria!$B$47)","v":{"$error":"#DIV/0!"}},{"$f":"F5266/(G5266*12*memoria!$B$47)","v":{"$error":"#DIV/0!"}}]
[null,null,null,null,null,null,null,{"$f":"F5271*memoria!$B$44/(G5271*12*memoria!$B$47)","v":{"$error":"#DIV/0!"}},{"$f":"F5271/(G5271*12*memoria!$B$47)","v":{"$error":"#DIV/0!"}}]
[null,null,null,null,null,null,null,{"$f":"F5272*memoria!$B$44/(G5272*12*memoria!$B$47)","v":{"$error":"#DIV/0!"}},{"$f":"F5272/(G5272*12*memoria!$B$47)","v":{"$error":"#DIV/0!"}}]
[null,null,null,null,null,null,null,{"$f":"F5277*memoria!$B$44/(G5277*12*memoria!$B$47)","v":{"$error":"#DIV/0!"}},{"$f":"F5277/(G5277*12*memoria!$B$47)","v":{"$error":"#DIV/0!"}}]
[null,null,null,null,null,null,null,{"$f":"F5282*memoria!$B$44/(G5282*12*memoria!$B$47)","v":{"$error":"#DIV/0!"}},{"$f":"F5282/(G5282*12*memoria!$B$47)","v":{"$error":"#DIV/0!"}}]
[null,null,null,null,null,null,null,{"$f":"F5288*memoria!$B$44/(G5288*12*memoria!$B$47)","v":{"$error":"#DIV/0!"}},{"$f":"F5288/(G5288*12*memoria!$B$47)","v":{"$error":"#DIV/0!"}}]
[null,null,null,null,null,null,null,{"$f":"F5293*memoria!$B$44/(G5293*12*memoria!$B$47)","v":{"$error":"#DIV/0!"}},{"$f":"F5293/(G5293*12*memoria!$B$47)","v":{"$error":"#DIV/0!"}}]
[null,null,null,null,null,null,null,{"$f":"F5300*memoria!$B$44/(G5300*12*memoria!$B$47)","v":{"$error":"#DIV/0!"}},{"$f":"F5300/(G5300*12*memoria!$B$47)","v":{"$error":"#DIV/0!"}}]
[null,null,null,null,null,null,null,{"$f":"F5305*memoria!$B$44/(G5305*12*memoria!$B$47)","v":{"$error":"#DIV/0!"}},{"$f":"F5305/(G5305*12*memoria!$B$47)","v":{"$error":"#DIV/0!"}}]
[null,null,null,null,null,null,null,{"$f":"F5310*memoria!$B$44/(G5310*12*memoria!$B$47)","v":{"$error":"#DIV/0!"}},{"$f":"F5310/(G5310*12*memoria!$B$47)","v":{"$error":"#DIV/0!"}}]
[null,null,null,null,null,null,null,{"$f":"F5316*memoria!$B$44/(G5316*12*memoria!$B$47)","v":{"$error":"#DIV/0!"}},{"$f":"F5316/(G5316*12*memoria!$B$47)","v":{"$error":"#DIV/0!"}}]
[null,null,null,null,null,null,null,{"$f":"F5321*memoria!$B$44/(G5321*12*memoria!$B$47)","v":{"$error":"#DIV/0!"}},{"$f":"F5321/(G5321*12*memoria!$B$47)","v":{"$error":"#DIV/0!"}}]
[null,null,null,null,null,null,null,{"$f":"F5326*memoria!$B$44/(G5326*12*memoria!$B$47)","v":{"$error":"#DIV/0!"}},{"$f":"F5326/(G5326*12*memoria!$B$47)","v":{"$error":"#DIV/0!"}}]
[null,null,null,null,null,null,null,{"$f":"F5332*memoria!$B$44/(G5332*12*memoria!$B$47)","v":{"$error":"#DIV/0!"}},{"$f":"F5332/(G5332*12*memoria!$B$47)","v":{"$error":"#DIV/0!"}}]
[null,null,null,null,null,null,null,{"$f":"F5337*memoria!$B$44/(G5337*12*memoria!$B$47)","v":{"$error":"#DIV/0!"}},{"$f":"F5337/(G5337*12*memoria!$B$47)","v":{"$error":"#DIV/0!"}}]
[null,null,null,null,null,null,null,{"$f":"F5339*memoria!$B$44/(G5339*12*memoria!$B$47)","v":{"$error":"#DIV/0!"}},{"$f":"F5339/(G5339*12*memoria!$B$47)","v":{"$error":"#DIV/0!"}}]
[null,null,null,null,null,null,null,{"$f":"F5344*memoria!$B$44/(G5344*12*memoria!$B$47)","v":{"$error":"#DIV/0!"}},{"$f":"F5344/(G5344*12*memoria!$B$47)","v":{"$error":"#DIV/0!"}}]
[null,null,null,null,null,null,null,{"$f":"F5349*memoria!$B$44/(G5349*12*memoria!$B$47)","v":{"$error":"#DIV/0!"}},{"$f":"F5349/(G5349*12*memoria!$B$47)","v":{"$error":"#DIV/0!"}}]
[null,null,null,null,null,null,null,{"$f":"F5355*memoria!$B$44/(G5355*12*memoria!$B$47)","v":{"$error":"#DIV/0!"}},{"$f":"F5355/(G5355*12*memoria!$B$47)","v":{"$error":"#DIV/0!"}}]
[null,null,null,null,null,null,null,{"$f":"F5360*memoria!$B$44/(G5360*12*memoria!$B$47)","v":{"$error":"#DIV/0!"}},{"$f":"F5360/(G5360*12*memoria!$B$47)","v":{"$error":"#DIV/0!"}}]
[null,null,null,null,null,null,null,{"$f":"F5365*memoria!$B$44/(G5365*12*memoria!$B$47)","v":{"$error":"#DIV/0!"}},{"$f":"F5365/(G5365*12*memoria!$B$47)","v":{"$error":"#DIV/0!"}}]
[null,null,null,null,null,null,null,{"$f":"F5371*memoria!$B$44/(G5371*12*memoria!$B$47)","v":{"$error":"#DIV/0!"}},{"$f":"F5371/(G5371*12*memoria!$B$47)","v":{"$error":"#DIV/0!"}}]
[null,null,null,null,null,null,null,{"$f":"F5376*memoria!$B$44/(G5376*12*memoria!$B$47)","v":{"$error":"#DIV/0!"}},{"$f":"F5376/(G5376*12*memoria!$B$47)","v":{"$error":"#DIV/0!"}}]
[null,null,null,null,null,null,null,{"$f":"F5382*memoria!$B$44/(G5382*12*memoria!$B$47)","v":{"$error":"#DIV/0!"}},{"$f":"F5382/(G5382*12*memoria!$B$47)","v":{"$error":"#DIV/0!"}}]
[null,null,null,null,null,null,null,{"$f":"F5388*memoria!$B$44/(G5388*12*memoria!$B$47)","v":{"$error":"#DIV/0!"}},{"$f":"F5388/(G5388*12*memoria!$B$47)","v":{"$error":"#DIV/0!"}}]
[null,null,null,null,null,null,null,{"$f":"F5393*memoria!$B$44/(G5393*12*memoria!$B$47)","v":{"$error":"#DIV/0!"}},{"$f":"F5393/(G5393*12*memoria!$B$47)","v":{"$error":"#DIV/0!"}}]
[null,null,null,null,null,null,null,{"$f":"F5399*memoria!$B$44/(G5399*12*memoria!$B$47)","v":{"$error":"#DIV/0!"}},{"$f":"F5399/(G5399*12*memoria!$B$47)","v":{"$error":"#DIV/0!"}}]
[null,null,null,null,null,null,null,{"$f":"F5404*memoria!$B$44/(G5404*12*memoria!$B$47)","v":{"$error":"#DIV/0!"}},{"$f":"F5404/(G5404*12*memoria!$B$47)","v":{"$error":"#DIV/0!"}}]
[null,null,null,null,null,null,null,{"$f":"F5405*memoria!$B$44/(G5405*12*memoria!$B$47)","v":{"$error":"#DIV/0!"}},{"$f":"F5405/(G5405*12*memoria!$B$47)","v":{"$error":"#DIV/0!"}}]
[null,null,null,null,null,null,null,{"$f":"F5410*memoria!$B$44/(G5410*12*memoria!$B$47)","v":{"$error":"#DIV/0!"}},{"$f":"F5410/(G5410*12*memoria!$B$47)","v":{"$error":"#DIV/0!"}}]
[null,null,null,null,null,null,null,{"$f":"F5415*memoria!$B$44/(G5415*12*memoria!$B$47)","v":{"$error":"#DIV/0!"}},{"$f":"F5415/(G5415*12*memoria!$B$47)","v":{"$error":"#DIV/0!"}}]
[null,null,null,null,null,null,null,{"$f":"F5421*memoria!$B$44/(G5421*12*memoria!$B$47)","v":{"$error":"#DIV/0!"}},{"$f":"F5421/(G5421*12*memoria!$B$47)","v":{"$error":"#DIV/0!"}}]
[null,null,null,null,null,null,null,{"$f":"F5429*memoria!$B$44/(G5429*12*memoria!$B$47)","v":{"$error":"#DIV/0!"}},{"$f":"F5429/(G5429*12*memoria!$B$47)","v":{"$error":"#DIV/0!"}}]
[null,null,null,null,null,null,null,{"$f":"F5432*memoria!$B$44/(G5432*12*memoria!$B$47)","v":{"$error":"#DIV/0!"}},{"$f":"F5432/(G5432*12*memoria!$B$47)","v":{"$error":"#DIV/0!"}}]
[null,null,null,null,null,null,null,{"$f":"F5438*memoria!$B$44/(G5438*12*memoria!$B$47)","v":{"$error":"#DIV/0!"}},{"$f":"F5438/(G5438*12*memoria!$B$47)","v":{"$error":"#DIV/0!"}}]
[null,null,null,null,null,null,null,{"$f":"F5443*memoria!$B$44/(G5443*12*memoria!$B$47)","v":{"$error":"#DIV/0!"}},{"$f":"F5443/(G5443*12*memoria!$B$47)","v":{"$error":"#DIV/0!"}}]
[null,null,null,null,null,null,null,{"$f":"F5449*memoria!$B$44/(G5449*12*memoria!$B$47)","v":{"$error":"#DIV/0!"}},{"$f":"F5449/(G5449*12*memoria!$B$47)","v":{"$error":"#DIV/0!"}}]
[null,null,null,null,null,null,null,{"$f":"F5454*memoria!$B$44/(G5454*12*memoria!$B$47)","v":{"$error":"#DIV/0!"}},{"$f":"F5454/(G5454*12*memoria!$B$47)","v":{"$error":"#DIV/0!"}}]
[null,null,null,null,null,null,null,{"$f":"F5459*memoria!$B$44/(G5459*12*memoria!$B$47)","v":{"$error":"#DIV/0!"}},{"$f":"F5459/(G5459*12*memoria!$B$47)","v":{"$error":"#DIV/0!"}}]
[null,null,null,null,null,null,null,{"$f":"F5465*memoria!$B$44/(G5465*12*memoria!$B$47)","v":{"$error":"#DIV/0!"}},{"$f":"F5465/(G5465*12*memoria!$B$47)","v":{"$error":"#DIV/0!"}}]
[null,null,null,null,null,null,null,{"$f":"F5470*memoria!$B$44/(G5470*12*memoria!$B$47)","v":{"$error":"#DIV/0!"}},{"$f":"F5470/(G5470*12*memoria!$B$47)","v":{"$error":"#DIV/0!"}}]
[null,null,null,null,null,null,null,{"$f":"F5476*memoria!$B$44/(G5476*12*memoria!$B$47)","v":{"$error":"#DIV/0!"}},{"$f":"F5476/(G5476*12*memoria!$B$47)","v":{"$error":"#DIV/0!"}}]
[null,null,null,null,null,null,null,{"$f":"F5477*memoria!$B$44/(G5477*12*memoria!$B$47)","v":{"$error":"#DIV/0!"}},{"$f":"F5477/(G5477*12*memoria!$B$47)","v":{"$error":"#DIV/0!"}}]
[null,null,null,null,null,null,null,{"$f":"F5482*memoria!$B$44/(G5482*12*memoria!$B$47)","v":{"$error":"#DIV/0!"}},{"$f":"F5482/(G5482*12*memoria!$B$47)","v":{"$error":"#DIV/0!"}}]
[null,null,null,null,null,null,null,{"$f":"F5488*memoria!$B$44/(G5488*12*memoria!$B$47)","v":{"$error":"#DIV/0!"}},{"$f":"F5488/(G5488*12*memoria!$B$47)","v":{"$error":"#DIV/0!"}}]
[null,null,null,null,null,null,null,{"$f":"F5493*memoria!$B$44/(G5493*12*memoria!$B$47)","v":{"$error":"#DIV/0!"}},{"$f":"F5493/(G5493*12*memoria!$B$47)","v":{"$error":"#DIV/0!"}}]
[null,null,null,null,null,null,null,{"$f":"F5498*memoria!$B$44/(G5498*12*memoria!$B$47)","v":{"$error":"#DIV/0!"}},{"$f":"F5498/(G5498*12*memoria!$B$47)","v":{"$error":"#DIV/0!"}}]
[null,null,null,null,null,null,null,{"$f":"F5504*memoria!$B$44/(G5504*12*memoria!$B$47)","v":{"$error":"#DIV/0!"}},{"$f":"F5504/(G5504*12*memoria!$B$47)","v":{"$error":"#DIV/0!"}}]
[null,null,null,null,null,null,null,{"$f":"F5509*memoria!$B$44/(G5509*12*memoria!$B$47)","v":{"$error":"#DIV/0!"}},{"$f":"F5509/(G5509*12*memoria!$B$47)","v":{"$error":"#DIV/0!"}}]
[null,null,null,null,null,null,null,{"$f":"F5517*memoria!$B$44/(G5517*12*memoria!$B$47)","v":{"$error":"#DIV/0!"}},{"$f":"F5517/(G5517*12*memoria!$B$47)","v":{"$error":"#DIV/0!"}}]
[null,null,null,null,null,null,null,{"$f":"F5521*memoria!$B$44/(G5521*12*memoria!$B$47)","v":{"$error":"#DIV/0!"}},{"$f":"F5521/(G5521*12*memoria!$B$47)","v":{"$error":"#DIV/0!"}}]
[null,null,null,null,null,null,null,{"$f":"F5526*memoria!$B$44/(G5526*12*memoria!$B$47)","v":{"$error":"#DIV/0!"}},{"$f":"F5526/(G5526*12*memoria!$B$47)","v":{"$error":"#DIV/0!"}}]
[null,null,null,null,null,null,null,{"$f":"F5532*memoria!$B$44/(G5532*12*memoria!$B$47)","v":{"$error":"#DIV/0!"}},{"$f":"F5532/(G5532*12*memoria!$B$47)","v":{"$error":"#DIV/0!"}}]
[null,null,null,null,null,null,null,{"$f":"F5537*memoria!$B$44/(G5537*12*memoria!$B$47)","v":{"$error":"#DIV/0!"}},{"$f":"F5537/(G5537*12*memoria!$B$47)","v":{"$error":"#DIV/0!"}}]
[null,null,null,null,null,null,null,{"$f":"F5542*memoria!$B$44/(G5542*12*memoria!$B$47)","v":{"$error":"#DIV/0!"}},{"$f":"F5542/(G5542*12*memoria!$B$47)","v":{"$error":"#DIV/0!"}}]
[null,null,null,null,null,null,null,{"$f":"F5543*memoria!$B$44/(G5543*12*memoria!$B$47)","v":{"$error":"#DIV/0!"}},{"$f":"F5543/(G5543*12*memoria!$B$47)","v":{"$error":"#DIV/0!"}}]
[null,null,null,null,null,null,null,{"$f":"F5548*memoria!$B$44/(G5548*12*memoria!$B$47)","v":{"$error":"#DIV/0!"}},{"$f":"F5548/(G5548*12*memoria!$B$47)","v":{"$error":"#DIV/0!"}}]
[null,null,null,null,null,null,null,{"$f":"F5558*memoria!$B$44/(G5558*12*memoria!$B$47)","v":{"$error":"#DIV/0!"}},{"$f":"F5558/(G5558*12*memoria!$B$47)","v":{"$error":"#DIV/0!"}}]
[null,null,null,null,null,null,null,{"$f":"F5560*memoria!$B$44/(G5560*12*memoria!$B$47)","v":{"$error":"#DIV/0!"}},{"$f":"F5560/(G5560*12*memoria!$B$47)","v":{"$error":"#DIV/0!"}}]
[null,null,null,null,null,null,null,{"$f":"F5565*memoria!$B$44/(G5565*12*memoria!$B$47)","v":{"$error":"#DIV/0!"}},{"$f":"F5565/(G5565*12*memoria!$B$47)","v":{"$error":"#DIV/0!"}}]
[null,null,null,null,null,null,null,{"$f":"F5571*memoria!$B$44/(G5571*12*memoria!$B$47)","v":{"$error":"#DIV/0!"}},{"$f":"F5571/(G5571*12*memoria!$B$47)","v":{"$error":"#DIV/0!"}}]
[null,null,null,null,null,null,null,{"$f":"F5576*memoria!$B$44/(G5576*12*memoria!$B$47)","v":{"$error":"#DIV/0!"}},{"$f":"F5576/(G5576*12*memoria!$B$47)","v":{"$error":"#DIV/0!"}}]
[null,null,null,null,null,null,null,{"$f":"F5581*memoria!$B$44/(G5581*12*memoria!$B$47)","v":{"$error":"#DIV/0!"}},{"$f":"F5581/(G5581*12*memoria!$B$47)","v":{"$error":"#DIV/0!"}}]
[null,null,null,null,null,null,null,{"$f":"F5587*memoria!$B$44/(G5587*12*memoria!$B$47)","v":{"$error":"#DIV/0!"}},{"$f":"F5587/(G5587*12*memoria!$B$47)","v":{"$error":"#DIV/0!"}}]
[null,null,null,null,null,null,null,{"$f":"F5592*memoria!$B$44/(G5592*12*memoria!$B$47)","v":{"$error":"#DIV/0!"}},{"$f":"F5592/(G5592*12*memoria!$B$47)","v":{"$error":"#DIV/0!"}}]
[null,null,null,null,null,null,null,{"$f":"F5599*memoria!$B$44/(G5599*12*memoria!$B$47)","v":{"$error":"#DIV/0!"}},{"$f":"F5599/(G5599*12*memoria!$B$47)","v":{"$error":"#DIV/0!"}}]
[null,null,null,null,null,null,null,{"$f":"F5604*memoria!$B$44/(G5604*12*memoria!$B$47)","v":{"$error":"#DIV/0!"}},{"$f":"F5604/(G5604*12*memoria!$B$47)","v":{"$error":"#DIV/0!"}}]
[null,null,null,null,null,null,null,{"$f":"F5609*memoria!$B$44/(G5609*12*memoria!$B$47)","v":{"$error":"#DIV/0!"}},{"$f":"F5609/(G5609*12*memoria!$B$47)","v":{"$error":"#DIV/0!"}}]
[null,null,null,null,null,null,null,{"$f":"F5610*memoria!$B$44/(G5610*12*memoria!$B$47)","v":{"$error":"#DIV/0!"}},{"$f":"F5610/(G5610*12*memoria!$B$47)","v":{"$error":"#DIV/0!"}}]
[null,null,null,null,null,null,null,{"$f":"F5615*memoria!$B$44/(G5615*12*memoria!$B$47)","v":{"$error":"#DIV/0!"}},{"$f":"F5615/(G5615*12*memoria!$B$47)","v":{"$error":"#DIV/0!"}}]
[null,null,null,null,null,null,null,{"$f":"F5621*memoria!$B$44/(G5621*12*memoria!$B$47)","v":{"$error":"#DIV/0!"}},{"$f":"F5621/(G5621*12*memoria!$B$47)","v":{"$error":"#DIV/0!"}}]
[null,null,null,null,null,null,null,{"$f":"F5626*memoria!$B$44/(G5626*12*memoria!$B$47)","v":{"$error":"#DIV/0!"}},{"$f":"F5626/(G5626*12*memoria!$B$47)","v":{"$error":"#DIV/0!"}}]
[null,null,null,null,null,null,null,{"$f":"F5631*memoria!$B$44/(G5631*12*memoria!$B$47)","v":{"$error":"#DIV/0!"}},{"$f":"F5631/(G5631*12*memoria!$B$47)","v":{"$error":"#DIV/0!"}}]
[null,null,null,null,null,null,null,{"$f":"F5637*memoria!$B$44/(G5637*12*memoria!$B$47)","v":{"$error":"#DIV/0!"}},{"$f":"F5637/(G5637*12*memoria!$B$47)","v":{"$error":"#DIV/0!"}}]
[null,null,null,null,null,null,null,{"$f":"F5642*memoria!$B$44/(G5642*12*memoria!$B$47)","v":{"$error":"#DIV/0!"}},{"$f":"F5642/(G5642*12*memoria!$B$47)","v":{"$error":"#DIV/0!"}}]
[null,null,null,null,null,null,null,{"$f":"F5648*memoria!$B$44/(G5648*12*memoria!$B$47)","v":{"$error":"#DIV/0!"}},{"$f":"F5648/(G5648*12*memoria!$B$47)","v":{"$error":"#DIV/0!"}}]
[null,null,null,null,null,null,null,{"$f":"F5654*memoria!$B$44/(G5654*12*memoria!$B$47)","v":{"$error":"#DIV/0!"}},{"$f":"F5654/(G5654*12*memoria!$B$47)","v":{"$error":"#DIV/0!"}}]
[null,null,null,null,null,null,null,{"$f":"F5659*memoria!$B$44/(G5659*12*memoria!$B$47)","v":{"$error":"#DIV/0!"}},{"$f":"F5659/(G5659*12*memoria!$B$47)","v":{"$error":"#DIV/0!"}}]
[null,null,null,null,null,null,null,{"$f":"F5665*memoria!$B$44/(G5665*12*memoria!$B$47)","v":{"$error":"#DIV/0!"}},{"$f":"F5665/(G5665*12*memoria!$B$47)","v":{"$error":"#DIV/0!"}}]
[null,null,null,null,null,null,null,{"$f":"F5670*memoria!$B$44/(G5670*12*memoria!$B$47)","v":{"$error":"#DIV/0!"}},{"$f":"F5670/(G5670*12*memoria!$B$47)","v":{"$error":"#DIV/0!"}}]
[null,null,null,null,null,null,null,{"$f":"F5675*memoria!$B$44/(G5675*12*memoria!$B$47)","v":{"$error":"#DIV/0!"}},{"$f":"F5675/(G5675*12*memoria!$B$47)","v":{"$error":"#DIV/0!"}}]
[null,null,null,null,null,null,null,{"$f":"F5676*memoria!$B$44/(G5676*12*memoria!$B$47)","v":{"$error":"#DIV/0!"}},{"$f":"F5676/(G5676*12*memoria!$B$47)","v":{"$error":"#DIV/0!"}}]
[null,null,null,null,null,null,null,{"$f":"F5683*memoria!$B$44/(G5683*12*memoria!$B$47)","v":{"$error":"#DIV/0!"}},{"$f":"F5683/(G5683*12*memoria!$B$47)","v":{"$error":"#DIV/0!"}}]
[null,null,null,null,null,null,null,{"$f":"F5688*memoria!$B$44/(G5688*12*memoria!$B$47)","v":{"$error":"#DIV/0!"}},{"$f":"F5688/(G5688*12*memoria!$B$47)","v":{"$error":"#DIV/0!"}}]
[null,null,null,null,null,null,null,{"$f":"F5693*memoria!$B$44/(G5693*12*memoria!$B$47)","v":{"$error":"#DIV/0!"}},{"$f":"F5693/(G5693*12*memoria!$B$47)","v":{"$error":"#DIV/0!"}}]
[null,null,null,null,null,null,null,{"$f":"F5698*memoria!$B$44/(G5698*12*memoria!$B$47)","v":{"$error":"#DIV/0!"}},{"$f":"F5698/(G5698*12*memoria!$B$47)","v":{"$error":"#DIV/0!"}}]
[null,null,null,null,null,null,null,{"$f":"F5704*memoria!$B$44/(G5704*12*memoria!$B$47)","v":{"$error":"#DIV/0!"}},{"$f":"F5704/(G5704*12*memoria!$B$47)","v":{"$error":"#DIV/0!"}}]
[null,null,null,null,null,null,null,{"$f":"F5709*memoria!$B$44/(G5709*12*memoria!$B$47)","v":{"$error":"#DIV/0!"}},{"$f":"F5709/(G5709*12*memoria!$B$47)","v":{"$error":"#DIV/0!"}}]
[null,null,null,null,null,null,null,{"$f":"F5714*memoria!$B$44/(G5714*12*memoria!$B$47)","v":{"$error":"#DIV/0!"}},{"$f":"F5714/(G5714*12*memoria!$B$47)","v":{"$error":"#DIV/0!"}}]
[null,null,null,null,null,null,null,{"$f":"F5720*memoria!$B$44/(G5720*12*memoria!$B$47)","v":{"$error":"#DIV/0!"}},{"$f":"F5720/(G5720*12*memoria!$B$47)","v":{"$error":"#DIV/0!"}}]
[null,null,null,null,null,null,null,{"$f":"F5725*memoria!$B$44/(G5725*12*memoria!$B$47)","v":{"$error":"#DIV/0!"}},{"$f":"F5725/(G5725*12*memoria!$B$47)","v":{"$error":"#DIV/0!"}}]
[null,null,null,null,null,null,null,{"$f":"F5730*memoria!$B$44/(G5730*12*memoria!$B$47)","v":{"$error":"#DIV/0!"}},{"$f":"F5730/(G5730*12*memoria!$B$47)","v":{"$error":"#DIV/0!"}}]
[null,null,null,null,null,null,null,{"$f":"F5737*memoria!$B$44/(G5737*12*memoria!$B$47)","v":{"$error":"#DIV/0!"}},{"$f":"F5737/(G5737*12*memoria!$B$47)","v":{"$error":"#DIV/0!"}}]
[null,null,null,null,null,null,null,{"$f":"F5742*memoria!$B$44/(G5742*12*memoria!$B$47)","v":{"$error":"#DIV/0!"}},{"$f":"F5742/(G5742*12*memoria!$B$47)","v":{"$error":"#DIV/0!"}}]
[null,null,null,null,null,null,null,{"$f":"F5743*memoria!$B$44/(G5743*12*memoria!$B$47)","v":{"$error":"#DIV/0!"}},{"$f":"F5743/(G5743*12*memoria!$B$47)","v":{"$error":"#DIV/0!"}}]
[null,null,null,null,null,null,null,{"$f":"F5748*memoria!$B$44/(G5748*12*memoria!$B$47)","v":{"$error":"#DIV/0!"}},{"$f":"F5748/(G5748*12*memoria!$B$47)","v":{"$error":"#DIV/0!"}}]
[null,null,null,null,null,null,null,{"$f":"F5753*memoria!$B$44/(G5753*12*memoria!$B$47)","v":{"$error":"#DIV/0!"}},{"$f":"F5753/(G5753*12*memoria!$B$47)","v":{"$error":"#DIV/0!"}}]
[null,null,null,null,null,null,null,{"$f":"F5759*memoria!$B$44/(G5759*12*memoria!$B$47)","v":{"$error":"#DIV/0!"}},{"$f":"F5759/(G5759*12*memoria!$B$47)","v":{"$error":"#DIV/0!"}}]
[null,null,null,null,null,null,null,{"$f":"F5764*memoria!$B$44/(G5764*12*memoria!$B$47)","v":{"$error":"#DIV/0!"}},{"$f":"F5764/(G5764*12*memoria!$B$47)","v":{"$error":"#DIV/0!"}}]
[null,null,null,null,null,null,null,{"$f":"F5771*memoria!$B$44/(G5771*12*memoria!$B$47)","v":{"$error":"#DIV/0!"}},{"$f":"F5771/(G5771*12*memoria!$B$47)","v":{"$error":"#DIV/0!"}}]
[null,null,null,null,null,null,null,{"$f":"F5776*memoria!$B$44/(G5776*12*memoria!$B$47)","v":{"$error":"#DIV/0!"}},{"$f":"F5776/(G5776*12*memoria!$B$47)","v":{"$error":"#DIV/0!"}}]
[null,null,null,null,null,null,null,{"$f":"F5781*memoria!$B$44/(G5781*12*memoria!$B$47)","v":{"$error":"#DIV/0!"}},{"$f":"F5781/(G5781*12*memoria!$B$47)","v":{"$error":"#DIV/0!"}}]
[null,null,null,null,null,null,null,{"$f":"F5787*memoria!$B$44/(G5787*12*memoria!$B$47)","v":{"$error":"#DIV/0!"}},{"$f":"F5787/(G5787*12*memoria!$B$47)","v":{"$error":"#DIV/0!"}}]
[null,null,null,null,null,null,null,{"$f":"F5792*memoria!$B$44/(G5792*12*memoria!$B$47)","v":{"$error":"#DIV/0!"}},{"$f":"F5792/(G5792*12*memoria!$B$47)","v":{"$error":"#DIV/0!"}}]
[null,null,null,null,null,null,null,{"$f":"F5798*memoria!$B$44/(G5798*12*memoria!$B$47)","v":{"$error":"#DIV/0!"}},{"$f":"F5798/(G5798*12*memoria!$B$47)","v":{"$error":"#DIV/0!"}}]
[null,null,null,null,null,null,null,{"$f":"F5803*memoria!$B$44/(G5803*12*memoria!$B$47)","v":{"$error":"#DIV/0!"}},{"$f":"F5803/(G5803*12*memoria!$B$47)","v":{"$error":"#DIV/0!"}}]
[null,null,null,null,null,null,null,{"$f":"F5808*memoria!$B$44/(G5808*12*memoria!$B$47)","v":{"$error":"#DIV/0!"}},{"$f":"F5808/(G5808*12*memoria!$B$47)","v":{"$error":"#DIV/0!"}}]
[null,null,null,null,null,null,null,{"$f":"F5812*memoria!$B$44/(G5812*12*memoria!$B$47)","v":{"$error":"#DIV/0!"}},{"$f":"F5812/(G5812*12*memoria!$B$47)","v":{"$error":"#DIV/0!"}}]
[null,null,null,null,null,null,null,{"$f":"F5815*memoria!$B$44/(G5815*12*memoria!$B$47)","v":{"$error":"#DIV/0!"}},{"$f":"F5815/(G5815*12*memoria!$B$47)","v":{"$error":"#DIV/0!"}}]
[null,null,null,null,null,null,null,{"$f":"F5820*memoria!$B$44/(G5820*12*memoria!$B$47)","v":{"$error":"#DIV/0!"}},{"$f":"F5820/(G5820*12*memoria!$B$47)","v":{"$error":"#DIV/0!"}}]
[null,null,null,null,null,null,null,{"$f":"F5826*memoria!$B$44/(G5826*12*memoria!$B$47)","v":{"$error":"#DIV/0!"}},{"$f":"F5826/(G5826*12*memoria!$B$47)","v":{"$error":"#DIV/0!"}}]
[null,null,null,null,null,null,null,{"$f":"F5831*memoria!$B$44/(G5831*12*memoria!$B$47)","v":{"$error":"#DIV/0!"}},{"$f":"F5831/(G5831*12*memoria!$B$47)","v":{"$error":"#DIV/0!"}}]
[null,null,null,null,null,null,null,{"$f":"F5837*memoria!$B$44/(G5837*12*memoria!$B$47)","v":{"$error":"#DIV/0!"}},{"$f":"F5837/(G5837*12*memoria!$B$47)","v":{"$error":"#DIV/0!"}}]
[null,null,null,null,null,null,null,{"$f":"F5842*memoria!$B$44/(G5842*12*memoria!$B$47)","v":{"$error":"#DIV/0!"}},{"$f":"F5842/(G5842*12*memoria!$B$47)","v":{"$error":"#DIV/0!"}}]
[null,null,null,null,null,null,null,{"$f":"F5847*memoria!$B$44/(G5847*12*memoria!$B$47)","v":{"$error":"#DIV/0!"}},{"$f":"F5847/(G5847*12*memoria!$B$47)","v":{"$error":"#DIV/0!"}}]
[null,null,null,null,null,null,null,{"$f":"F5853*memoria!$B$44/(G5853*12*memoria!$B$47)","v":{"$error":"#DIV/0!"}},{"$f":"F5853/(G5853*12*memoria!$B$47)","v":{"$error":"#DIV/0!"}}]
[null,null,null,null,null,null,null,{"$f":"F5855*memoria!$B$44/(G5855*12*memoria!$B$47)","v":{"$error":"#DIV/0!"}},{"$f":"F5855/(G5855*12*memoria!$B$47)","v":{"$error":"#DIV/0!"}}]
[null,null,null,null,null,null,null,{"$f":"F5865*memoria!$B$44/(G5865*12*memoria!$B$47)","v":{"$error":"#DIV/0!"}},{"$f":"F5865/(G5865*12*memoria!$B$47)","v":{"$error":"#DIV/0!"}}]
[null,null,null,null,null,null,null,{"$f":"F5870*memoria!$B$44/(G5870*12*memoria!$B$47)","v":{"$error":"#DIV/0!"}},{"$f":"F5870/(G5870*12*memoria!$B$47)","v":{"$error":"#DIV/0!"}}]
[null,null,null,null,null,null,null,{"$f":"F5875*memoria!$B$44/(G5875*12*memoria!$B$47)","v":{"$error":"#DIV/0!"}},{"$f":"F5875/(G5875*12*memoria!$B$47)","v":{"$error":"#DIV/0!"}}]
[null,null,null,null,null,null,null,{"$f":"F5876*memoria!$B$44/(G5876*12*memoria!$B$47)","v":{"$error":"#DIV/0!"}},{"$f":"F5876/(G5876*12*memoria!$B$47)","v":{"$error":"#DIV/0!"}}]
[null,null,null,null,null,null,null,{"$f":"F5881*memoria!$B$44/(G5881*12*memoria!$B$47)","v":{"$error":"#DIV/0!"}},{"$f":"F5881/(G5881*12*memoria!$B$47)","v":{"$error":"#DIV/0!"}}]
[null,null,null,null,null,null,null,{"$f":"F5886*memoria!$B$44/(G5886*12*memoria!$B$47)","v":{"$error":"#DIV/0!"}},{"$f":"F5886/(G5886*12*memoria!$B$47)","v":{"$error":"#DIV/0!"}}]
[null,null,null,null,null,null,null,{"$f":"F5892*memoria!$B$44/(G5892*12*memoria!$B$47)","v":{"$error":"#DIV/0!"}},{"$f":"F5892/(G5892*12*memoria!$B$47)","v":{"$error":"#DIV/0!"}}]
[null,null,null,null,null,null,null,{"$f":"F5896*memoria!$B$44/(G5896*12*memoria!$B$47)","v":{"$error":"#DIV/0!"}},{"$f":"F5896/(G5896*12*memoria!$B$47)","v":{"$error":"#DIV/0!"}}]
[null,null,null,null,null,null,null,{"$f":"F5904*memoria!$B$44/(G5904*12*memoria!$B$47)","v":{"$error":"#DIV/0!"}},{"$f":"F5904/(G5904*12*memoria!$B$47)","v":{"$error":"#DIV/0!"}}]
[null,null,null,null,null,null,null,{"$f":"F5909*memoria!$B$44/(G5909*12*memoria!$B$47)","v":{"$error":"#DIV/0!"}},{"$f":"F5909/(G5909*12*memoria!$B$47)","v":{"$error":"#DIV/0!"}}]
[null,null,null,null,null,null,null,{"$f":"F5914*memoria!$B$44/(G5914*12*memoria!$B$47)","v":{"$error":"#DIV/0!"}},{"$f":"F5914/(G5914*12*memoria!$B$47)","v":{"$error":"#DIV/0!"}}]
[null,null,null,null,null,null,null,{"$f":"F5920*memoria!$B$44/(G5920*12*memoria!$B$47)","v":{"$error":"#DIV/0!"}},{"$f":"F5920/(G5920*12*memoria!$B$47)","v":{"$error":"#DIV/0!"}}]
[null,null,null,null,null,null,null,{"$f":"F5925*memoria!$B$44/(G5925*12*memoria!$B$47)","v":{"$error":"#DIV/0!"}},{"$f":"F5925/(G5925*12*memoria!$B$47)","v":{"$error":"#DIV/0!"}}]
[null,null,null,null,null,null,null,{"$f":"F5930*memoria!$B$44/(G5930*12*memoria!$B$47)","v":{"$error":"#DIV/0!"}},{"$f":"F5930/(G5930*12*memoria!$B$47)","v":{"$error":"#DIV/0!"}}]
[null,null,null,null,null,null,null,{"$f":"F5936*memoria!$B$44/(G5936*12*memoria!$B$47)","v":{"$error":"#DIV/0!"}},{"$f":"F5936/(G5936*12*memoria!$B$47)","v":{"$error":"#DIV/0!"}}]
[null,null,null,null,null,null,null,{"$f":"F5937*memoria!$B$44/(G5937*12*memoria!$B$47)","v":{"$error":"#DIV/0!"}},{"$f":"F5937/(G5937*12*memoria!$B$47)","v":{"$error":"#DIV/0!"}}]
[null,null,null,null,null,null,null,{"$f":"F5943*memoria!$B$44/(G5943*12*memoria!$B$47)","v":{"$error":"#DIV/0!"}},{"$f":"F5943/(G5943*12*memoria!$B$47)","v":{"$error":"#DIV/0!"}}]
[null,null,null,null,null,null,null,{"$f":"F5948*memoria!$B$44/(G5948*12*memoria!$B$47)","v":{"$error":"#DIV/0!"}},{"$f":"F5948/(G5948*12*memoria!$B$47)","v":{"$error":"#DIV/0!"}}]
[null,null,null,null,null,null,null,{"$f":"F5953*memoria!$B$44/(G5953*12*memoria!$B$47)","v":{"$error":"#DIV/0!"}},{"$f":"F5953/(G5953*12*memoria!$B$47)","v":{"$error":"#DIV/0!"}}]
[null,null,null,null,null,null,null,{"$f":"F5959*memoria!$B$44/(G5959*12*memoria!$B$47)","v":{"$error":"#DIV/0!"}},{"$f":"F5959/(G5959*12*memoria!$B$47)","v":{"$error":"#DIV/0!"}}]
[null,null,null,null,null,null,null,{"$f":"F5964*memoria!$B$44/(G5964*12*memoria!$B$47)","v":{"$error":"#DIV/0!"}},{"$f":"F5964/(G5964*12*memoria!$B$47)","v":{"$error":"#DIV/0!"}}]
[null,null,null,null,null,null,null,{"$f":"F5970*memoria!$B$44/(G5970*12*memoria!$B$47)","v":{"$error":"#DIV/0!"}},{"$f":"F5970/(G5970*12*memoria!$B$47)","v":{"$error":"#DIV/0!"}}]
[null,null,null,null,null,null,null,{"$f":"F5975*memoria!$B$44/(G5975*12*memoria!$B$47)","v":{"$error":"#DIV/0!"}},{"$f":"F5975/(G5975*12*memoria!$B$47)","v":{"$error":"#DIV/0!"}}]
[null,null,null,null,null,null,null,{"$f":"F5980*memoria!$B$44/(G5980*12*memoria!$B$47)","v":{"$error":"#DIV/0!"}},{"$f":"F5980/(G5980*12*memoria!$B$47)","v":{"$error":"#DIV/0!"}}]
[null,null,null,null,null,null,null,{"$f":"F5984*memoria!$B$44/(G5984*12*memoria!$B$47)","v":{"$error":"#DIV/0!"}},{"$f":"F5984/(G5984*12*memoria!$B$47)","v":{"$error":"#DIV/0!"}}]
[null,null,null,null,null,null,null,{"$f":"F5992*memoria!$B$44/(G5992*12*memoria!$B$47)","v":{"$error":"#DIV/0!"}},{"$f":"F5992/(G5992*12*memoria!$B$47)","v":{"$error":"#DIV/0!"}}]
[null,null,null,null,null,null,null,{"$f":"F5997*memoria!$B$44/(G5997*12*memoria!$B$47)","v":{"$error":"#DIV/0!"}},{"$f":"F5997/(G5997*12*memoria!$B$47)","v":{"$error":"#DIV/0!"}}]
[null,null,null,null,null,null,null,{"$f":"F6003*memoria!$B$44/(G6003*12*memoria!$B$47)","v":{"$error":"#DIV/0!"}},{"$f":"F6003/(G6003*12*memoria!$B$47)","v":{"$error":"#DIV/0!"}}]
[null,null,null,null,null,null,null,{"$f":"F6008*memoria!$B$44/(G6008*12*memoria!$B$47)","v":{"$error":"#DIV/0!"}},{"$f":"F6008/(G6008*12*memoria!$B$47)","v":{"$error":"#DIV/0!"}}]
[null,null,null,null,null,null,null,{"$f":"F6009*memoria!$B$44/(G6009*12*memoria!$B$47)","v":{"$error":"#DIV/0!"}},{"$f":"F6009/(G6009*12*memoria!$B$47)","v":{"$error":"#DIV/0!"}}]
[null,null,null,null,null,null,null,{"$f":"F6014*memoria!$B$44/(G6014*12*memoria!$B$47)","v":{"$error":"#DIV/0!"}},{"$f":"F6014/(G6014*12*memoria!$B$47)","v":{"$error":"#DIV/0!"}}]
[null,null,null,null,null,null,null,{"$f":"F6019*memoria!$B$44/(G6019*12*memoria!$B$47)","v":{"$error":"#DIV/0!"}},{"$f":"F6019/(G6019*12*memoria!$B$47)","v":{"$error":"#DIV/0!"}}]
[null,null,null,null,null,null,null,{"$f":"F6025*memoria!$B$44/(G6025*12*memoria!$B$47)","v":{"$error":"#DIV/0!"}},{"$f":"F6025/(G6025*12*memoria!$B$47)","v":{"$error":"#DIV/0!"}}]
[null,null,null,null,null,null,null,{"$f":"F6031*memoria!$B$44/(G6031*12*memoria!$B$47)","v":{"$error":"#DIV/0!"}},{"$f":"F6031/(G6031*12*memoria!$B$47)","v":{"$error":"#DIV/0!"}}]
[null,null,null,null,null,null,null,{"$f":"F6036*memoria!$B$44/(G6036*12*memoria!$B$47)","v":{"$error":"#DIV/0!"}},{"$f":"F6036/(G6036*12*memoria!$B$47)","v":{"$error":"#DIV/0!"}}]
[null,null,null,null,null,null,null,{"$f":"F6042*memoria!$B$44/(G6042*12*memoria!$B$47)","v":{"$error":"#DIV/0!"}},{"$f":"F6042/(G6042*12*memoria!$B$47)","v":{"$error":"#DIV/0!"}}]
[null,null,null,null,null,null,null,{"$f":"F6047*memoria!$B$44/(G6047*12*memoria!$B$47)","v":{"$error":"#DIV/0!"}},{"$f":"F6047/(G6047*12*memoria!$B$47)","v":{"$error":"#DIV/0!"}}]
[null,null,null,null,null,null,null,{"$f":"F6053*memoria!$B$44/(G6053*12*memoria!$B$47)","v":{"$error":"#DIV/0!"}},{"$f":"F6053/(G6053*12*memoria!$B$47)","v":{"$error":"#DIV/0!"}}]
[null,null,null,null,null,null,null,{"$f":"F6058*memoria!$B$44/(G6058*12*memoria!$B$47)","v":{"$error":"#DIV/0!"}},{"$f":"F6058/(G6058*12*memoria!$B$47)","v":{"$error":"#DIV/0!"}}]
[null,null,null,null,null,null,null,{"$f":"F6063*memoria!$B$44/(G6063*12*memoria!$B$47)","v":{"$error":"#DIV/0!"}},{"$f":"F6063/(G6063*12*memoria!$B$47)","v":{"$error":"#DIV/0!"}}]
[null,null,null,null,null,null,null,{"$f":"F6066*memoria!$B$44/(G6066*12*memoria!$B$47)","v":{"$error":"#DIV/0!"}},{"$f":"F6066/(G6066*12*memoria!$B$47)","v":{"$error":"#DIV/0!"}}]
[null,null,null,null,null,null,null,{"$f":"F6075*memoria!$B$44/(G6075*12*memoria!$B$47)","v":{"$error":"#DIV/0!"}},{"$f":"F6075/(G6075*12*memoria!$B$47)","v":{"$error":"#DIV/0!"}}]
[null,null,null,null,null,null,null,{"$f":"F6076*memoria!$B$44/(G6076*12*memoria!$B$47)","v":{"$error":"#DIV/0!"}},{"$f":"F6076/(G6076*12*memoria!$B$47)","v":{"$error":"#DIV/0!"}}]
[null,null,null,null,null,null,null,{"$f":"F6081*memoria!$B$44/(G6081*12*memoria!$B$47)","v":{"$error":"#DIV/0!"}},{"$f":"F6081/(G6081*12*memoria!$B$47)","v":{"$error":"#DIV/0!"}}]
[null,null,null,null,null,null,null,{"$f":"F6086*memoria!$B$44/(G6086*12*memoria!$B$47)","v":{"$error":"#DIV/0!"}},{"$f":"F6086/(G6086*12*memoria!$B$47)","v":{"$error":"#DIV/0!"}}]
[null,null,null,null,null,null,null,{"$f":"F6092*memoria!$B$44/(G6092*12*memoria!$B$47)","v":{"$error":"#DIV/0!"}},{"$f":"F6092/(G6092*12*memoria!$B$47)","v":{"$error":"#DIV/0!"}}]
[null,null,null,null,null,null,null,{"$f":"F6097*memoria!$B$44/(G6097*12*memoria!$B$47)","v":{"$error":"#DIV/0!"}},{"$f":"F6097/(G6097*12*memoria!$B$47)","v":{"$error":"#DIV/0!"}}]
[null,null,null,null,null,null,null,{"$f":"F6102*memoria!$B$44/(G6102*12*memoria!$B$47)","v":{"$error":"#DIV/0!"}},{"$f":"F6102/(G6102*12*memoria!$B$47)","v":{"$error":"#DIV/0!"}}]
[null,null,null,null,null,null,null,{"$f":"F6108*memoria!$B$44/(G6108*12*memoria!$B$47)","v":{"$error":"#DIV/0!"}},{"$f":"F6108/(G6108*12*memoria!$B$47)","v":{"$error":"#DIV/0!"}}]
[null,null,null,null,null,null,null,{"$f":"F6115*memoria!$B$44/(G6115*12*memoria!$B$47)","v":{"$error":"#DIV/0!"}},{"$f":"F6115/(G6115*12*memoria!$B$47)","v":{"$error":"#DIV/0!"}}]
[null,null,null,null,null,null,null,{"$f":"F6120*memoria!$B$44/(G6120*12*memoria!$B$47)","v":{"$error":"#DIV/0!"}},{"$f":"F6120/(G6120*12*memoria!$B$47)","v":{"$error":"#DIV/0!"}}]
[null,null,null,null,null,null,null,{"$f":"F6125*memoria!$B$44/(G6125*12*memoria!$B$47)","v":{"$error":"#DIV/0!"}},{"$f":"F6125/(G6125*12*memoria!$B$47)","v":{"$error":"#DIV/0!"}}]
[null,null,null,null,null,null,null,{"$f":"F6130*memoria!$B$44/(G6130*12*memoria!$B$47)","v":{"$error":"#DIV/0!"}},{"$f":"F6130/(G6130*12*memoria!$B$47)","v":{"$error":"#DIV/0!"}}]
[null,null,null,null,null,null,null,{"$f":"F6136*memoria!$B$44/(G6136*12*memoria!$B$47)","v":{"$error":"#DIV/0!"}},{"$f":"F6136/(G6136*12*memoria!$B$47)","v":{"$error":"#DIV/0!"}}]
[null,null,null,null,null,null,null,{"$f":"F6141*memoria!$B$44/(G6141*12*memoria!$B$47)","v":{"$error":"#DIV/0!"}},{"$f":"F6141/(G6141*12*memoria!$B$47)","v":{"$error":"#DIV/0!"}}]
[null,null,null,null,null,null,null,{"$f":"F6142*memoria!$B$44/(G6142*12*memoria!$B$47)","v":{"$error":"#DIV/0!"}},{"$f":"F6142/(G6142*12*memoria!$B$47)","v":{"$error":"#DIV/0!"}}]
[null,null,null,null,null,null,null,{"$f":"F6147*memoria!$B$44/(G6147*12*memoria!$B$47)","v":{"$error":"#DIV/0!"}},{"$f":"F6147/(G6147*12*memoria!$B$47)","v":{"$error":"#DIV/0!"}}]
[null,null,null,null,null,null,null,{"$f":"F6156*memoria!$B$44/(G6156*12*memoria!$B$47)","v":{"$error":"#DIV/0!"}},{"$f":"F6156/(G6156*12*memoria!$B$47)","v":{"$error":"#DIV/0!"}}]
[null,null,null,null,null,null,null,{"$f":"F6159*memoria!$B$44/(G6159*12*memoria!$B$47)","v":{"$error":"#DIV/0!"}},{"$f":"F6159/(G6159*12*memoria!$B$47)","v":{"$error":"#DIV/0!"}}]
[null,null,null,null,null,null,null,{"$f":"F6164*memoria!$B$44/(G6164*12*memoria!$B$47)","v":{"$error":"#DIV/0!"}},{"$f":"F6164/(G6164*12*memoria!$B$47)","v":{"$error":"#DIV/0!"}}]
[null,null,null,null,null,null,null,{"$f":"F6169*memoria!$B$44/(G6169*12*memoria!$B$47)","v":{"$error":"#DIV/0!"}},{"$f":"F6169/(G6169*12*memoria!$B$47)","v":{"$error":"#DIV/0!"}}]
[null,null,null,null,null,null,null,{"$f":"F6175*memoria!$B$44/(G6175*12*memoria!$B$47)","v":{"$error":"#DIV/0!"}},{"$f":"F6175/(G6175*12*memoria!$B$47)","v":{"$error":"#DIV/0!"}}]
[null,null,null,null,null,null,null,{"$f":"F6180*memoria!$B$44/(G6180*12*memoria!$B$47)","v":{"$error":"#DIV/0!"}},{"$f":"F6180/(G6180*12*memoria!$B$47)","v":{"$error":"#DIV/0!"}}]
[null,null,null,null,null,null,null,{"$f":"F6186*memoria!$B$44/(G6186*12*memoria!$B$47)","v":{"$error":"#DIV/0!"}},{"$f":"F6186/(G6186*12*memoria!$B$47)","v":{"$error":"#DIV/0!"}}]
[null,null,null,null,null,null,null,{"$f":"F6191*memoria!$B$44/(G6191*12*memoria!$B$47)","v":{"$error":"#DIV/0!"}},{"$f":"F6191/(G6191*12*memoria!$B$47)","v":{"$error":"#DIV/0!"}}]
[null,null,null,null,null,null,null,{"$f":"F6196*memoria!$B$44/(G6196*12*memoria!$B$47)","v":{"$error":"#DIV/0!"}},{"$f":"F6196/(G6196*12*memoria!$B$47)","v":{"$error":"#DIV/0!"}}]
[null,null,null,null,null,null,null,{"$f":"F6203*memoria!$B$44/(G6203*12*memoria!$B$47)","v":{"$error":"#DIV/0!"}},{"$f":"F6203/(G6203*12*memoria!$B$47)","v":{"$error":"#DIV/0!"}}]
[null,null,null,null,null,null,null,{"$f":"F6208*memoria!$B$44/(G6208*12*memoria!$B$47)","v":{"$error":"#DIV/0!"}},{"$f":"F6208/(G6208*12*memoria!$B$47)","v":{"$error":"#DIV/0!"}}]
[null,null,null,null,null,null,null,{"$f":"F6213*memoria!$B$44/(G6213*12*memoria!$B$47)","v":{"$error":"#DIV/0!"}},{"$f":"F6213/(G6213*12*memoria!$B$47)","v":{"$error":"#DIV/0!"}}]
[null,null,null,null,null,null,null,{"$f":"F6214*memoria!$B$44/(G6214*12*memoria!$B$47)","v":{"$error":"#DIV/0!"}},{"$f":"F6214/(G6214*12*memoria!$B$47)","v":{"$error":"#DIV/0!"}}]
[null,null,null,null,null,null,null,{"$f":"F6219*memoria!$B$44/(G6219*12*memoria!$B$47)","v":{"$error":"#DIV/0!"}},{"$f":"F6219/(G6219*12*memoria!$B$47)","v":{"$error":"#DIV/0!"}}]
[null,null,null,null,null,null,null,{"$f":"F6225*memoria!$B$44/(G6225*12*memoria!$B$47)","v":{"$error":"#DIV/0!"}},{"$f":"F6225/(G6225*12*memoria!$B$47)","v":{"$error":"#DIV/0!"}}]
[null,null,null,null,null,null,null,{"$f":"F6230*memoria!$B$44/(G6230*12*memoria!$B$47)","v":{"$error":"#DIV/0!"}},{"$f":"F6230/(G6230*12*memoria!$B$47)","v":{"$error":"#DIV/0!"}}]
[null,null,null,null,null,null,null,{"$f":"F6235*memoria!$B$44/(G6235*12*memoria!$B$47)","v":{"$error":"#DIV/0!"}},{"$f":"F6235/(G6235*12*memoria!$B$47)","v":{"$error":"#DIV/0!"}}]
[null,null,null,null,null,null,null,{"$f":"F6244*memoria!$B$44/(G6244*12*memoria!$B$47)","v":{"$error":"#DIV/0!"}},{"$f":"F6244/(G6244*12*memoria!$B$47)","v":{"$error":"#DIV/0!"}}]
[null,null,null,null,null,null,null,{"$f":"F6247*memoria!$B$44/(G6247*12*memoria!$B$47)","v":{"$error":"#DIV/0!"}},{"$f":"F6247/(G6247*12*memoria!$B$47)","v":{"$error":"#DIV/0!"}}]
[null,null,null,null,null,null,null,{"$f":"F6253*memoria!$B$44/(G6253*12*memoria!$B$47)","v":{"$error":"#DIV/0!"}},{"$f":"F6253/(G6253*12*memoria!$B$47)","v":{"$error":"#DIV/0!"}}]
[null,null,null,null,null,null,null,{"$f":"F6258*memoria!$B$44/(G6258*12*memoria!$B$47)","v":{"$error":"#DIV/0!"}},{"$f":"F6258/(G6258*12*memoria!$B$47)","v":{"$error":"#DIV/0!"}}]
[null,null,null,null,null,null,null,{"$f":"F6263*memoria!$B$44/(G6263*12*memoria!$B$47)","v":{"$error":"#DIV/0!"}},{"$f":"F6263/(G6263*12*memoria!$B$47)","v":{"$error":"#DIV/0!"}}]
[null,null,null,null,null,null,null,{"$f":"F6269*memoria!$B$44/(G6269*12*memoria!$B$47)","v":{"$error":"#DIV/0!"}},{"$f":"F6269/(G6269*12*memoria!$B$47)","v":{"$error":"#DIV/0!"}}]
[null,null,null,null,null,null,null,{"$f":"F6274*memoria!$B$44/(G6274*12*memoria!$B$47)","v":{"$error":"#DIV/0!"}},{"$f":"F6274/(G6274*12*memoria!$B$47)","v":{"$error":"#DIV/0!"}}]
[null,null,null,null,null,null,null,{"$f":"F6279*memoria!$B$44/(G6279*12*memoria!$B$47)","v":{"$error":"#DIV/0!"}},{"$f":"F6279/(G6279*12*memoria!$B$47)","v":{"$error":"#DIV/0!"}}]
[null,null,null,null,null,null,null,{"$f":"F6285*memoria!$B$44/(G6285*12*memoria!$B$47)","v":{"$error":"#DIV/0!"}},{"$f":"F6285/(G6285*12*memoria!$B$47)","v":{"$error":"#DIV/0!"}}]
[null,null,null,null,null,null,null,{"$f":"F6286*memoria!$B$44/(G6286*12*memoria!$B$47)","v":{"$error":"#DIV/0!"}},{"$f":"F6286/(G6286*12*memoria!$B$47)","v":{"$error":"#DIV/0!"}}]
[null,null,null,null,null,null,null,{"$f":"F6292*memoria!$B$44/(G6292*12*memoria!$B$47)","v":{"$error":"#DIV/0!"}},{"$f":"F6292/(G6292*12*memoria!$B$47)","v":{"$error":"#DIV/0!"}}]
[null,null,null,null,null,null,null,{"$f":"F6297*memoria!$B$44/(G6297*12*memoria!$B$47)","v":{"$error":"#DIV/0!"}},{"$f":"F6297/(G6297*12*memoria!$B$47)","v":{"$error":"#DIV/0!"}}]
[null,null,null,null,null,null,null,{"$f":"F6302*memoria!$B$44/(G6302*12*memoria!$B$47)","v":{"$error":"#DIV/0!"}},{"$f":"F6302/(G6302*12*memoria!$B$47)","v":{"$error":"#DIV/0!"}}]
[null,null,null,null,null,null,null,{"$f":"F6308*memoria!$B$44/(G6308*12*memoria!$B$47)","v":{"$error":"#DIV/0!"}},{"$f":"F6308/(G6308*12*memoria!$B$47)","v":{"$error":"#DIV/0!"}}]
[null,null,null,null,null,null,null,{"$f":"F6313*memoria!$B$44/(G6313*12*memoria!$B$47)","v":{"$error":"#DIV/0!"}},{"$f":"F6313/(G6313*12*memoria!$B$47)","v":{"$error":"#DIV/0!"}}]
[null,null,null,null,null,null,null,{"$f":"F6318*memoria!$B$44/(G6318*12*memoria!$B$47)","v":{"$error":"#DIV/0!"}},{"$f":"F6318/(G6318*12*memoria!$B$47)","v":{"$error":"#DIV/0!"}}]
[null,null,null,null,null,null,null,{"$f":"F6324*memoria!$B$44/(G6324*12*memoria!$B$47)","v":{"$error":"#DIV/0!"}},{"$f":"F6324/(G6324*12*memoria!$B$47)","v":{"$error":"#DIV/0!"}}]
[null,null,null,null,null,null,null,{"$f":"F6328*memoria!$B$44/(G6328*12*memoria!$B$47)","v":{"$error":"#DIV/0!"}},{"$f":"F6328/(G6328*12*memoria!$B$47)","v":{"$error":"#DIV/0!"}}]
[null,null,null,null,null,null,null,{"$f":"F6336*memoria!$B$44/(G6336*12*memoria!$B$47)","v":{"$error":"#DIV/0!"}},{"$f":"F6336/(G6336*12*memoria!$B$47)","v":{"$error":"#DIV/0!"}}]
[null,null,null,null,null,null,null,{"$f":"F6341*memoria!$B$44/(G6341*12*memoria!$B$47)","v":{"$error":"#DIV/0!"}},{"$f":"F6341/(G6341*12*memoria!$B$47)","v":{"$error":"#DIV/0!"}}]
[null,null,null,null,null,null,null,{"$f":"F6346*memoria!$B$44/(G6346*12*memoria!$B$47)","v":{"$error":"#DIV/0!"}},{"$f":"F6346/(G6346*12*memoria!$B$47)","v":{"$error":"#DIV/0!"}}]
[null,null,null,null,null,null,null,{"$f":"F6347*memoria!$B$44/(G6347*12*memoria!$B$47)","v":{"$error":"#DIV/0!"}},{"$f":"F6347/(G6347*12*memoria!$B$47)","v":{"$error":"#DIV/0!"}}]
[null,null,null,null,null,null,null,{"$f":"F6352*memoria!$B$44/(G6352*12*memoria!$B$47)","v":{"$error":"#DIV/0!"}},{"$f":"F6352/(G6352*12*memoria!$B$47)","v":{"$error":"#DIV/0!"}}]
[null,null,null,null,null,null,null,{"$f":"F6358*memoria!$B$44/(G6358*12*memoria!$B$47)","v":{"$error":"#DIV/0!"}},{"$f":"F6358/(G6358*12*memoria!$B$47)","v":{"$error":"#DIV/0!"}}]
[null,null,null,null,null,null,null,{"$f":"F6363*memoria!$B$44/(G6363*12*memoria!$B$47)","v":{"$error":"#DIV/0!"}},{"$f":"F6363/(G6363*12*memoria!$B$47)","v":{"$error":"#DIV/0!"}}]
[null,null,null,null,null,null,null,{"$f":"F6369*memoria!$B$44/(G6369*12*memoria!$B$47)","v":{"$error":"#DIV/0!"}},{"$f":"F6369/(G6369*12*memoria!$B$47)","v":{"$error":"#DIV/0!"}}]
[null,null,null,null,null,null,null,{"$f":"F6375*memoria!$B$44/(G6375*12*memoria!$B$47)","v":{"$error":"#DIV/0!"}},{"$f":"F6375/(G6375*12*memoria!$B$47)","v":{"$error":"#DIV/0!"}}]
[null,null,null,null,null,null,null,{"$f":"F6380*memoria!$B$44/(G6380*12*memoria!$B$47)","v":{"$error":"#DIV/0!"}},{"$f":"F6380/(G6380*12*memoria!$B$47)","v":{"$error":"#DIV/0!"}}]
[null,null,null,null,null,null,null,{"$f":"F6385*memoria!$B$44/(G6385*12*memoria!$B$47)","v":{"$error":"#DIV/0!"}},{"$f":"F6385/(G6385*12*memoria!$B$47)","v":{"$error":"#DIV/0!"}}]
[null,null,null,null,null,null,null,{"$f":"F6391*memoria!$B$44/(G6391*12*memoria!$B$47)","v":{"$error":"#DIV/0!"}},{"$f":"F6391/(G6391*12*memoria!$B$47)","v":{"$error":"#DIV/0!"}}]
[null,null,null,null,null,null,null,{"$f":"F6396*memoria!$B$44/(G6396*12*memoria!$B$47)","v":{"$error":"#DIV/0!"}},{"$f":"F6396/(G6396*12*memoria!$B$47)","v":{"$error":"#DIV/0!"}}]
[null,null,null,null,null,null,null,{"$f":"F6402*memoria!$B$44/(G6402*12*memoria!$B$47)","v":{"$error":"#DIV/0!"}},{"$f":"F6402/(G6402*12*memoria!$B$47)","v":{"$error":"#DIV/0!"}}]
[null,null,null,null,null,null,null,{"$f":"F6407*memoria!$B$44/(G6407*12*memoria!$B$47)","v":{"$error":"#DIV/0!"}},{"$f":"F6407/(G6407*12*memoria!$B$47)","v":{"$error":"#DIV/0!"}}]
[null,null,null,null,null,null,null,{"$f":"F6410*memoria!$B$44/(G6410*12*memoria!$B$47)","v":{"$error":"#DIV/0!"}},{"$f":"F6410/(G6410*12*memoria!$B$47)","v":{"$error":"#DIV/0!"}}]
[null,null,null,null,null,null,null,{"$f":"F6414*memoria!$B$44/(G6414*12*memoria!$B$47)","v":{"$error":"#DIV/0!"}},{"$f":"F6414/(G6414*12*memoria!$B$47)","v":{"$error":"#DIV/0!"}}]
[null,null,null,null,null,null,null,{"$f":"F6419*memoria!$B$44/(G6419*12*memoria!$B$47)","v":{"$error":"#DIV/0!"}},{"$f":"F6419/(G6419*12*memoria!$B$47)","v":{"$error":"#DIV/0!"}}]
[null,null,null,null,null,null,null,{"$f":"F6425*memoria!$B$44/(G6425*12*memoria!$B$47)","v":{"$error":"#DIV/0!"}},{"$f":"F6425/(G6425*12*memoria!$B$47)","v":{"$error":"#DIV/0!"}}]
[null,null,null,null,null,null,null,{"$f":"F6430*memoria!$B$44/(G6430*12*memoria!$B$47)","v":{"$error":"#DIV/0!"}},{"$f":"F6430/(G6430*12*memoria!$B$47)","v":{"$error":"#DIV/0!"}}]
[null,null,null,null,null,null,null,{"$f":"F6435*memoria!$B$44/(G6435*12*memoria!$B$47)","v":{"$error":"#DIV/0!"}},{"$f":"F6435/(G6435*12*memoria!$B$47)","v":{"$error":"#DIV/0!"}}]
[null,null,null,null,null,null,null,{"$f":"F6441*memoria!$B$44/(G6441*12*memoria!$B$47)","v":{"$error":"#DIV/0!"}},{"$f":"F6441/(G6441*12*memoria!$B$47)","v":{"$error":"#DIV/0!"}}]
[null,null,null,null,null,null,null,{"$f":"F6446*memoria!$B$44/(G6446*12*memoria!$B$47)","v":{"$error":"#DIV/0!"}},{"$f":"F6446/(G6446*12*memoria!$B$47)","v":{"$error":"#DIV/0!"}}]
[null,null,null,null,null,null,null,{"$f":"F6451*memoria!$B$44/(G6451*12*memoria!$B$47)","v":{"$error":"#DIV/0!"}},{"$f":"F6451/(G6451*12*memoria!$B$47)","v":{"$error":"#DIV/0!"}}]
[null,null,null,null,null,null,null,{"$f":"F6457*memoria!$B$44/(G6457*12*memoria!$B$47)","v":{"$error":"#DIV/0!"}},{"$f":"F6457/(G6457*12*memoria!$B$47)","v":{"$error":"#DIV/0!"}}]
[null,null,null,null,null,null,null,{"$f":"F6463*memoria!$B$44/(G6463*12*memoria!$B$47)","v":{"$error":"#DIV/0!"}},{"$f":"F6463/(G6463*12*memoria!$B$47)","v":{"$error":"#DIV/0!"}}]
[null,null,null,null,null,null,null,{"$f":"F6469*memoria!$B$44/(G6469*12*memoria!$B$47)","v":{"$error":"#DIV/0!"}},{"$f":"F6469/(G6469*12*memoria!$B$47)","v":{"$error":"#DIV/0!"}}]
[null,null,null,null,null,null,null,{"$f":"F6474*memoria!$B$44/(G6474*12*memoria!$B$47)","v":{"$error":"#DIV/0!"}},{"$f":"F6474/(G6474*12*memoria!$B$47)","v":{"$error":"#DIV/0!"}}]
[null,null,null,null,null,null,null,{"$f":"F6479*memoria!$B$44/(G6479*12*memoria!$B$47)","v":{"$error":"#DIV/0!"}},{"$f":"F6479/(G6479*12*memoria!$B$47)","v":{"$error":"#DIV/0!"}}]
[null,null,null,null,null,null,null,{"$f":"F6480*memoria!$B$44/(G6480*12*memoria!$B$47)","v":{"$error":"#DIV/0!"}},{"$f":"F6480/(G6480*12*memoria!$B$47)","v":{"$error":"#DIV/0!"}}]
[null,null,null,null,null,null,null,{"$f":"F6485*memoria!$B$44/(G6485*12*memoria!$B$47)","v":{"$error":"#DIV/0!"}},{"$f":"F6485/(G6485*12*memoria!$B$47)","v":{"$error":"#DIV/0!"}}]
[null,null,null,null,null,null,null,{"$f":"F6490*memoria!$B$44/(G6490*12*memoria!$B$47)","v":{"$error":"#DIV/0!"}},{"$f":"F6490/(G6490*12*memoria!$B$47)","v":{"$error":"#DIV/0!"}}]
[null,null,null,null,null,null,null,{"$f":"F6498*memoria!$B$44/(G6498*12*memoria!$B$47)","v":{"$error":"#DIV/0!"}},{"$f":"F6498/(G6498*12*memoria!$B$47)","v":{"$error":"#DIV/0!"}}]
[null,null,null,null,null,null,null,{"$f":"F6502*memoria!$B$44/(G6502*12*memoria!$B$47)","v":{"$error":"#DIV/0!"}},{"$f":"F6502/(G6502*12*memoria!$B$47)","v":{"$error":"#DIV/0!"}}]
[null,null,null,null,null,null,null,{"$f":"F6508*memoria!$B$44/(G6508*12*memoria!$B$47)","v":{"$error":"#DIV/0!"}},{"$f":"F6508/(G6508*12*memoria!$B$47)","v":{"$error":"#DIV/0!"}}]
[null,null,null,null,null,null,null,{"$f":"F6513*memoria!$B$44/(G6513*12*memoria!$B$47)","v":{"$error":"#DIV/0!"}},{"$f":"F6513/(G6513*12*memoria!$B$47)","v":{"$error":"#DIV/0!"}}]
[null,null,null,null,null,null,null,{"$f":"F6518*memoria!$B$44/(G6518*12*memoria!$B$47)","v":{"$error":"#DIV/0!"}},{"$f":"F6518/(G6518*12*memoria!$B$47)","v":{"$error":"#DIV/0!"}}]
[null,null,null,null,null,null,null,{"$f":"F6524*memoria!$B$44/(G6524*12*memoria!$B$47)","v":{"$error":"#DIV/0!"}},{"$f":"F6524/(G6524*12*memoria!$B$47)","v":{"$error":"#DIV/0!"}}]
[null,null,null,null,null,null,null,{"$f":"F6529*memoria!$B$44/(G6529*12*memoria!$B$47)","v":{"$error":"#DIV/0!"}},{"$f":"F6529/(G6529*12*memoria!$B$47)","v":{"$error":"#DIV/0!"}}]
[null,null,null,null,null,null,null,{"$f":"F6535*memoria!$B$44/(G6535*12*memoria!$B$47)","v":{"$error":"#DIV/0!"}},{"$f":"F6535/(G6535*12*memoria!$B$47)","v":{"$error":"#DIV/0!"}}]
[null,null,null,null,null,null,null,{"$f":"F6540*memoria!$B$44/(G6540*12*memoria!$B$47)","v":{"$error":"#DIV/0!"}},{"$f":"F6540/(G6540*12*memoria!$B$47)","v":{"$error":"#DIV/0!"}}]
[null,null,null,null,null,null,null,{"$f":"F6541*memoria!$B$44/(G6541*12*memoria!$B$47)","v":{"$error":"#DIV/0!"}},{"$f":"F6541/(G6541*12*memoria!$B$47)","v":{"$error":"#DIV/0!"}}]
[null,null,null,null,null,null,null,{"$f":"F6547*memoria!$B$44/(G6547*12*memoria!$B$47)","v":{"$error":"#DIV/0!"}},{"$f":"F6547/(G6547*12*memoria!$B$47)","v":{"$error":"#DIV/0!"}}]
[null,null,null,null,null,null,null,{"$f":"F6552*memoria!$B$44/(G6552*12*memoria!$B$47)","v":{"$error":"#DIV/0!"}},{"$f":"F6552/(G6552*12*memoria!$B$47)","v":{"$error":"#DIV/0!"}}]
[null,null,null,null,null,null,null,{"$f":"F6557*memoria!$B$44/(G6557*12*memoria!$B$47)","v":{"$error":"#DIV/0!"}},{"$f":"F6557/(G6557*12*memoria!$B$47)","v":{"$error":"#DIV/0!"}}]
[null,null,null,null,null,null,null,{"$f":"F6563*memoria!$B$44/(G6563*12*memoria!$B$47)","v":{"$error":"#DIV/0!"}},{"$f":"F6563/(G6563*12*memoria!$B$47)","v":{"$error":"#DIV/0!"}}]
[null,null,null,null,null,null,null,{"$f":"F6568*memoria!$B$44/(G6568*12*memoria!$B$47)","v":{"$error":"#DIV/0!"}},{"$f":"F6568/(G6568*12*memoria!$B$47)","v":{"$error":"#DIV/0!"}}]
[null,null,null,null,null,null,null,{"$f":"F6574*memoria!$B$44/(G6574*12*memoria!$B$47)","v":{"$error":"#DIV/0!"}},{"$f":"F6574/(G6574*12*memoria!$B$47)","v":{"$error":"#DIV/0!"}}]
[null,null,null,null,null,null,null,{"$f":"F6579*memoria!$B$44/(G6579*12*memoria!$B$47)","v":{"$error":"#DIV/0!"}},{"$f":"F6579/(G6579*12*memoria!$B$47)","v":{"$error":"#DIV/0!"}}]
[null,null,null,null,null,null,null,{"$f":"F6582*memoria!$B$44/(G6582*12*memoria!$B$47)","v":{"$error":"#DIV/0!"}},{"$f":"F6582/(G6582*12*memoria!$B$47)","v":{"$error":"#DIV/0!"}}]
[null,null,null,null,null,null,null,{"$f":"F6591*memoria!$B$44/(G6591*12*memoria!$B$47)","v":{"$error":"#DIV/0!"}},{"$f":"F6591/(G6591*12*memoria!$B$47)","v":{"$error":"#DIV/0!"}}]
[null,null,null,null,null,null,null,{"$f":"F6596*memoria!$B$44/(G6596*12*memoria!$B$47)","v":{"$error":"#DIV/0!"}},{"$f":"F6596/(G6596*12*memoria!$B$47)","v":{"$error":"#DIV/0!"}}]
[null,null,null,null,null,null,null,{"$f":"F6602*memoria!$B$44/(G6602*12*memoria!$B$47)","v":{"$error":"#DIV/0!"}},{"$f":"F6602/(G6602*12*memoria!$B$47)","v":{"$error":"#DIV/0!"}}]
[null,null,null,null,null,null,null,{"$f":"F6607*memoria!$B$44/(G6607*12*memoria!$B$47)","v":{"$error":"#DIV/0!"}},{"$f":"F6607/(G6607*12*memoria!$B$47)","v":{"$error":"#DIV/0!"}}]
[null,null,null,null,null,null,null,{"$f":"F6612*memoria!$B$44/(G6612*12*memoria!$B$47)","v":{"$error":"#DIV/0!"}},{"$f":"F6612/(G6612*12*memoria!$B$47)","v":{"$error":"#DIV/0!"}}]
[null,null,null,null,null,null,null,{"$f":"F6613*memoria!$B$44/(G6613*12*memoria!$B$47)","v":{"$error":"#DIV/0!"}},{"$f":"F6613/(G6613*12*memoria!$B$47)","v":{"$error":"#DIV/0!"}}]
[null,null,null,null,null,null,null,{"$f":"F6618*memoria!$B$44/(G6618*12*memoria!$B$47)","v":{"$error":"#DIV/0!"}},{"$f":"F6618/(G6618*12*memoria!$B$47)","v":{"$error":"#DIV/0!"}}]
[null,null,null,null,null,null,null,{"$f":"F6623*memoria!$B$44/(G6623*12*memoria!$B$47)","v":{"$error":"#DIV/0!"}},{"$f":"F6623/(G6623*12*memoria!$B$47)","v":{"$error":"#DIV/0!"}}]
[null,null,null,null,null,null,null,{"$f":"F6630*memoria!$B$44/(G6630*12*memoria!$B$47)","v":{"$error":"#DIV/0!"}},{"$f":"F6630/(G6630*12*memoria!$B$47)","v":{"$error":"#DIV/0!"}}]
[null,null,null,null,null,null,null,{"$f":"F6635*memoria!$B$44/(G6635*12*memoria!$B$47)","v":{"$error":"#DIV/0!"}},{"$f":"F6635/(G6635*12*memoria!$B$47)","v":{"$error":"#DIV/0!"}}]
[null,null,null,null,null,null,null,{"$f":"F6641*memoria!$B$44/(G6641*12*memoria!$B$47)","v":{"$error":"#DIV/0!"}},{"$f":"F6641/(G6641*12*memoria!$B$47)","v":{"$error":"#DIV/0!"}}]
[null,null,null,null,null,null,null,{"$f":"F6646*memoria!$B$44/(G6646*12*memoria!$B$47)","v":{"$error":"#DIV/0!"}},{"$f":"F6646/(G6646*12*memoria!$B$47)","v":{"$error":"#DIV/0!"}}]
[null,null,null,null,null,null,null,{"$f":"F6651*memoria!$B$44/(G6651*12*memoria!$B$47)","v":{"$error":"#DIV/0!"}},{"$f":"F6651/(G6651*12*memoria!$B$47)","v":{"$error":"#DIV/0!"}}]
[null,null,null,null,null,null,null,{"$f":"F6657*memoria!$B$44/(G6657*12*memoria!$B$47)","v":{"$error":"#DIV/0!"}},{"$f":"F6657/(G6657*12*memoria!$B$47)","v":{"$error":"#DIV/0!"}}]
[null,null,null,null,null,null,null,{"$f":"F6662*memoria!$B$44/(G6662*12*memoria!$B$47)","v":{"$error":"#DIV/0!"}},{"$f":"F6662/(G6662*12*memoria!$B$47)","v":{"$error":"#DIV/0!"}}]
[null,null,null,null,null,null,null,{"$f":"F6667*memoria!$B$44/(G6667*12*memoria!$B$47)","v":{"$error":"#DIV/0!"}},{"$f":"F6667/(G6667*12*memoria!$B$47)","v":{"$error":"#DIV/0!"}}]
[null,null,null,null,null,null,null,{"$f":"F6670*memoria!$B$44/(G6670*12*memoria!$B$47)","v":{"$error":"#DIV/0!"}},{"$f":"F6670/(G6670*12*memoria!$B$47)","v":{"$error":"#DIV/0!"}}]
[null,null,null,null,null,null,null,{"$f":"F6679*memoria!$B$44/(G6679*12*memoria!$B$47)","v":{"$error":"#DIV/0!"}},{"$f":"F6679/(G6679*12*memoria!$B$47)","v":{"$error":"#DIV/0!"}}]
[null,null,null,null,null,null,null,{"$f":"F6680*memoria!$B$44/(G6680*12*memoria!$B$47)","v":{"$error":"#DIV/0!"}},{"$f":"F6680/(G6680*12*memoria!$B$47)","v":{"$error":"#DIV/0!"}}]
[null,null,null,null,null,null,null,{"$f":"F6685*memoria!$B$44/(G6685*12*memoria!$B$47)","v":{"$error":"#DIV/0!"}},{"$f":"F6685/(G6685*12*memoria!$B$47)","v":{"$error":"#DIV/0!"}}]
[null,null,null,null,null,null,null,{"$f":"F6690*memoria!$B$44/(G6690*12*memoria!$B$47)","v":{"$error":"#DIV/0!"}},{"$f":"F6690/(G6690*12*memoria!$B$47)","v":{"$error":"#DIV/0!"}}]
[null,null,null,null,null,null,null,{"$f":"F6696*memoria!$B$44/(G6696*12*memoria!$B$47)","v":{"$error":"#DIV/0!"}},{"$f":"F6696/(G6696*12*memoria!$B$47)","v":{"$error":"#DIV/0!"}}]
[null,null,null,null,null,null,null,{"$f":"F6701*memoria!$B$44/(G6701*12*memoria!$B$47)","v":{"$error":"#DIV/0!"}},{"$f":"F6701/(G6701*12*memoria!$B$47)","v":{"$error":"#DIV/0!"}}]
[null,null,null,null,null,null,null,{"$f":"F6707*memoria!$B$44/(G6707*12*memoria!$B$47)","v":{"$error":"#DIV/0!"}},{"$f":"F6707/(G6707*12*memoria!$B$47)","v":{"$error":"#DIV/0!"}}]
[null,null,null,null,null,null,null,{"$f":"F6711*memoria!$B$44/(G6711*12*memoria!$B$47)","v":{"$error":"#DIV/0!"}},{"$f":"F6711/(G6711*12*memoria!$B$47)","v":{"$error":"#DIV/0!"}}]
[null,null,null,null,null,null,null,{"$f":"F6718*memoria!$B$44/(G6718*12*memoria!$B$47)","v":{"$error":"#DIV/0!"}},{"$f":"F6718/(G6718*12*memoria!$B$47)","v":{"$error":"#DIV/0!"}}]
[null,null,null,null,null,null,null,{"$f":"F6724*memoria!$B$44/(G6724*12*memoria!$B$47)","v":{"$error":"#DIV/0!"}},{"$f":"F6724/(G6724*12*memoria!$B$47)","v":{"$error":"#DIV/0!"}}]
[null,null,null,null,null,null,null,{"$f":"F6729*memoria!$B$44/(G6729*12*memoria!$B$47)","v":{"$error":"#DIV/0!"}},{"$f":"F6729/(G6729*12*memoria!$B$47)","v":{"$error":"#DIV/0!"}}]
[null,null,null,null,null,null,null,{"$f":"F6734*memoria!$B$44/(G6734*12*memoria!$B$47)","v":{"$error":"#DIV/0!"}},{"$f":"F6734/(G6734*12*memoria!$B$47)","v":{"$error":"#DIV/0!"}}]
[null,null,null,null,null,null,null,{"$f":"F6740*memoria!$B$44/(G6740*12*memoria!$B$47)","v":{"$error":"#DIV/0!"}},{"$f":"F6740/(G6740*12*memoria!$B$47)","v":{"$error":"#DIV/0!"}}]
[null,null,null,null,null,null,null,{"$f":"F6745*memoria!$B$44/(G6745*12*memoria!$B$47)","v":{"$error":"#DIV/0!"}},{"$f":"F6745/(G6745*12*memoria!$B$47)","v":{"$error":"#DIV/0!"}}]
[null,null,null,null,null,null,null,{"$f":"F6746*memoria!$B$44/(G6746*12*memoria!$B$47)","v":{"$error":"#DIV/0!"}},{"$f":"F6746/(G6746*12*memoria!$B$47)","v":{"$error":"#DIV/0!"}}]
[null,null,null,null,null,null,null,{"$f":"F6752*memoria!$B$44/(G6752*12*memoria!$B$47)","v":{"$error":"#DIV/0!"}},{"$f":"F6752/(G6752*12*memoria!$B$47)","v":{"$error":"#DIV/0!"}}]
[null,null,null,null,null,null,null,{"$f":"F6757*memoria!$B$44/(G6757*12*memoria!$B$47)","v":{"$error":"#DIV/0!"}},{"$f":"F6757/(G6757*12*memoria!$B$47)","v":{"$error":"#DIV/0!"}}]
[null,null,null,null,null,null,null,{"$f":"F6763*memoria!$B$44/(G6763*12*memoria!$B$47)","v":{"$error":"#DIV/0!"}},{"$f":"F6763/(G6763*12*memoria!$B$47)","v":{"$error":"#DIV/0!"}}]
[null,null,null,null,null,null,null,{"$f":"F6768*memoria!$B$44/(G6768*12*memoria!$B$47)","v":{"$error":"#DIV/0!"}},{"$f":"F6768/(G6768*12*memoria!$B$47)","v":{"$error":"#DIV/0!"}}]
[null,null,null,null,null,null,null,{"$f":"F6773*memoria!$B$44/(G6773*12*memoria!$B$47)","v":{"$error":"#DIV/0!"}},{"$f":"F6773/(G6773*12*memoria!$B$47)","v":{"$error":"#DIV/0!"}}]
[null,null,null,null,null,null,null,{"$f":"F6779*memoria!$B$44/(G6779*12*memoria!$B$47)","v":{"$error":"#DIV/0!"}},{"$f":"F6779/(G6779*12*memoria!$B$47)","v":{"$error":"#DIV/0!"}}]
[null,null,null,null,null,null,null,{"$f":"F6784*memoria!$B$44/(G6784*12*memoria!$B$47)","v":{"$error":"#DIV/0!"}},{"$f":"F6784/(G6784*12*memoria!$B$47)","v":{"$error":"#DIV/0!"}}]
[null,null,null,null,null,null,null,{"$f":"F6790*memoria!$B$44/(G6790*12*memoria!$B$47)","v":{"$error":"#DIV/0!"}},{"$f":"F6790/(G6790*12*memoria!$B$47)","v":{"$error":"#DIV/0!"}}]
[null,null,null,null,null,null,null,{"$f":"F6795*memoria!$B$44/(G6795*12*memoria!$B$47)","v":{"$error":"#DIV/0!"}},{"$f":"F6795/(G6795*12*memoria!$B$47)","v":{"$error":"#DIV/0!"}}]
[null,null,null,null,null,null,null,{"$f":"F6801*memoria!$B$44/(G6801*12*memoria!$B$47)","v":{"$error":"#DIV/0!"}},{"$f":"F6801/(G6801*12*memoria!$B$47)","v":{"$error":"#DIV/0!"}}]
[null,null,null,null,null,null,null,{"$f":"F6807*memoria!$B$44/(G6807*12*memoria!$B$47)","v":{"$error":"#DIV/0!"}},{"$f":"F6807/(G6807*12*memoria!$B$47)","v":{"$error":"#DIV/0!"}}]
[null,null,null,null,null,null,null,{"$f":"F6812*memoria!$B$44/(G6812*12*memoria!$B$47)","v":{"$error":"#DIV/0!"}},{"$f":"F6812/(G6812*12*memoria!$B$47)","v":{"$error":"#DIV/0!"}}]
[null,null,null,null,null,null,null,{"$f":"F6813*memoria!$B$44/(G6813*12*memoria!$B$47)","v":{"$error":"#DIV/0!"}},{"$f":"F6813/(G6813*12*memoria!$B$47)","v":{"$error":"#DIV/0!"}}]
[null,null,null,null,null,null,null,{"$f":"F6818*memoria!$B$44/(G6818*12*memoria!$B$47)","v":{"$error":"#DIV/0!"}},{"$f":"F6818/(G6818*12*memoria!$B$47)","v":{"$error":"#DIV/0!"}}]
[null,null,null,null,null,null,null,{"$f":"F6823*memoria!$B$44/(G6823*12*memoria!$B$47)","v":{"$error":"#DIV/0!"}},{"$f":"F6823/(G6823*12*memoria!$B$47)","v":{"$error":"#DIV/0!"}}]
[null,null,null,null,null,null,null,{"$f":"F6829*memoria!$B$44/(G6829*12*memoria!$B$47)","v":{"$error":"#DIV/0!"}},{"$f":"F6829/(G6829*12*memoria!$B$47)","v":{"$error":"#DIV/0!"}}]
[null,null,null,null,null,null,null,{"$f":"F6834*memoria!$B$44/(G6834*12*memoria!$B$47)","v":{"$error":"#DIV/0!"}},{"$f":"F6834/(G6834*12*memoria!$B$47)","v":{"$error":"#DIV/0!"}}]
[null,null,null,null,null,null,null,{"$f":"F6842*memoria!$B$44/(G6842*12*memoria!$B$47)","v":{"$error":"#DIV/0!"}},{"$f":"F6842/(G6842*12*memoria!$B$47)","v":{"$error":"#DIV/0!"}}]
[null,null,null,null,null,null,null,{"$f":"F6846*memoria!$B$44/(G6846*12*memoria!$B$47)","v":{"$error":"#DIV/0!"}},{"$f":"F6846/(G6846*12*memoria!$B$47)","v":{"$error":"#DIV/0!"}}]
[null,null,null,null,null,null,null,{"$f":"F6851*memoria!$B$44/(G6851*12*memoria!$B$47)","v":{"$error":"#DIV/0!"}},{"$f":"F6851/(G6851*12*memoria!$B$47)","v":{"$error":"#DIV/0!"}}]
[null,null,null,null,null,null,null,{"$f":"F6857*memoria!$B$44/(G6857*12*memoria!$B$47)","v":{"$error":"#DIV/0!"}},{"$f":"F6857/(G6857*12*memoria!$B$47)","v":{"$error":"#DIV/0!"}}]
[null,null,null,null,null,null,null,{"$f":"F6862*memoria!$B$44/(G6862*12*memoria!$B$47)","v":{"$error":"#DIV/0!"}},{"$f":"F6862/(G6862*12*memoria!$B$47)","v":{"$error":"#DIV/0!"}}]
[null,null,null,null,null,null,null,{"$f":"F6867*memoria!$B$44/(G6867*12*memoria!$B$47)","v":{"$error":"#DIV/0!"}},{"$f":"F6867/(G6867*12*memoria!$B$47)","v":{"$error":"#DIV/0!"}}]
[null,null,null,null,null,null,null,{"$f":"F6873*memoria!$B$44/(G6873*12*memoria!$B$47)","v":{"$error":"#DIV/0!"}},{"$f":"F6873/(G6873*12*memoria!$B$47)","v":{"$error":"#DIV/0!"}}]
[null,null,null,null,null,null,null,{"$f":"F6878*memoria!$B$44/(G6878*12*memoria!$B$47)","v":{"$error":"#DIV/0!"}},{"$f":"F6878/(G6878*12*memoria!$B$47)","v":{"$error":"#DIV/0!"}}]
[null,null,null,null,null,null,null,{"$f":"F6881*memoria!$B$44/(G6881*12*memoria!$B$47)","v":{"$error":"#DIV/0!"}},{"$f":"F6881/(G6881*12*memoria!$B$47)","v":{"$error":"#DIV/0!"}}]
[null,null,null,null,null,null,null,{"$f":"F6885*memoria!$B$44/(G6885*12*memoria!$B$47)","v":{"$error":"#DIV/0!"}},{"$f":"F6885/(G6885*12*memoria!$B$47)","v":{"$error":"#DIV/0!"}}]
[null,null,null,null,null,null,null,{"$f":"F6890*memoria!$B$44/(G6890*12*memoria!$B$47)","v":{"$error":"#DIV/0!"}},{"$f":"F6890/(G6890*12*memoria!$B$47)","v":{"$error":"#DIV/0!"}}]
[null,null,null,null,null,null,null,{"$f":"F6896*memoria!$B$44/(G6896*12*memoria!$B$47)","v":{"$error":"#DIV/0!"}},{"$f":"F6896/(G6896*12*memoria!$B$47)","v":{"$error":"#DIV/0!"}}]
[null,null,null,null,null,null,null,{"$f":"F6901*memoria!$B$44/(G6901*12*memoria!$B$47)","v":{"$error":"#DIV/0!"}},{"$f":"F6901/(G6901*12*memoria!$B$47)","v":{"$error":"#DIV/0!"}}]
[null,null,null,null,null,null,null,{"$f":"F6906*memoria!$B$44/(G6906*12*memoria!$B$47)","v":{"$error":"#DIV/0!"}},{"$f":"F6906/(G6906*12*memoria!$B$47)","v":{"$error":"#DIV/0!"}}]
[null,null,null,null,null,null,null,{"$f":"F6912*memoria!$B$44/(G6912*12*memoria!$B$47)","v":{"$error":"#DIV/0!"}},{"$f":"F6912/(G6912*12*memoria!$B$47)","v":{"$error":"#DIV/0!"}}]
[null,null,null,null,null,null,null,{"$f":"F6917*memoria!$B$44/(G6917*12*memoria!$B$47)","v":{"$error":"#DIV/0!"}},{"$f":"F6917/(G6917*12*memoria!$B$47)","v":{"$error":"#DIV/0!"}}]
[null,null,null,null,null,null,null,{"$f":"F6923*memoria!$B$44/(G6923*12*memoria!$B$47)","v":{"$error":"#DIV/0!"}},{"$f":"F6923/(G6923*12*memoria!$B$47)","v":{"$error":"#DIV/0!"}}]
[null,null,null,null,null,null,null,{"$f":"F6930*memoria!$B$44/(G6930*12*memoria!$B$47)","v":{"$error":"#DIV/0!"}},{"$f":"F6930/(G6930*12*memoria!$B$47)","v":{"$error":"#DIV/0!"}}]
[null,null,null,null,null,null,null,{"$f":"F6934*memoria!$B$44/(G6934*12*memoria!$B$47)","v":{"$error":"#DIV/0!"}},{"$f":"F6934/(G6934*12*memoria!$B$47)","v":{"$error":"#DIV/0!"}}]
[null,null,null,null,null,null,null,{"$f":"F6940*memoria!$B$44/(G6940*12*memoria!$B$47)","v":{"$error":"#DIV/0!"}},{"$f":"F6940/(G6940*12*memoria!$B$47)","v":{"$error":"#DIV/0!"}}]
[null,null,null,null,null,null,null,{"$f":"F6945*memoria!$B$44/(G6945*12*memoria!$B$47)","v":{"$error":"#DIV/0!"}},{"$f":"F6945/(G6945*12*memoria!$B$47)","v":{"$error":"#DIV/0!"}}]
[null,null,null,null,null,null,null,{"$f":"F6950*memoria!$B$44/(G6950*12*memoria!$B$47)","v":{"$error":"#DIV/0!"}},{"$f":"F6950/(G6950*12*memoria!$B$47)","v":{"$error":"#DIV/0!"}}]
[null,null,null,null,null,null,null,{"$f":"F6951*memoria!$B$44/(G6951*12*memoria!$B$47)","v":{"$error":"#DIV/0!"}},{"$f":"F6951/(G6951*12*memoria!$B$47)","v":{"$error":"#DIV/0!"}}]
[null,null,null,null,null,null,null,{"$f":"F6956*memoria!$B$44/(G6956*12*memoria!$B$47)","v":{"$error":"#DIV/0!"}},{"$f":"F6956/(G6956*12*memoria!$B$47)","v":{"$error":"#DIV/0!"}}]
[null,null,null,null,null,null,null,{"$f":"F6962*memoria!$B$44/(G6962*12*memoria!$B$47)","v":{"$error":"#DIV/0!"}},{"$f":"F6962/(G6962*12*memoria!$B$47)","v":{"$error":"#DIV/0!"}}]
[null,null,null,null,null,null,null,{"$f":"F6971*memoria!$B$44/(G6971*12*memoria!$B$47)","v":{"$error":"#DIV/0!"}},{"$f":"F6971/(G6971*12*memoria!$B$47)","v":{"$error":"#DIV/0!"}}]
[null,null,null,null,null,null,null,{"$f":"F6973*memoria!$B$44/(G6973*12*memoria!$B$47)","v":{"$error":"#DIV/0!"}},{"$f":"F6973/(G6973*12*memoria!$B$47)","v":{"$error":"#DIV/0!"}}]
[null,null,null,null,null,null,null,{"$f":"F6979*memoria!$B$44/(G6979*12*memoria!$B$47)","v":{"$error":"#DIV/0!"}},{"$f":"F6979/(G6979*12*memoria!$B$47)","v":{"$error":"#DIV/0!"}}]
[null,null,null,null,null,null,null,{"$f":"F6984*memoria!$B$44/(G6984*12*memoria!$B$47)","v":{"$error":"#DIV/0!"}},{"$f":"F6984/(G6984*12*memoria!$B$47)","v":{"$error":"#DIV/0!"}}]
[null,null,null,null,null,null,null,{"$f":"F6990*memoria!$B$44/(G6990*12*memoria!$B$47)","v":{"$error":"#DIV/0!"}},{"$f":"F6990/(G6990*12*memoria!$B$47)","v":{"$error":"#DIV/0!"}}]
[null,null,null,null,null,null,null,{"$f":"F6995*memoria!$B$44/(G6995*12*memoria!$B$47)","v":{"$error":"#DIV/0!"}},{"$f":"F6995/(G6995*12*memoria!$B$47)","v":{"$error":"#DIV/0!"}}]
[null,null,null,null,null,null,null,{"$f":"F7000*memoria!$B$44/(G7000*12*memoria!$B$47)","v":{"$error":"#DIV/0!"}},{"$f":"F7000/(G7000*12*memoria!$B$47)","v":{"$error":"#DIV/0!"}}]
[null,null,null,null,null,null,null,{"$f":"F7006*memoria!$B$44/(G7006*12*memoria!$B$47)","v":{"$error":"#DIV/0!"}},{"$f":"F7006/(G7006*12*memoria!$B$47)","v":{"$error":"#DIV/0!"}}]
[null,null,null,null,null,null,null,{"$f":"F7011*memoria!$B$44/(G7011*12*memoria!$B$47)","v":{"$error":"#DIV/0!"}},{"$f":"F7011/(G7011*12*memoria!$B$47)","v":{"$error":"#DIV/0!"}}]
[null,null,null,null,null,null,null,{"$f":"F7014*memoria!$B$44/(G7014*12*memoria!$B$47)","v":{"$error":"#DIV/0!"}},{"$f":"F7014/(G7014*12*memoria!$B$47)","v":{"$error":"#DIV/0!"}}]
[null,null,null,null,null,null,null,{"$f":"F7018*memoria!$B$44/(G7018*12*memoria!$B$47)","v":{"$error":"#DIV/0!"}},{"$f":"F7018/(G7018*12*memoria!$B$47)","v":{"$error":"#DIV/0!"}}]
[null,null,null,null,null,null,null,{"$f":"F7023*memoria!$B$44/(G7023*12*memoria!$B$47)","v":{"$error":"#DIV/0!"}},{"$f":"F7023/(G7023*12*memoria!$B$47)","v":{"$error":"#DIV/0!"}}]
[null,null,null,null,null,null,null,{"$f":"F7029*memoria!$B$44/(G7029*12*memoria!$B$47)","v":{"$error":"#DIV/0!"}},{"$f":"F7029/(G7029*12*memoria!$B$47)","v":{"$error":"#DIV/0!"}}]
[null,null,null,null,null,null,null,{"$f":"F7034*memoria!$B$44/(G7034*12*memoria!$B$47)","v":{"$error":"#DIV/0!"}},{"$f":"F7034/(G7034*12*memoria!$B$47)","v":{"$error":"#DIV/0!"}}]
[null,null,null,null,null,null,null,{"$f":"F7039*memoria!$B$44/(G7039*12*memoria!$B$47)","v":{"$error":"#DIV/0!"}},{"$f":"F7039/(G7039*12*memoria!$B$47)","v":{"$error":"#DIV/0!"}}]
[null,null,null,null,null,null,null,{"$f":"F7045*memoria!$B$44/(G7045*12*memoria!$B$47)","v":{"$error":"#DIV/0!"}},{"$f":"F7045/(G7045*12*memoria!$B$47)","v":{"$error":"#DIV/0!"}}]
[null,null,null,null,null,null,null,{"$f":"F7050*memoria!$B$44/(G7050*12*memoria!$B$47)","v":{"$error":"#DIV/0!"}},{"$f":"F7050/(G7050*12*memoria!$B$47)","v":{"$error":"#DIV/0!"}}]
[null,null,null,null,null,null,null,{"$f":"F7053*memoria!$B$44/(G7053*12*memoria!$B$47)","v":{"$error":"#DIV/0!"}},{"$f":"F7053/(G7053*12*memoria!$B$47)","v":{"$error":"#DIV/0!"}}]
[null,null,null,null,null,null,null,{"$f":"F7062*memoria!$B$44/(G7062*12*memoria!$B$47)","v":{"$error":"#DIV/0!"}},{"$f":"F7062/(G7062*12*memoria!$B$47)","v":{"$error":"#DIV/0!"}}]
[null,null,null,null,null,null,null,{"$f":"F7067*memoria!$B$44/(G7067*12*memoria!$B$47)","v":{"$error":"#DIV/0!"}},{"$f":"F7067/(G7067*12*memoria!$B$47)","v":{"$error":"#DIV/0!"}}]
[null,null,null,null,null,null,null,{"$f":"F7073*memoria!$B$44/(G7073*12*memoria!$B$47)","v":{"$error":"#DIV/0!"}},{"$f":"F7073/(G7073*12*memoria!$B$47)","v":{"$error":"#DIV/0!"}}]
[null,null,null,null,null,null,null,{"$f":"F7078*memoria!$B$44/(G7078*12*memoria!$B$47)","v":{"$error":"#DIV/0!"}},{"$f":"F7078/(G7078*12*memoria!$B$47)","v":{"$error":"#DIV/0!"}}]
[null,null,null,null,null,null,null,{"$f":"F7083*memoria!$B$44/(G7083*12*memoria!$B$47)","v":{"$error":"#DIV/0!"}},{"$f":"F7083/(G7083*12*memoria!$B$47)","v":{"$error":"#DIV/0!"}}]
[null,null,null,null,null,null,null,{"$f":"F7084*memoria!$B$44/(G7084*12*memoria!$B$47)","v":{"$error":"#DIV/0!"}},{"$f":"F7084/(G7084*12*memoria!$B$47)","v":{"$error":"#DIV/0!"}}]
[null,null,null,null,null,null,null,{"$f":"F7089*memoria!$B$44/(G7089*12*memoria!$B$47)","v":{"$error":"#DIV/0!"}},{"$f":"F7089/(G7089*12*memoria!$B$47)","v":{"$error":"#DIV/0!"}}]
[null,null,null,null,null,null,null,{"$f":"F7094*memoria!$B$44/(G7094*12*memoria!$B$47)","v":{"$error":"#DIV/0!"}},{"$f":"F7094/(G7094*12*memoria!$B$47)","v":{"$error":"#DIV/0!"}}]
[null,null,null,null,null,null,null,{"$f":"F7101*memoria!$B$44/(G7101*12*memoria!$B$47)","v":{"$error":"#DIV/0!"}},{"$f":"F7101/(G7101*12*memoria!$B$47)","v":{"$error":"#DIV/0!"}}]
[null,null,null,null,null,null,null,{"$f":"F7106*memoria!$B$44/(G7106*12*memoria!$B$47)","v":{"$error":"#DIV/0!"}},{"$f":"F7106/(G7106*12*memoria!$B$47)","v":{"$error":"#DIV/0!"}}]
[null,null,null,null,null,null,null,{"$f":"F7112*memoria!$B$44/(G7112*12*memoria!$B$47)","v":{"$error":"#DIV/0!"}},{"$f":"F7112/(G7112*12*memoria!$B$47)","v":{"$error":"#DIV/0!"}}]
[null,null,null,null,null,null,null,{"$f":"F7117*memoria!$B$44/(G7117*12*memoria!$B$47)","v":{"$error":"#DIV/0!"}},{"$f":"F7117/(G7117*12*memoria!$B$47)","v":{"$error":"#DIV/0!"}}]
[null,null,null,null,null,null,null,{"$f":"F7122*memoria!$B$44/(G7122*12*memoria!$B$47)","v":{"$error":"#DIV/0!"}},{"$f":"F7122/(G7122*12*memoria!$B$47)","v":{"$error":"#DIV/0!"}}]
[null,null,null,null,null,null,null,{"$f":"F7128*memoria!$B$44/(G7128*12*memoria!$B$47)","v":{"$error":"#DIV/0!"}},{"$f":"F7128/(G7128*12*memoria!$B$47)","v":{"$error":"#DIV/0!"}}]
[null,null,null,null,null,null,null,{"$f":"F7133*memoria!$B$44/(G7133*12*memoria!$B$47)","v":{"$error":"#DIV/0!"}},{"$f":"F7133/(G7133*12*memoria!$B$47)","v":{"$error":"#DIV/0!"}}]
[null,null,null,null,null,null,null,{"$f":"F7139*memoria!$B$44/(G7139*12*memoria!$B$47)","v":{"$error":"#DIV/0!"}},{"$f":"F7139/(G7139*12*memoria!$B$47)","v":{"$error":"#DIV/0!"}}]
[null,null,null,null,null,null,null,{"$f":"F7143*memoria!$B$44/(G7143*12*memoria!$B$47)","v":{"$error":"#DIV/0!"}},{"$f":"F7143/(G7143*12*memoria!$B$47)","v":{"$error":"#DIV/0!"}}]
[null,null,null,null,null,null,null,{"$f":"F7150*memoria!$B$44/(G7150*12*memoria!$B$47)","v":{"$error":"#DIV/0!"}},{"$f":"F7150/(G7150*12*memoria!$B$47)","v":{"$error":"#DIV/0!"}}]
[null,null,null,null,null,null,null,{"$f":"F7151*memoria!$B$44/(G7151*12*memoria!$B$47)","v":{"$error":"#DIV/0!"}},{"$f":"F7151/(G7151*12*memoria!$B$47)","v":{"$error":"#DIV/0!"}}]
[null,null,null,null,null,null,null,{"$f":"F7156*memoria!$B$44/(G7156*12*memoria!$B$47)","v":{"$error":"#DIV/0!"}},{"$f":"F7156/(G7156*12*memoria!$B$47)","v":{"$error":"#DIV/0!"}}]
[null,null,null,null,null,null,null,{"$f":"F7162*memoria!$B$44/(G7162*12*memoria!$B$47)","v":{"$error":"#DIV/0!"}},{"$f":"F7162/(G7162*12*memoria!$B$47)","v":{"$error":"#DIV/0!"}}]
[null,null,null,null,null,null,null,{"$f":"F7167*memoria!$B$44/(G7167*12*memoria!$B$47)","v":{"$error":"#DIV/0!"}},{"$f":"F7167/(G7167*12*memoria!$B$47)","v":{"$error":"#DIV/0!"}}]
[null,null,null,null,null,null,null,{"$f":"F7172*memoria!$B$44/(G7172*12*memoria!$B$47)","v":{"$error":"#DIV/0!"}},{"$f":"F7172/(G7172*12*memoria!$B$47)","v":{"$error":"#DIV/0!"}}]
[null,null,null,null,null,null,null,{"$f":"F7178*memoria!$B$44/(G7178*12*memoria!$B$47)","v":{"$error":"#DIV/0!"}},{"$f":"F7178/(G7178*12*memoria!$B$47)","v":{"$error":"#DIV/0!"}}]
[null,null,null,null,null,null,null,{"$f":"F7184*memoria!$B$44/(G7184*12*memoria!$B$47)","v":{"$error":"#DIV/0!"}},{"$f":"F7184/(G7184*12*memoria!$B$47)","v":{"$error":"#DIV/0!"}}]
[null,null,null,null,null,null,null,{"$f":"F7189*memoria!$B$44/(G7189*12*memoria!$B$47)","v":{"$error":"#DIV/0!"}},{"$f":"F7189/(G7189*12*memoria!$B$47)","v":{"$error":"#DIV/0!"}}]
[null,null,null,null,null,null,null,{"$f":"F7195*memoria!$B$44/(G7195*12*memoria!$B$47)","v":{"$error":"#DIV/0!"}},{"$f":"F7195/(G7195*12*memoria!$B$47)","v":{"$error":"#DIV/0!"}}]
[null,null,null,null,null,null,null,{"$f":"F7200*memoria!$B$44/(G7200*12*memoria!$B$47)","v":{"$error":"#DIV/0!"}},{"$f":"F7200/(G7200*12*memoria!$B$47)","v":{"$error":"#DIV/0!"}}]
[null,null,null,null,null,null,null,{"$f":"F7206*memoria!$B$44/(G7206*12*memoria!$B$47)","v":{"$error":"#DIV/0!"}},{"$f":"F7206/(G7206*12*memoria!$B$47)","v":{"$error":"#DIV/0!"}}]
[null,null,null,null,null,null,null,{"$f":"F7211*memoria!$B$44/(G7211*12*memoria!$B$47)","v":{"$error":"#DIV/0!"}},{"$f":"F7211/(G7211*12*memoria!$B$47)","v":{"$error":"#DIV/0!"}}]
[null,null,null,null,null,null,null,{"$f":"F7216*memoria!$B$44/(G7216*12*memoria!$B$47)","v":{"$error":"#DIV/0!"}},{"$f":"F7216/(G7216*12*memoria!$B$47)","v":{"$error":"#DIV/0!"}}]
[null,null,null,null,null,null,null,{"$f":"F7217*memoria!$B$44/(G7217*12*memoria!$B$47)","v":{"$error":"#DIV/0!"}},{"$f":"F7217/(G7217*12*memoria!$B$47)","v":{"$error":"#DIV/0!"}}]
[null,null,null,null,null,null,null,{"$f":"F7225*memoria!$B$44/(G7225*12*memoria!$B$47)","v":{"$error":"#DIV/0!"}},{"$f":"F7225/(G7225*12*memoria!$B$47)","v":{"$error":"#DIV/0!"}}]
[null,null,null,null,null,null,null,{"$f":"F7228*memoria!$B$44/(G7228*12*memoria!$B$47)","v":{"$error":"#DIV/0!"}},{"$f":"F7228/(G7228*12*memoria!$B$47)","v":{"$error":"#DIV/0!"}}]
[null,null,null,null,null,null,null,{"$f":"F7234*memoria!$B$44/(G7234*12*memoria!$B$47)","v":{"$error":"#DIV/0!"}},{"$f":"F7234/(G7234*12*memoria!$B$47)","v":{"$error":"#DIV/0!"}}]
[null,null,null,null,null,null,null,{"$f":"F7239*memoria!$B$44/(G7239*12*memoria!$B$47)","v":{"$error":"#DIV/0!"}},{"$f":"F7239/(G7239*12*memoria!$B$47)","v":{"$error":"#DIV/0!"}}]
[null,null,null,null,null,null,null,{"$f":"F7245*memoria!$B$44/(G7245*12*memoria!$B$47)","v":{"$error":"#DIV/0!"}},{"$f":"F7245/(G7245*12*memoria!$B$47)","v":{"$error":"#DIV/0!"}}]
[null,null,null,null,null,null,null,{"$f":"F7250*memoria!$B$44/(G7250*12*memoria!$B$47)","v":{"$error":"#DIV/0!"}},{"$f":"F7250/(G7250*12*memoria!$B$47)","v":{"$error":"#DIV/0!"}}]
[null,null,null,null,null,null,null,{"$f":"F7255*memoria!$B$44/(G7255*12*memoria!$B$47)","v":{"$error":"#DIV/0!"}},{"$f":"F7255/(G7255*12*memoria!$B$47)","v":{"$error":"#DIV/0!"}}]
[null,null,null,null,null,null,null,{"$f":"F7261*memoria!$B$44/(G7261*12*memoria!$B$47)","v":{"$error":"#DIV/0!"}},{"$f":"F7261/(G7261*12*memoria!$B$47)","v":{"$error":"#DIV/0!"}}]
[null,null,null,null,null,null,null,{"$f":"F7266*memoria!$B$44/(G7266*12*memoria!$B$47)","v":{"$error":"#DIV/0!"}},{"$f":"F7266/(G7266*12*memoria!$B$47)","v":{"$error":"#DIV/0!"}}]
[null,null,null,null,null,null,null,{"$f":"F7272*memoria!$B$44/(G7272*12*memoria!$B$47)","v":{"$error":"#DIV/0!"}},{"$f":"F7272/(G7272*12*memoria!$B$47)","v":{"$error":"#DIV/0!"}}]
[null,null,null,null,null,null,null,{"$f":"F7278*memoria!$B$44/(G7278*12*memoria!$B$47)","v":{"$error":"#DIV/0!"}},{"$f":"F7278/(G7278*12*memoria!$B$47)","v":{"$error":"#DIV/0!"}}]
[null,null,null,null,null,null,null,{"$f":"F7283*memoria!$B$44/(G7283*12*memoria!$B$47)","v":{"$error":"#DIV/0!"}},{"$f":"F7283/(G7283*12*memoria!$B$47)","v":{"$error":"#DIV/0!"}}]
[null,null,null,null,null,null,null,{"$f":"F7284*memoria!$B$44/(G7284*12*memoria!$B$47)","v":{"$error":"#DIV/0!"}},{"$f":"F7284/(G7284*12*memoria!$B$47)","v":{"$error":"#DIV/0!"}}]
[null,null,null,null,null,null,null,{"$f":"F7289*memoria!$B$44/(G7289*12*memoria!$B$47)","v":{"$error":"#DIV/0!"}},{"$f":"F7289/(G7289*12*memoria!$B$47)","v":{"$error":"#DIV/0!"}}]
[null,null,null,null,null,null,null,{"$f":"F7294*memoria!$B$44/(G7294*12*memoria!$B$47)","v":{"$error":"#DIV/0!"}},{"$f":"F7294/(G7294*12*memoria!$B$47)","v":{"$error":"#DIV/0!"}}]
[null,null,null,null,null,null,null,{"$f":"F7300*memoria!$B$44/(G7300*12*memoria!$B$47)","v":{"$error":"#DIV/0!"}},{"$f":"F7300/(G7300*12*memoria!$B$47)","v":{"$error":"#DIV/0!"}}]
[null,null,null,null,null,null,null,{"$f":"F7305*memoria!$B$44/(G7305*12*memoria!$B$47)","v":{"$error":"#DIV/0!"}},{"$f":"F7305/(G7305*12*memoria!$B$47)","v":{"$error":"#DIV/0!"}}]
[null,null,null,null,null,null,null,{"$f":"F7313*memoria!$B$44/(G7313*12*memoria!$B$47)","v":{"$error":"#DIV/0!"}},{"$f":"F7313/(G7313*12*memoria!$B$47)","v":{"$error":"#DIV/0!"}}]
[null,null,null,null,null,null,null,{"$f":"F7317*memoria!$B$44/(G7317*12*memoria!$B$47)","v":{"$error":"#DIV/0!"}},{"$f":"F7317/(G7317*12*memoria!$B$47)","v":{"$error":"#DIV/0!"}}]
[null,null,null,null,null,null,null,{"$f":"F7322*memoria!$B$44/(G7322*12*memoria!$B$47)","v":{"$error":"#DIV/0!"}},{"$f":"F7322/(G7322*12*memoria!$B$47)","v":{"$error":"#DIV/0!"}}]
[null,null,null,null,null,null,null,{"$f":"F7328*memoria!$B$44/(G7328*12*memoria!$B$47)","v":{"$error":"#DIV/0!"}},{"$f":"F7328/(G7328*12*memoria!$B$47)","v":{"$error":"#DIV/0!"}}]
[null,null,null,null,null,null,null,{"$f":"F7333*memoria!$B$44/(G7333*12*memoria!$B$47)","v":{"$error":"#DIV/0!"}},{"$f":"F7333/(G7333*12*memoria!$B$47)","v":{"$error":"#DIV/0!"}}]
[null,null,null,null,null,null,null,{"$f":"F7339*memoria!$B$44/(G7339*12*memoria!$B$47)","v":{"$error":"#DIV/0!"}},{"$f":"F7339/(G7339*12*memoria!$B$47)","v":{"$error":"#DIV/0!"}}]
[null,null,null,null,null,null,null,{"$f":"F7344*memoria!$B$44/(G7344*12*memoria!$B$47)","v":{"$error":"#DIV/0!"}},{"$f":"F7344/(G7344*12*memoria!$B$47)","v":{"$error":"#DIV/0!"}}]
[null,null,null,null,null,null,null,{"$f":"F7349*memoria!$B$44/(G7349*12*memoria!$B$47)","v":{"$error":"#DIV/0!"}},{"$f":"F7349/(G7349*12*memoria!$B$47)","v":{"$error":"#DIV/0!"}}]
[null,null,null,null,null,null,null,{"$f":"F7350*memoria!$B$44/(G7350*12*memoria!$B$47)","v":{"$error":"#DIV/0!"}},{"$f":"F7350/(G7350*12*memoria!$B$47)","v":{"$error":"#DIV/0!"}}]
[null,null,null,null,null,null,null,{"$f":"F7356*memoria!$B$44/(G7356*12*memoria!$B$47)","v":{"$error":"#DIV/0!"}},{"$f":"F7356/(G7356*12*memoria!$B$47)","v":{"$error":"#DIV/0!"}}]
[null,null,null,null,null,null,null,{"$f":"F7361*memoria!$B$44/(G7361*12*memoria!$B$47)","v":{"$error":"#DIV/0!"}},{"$f":"F7361/(G7361*12*memoria!$B$47)","v":{"$error":"#DIV/0!"}}]
[null,null,null,null,null,null,null,{"$f":"F7367*memoria!$B$44/(G7367*12*memoria!$B$47)","v":{"$error":"#DIV/0!"}},{"$f":"F7367/(G7367*12*memoria!$B$47)","v":{"$error":"#DIV/0!"}}]
[null,null,null,null,null,null,null,{"$f":"F7372*memoria!$B$44/(G7372*12*memoria!$B$47)","v":{"$error":"#DIV/0!"}},{"$f":"F7372/(G7372*12*memoria!$B$47)","v":{"$error":"#DIV/0!"}}]
[null,null,null,null,null,null,null,{"$f":"F7378*memoria!$B$44/(G7378*12*memoria!$B$47)","v":{"$error":"#DIV/0!"}},{"$f":"F7378/(G7378*12*memoria!$B$47)","v":{"$error":"#DIV/0!"}}]
[null,null,null,null,null,null,null,{"$f":"F7383*memoria!$B$44/(G7383*12*memoria!$B$47)","v":{"$error":"#DIV/0!"}},{"$f":"F7383/(G7383*12*memoria!$B$47)","v":{"$error":"#DIV/0!"}}]
[null,null,null,null,null,null,null,{"$f":"F7388*memoria!$B$44/(G7388*12*memoria!$B$47)","v":{"$error":"#DIV/0!"}},{"$f":"F7388/(G7388*12*memoria!$B$47)","v":{"$error":"#DIV/0!"}}]
[null,null,null,null,null,null,null,{"$f":"F7394*memoria!$B$44/(G7394*12*memoria!$B$47)","v":{"$error":"#DIV/0!"}},{"$f":"F7394/(G7394*12*memoria!$B$47)","v":{"$error":"#DIV/0!"}}]
[null,null,null,null,null,null,null,{"$f":"F7397*memoria!$B$44/(G7397*12*memoria!$B$47)","v":{"$error":"#DIV/0!"}},{"$f":"F7397/(G7397*12*memoria!$B$47)","v":{"$error":"#DIV/0!"}}]
[null,null,null,null,null,null,null,{"$f":"F7405*memoria!$B$44/(G7405*12*memoria!$B$47)","v":{"$error":"#DIV/0!"}},{"$f":"F7405/(G7405*12*memoria!$B$47)","v":{"$error":"#DIV/0!"}}]
[null,null,null,null,null,null,null,{"$f":"F7411*memoria!$B$44/(G7411*12*memoria!$B$47)","v":{"$error":"#DIV/0!"}},{"$f":"F7411/(G7411*12*memoria!$B$47)","v":{"$error":"#DIV/0!"}}]
[null,null,null,null,null,null,null,{"$f":"F7416*memoria!$B$44/(G7416*12*memoria!$B$47)","v":{"$error":"#DIV/0!"}},{"$f":"F7416/(G7416*12*memoria!$B$47)","v":{"$error":"#DIV/0!"}}]
[null,null,null,null,null,null,null,{"$f":"F7417*memoria!$B$44/(G7417*12*memoria!$B$47)","v":{"$error":"#DIV/0!"}},{"$f":"F7417/(G7417*12*memoria!$B$47)","v":{"$error":"#DIV/0!"}}]
[null,null,null,null,null,null,null,{"$f":"F7422*memoria!$B$44/(G7422*12*memoria!$B$47)","v":{"$error":"#DIV/0!"}},{"$f":"F7422/(G7422*12*memoria!$B$47)","v":{"$error":"#DIV/0!"}}]
[null,null,null,null,null,null,null,{"$f":"F7427*memoria!$B$44/(G7427*12*memoria!$B$47)","v":{"$error":"#DIV/0!"}},{"$f":"F7427/(G7427*12*memoria!$B$47)","v":{"$error":"#DIV/0!"}}]
[null,null,null,null,null,null,null,{"$f":"F7433*memoria!$B$44/(G7433*12*memoria!$B$47)","v":{"$error":"#DIV/0!"}},{"$f":"F7433/(G7433*12*memoria!$B$47)","v":{"$error":"#DIV/0!"}}]
[null,null,null,null,null,null,null,{"$f":"F7438*memoria!$B$44/(G7438*12*memoria!$B$47)","v":{"$error":"#DIV/0!"}},{"$f":"F7438/(G7438*12*memoria!$B$47)","v":{"$error":"#DIV/0!"}}]
[null,null,null,null,null,null,null,{"$f":"F7445*memoria!$B$44/(G7445*12*memoria!$B$47)","v":{"$error":"#DIV/0!"}},{"$f":"F7445/(G7445*12*memoria!$B$47)","v":{"$error":"#DIV/0!"}}]
[null,null,null,null,null,null,null,{"$f":"F7450*memoria!$B$44/(G7450*12*memoria!$B$47)","v":{"$error":"#DIV/0!"}},{"$f":"F7450/(G7450*12*memoria!$B$47)","v":{"$error":"#DIV/0!"}}]
[null,null,null,null,null,null,null,{"$f":"F7455*memoria!$B$44/(G7455*12*memoria!$B$47)","v":{"$error":"#DIV/0!"}},{"$f":"F7455/(G7455*12*memoria!$B$47)","v":{"$error":"#DIV/0!"}}]
[null,null,null,null,null,null,null,{"$f":"F7461*memoria!$B$44/(G7461*12*memoria!$B$47)","v":{"$error":"#DIV/0!"}},{"$f":"F7461/(G7461*12*memoria!$B$47)","v":{"$error":"#DIV/0!"}}]
[null,null,null,null,null,null,null,{"$f":"F7466*memoria!$B$44/(G7466*12*memoria!$B$47)","v":{"$error":"#DIV/0!"}},{"$f":"F7466/(G7466*12*memoria!$B$47)","v":{"$error":"#DIV/0!"}}]
[null,null,null,null,null,null,null,{"$f":"F7471*memoria!$B$44/(G7471*12*memoria!$B$47)","v":{"$error":"#DIV/0!"}},{"$f":"F7471/(G7471*12*memoria!$B$47)","v":{"$error":"#DIV/0!"}}]
[null,null,null,null,null,null,null,{"$f":"F7477*memoria!$B$44/(G7477*12*memoria!$B$47)","v":{"$error":"#DIV/0!"}},{"$f":"F7477/(G7477*12*memoria!$B$47)","v":{"$error":"#DIV/0!"}}]
[null,null,null,null,null,null,null,{"$f":"F7482*memoria!$B$44/(G7482*12*memoria!$B$47)","v":{"$error":"#DIV/0!"}},{"$f":"F7482/(G7482*12*memoria!$B$47)","v":{"$error":"#DIV/0!"}}]
[null,null,null,null,null,null,null,{"$f":"F7485*memoria!$B$44/(G7485*12*memoria!$B$47)","v":{"$error":"#DIV/0!"}},{"$f":"F7485/(G7485*12*memoria!$B$47)","v":{"$error":"#DIV/0!"}}]
[null,null,null,null,null,null,null,{"$f":"F7489*memoria!$B$44/(G7489*12*memoria!$B$47)","v":{"$error":"#DIV/0!"}},{"$f":"F7489/(G7489*12*memoria!$B$47)","v":{"$error":"#DIV/0!"}}]
[null,null,null,null,null,null,null,{"$f":"F7494*memoria!$B$44/(G7494*12*memoria!$B$47)","v":{"$error":"#DIV/0!"}},{"$f":"F7494/(G7494*12*memoria!$B$47)","v":{"$error":"#DIV/0!"}}]
[null,null,null,null,null,null,null,{"$f":"F7500*memoria!$B$44/(G7500*12*memoria!$B$47)","v":{"$error":"#DIV/0!"}},{"$f":"F7500/(G7500*12*memoria!$B$47)","v":{"$error":"#DIV/0!"}}]
[null,null,null,null,null,null,null,{"$f":"F7505*memoria!$B$44/(G7505*12*memoria!$B$47)","v":{"$error":"#DIV/0!"}},{"$f":"F7505/(G7505*12*memoria!$B$47)","v":{"$error":"#DIV/0!"}}]
[null,null,null,null,null,null,null,{"$f":"F7510*memoria!$B$44/(G7510*12*memoria!$B$47)","v":{"$error":"#DIV/0!"}},{"$f":"F7510/(G7510*12*memoria!$B$47)","v":{"$error":"#DIV/0!"}}]
[null,null,null,null,null,null,null,{"$f":"F7516*memoria!$B$44/(G7516*12*memoria!$B$47)","v":{"$error":"#DIV/0!"}},{"$f":"F7516/(G7516*12*memoria!$B$47)","v":{"$error":"#DIV/0!"}}]
[null,null,null,null,null,null,null,{"$f":"F7521*memoria!$B$44/(G7521*12*memoria!$B$47)","v":{"$error":"#DIV/0!"}},{"$f":"F7521/(G7521*12*memoria!$B$47)","v":{"$error":"#DIV/0!"}}]
[null,null,null,null,null,null,null,{"$f":"F7526*memoria!$B$44/(G7526*12*memoria!$B$47)","v":{"$error":"#DIV/0!"}},{"$f":"F7526/(G7526*12*memoria!$B$47)","v":{"$error":"#DIV/0!"}}]
[null,null,null,null,null,null,null,{"$f":"F7533*memoria!$B$44/(G7533*12*memoria!$B$47)","v":{"$error":"#DIV/0!"}},{"$f":"F7533/(G7533*12*memoria!$B$47)","v":{"$error":"#DIV/0!"}}]
[null,null,null,null,null,null,null,{"$f":"F7538*memoria!$B$44/(G7538*12*memoria!$B$47)","v":{"$error":"#DIV/0!"}},{"$f":"F7538/(G7538*12*memoria!$B$47)","v":{"$error":"#DIV/0!"}}]
[null,null,null,null,null,null,null,{"$f":"F7544*memoria!$B$44/(G7544*12*memoria!$B$47)","v":{"$error":"#DIV/0!"}},{"$f":"F7544/(G7544*12*memoria!$B$47)","v":{"$error":"#DIV/0!"}}]
[null,null,null,null,null,null,null,{"$f":"F7549*memoria!$B$44/(G7549*12*memoria!$B$47)","v":{"$error":"#DIV/0!"}},{"$f":"F7549/(G7549*12*memoria!$B$47)","v":{"$error":"#DIV/0!"}}]
[null,null,null,null,null,null,null,{"$f":"F7550*memoria!$B$44/(G7550*12*memoria!$B$47)","v":{"$error":"#DIV/0!"}},{"$f":"F7550/(G7550*12*memoria!$B$47)","v":{"$error":"#DIV/0!"}}]
[null,null,null,null,null,null,null,{"$f":"F7555*memoria!$B$44/(G7555*12*memoria!$B$47)","v":{"$error":"#DIV/0!"}},{"$f":"F7555/(G7555*12*memoria!$B$47)","v":{"$error":"#DIV/0!"}}]
[null,null,null,null,null,null,null,{"$f":"F7560*memoria!$B$44/(G7560*12*memoria!$B$47)","v":{"$error":"#DIV/0!"}},{"$f":"F7560/(G7560*12*memoria!$B$47)","v":{"$error":"#DIV/0!"}}]
[null,null,null,null,null,null,null,{"$f":"F7567*memoria!$B$44/(G7567*12*memoria!$B$47)","v":{"$error":"#DIV/0!"}},{"$f":"F7567/(G7567*12*memoria!$B$47)","v":{"$error":"#DIV/0!"}}]
[null,null,null,null,null,null,null,{"$f":"F7572*memoria!$B$44/(G7572*12*memoria!$B$47)","v":{"$error":"#DIV/0!"}},{"$f":"F7572/(G7572*12*memoria!$B$47)","v":{"$error":"#DIV/0!"}}]
[null,null,null,null,null,null,null,{"$f":"F7577*memoria!$B$44/(G7577*12*memoria!$B$47)","v":{"$error":"#DIV/0!"}},{"$f":"F7577/(G7577*12*memoria!$B$47)","v":{"$error":"#DIV/0!"}}]
[null,null,null,null,null,null,null,{"$f":"F7583*memoria!$B$44/(G7583*12*memoria!$B$47)","v":{"$error":"#DIV/0!"}},{"$f":"F7583/(G7583*12*memoria!$B$47)","v":{"$error":"#DIV/0!"}}]
[null,null,null,null,null,null,null,{"$f":"F7588*memoria!$B$44/(G7588*12*memoria!$B$47)","v":{"$error":"#DIV/0!"}},{"$f":"F7588/(G7588*12*memoria!$B$47)","v":{"$error":"#DIV/0!"}}]
[null,null,null,null,null,null,null,{"$f":"F7594*memoria!$B$44/(G7594*12*memoria!$B$47)","v":{"$error":"#DIV/0!"}},{"$f":"F7594/(G7594*12*memoria!$B$47)","v":{"$error":"#DIV/0!"}}]
[null,null,null,null,null,null,null,{"$f":"F7599*memoria!$B$44/(G7599*12*memoria!$B$47)","v":{"$error":"#DIV/0!"}},{"$f":"F7599/(G7599*12*memoria!$B$47)","v":{"$error":"#DIV/0!"}}]
[null,null,null,null,null,null,null,{"$f":"F7604*memoria!$B$44/(G7604*12*memoria!$B$47)","v":{"$error":"#DIV/0!"}},{"$f":"F7604/(G7604*12*memoria!$B$47)","v":{"$error":"#DIV/0!"}}]
[null,null,null,null,null,null,null,{"$f":"F7610*memoria!$B$44/(G7610*12*memoria!$B$47)","v":{"$error":"#DIV/0!"}},{"$f":"F7610/(G7610*12*memoria!$B$47)","v":{"$error":"#DIV/0!"}}]
[null,null,null,null,null,null,null,{"$f":"F7616*memoria!$B$44/(G7616*12*memoria!$B$47)","v":{"$error":"#DIV/0!"}},{"$f":"F7616/(G7616*12*memoria!$B$47)","v":{"$error":"#DIV/0!"}}]
[null,null,null,null,null,null,null,{"$f":"F7617*memoria!$B$44/(G7617*12*memoria!$B$47)","v":{"$error":"#DIV/0!"}},{"$f":"F7617/(G7617*12*memoria!$B$47)","v":{"$error":"#DIV/0!"}}]
[null,null,null,null,null,null,null,{"$f":"F7622*memoria!$B$44/(G7622*12*memoria!$B$47)","v":{"$error":"#DIV/0!"}},{"$f":"F7622/(G7622*12*memoria!$B$47)","v":{"$error":"#DIV/0!"}}]
[null,null,null,null,null,null,null,{"$f":"F7627*memoria!$B$44/(G7627*12*memoria!$B$47)","v":{"$error":"#DIV/0!"}},{"$f":"F7627/(G7627*12*memoria!$B$47)","v":{"$error":"#DIV/0!"}}]
[null,null,null,null,null,null,null,{"$f":"F7633*memoria!$B$44/(G7633*12*memoria!$B$47)","v":{"$error":"#DIV/0!"}},{"$f":"F7633/(G7633*12*memoria!$B$47)","v":{"$error":"#DIV/0!"}}]
[null,null,null,null,null,null,null,{"$f":"F7638*memoria!$B$44/(G7638*12*memoria!$B$47)","v":{"$error":"#DIV/0!"}},{"$f":"F7638/(G7638*12*memoria!$B$47)","v":{"$error":"#DIV/0!"}}]
[null,null,null,null,null,null,null,{"$f":"F7643*memoria!$B$44/(G7643*12*memoria!$B$47)","v":{"$error":"#DIV/0!"}},{"$f":"F7643/(G7643*12*memoria!$B$47)","v":{"$error":"#DIV/0!"}}]
[null,null,null,null,null,null,null,{"$f":"F7649*memoria!$B$44/(G7649*12*memoria!$B$47)","v":{"$error":"#DIV/0!"}},{"$f":"F7649/(G7649*12*memoria!$B$47)","v":{"$error":"#DIV/0!"}}]
[null,null,null,null,null,null,null,{"$f":"F7657*memoria!$B$44/(G7657*12*memoria!$B$47)","v":{"$error":"#DIV/0!"}},{"$f":"F7657/(G7657*12*memoria!$B$47)","v":{"$error":"#DIV/0!"}}]
[null,null,null,null,null,null,null,{"$f":"F7661*memoria!$B$44/(G7661*12*memoria!$B$47)","v":{"$error":"#DIV/0!"}},{"$f":"F7661/(G7661*12*memoria!$B$47)","v":{"$error":"#DIV/0!"}}]
[null,null,null,null,null,null,null,{"$f":"F7666*memoria!$B$44/(G7666*12*memoria!$B$47)","v":{"$error":"#DIV/0!"}},{"$f":"F7666/(G7666*12*memoria!$B$47)","v":{"$error":"#DIV/0!"}}]
[null,null,null,null,null,null,null,{"$f":"F7671*memoria!$B$44/(G7671*12*memoria!$B$47)","v":{"$error":"#DIV/0!"}},{"$f":"F7671/(G7671*12*memoria!$B$47)","v":{"$error":"#DIV/0!"}}]
[null,null,null,null,null,null,null,{"$f":"F7677*memoria!$B$44/(G7677*12*memoria!$B$47)","v":{"$error":"#DIV/0!"}},{"$f":"F7677/(G7677*12*memoria!$B$47)","v":{"$error":"#DIV/0!"}}]
[null,null,null,null,null,null,null,{"$f":"F7682*memoria!$B$44/(G7682*12*memoria!$B$47)","v":{"$error":"#DIV/0!"}},{"$f":"F7682/(G7682*12*memoria!$B$47)","v":{"$error":"#DIV/0!"}}]
[null,null,null,null,null,null,null,{"$f":"F7687*memoria!$B$44/(G7687*12*memoria!$B$47)","v":{"$error":"#DIV/0!"}},{"$f":"F7687/(G7687*12*memoria!$B$47)","v":{"$error":"#DIV/0!"}}]
[null,null,null,null,null,null,null,{"$f":"F7688*memoria!$B$44/(G7688*12*memoria!$B$47)","v":{"$error":"#DIV/0!"}},{"$f":"F7688/(G7688*12*memoria!$B$47)","v":{"$error":"#DIV/0!"}}]
[null,null,null,null,null,null,null,{"$f":"F7698*memoria!$B$44/(G7698*12*memoria!$B$47)","v":{"$error":"#DIV/0!"}},{"$f":"F7698/(G7698*12*memoria!$B$47)","v":{"$error":"#DIV/0!"}}]
[null,null,null,null,null,null,null,{"$f":"F7700*memoria!$B$44/(G7700*12*memoria!$B$47)","v":{"$error":"#DIV/0!"}},{"$f":"F7700/(G7700*12*memoria!$B$47)","v":{"$error":"#DIV/0!"}}]
[null,null,null,null,null,null,null,{"$f":"F7705*memoria!$B$44/(G7705*12*memoria!$B$47)","v":{"$error":"#DIV/0!"}},{"$f":"F7705/(G7705*12*memoria!$B$47)","v":{"$error":"#DIV/0!"}}]
[null,null,null,null,null,null,null,{"$f":"F7710*memoria!$B$44/(G7710*12*memoria!$B$47)","v":{"$error":"#DIV/0!"}},{"$f":"F7710/(G7710*12*memoria!$B$47)","v":{"$error":"#DIV/0!"}}]
[null,null,null,null,null,null,null,{"$f":"F7716*memoria!$B$44/(G7716*12*memoria!$B$47)","v":{"$error":"#DIV/0!"}},{"$f":"F7716/(G7716*12*memoria!$B$47)","v":{"$error":"#DIV/0!"}}]
[null,null,null,null,null,null,null,{"$f":"F7721*memoria!$B$44/(G7721*12*memoria!$B$47)","v":{"$error":"#DIV/0!"}},{"$f":"F7721/(G7721*12*memoria!$B$47)","v":{"$error":"#DIV/0!"}}]
[null,null,null,null,null,null,null,{"$f":"F7727*memoria!$B$44/(G7727*12*memoria!$B$47)","v":{"$error":"#DIV/0!"}},{"$f":"F7727/(G7727*12*memoria!$B$47)","v":{"$error":"#DIV/0!"}}]
[null,null,null,null,null,null,null,{"$f":"F7732*memoria!$B$44/(G7732*12*memoria!$B$47)","v":{"$error":"#DIV/0!"}},{"$f":"F7732/(G7732*12*memoria!$B$47)","v":{"$error":"#DIV/0!"}}]
[null,null,null,null,null,null,null,{"$f":"F7737*memoria!$B$44/(G7737*12*memoria!$B$47)","v":{"$error":"#DIV/0!"}},{"$f":"F7737/(G7737*12*memoria!$B$47)","v":{"$error":"#DIV/0!"}}]
[null,null,null,null,null,null,null,{"$f":"F7739*memoria!$B$44/(G7739*12*memoria!$B$47)","v":{"$error":"#DIV/0!"}},{"$f":"F7739/(G7739*12*memoria!$B$47)","v":{"$error":"#DIV/0!"}}]
[null,null,null,null,null,null,null,{"$f":"F7749*memoria!$B$44/(G7749*12*memoria!$B$47)","v":{"$error":"#DIV/0!"}},{"$f":"F7749/(G7749*12*memoria!$B$47)","v":{"$error":"#DIV/0!"}}]
[null,null,null,null,null,null,null,{"$f":"F7754*memoria!$B$44/(G7754*12*memoria!$B$47)","v":{"$error":"#DIV/0!"}},{"$f":"F7754/(G7754*12*memoria!$B$47)","v":{"$error":"#DIV/0!"}}]
[null,null,null,null,null,null,null,{"$f":"F7755*memoria!$B$44/(G7755*12*memoria!$B$47)","v":{"$error":"#DIV/0!"}},{"$f":"F7755/(G7755*12*memoria!$B$47)","v":{"$error":"#DIV/0!"}}]
[null,null,null,null,null,null,null,{"$f":"F7760*memoria!$B$44/(G7760*12*memoria!$B$47)","v":{"$error":"#DIV/0!"}},{"$f":"F7760/(G7760*12*memoria!$B$47)","v":{"$error":"#DIV/0!"}}]
[null,null,null,null,null,null,null,{"$f":"F7766*memoria!$B$44/(G7766*12*memoria!$B$47)","v":{"$error":"#DIV/0!"}},{"$f":"F7766/(G7766*12*memoria!$B$47)","v":{"$error":"#DIV/0!"}}]
[null,null,null,null,null,null,null,{"$f":"F7771*memoria!$B$44/(G7771*12*memoria!$B$47)","v":{"$error":"#DIV/0!"}},{"$f":"F7771/(G7771*12*memoria!$B$47)","v":{"$error":"#DIV/0!"}}]
[null,null,null,null,null,null,null,{"$f":"F7776*memoria!$B$44/(G7776*12*memoria!$B$47)","v":{"$error":"#DIV/0!"}},{"$f":"F7776/(G7776*12*memoria!$B$47)","v":{"$error":"#DIV/0!"}}]
[null,null,null,null,null,null,null,{"$f":"F7780*memoria!$B$44/(G7780*12*memoria!$B$47)","v":{"$error":"#DIV/0!"}},{"$f":"F7780/(G7780*12*memoria!$B$47)","v":{"$error":"#DIV/0!"}}]
[null,null,null,null,null,null,null,{"$f":"F7788*memoria!$B$44/(G7788*12*memoria!$B$47)","v":{"$error":"#DIV/0!"}},{"$f":"F7788/(G7788*12*memoria!$B$47)","v":{"$error":"#DIV/0!"}}]
[null,null,null,null,null,null,null,{"$f":"F7794*memoria!$B$44/(G7794*12*memoria!$B$47)","v":{"$error":"#DIV/0!"}},{"$f":"F7794/(G7794*12*memoria!$B$47)","v":{"$error":"#DIV/0!"}}]
[null,null,null,null,null,null,null,{"$f":"F7799*memoria!$B$44/(G7799*12*memoria!$B$47)","v":{"$error":"#DIV/0!"}},{"$f":"F7799/(G7799*12*memoria!$B$47)","v":{"$error":"#DIV/0!"}}]
[null,null,null,null,null,null,null,{"$f":"F7804*memoria!$B$44/(G7804*12*memoria!$B$47)","v":{"$error":"#DIV/0!"}},{"$f":"F7804/(G7804*12*memoria!$B$47)","v":{"$error":"#DIV/0!"}}]
[null,null,null,null,null,null,null,{"$f":"F7810*memoria!$B$44/(G7810*12*memoria!$B$47)","v":{"$error":"#DIV/0!"}},{"$f":"F7810/(G7810*12*memoria!$B$47)","v":{"$error":"#DIV/0!"}}]
[null,null,null,null,null,null,null,{"$f":"F7815*memoria!$B$44/(G7815*12*memoria!$B$47)","v":{"$error":"#DIV/0!"}},{"$f":"F7815/(G7815*12*memoria!$B$47)","v":{"$error":"#DIV/0!"}}]
[null,null,null,null,null,null,null,{"$f":"F7820*memoria!$B$44/(G7820*12*memoria!$B$47)","v":{"$error":"#DIV/0!"}},{"$f":"F7820/(G7820*12*memoria!$B$47)","v":{"$error":"#DIV/0!"}}]
[null,null,null,null,null,null,null,{"$f":"F7821*memoria!$B$44/(G7821*12*memoria!$B$47)","v":{"$error":"#DIV/0!"}},{"$f":"F7821/(G7821*12*memoria!$B$47)","v":{"$error":"#DIV/0!"}}]
[null,null,null,null,null,null,null,{"$f":"F7829*memoria!$B$44/(G7829*12*memoria!$B$47)","v":{"$error":"#DIV/0!"}},{"$f":"F7829/(G7829*12*memoria!$B$47)","v":{"$error":"#DIV/0!"}}]
[null,null,null,null,null,null,null,{"$f":"F7833*memoria!$B$44/(G7833*12*memoria!$B$47)","v":{"$error":"#DIV/0!"}},{"$f":"F7833/(G7833*12*memoria!$B$47)","v":{"$error":"#DIV/0!"}}]
[null,null,null,null,null,null,null,{"$f":"F7838*memoria!$B$44/(G7838*12*memoria!$B$47)","v":{"$error":"#DIV/0!"}},{"$f":"F7838/(G7838*12*memoria!$B$47)","v":{"$error":"#DIV/0!"}}]
[null,null,null,null,null,null,null,{"$f":"F7843*memoria!$B$44/(G7843*12*memoria!$B$47)","v":{"$error":"#DIV/0!"}},{"$f":"F7843/(G7843*12*memoria!$B$47)","v":{"$error":"#DIV/0!"}}]
[null,null,null,null,null,null,null,{"$f":"F7849*memoria!$B$44/(G7849*12*memoria!$B$47)","v":{"$error":"#DIV/0!"}},{"$f":"F7849/(G7849*12*memoria!$B$47)","v":{"$error":"#DIV/0!"}}]
[null,null,null,null,null,null,null,{"$f":"F7854*memoria!$B$44/(G7854*12*memoria!$B$47)","v":{"$error":"#DIV/0!"}},{"$f":"F7854/(G7854*12*memoria!$B$47)","v":{"$error":"#DIV/0!"}}]
[null,null,null,null,null,null,null,{"$f":"F7859*memoria!$B$44/(G7859*12*memoria!$B$47)","v":{"$error":"#DIV/0!"}},{"$f":"F7859/(G7859*12*memoria!$B$47)","v":{"$error":"#DIV/0!"}}]
[null,null,null,null,null,null,null,{"$f":"F7865*memoria!$B$44/(G7865*12*memoria!$B$47)","v":{"$error":"#DIV/0!"}},{"$f":"F7865/(G7865*12*memoria!$B$47)","v":{"$error":"#DIV/0!"}}]
[null,null,null,null,null,null,null,{"$f":"F7870*memoria!$B$44/(G7870*12*memoria!$B$47)","v":{"$error":"#DIV/0!"}},{"$f":"F7870/(G7870*12*memoria!$B$47)","v":{"$error":"#DIV/0!"}}]
[null,null,null,null,null,null,null,{"$f":"F7877*memoria!$B$44/(G7877*12*memoria!$B$47)","v":{"$error":"#DIV/0!"}},{"$f":"F7877/(G7877*12*memoria!$B$47)","v":{"$error":"#DIV/0!"}}]
[null,null,null,null,null,null,null,{"$f":"F7882*memoria!$B$44/(G7882*12*memoria!$B$47)","v":{"$error":"#DIV/0!"}},{"$f":"F7882/(G7882*12*memoria!$B$47)","v":{"$error":"#DIV/0!"}}]
[null,null,null,null,null,null,null,{"$f":"F7887*memoria!$B$44/(G7887*12*memoria!$B$47)","v":{"$error":"#DIV/0!"}},{"$f":"F7887/(G7887*12*memoria!$B$47)","v":{"$error":"#DIV/0!"}}]
[null,null,null,null,null,null,null,{"$f":"F7888*memoria!$B$44/(G7888*12*memoria!$B$47)","v":{"$error":"#DIV/0!"}},{"$f":"F7888/(G7888*12*memoria!$B$47)","v":{"$error":"#DIV/0!"}}]
[null,null,null,null,null,null,null,{"$f":"F7893*memoria!$B$44/(G7893*12*memoria!$B$47)","v":{"$error":"#DIV/0!"}},{"$f":"F7893/(G7893*12*memoria!$B$47)","v":{"$error":"#DIV/0!"}}]
[null,null,null,null,null,null,null,{"$f":"F7899*memoria!$B$44/(G7899*12*memoria!$B$47)","v":{"$error":"#DIV/0!"}},{"$f":"F7899/(G7899*12*memoria!$B$47)","v":{"$error":"#DIV/0!"}}]
[null,null,null,null,null,null,null,{"$f":"F7904*memoria!$B$44/(G7904*12*memoria!$B$47)","v":{"$error":"#DIV/0!"}},{"$f":"F7904/(G7904*12*memoria!$B$47)","v":{"$error":"#DIV/0!"}}]
[null,null,null,null,null,null,null,{"$f":"F7911*memoria!$B$44/(G7911*12*memoria!$B$47)","v":{"$error":"#DIV/0!"}},{"$f":"F7911/(G7911*12*memoria!$B$47)","v":{"$error":"#DIV/0!"}}]
[null,null,null,null,null,null,null,{"$f":"F7916*memoria!$B$44/(G7916*12*memoria!$B$47)","v":{"$error":"#DIV/0!"}},{"$f":"F7916/(G7916*12*memoria!$B$47)","v":{"$error":"#DIV/0!"}}]
[null,null,null,null,null,null,null,{"$f":"F7921*memoria!$B$44/(G7921*12*memoria!$B$47)","v":{"$error":"#DIV/0!"}},{"$f":"F7921/(G7921*12*memoria!$B$47)","v":{"$error":"#DIV/0!"}}]
[null,null,null,null,null,null,null,{"$f":"F7926*memoria!$B$44/(G7926*12*memoria!$B$47)","v":{"$error":"#DIV/0!"}},{"$f":"F7926/(G7926*12*memoria!$B$47)","v":{"$error":"#DIV/0!"}}]
[null,null,null,null,null,null,null,{"$f":"F7932*memoria!$B$44/(G7932*12*memoria!$B$47)","v":{"$error":"#DIV/0!"}},{"$f":"F7932/(G7932*12*memoria!$B$47)","v":{"$error":"#DIV/0!"}}]
[null,null,null,null,null,null,null,{"$f":"F7937*memoria!$B$44/(G7937*12*memoria!$B$47)","v":{"$error":"#DIV/0!"}},{"$f":"F7937/(G7937*12*memoria!$B$47)","v":{"$error":"#DIV/0!"}}]
[null,null,null,null,null,null,null,{"$f":"F7943*memoria!$B$44/(G7943*12*memoria!$B$47)","v":{"$error":"#DIV/0!"}},{"$f":"F7943/(G7943*12*memoria!$B$47)","v":{"$error":"#DIV/0!"}}]
[null,null,null,null,null,null,null,{"$f":"F7948*memoria!$B$44/(G7948*12*memoria!$B$47)","v":{"$error":"#DIV/0!"}},{"$f":"F7948/(G7948*12*memoria!$B$47)","v":{"$error":"#DIV/0!"}}]
[null,null,null,null,null,null,null,{"$f":"F7953*memoria!$B$44/(G7953*12*memoria!$B$47)","v":{"$error":"#DIV/0!"}},{"$f":"F7953/(G7953*12*memoria!$B$47)","v":{"$error":"#DIV/0!"}}]
[null,null,null,null,null,null,null,{"$f":"F7958*memoria!$B$44/(G7958*12*memoria!$B$47)","v":{"$error":"#DIV/0!"}},{"$f":"F7958/(G7958*12*memoria!$B$47)","v":{"$error":"#DIV/0!"}}]
[null,null,null,null,null,null,null,{"$f":"F7960*memoria!$B$44/(G7960*12*memoria!$B$47)","v":{"$error":"#DIV/0!"}},{"$f":"F7960/(G7960*12*memoria!$B$47)","v":{"$error":"#DIV/0!"}}]
[null,null,null,null,null,null,null,{"$f":"F7965*memoria!$B$44/(G7965*12*memoria!$B$47)","v":{"$error":"#DIV/0!"}},{"$f":"F7965/(G7965*12*memoria!$B$47)","v":{"$error":"#DIV/0!"}}]
[null,null,null,null,null,null,null,{"$f":"F7971*memoria!$B$44/(G7971*12*memoria!$B$47)","v":{"$error":"#DIV/0!"}},{"$f":"F7971/(G7971*12*memoria!$B$47)","v":{"$error":"#DIV/0!"}}]
[null,null,null,null,null,null,null,{"$f":"F7976*memoria!$B$44/(G7976*12*memoria!$B$47)","v":{"$error":"#DIV/0!"}},{"$f":"F7976/(G7976*12*memoria!$B$47)","v":{"$error":"#DIV/0!"}}]
[null,null,null,null,null,null,null,{"$f":"F7982*memoria!$B$44/(G7982*12*memoria!$B$47)","v":{"$error":"#DIV/0!"}},{"$f":"F7982/(G7982*12*memoria!$B$47)","v":{"$error":"#DIV/0!"}}]
[null,null,null,null,null,null,null,{"$f":"F7987*memoria!$B$44/(G7987*12*memoria!$B$47)","v":{"$error":"#DIV/0!"}},{"$f":"F7987/(G7987*12*memoria!$B$47)","v":{"$error":"#DIV/0!"}}]
[null,null,null,null,null,null,null,{"$f":"F7992*memoria!$B$44/(G7992*12*memoria!$B$47)","v":{"$error":"#DIV/0!"}},{"$f":"F7992/(G7992*12*memoria!$B$47)","v":{"$error":"#DIV/0!"}}]
[null,null,null,null,null,null,null,{"$f":"F7999*memoria!$B$44/(G7999*12*memoria!$B$47)","v":{"$error":"#DIV/0!"}},{"$f":"F7999/(G7999*12*memoria!$B$47)","v":{"$error":"#DIV/0!"}}]
[null,null,null,null,null,null,null,{"$f":"F8004*memoria!$B$44/(G8004*12*memoria!$B$47)","v":{"$error":"#DIV/0!"}},{"$f":"F8004/(G8004*12*memoria!$B$47)","v":{"$error":"#DIV/0!"}}]
[null,null,null,null,null,null,null,{"$f":"F8010*memoria!$B$44/(G8010*12*memoria!$B$47)","v":{"$error":"#DIV/0!"}},{"$f":"F8010/(G8010*12*memoria!$B$47)","v":{"$error":"#DIV/0!"}}]
[null,null,null,null,null,null,null,{"$f":"F8015*memoria!$B$44/(G8015*12*memoria!$B$47)","v":{"$error":"#DIV/0!"}},{"$f":"F8015/(G8015*12*memoria!$B$47)","v":{"$error":"#DIV/0!"}}]
[null,null,null,null,null,null,null,{"$f":"F8020*memoria!$B$44/(G8020*12*memoria!$B$47)","v":{"$error":"#DIV/0!"}},{"$f":"F8020/(G8020*12*memoria!$B$47)","v":{"$error":"#DIV/0!"}}]
[null,null,null,null,null,null,null,{"$f":"F8021*memoria!$B$44/(G8021*12*memoria!$B$47)","v":{"$error":"#DIV/0!"}},{"$f":"F8021/(G8021*12*memoria!$B$47)","v":{"$error":"#DIV/0!"}}]
[null,null,null,null,null,null,null,{"$f":"F8026*memoria!$B$44/(G8026*12*memoria!$B$47)","v":{"$error":"#DIV/0!"}},{"$f":"F8026/(G8026*12*memoria!$B$47)","v":{"$error":"#DIV/0!"}}]
[null,null,null,null,null,null,null,{"$f":"F8031*memoria!$B$44/(G8031*12*memoria!$B$47)","v":{"$error":"#DIV/0!"}},{"$f":"F8031/(G8031*12*memoria!$B$47)","v":{"$error":"#DIV/0!"}}]
[null,null,null,null,null,null,null,{"$f":"F8040*memoria!$B$44/(G8040*12*memoria!$B$47)","v":{"$error":"#DIV/0!"}},{"$f":"F8040/(G8040*12*memoria!$B$47)","v":{"$error":"#DIV/0!"}}]
[null,null,null,null,null,null,null,{"$f":"F8043*memoria!$B$44/(G8043*12*memoria!$B$47)","v":{"$error":"#DIV/0!"}},{"$f":"F8043/(G8043*12*memoria!$B$47)","v":{"$error":"#DIV/0!"}}]
[null,null,null,null,null,null,null,{"$f":"F8049*memoria!$B$44/(G8049*12*memoria!$B$47)","v":{"$error":"#DIV/0!"}},{"$f":"F8049/(G8049*12*memoria!$B$47)","v":{"$error":"#DIV/0!"}}]
[null,null,null,null,null,null,null,{"$f":"F8054*memoria!$B$44/(G8054*12*memoria!$B$47)","v":{"$error":"#DIV/0!"}},{"$f":"F8054/(G8054*12*memoria!$B$47)","v":{"$error":"#DIV/0!"}}]
[null,null,null,null,null,null,null,{"$f":"F8059*memoria!$B$44/(G8059*12*memoria!$B$47)","v":{"$error":"#DIV/0!"}},{"$f":"F8059/(G8059*12*memoria!$B$47)","v":{"$error":"#DIV/0!"}}]
[null,null,null,null,null,null,null,{"$f":"F8065*memoria!$B$44/(G8065*12*memoria!$B$47)","v":{"$error":"#DIV/0!"}},{"$f":"F8065/(G8065*12*memoria!$B$47)","v":{"$error":"#DIV/0!"}}]
[null,null,null,null,null,null,null,{"$f":"F8070*memoria!$B$44/(G8070*12*memoria!$B$47)","v":{"$error":"#DIV/0!"}},{"$f":"F8070/(G8070*12*memoria!$B$47)","v":{"$error":"#DIV/0!"}}]
[null,null,null,null,null,null,null,{"$f":"F8076*memoria!$B$44/(G8076*12*memoria!$B$47)","v":{"$error":"#DIV/0!"}},{"$f":"F8076/(G8076*12*memoria!$B$47)","v":{"$error":"#DIV/0!"}}]
[null,null,null,null,null,null,null,{"$f":"F8081*memoria!$B$44/(G8081*12*memoria!$B$47)","v":{"$error":"#DIV/0!"}},{"$f":"F8081/(G8081*12*memoria!$B$47)","v":{"$error":"#DIV/0!"}}]
[null,null,null,null,null,null,null,{"$f":"F8083*memoria!$B$44/(G8083*12*memoria!$B$47)","v":{"$error":"#DIV/0!"}},{"$f":"F8083/(G8083*12*memoria!$B$47)","v":{"$error":"#DIV/0!"}}]
[null,null,null,null,null,null,null,{"$f":"F8088*memoria!$B$44/(G8088*12*memoria!$B$47)","v":{"$error":"#DIV/0!"}},{"$f":"F8088/(G8088*12*memoria!$B$47)","v":{"$error":"#DIV/0!"}}]
[null,null,null,null,null,null,null,{"$f":"F8093*memoria!$B$44/(G8093*12*memoria!$B$47)","v":{"$error":"#DIV/0!"}},{"$f":"F8093/(G8093*12*memoria!$B$47)","v":{"$error":"#DIV/0!"}}]
[null,null,null,null,null,null,null,{"$f":"F8098*memoria!$B$44/(G8098*12*memoria!$B$47)","v":{"$error":"#DIV/0!"}},{"$f":"F8098/(G8098*12*memoria!$B$47)","v":{"$error":"#DIV/0!"}}]
[null,null,null,null,null,null,null,{"$f":"F8104*memoria!$B$44/(G8104*12*memoria!$B$47)","v":{"$error":"#DIV/0!"}},{"$f":"F8104/(G8104*12*memoria!$B$47)","v":{"$error":"#DIV/0!"}}]
[null,null,null,null,null,null,null,{"$f":"F8109*memoria!$B$44/(G8109*12*memoria!$B$47)","v":{"$error":"#DIV/0!"}},{"$f":"F8109/(G8109*12*memoria!$B$47)","v":{"$error":"#DIV/0!"}}]
[null,null,null,null,null,null,null,{"$f":"F8115*memoria!$B$44/(G8115*12*memoria!$B$47)","v":{"$error":"#DIV/0!"}},{"$f":"F8115/(G8115*12*memoria!$B$47)","v":{"$error":"#DIV/0!"}}]
[null,null,null,null,null,null,null,{"$f":"F8120*memoria!$B$44/(G8120*12*memoria!$B$47)","v":{"$error":"#DIV/0!"}},{"$f":"F8120/(G8120*12*memoria!$B$47)","v":{"$error":"#DIV/0!"}}]
[null,null,null,null,null,null,null,{"$f":"F8124*memoria!$B$44/(G8124*12*memoria!$B$47)","v":{"$error":"#DIV/0!"}},{"$f":"F8124/(G8124*12*memoria!$B$47)","v":{"$error":"#DIV/0!"}}]
[null,null,null,null,null,null,null,{"$f":"F8132*memoria!$B$44/(G8132*12*memoria!$B$47)","v":{"$error":"#DIV/0!"}},{"$f":"F8132/(G8132*12*memoria!$B$47)","v":{"$error":"#DIV/0!"}}]
[null,null,null,null,null,null,null,{"$f":"F8137*memoria!$B$44/(G8137*12*memoria!$B$47)","v":{"$error":"#DIV/0!"}},{"$f":"F8137/(G8137*12*memoria!$B$47)","v":{"$error":"#DIV/0!"}}]
[null,null,null,null,null,null,null,{"$f":"F8142*memoria!$B$44/(G8142*12*memoria!$B$47)","v":{"$error":"#DIV/0!"}},{"$f":"F8142/(G8142*12*memoria!$B$47)","v":{"$error":"#DIV/0!"}}]
[null,null,null,null,null,null,null,{"$f":"F8148*memoria!$B$44/(G8148*12*memoria!$B$47)","v":{"$error":"#DIV/0!"}},{"$f":"F8148/(G8148*12*memoria!$B$47)","v":{"$error":"#DIV/0!"}}]
[null,null,null,null,null,null,null,{"$f":"F8153*memoria!$B$44/(G8153*12*memoria!$B$47)","v":{"$error":"#DIV/0!"}},{"$f":"F8153/(G8153*12*memoria!$B$47)","v":{"$error":"#DIV/0!"}}]
[null,null,null,null,null,null,null,{"$f":"F8154*memoria!$B$44/(G8154*12*memoria!$B$47)","v":{"$error":"#DIV/0!"}},{"$f":"F8154/(G8154*12*memoria!$B$47)","v":{"$error":"#DIV/0!"}}]
[null,null,null,null,null,null,null,{"$f":"F8159*memoria!$B$44/(G8159*12*memoria!$B$47)","v":{"$error":"#DIV/0!"}},{"$f":"F8159/(G8159*12*memoria!$B$47)","v":{"$error":"#DIV/0!"}}]
[null,null,null,null,null,null,null,{"$f":"F8164*memoria!$B$44/(G8164*12*memoria!$B$47)","v":{"$error":"#DIV/0!"}},{"$f":"F8164/(G8164*12*memoria!$B$47)","v":{"$error":"#DIV/0!"}}]
[null,null,null,null,null,null,null,{"$f":"F8171*memoria!$B$44/(G8171*12*memoria!$B$47)","v":{"$error":"#DIV/0!"}},{"$f":"F8171/(G8171*12*memoria!$B$47)","v":{"$error":"#DIV/0!"}}]
[null,null,null,null,null,null,null,{"$f":"F8176*memoria!$B$44/(G8176*12*memoria!$B$47)","v":{"$error":"#DIV/0!"}},{"$f":"F8176/(G8176*12*memoria!$B$47)","v":{"$error":"#DIV/0!"}}]
[null,null,null,null,null,null,null,{"$f":"F8182*memoria!$B$44/(G8182*12*memoria!$B$47)","v":{"$error":"#DIV/0!"}},{"$f":"F8182/(G8182*12*memoria!$B$47)","v":{"$error":"#DIV/0!"}}]
[null,null,null,null,null,null,null,{"$f":"F8187*memoria!$B$44/(G8187*12*memoria!$B$47)","v":{"$error":"#DIV/0!"}},{"$f":"F8187/(G8187*12*memoria!$B$47)","v":{"$error":"#DIV/0!"}}]
[null,null,null,null,null,null,null,{"$f":"F8192*memoria!$B$44/(G8192*12*memoria!$B$47)","v":{"$error":"#DIV/0!"}},{"$f":"F8192/(G8192*12*memoria!$B$47)","v":{"$error":"#DIV/0!"}}]
[null,null,null,null,null,null,null,{"$f":"F8198*memoria!$B$44/(G8198*12*memoria!$B$47)","v":{"$error":"#DIV/0!"}},{"$f":"F8198/(G8198*12*memoria!$B$47)","v":{"$error":"#DIV/0!"}}]
[null,null,null,null,null,null,null,{"$f":"F8203*memoria!$B$44/(G8203*12*memoria!$B$47)","v":{"$error":"#DIV/0!"}},{"$f":"F8203/(G8203*12*memoria!$B$47)","v":{"$error":"#DIV/0!"}}]
[null,null,null,null,null,null,null,{"$f":"F8208*memoria!$B$44/(G8208*12*memoria!$B$47)","v":{"$error":"#DIV/0!"}},{"$f":"F8208/(G8208*12*memoria!$B$47)","v":{"$error":"#DIV/0!"}}]
[null,null,null,null,null,null,null,{"$f":"F8212*memoria!$B$44/(G8212*12*memoria!$B$47)","v":{"$error":"#DIV/0!"}},{"$f":"F8212/(G8212*12*memoria!$B$47)","v":{"$error":"#DIV/0!"}}]
[null,null,null,null,null,null,null,{"$f":"F8220*memoria!$B$44/(G8220*12*memoria!$B$47)","v":{"$error":"#DIV/0!"}},{"$f":"F8220/(G8220*12*memoria!$B$47)","v":{"$error":"#DIV/0!"}}]
[null,null,null,null,null,null,null,{"$f":"F8221*memoria!$B$44/(G8221*12*memoria!$B$47)","v":{"$error":"#DIV/0!"}},{"$f":"F8221/(G8221*12*memoria!$B$47)","v":{"$error":"#DIV/0!"}}]
[null,null,null,null,null,null,null,{"$f":"F8226*memoria!$B$44/(G8226*12*memoria!$B$47)","v":{"$error":"#DIV/0!"}},{"$f":"F8226/(G8226*12*memoria!$B$47)","v":{"$error":"#DIV/0!"}}]
[null,null,null,null,null,null,null,{"$f":"F8231*memoria!$B$44/(G8231*12*memoria!$B$47)","v":{"$error":"#DIV/0!"}},{"$f":"F8231/(G8231*12*memoria!$B$47)","v":{"$error":"#DIV/0!"}}]
[null,null,null,null,null,null,null,{"$f":"F8237*memoria!$B$44/(G8237*12*memoria!$B$47)","v":{"$error":"#DIV/0!"}},{"$f":"F8237/(G8237*12*memoria!$B$47)","v":{"$error":"#DIV/0!"}}]
[null,null,null,null,null,null,null,{"$f":"F8242*memoria!$B$44/(G8242*12*memoria!$B$47)","v":{"$error":"#DIV/0!"}},{"$f":"F8242/(G8242*12*memoria!$B$47)","v":{"$error":"#DIV/0!"}}]
[null,null,null,null,null,null,null,{"$f":"F8247*memoria!$B$44/(G8247*12*memoria!$B$47)","v":{"$error":"#DIV/0!"}},{"$f":"F8247/(G8247*12*memoria!$B$47)","v":{"$error":"#DIV/0!"}}]
[null,null,null,null,null,null,null,{"$f":"F8253*memoria!$B$44/(G8253*12*memoria!$B$47)","v":{"$error":"#DIV/0!"}},{"$f":"F8253/(G8253*12*memoria!$B$47)","v":{"$error":"#DIV/0!"}}]
[null,null,null,null,null,null,null,{"$f":"F8259*memoria!$B$44/(G8259*12*memoria!$B$47)","v":{"$error":"#DIV/0!"}},{"$f":"F8259/(G8259*12*memoria!$B$47)","v":{"$error":"#DIV/0!"}}]
[null,null,null,null,null,null,null,{"$f":"F8265*memoria!$B$44/(G8265*12*memoria!$B$47)","v":{"$error":"#DIV/0!"}},{"$f":"F8265/(G8265*12*memoria!$B$47)","v":{"$error":"#DIV/0!"}}]
[null,null,null,null,null,null,null,{"$f":"F8270*memoria!$B$44/(G8270*12*memoria!$B$47)","v":{"$error":"#DIV/0!"}},{"$f":"F8270/(G8270*12*memoria!$B$47)","v":{"$error":"#DIV/0!"}}]
[null,null,null,null,null,null,null,{"$f":"F8275*memoria!$B$44/(G8275*12*memoria!$B$47)","v":{"$error":"#DIV/0!"}},{"$f":"F8275/(G8275*12*memoria!$B$47)","v":{"$error":"#DIV/0!"}}]
[null,null,null,null,null,null,null,{"$f":"F8281*memoria!$B$44/(G8281*12*memoria!$B$47)","v":{"$error":"#DIV/0!"}},{"$f":"F8281/(G8281*12*memoria!$B$47)","v":{"$error":"#DIV/0!"}}]
[null,null,null,null,null,null,null,{"$f":"F8286*memoria!$B$44/(G8286*12*memoria!$B$47)","v":{"$error":"#DIV/0!"}},{"$f":"F8286/(G8286*12*memoria!$B$47)","v":{"$error":"#DIV/0!"}}]
[null,null,null,null,null,null,null,{"$f":"F8287*memoria!$B$44/(G8287*12*memoria!$B$47)","v":{"$error":"#DIV/0!"}},{"$f":"F8287/(G8287*12*memoria!$B$47)","v":{"$error":"#DIV/0!"}}]
[null,null,null,null,null,null,null,{"$f":"F8292*memoria!$B$44/(G8292*12*memoria!$B$47)","v":{"$error":"#DIV/0!"}},{"$f":"F8292/(G8292*12*memoria!$B$47)","v":{"$error":"#DIV/0!"}}]
[null,null,null,null,null,null,null,{"$f":"F8302*memoria!$B$44/(G8302*12*memoria!$B$47)","v":{"$error":"#DIV/0!"}},{"$f":"F8302/(G8302*12*memoria!$B$47)","v":{"$error":"#DIV/0!"}}]
[null,null,null,null,null,null,null,{"$f":"F8304*memoria!$B$44/(G8304*12*memoria!$B$47)","v":{"$error":"#DIV/0!"}},{"$f":"F8304/(G8304*12*memoria!$B$47)","v":{"$error":"#DIV/0!"}}]
[null,null,null,null,null,null,null,{"$f":"F8309*memoria!$B$44/(G8309*12*memoria!$B$47)","v":{"$error":"#DIV/0!"}},{"$f":"F8309/(G8309*12*memoria!$B$47)","v":{"$error":"#DIV/0!"}}]
[null,null,null,null,null,null,null,{"$f":"F8314*memoria!$B$44/(G8314*12*memoria!$B$47)","v":{"$error":"#DIV/0!"}},{"$f":"F8314/(G8314*12*memoria!$B$47)","v":{"$error":"#DIV/0!"}}]
[null,null,null,null,null,null,null,{"$f":"F8320*memoria!$B$44/(G8320*12*memoria!$B$47)","v":{"$error":"#DIV/0!"}},{"$f":"F8320/(G8320*12*memoria!$B$47)","v":{"$error":"#DIV/0!"}}]
[null,null,null,null,null,null,null,{"$f":"F8325*memoria!$B$44/(G8325*12*memoria!$B$47)","v":{"$error":"#DIV/0!"}},{"$f":"F8325/(G8325*12*memoria!$B$47)","v":{"$error":"#DIV/0!"}}]
[null,null,null,null,null,null,null,{"$f":"F8331*memoria!$B$44/(G8331*12*memoria!$B$47)","v":{"$error":"#DIV/0!"}},{"$f":"F8331/(G8331*12*memoria!$B$47)","v":{"$error":"#DIV/0!"}}]
[null,null,null,null,null,null,null,{"$f":"F8336*memoria!$B$44/(G8336*12*memoria!$B$47)","v":{"$error":"#DIV/0!"}},{"$f":"F8336/(G8336*12*memoria!$B$47)","v":{"$error":"#DIV/0!"}}]
[null,null,null,null,null,null,null,{"$f":"F8343*memoria!$B$44/(G8343*12*memoria!$B$47)","v":{"$error":"#DIV/0!"}},{"$f":"F8343/(G8343*12*memoria!$B$47)","v":{"$error":"#DIV/0!"}}]
[null,null,null,null,null,null,null,{"$f":"F8348*memoria!$B$44/(G8348*12*memoria!$B$47)","v":{"$error":"#DIV/0!"}},{"$f":"F8348/(G8348*12*memoria!$B$47)","v":{"$error":"#DIV/0!"}}]
[null,null,null,null,null,null,null,{"$f":"F8353*memoria!$B$44/(G8353*12*memoria!$B$47)","v":{"$error":"#DIV/0!"}},{"$f":"F8353/(G8353*12*memoria!$B$47)","v":{"$error":"#DIV/0!"}}]
[null,null,null,null,null,null,null,{"$f":"F8354*memoria!$B$44/(G8354*12*memoria!$B$47)","v":{"$error":"#DIV/0!"}},{"$f":"F8354/(G8354*12*memoria!$B$47)","v":{"$error":"#DIV/0!"}}]
[null,null,null,null,null,null,null,{"$f":"F8359*memoria!$B$44/(G8359*12*memoria!$B$47)","v":{"$error":"#DIV/0!"}},{"$f":"F8359/(G8359*12*memoria!$B$47)","v":{"$error":"#DIV/0!"}}]
[null,null,null,null,null,null,null,{"$f":"F8364*memoria!$B$44/(G8364*12*memoria!$B$47)","v":{"$error":"#DIV/0!"}},{"$f":"F8364/(G8364*12*memoria!$B$47)","v":{"$error":"#DIV/0!"}}]
[null,null,null,null,null,null,null,{"$f":"F8370*memoria!$B$44/(G8370*12*memoria!$B$47)","v":{"$error":"#DIV/0!"}},{"$f":"F8370/(G8370*12*memoria!$B$47)","v":{"$error":"#DIV/0!"}}]
[null,null,null,null,null,null,null,{"$f":"F8375*memoria!$B$44/(G8375*12*memoria!$B$47)","v":{"$error":"#DIV/0!"}},{"$f":"F8375/(G8375*12*memoria!$B$47)","v":{"$error":"#DIV/0!"}}]
[null,null,null,null,null,null,null,{"$f":"F8384*memoria!$B$44/(G8384*12*memoria!$B$47)","v":{"$error":"#DIV/0!"}},{"$f":"F8384/(G8384*12*memoria!$B$47)","v":{"$error":"#DIV/0!"}}]
[null,null,null,null,null,null,null,{"$f":"F8387*memoria!$B$44/(G8387*12*memoria!$B$47)","v":{"$error":"#DIV/0!"}},{"$f":"F8387/(G8387*12*memoria!$B$47)","v":{"$error":"#DIV/0!"}}]
[null,null,null,null,null,null,null,{"$f":"F8392*memoria!$B$44/(G8392*12*memoria!$B$47)","v":{"$error":"#DIV/0!"}},{"$f":"F8392/(G8392*12*memoria!$B$47)","v":{"$error":"#DIV/0!"}}]
[null,null,null,null,null,null,null,{"$f":"F8398*memoria!$B$44/(G8398*12*memoria!$B$47)","v":{"$error":"#DIV/0!"}},{"$f":"F8398/(G8398*12*memoria!$B$47)","v":{"$error":"#DIV/0!"}}]
[null,null,null,null,null,null,null,{"$f":"F8403*memoria!$B$44/(G8403*12*memoria!$B$47)","v":{"$error":"#DIV/0!"}},{"$f":"F8403/(G8403*12*memoria!$B$47)","v":{"$error":"#DIV/0!"}}]
[null,null,null,null,null,null,null,{"$f":"F8408*memoria!$B$44/(G8408*12*memoria!$B$47)","v":{"$error":"#DIV/0!"}},{"$f":"F8408/(G8408*12*memoria!$B$47)","v":{"$error":"#DIV/0!"}}]
[null,null,null,null,null,null,null,{"$f":"F8414*memoria!$B$44/(G8414*12*memoria!$B$47)","v":{"$error":"#DIV/0!"}},{"$f":"F8414/(G8414*12*memoria!$B$47)","v":{"$error":"#DIV/0!"}}]
[null,null,null,null,null,null,null,{"$f":"F8419*memoria!$B$44/(G8419*12*memoria!$B$47)","v":{"$error":"#DIV/0!"}},{"$f":"F8419/(G8419*12*memoria!$B$47)","v":{"$error":"#DIV/0!"}}]
[null,null,null,null,null,null,null,{"$f":"F8424*memoria!$B$44/(G8424*12*memoria!$B$47)","v":{"$error":"#DIV/0!"}},{"$f":"F8424/(G8424*12*memoria!$B$47)","v":{"$error":"#DIV/0!"}}]
[null,null,null,null,null,null,null,{"$f":"F8425*memoria!$B$44/(G8425*12*memoria!$B$47)","v":{"$error":"#DIV/0!"}},{"$f":"F8425/(G8425*12*memoria!$B$47)","v":{"$error":"#DIV/0!"}}]
[null,null,null,null,null,null,null,{"$f":"F8431*memoria!$B$44/(G8431*12*memoria!$B$47)","v":{"$error":"#DIV/0!"}},{"$f":"F8431/(G8431*12*memoria!$B$47)","v":{"$error":"#DIV/0!"}}]
[null,null,null,null,null,null,null,{"$f":"F8437*memoria!$B$44/(G8437*12*memoria!$B$47)","v":{"$error":"#DIV/0!"}},{"$f":"F8437/(G8437*12*memoria!$B$47)","v":{"$error":"#DIV/0!"}}]
[null,null,null,null,null,null,null,{"$f":"F8442*memoria!$B$44/(G8442*12*memoria!$B$47)","v":{"$error":"#DIV/0!"}},{"$f":"F8442/(G8442*12*memoria!$B$47)","v":{"$error":"#DIV/0!"}}]
[null,null,null,null,null,null,null,{"$f":"F8447*memoria!$B$44/(G8447*12*memoria!$B$47)","v":{"$error":"#DIV/0!"}},{"$f":"F8447/(G8447*12*memoria!$B$47)","v":{"$error":"#DIV/0!"}}]
[null,null,null,null,null,null,null,{"$f":"F8453*memoria!$B$44/(G8453*12*memoria!$B$47)","v":{"$error":"#DIV/0!"}},{"$f":"F8453/(G8453*12*memoria!$B$47)","v":{"$error":"#DIV/0!"}}]
[null,null,null,null,null,null,null,{"$f":"F8458*memoria!$B$44/(G8458*12*memoria!$B$47)","v":{"$error":"#DIV/0!"}},{"$f":"F8458/(G8458*12*memoria!$B$47)","v":{"$error":"#DIV/0!"}}]
[null,null,null,null,null,null,null,{"$f":"F8464*memoria!$B$44/(G8464*12*memoria!$B$47)","v":{"$error":"#DIV/0!"}},{"$f":"F8464/(G8464*12*memoria!$B$47)","v":{"$error":"#DIV/0!"}}]
[null,null,null,null,null,null,null,{"$f":"F8466*memoria!$B$44/(G8466*12*memoria!$B$47)","v":{"$error":"#DIV/0!"}},{"$f":"F8466/(G8466*12*memoria!$B$47)","v":{"$error":"#DIV/0!"}}]
[null,null,null,null,null,null,null,{"$f":"F8475*memoria!$B$44/(G8475*12*memoria!$B$47)","v":{"$error":"#DIV/0!"}},{"$f":"F8475/(G8475*12*memoria!$B$47)","v":{"$error":"#DIV/0!"}}]
[null,null,null,null,null,null,null,{"$f":"F8481*memoria!$B$44/(G8481*12*memoria!$B$47)","v":{"$error":"#DIV/0!"}},{"$f":"F8481/(G8481*12*memoria!$B$47)","v":{"$error":"#DIV/0!"}}]
[null,null,null,null,null,null,null,{"$f":"F8486*memoria!$B$44/(G8486*12*memoria!$B$47)","v":{"$error":"#DIV/0!"}},{"$f":"F8486/(G8486*12*memoria!$B$47)","v":{"$error":"#DIV/0!"}}]
[null,null,null,null,null,null,null,{"$f":"F8491*memoria!$B$44/(G8491*12*memoria!$B$47)","v":{"$error":"#DIV/0!"}},{"$f":"F8491/(G8491*12*memoria!$B$47)","v":{"$error":"#DIV/0!"}}]
[null,null,null,null,null,null,null,{"$f":"F8492*memoria!$B$44/(G8492*12*memoria!$B$47)","v":{"$error":"#DIV/0!"}},{"$f":"F8492/(G8492*12*memoria!$B$47)","v":{"$error":"#DIV/0!"}}]
[null,null,null,null,null,null,null,{"$f":"F8497*memoria!$B$44/(G8497*12*memoria!$B$47)","v":{"$error":"#DIV/0!"}},{"$f":"F8497/(G8497*12*memoria!$B$47)","v":{"$error":"#DIV/0!"}}]
[null,null,null,null,null,null,null,{"$f":"F8503*memoria!$B$44/(G8503*12*memoria!$B$47)","v":{"$error":"#DIV/0!"}},{"$f":"F8503/(G8503*12*memoria!$B$47)","v":{"$error":"#DIV/0!"}}]
[null,null,null,null,null,null,null,{"$f":"F8507*memoria!$B$44/(G8507*12*memoria!$B$47)","v":{"$error":"#DIV/0!"}},{"$f":"F8507/(G8507*12*memoria!$B$47)","v":{"$error":"#DIV/0!"}}]
[null,null,null,null,null,null,null,{"$f":"F8514*memoria!$B$44/(G8514*12*memoria!$B$47)","v":{"$error":"#DIV/0!"}},{"$f":"F8514/(G8514*12*memoria!$B$47)","v":{"$error":"#DIV/0!"}}]
[null,null,null,null,null,null,null,{"$f":"F8520*memoria!$B$44/(G8520*12*memoria!$B$47)","v":{"$error":"#DIV/0!"}},{"$f":"F8520/(G8520*12*memoria!$B$47)","v":{"$error":"#DIV/0!"}}]
[null,null,null,null,null,null,null,{"$f":"F8525*memoria!$B$44/(G8525*12*memoria!$B$47)","v":{"$error":"#DIV/0!"}},{"$f":"F8525/(G8525*12*memoria!$B$47)","v":{"$error":"#DIV/0!"}}]
[null,null,null,null,null,null,null,{"$f":"F8531*memoria!$B$44/(G8531*12*memoria!$B$47)","v":{"$error":"#DIV/0!"}},{"$f":"F8531/(G8531*12*memoria!$B$47)","v":{"$error":"#DIV/0!"}}]
[null,null,null,null,null,null,null,{"$f":"F8536*memoria!$B$44/(G8536*12*memoria!$B$47)","v":{"$error":"#DIV/0!"}},{"$f":"F8536/(G8536*12*memoria!$B$47)","v":{"$error":"#DIV/0!"}}]
[null,null,null,null,null,null,null,{"$f":"F8541*memoria!$B$44/(G8541*12*memoria!$B$47)","v":{"$error":"#DIV/0!"}},{"$f":"F8541/(G8541*12*memoria!$B$47)","v":{"$error":"#DIV/0!"}}]
[null,null,null,null,null,null,null,{"$f":"F8547*memoria!$B$44/(G8547*12*memoria!$B$47)","v":{"$error":"#DIV/0!"}},{"$f":"F8547/(G8547*12*memoria!$B$47)","v":{"$error":"#DIV/0!"}}]
[null,null,null,null,null,null,null,{"$f":"F8552*memoria!$B$44/(G8552*12*memoria!$B$47)","v":{"$error":"#DIV/0!"}},{"$f":"F8552/(G8552*12*memoria!$B$47)","v":{"$error":"#DIV/0!"}}]
[null,null,null,null,null,null,null,{"$f":"F8556*memoria!$B$44/(G8556*12*memoria!$B$47)","v":{"$error":"#DIV/0!"}},{"$f":"F8556/(G8556*12*memoria!$B$47)","v":{"$error":"#DIV/0!"}}]
[null,null,null,null,null,null,null,{"$f":"F8559*memoria!$B$44/(G8559*12*memoria!$B$47)","v":{"$error":"#DIV/0!"}},{"$f":"F8559/(G8559*12*memoria!$B$47)","v":{"$error":"#DIV/0!"}}]
[null,null,null,null,null,null,null,{"$f":"F8564*memoria!$B$44/(G8564*12*memoria!$B$47)","v":{"$error":"#DIV/0!"}},{"$f":"F8564/(G8564*12*memoria!$B$47)","v":{"$error":"#DIV/0!"}}]
[null,null,null,null,null,null,null,{"$f":"F8570*memoria!$B$44/(G8570*12*memoria!$B$47)","v":{"$error":"#DIV/0!"}},{"$f":"F8570/(G8570*12*memoria!$B$47)","v":{"$error":"#DIV/0!"}}]
[null,null,null,null,null,null,null,{"$f":"F8575*memoria!$B$44/(G8575*12*memoria!$B$47)","v":{"$error":"#DIV/0!"}},{"$f":"F8575/(G8575*12*memoria!$B$47)","v":{"$error":"#DIV/0!"}}]
[null,null,null,null,null,null,null,{"$f":"F8580*memoria!$B$44/(G8580*12*memoria!$B$47)","v":{"$error":"#DIV/0!"}},{"$f":"F8580/(G8580*12*memoria!$B$47)","v":{"$error":"#DIV/0!"}}]
[null,null,null,null,null,null,null,{"$f":"F8586*memoria!$B$44/(G8586*12*memoria!$B$47)","v":{"$error":"#DIV/0!"}},{"$f":"F8586/(G8586*12*memoria!$B$47)","v":{"$error":"#DIV/0!"}}]
[null,null,null,null,null,null,null,{"$f":"F8591*memoria!$B$44/(G8591*12*memoria!$B$47)","v":{"$error":"#DIV/0!"}},{"$f":"F8591/(G8591*12*memoria!$B$47)","v":{"$error":"#DIV/0!"}}]
[null,null,null,null,null,null,null,{"$f":"F8597*memoria!$B$44/(G8597*12*memoria!$B$47)","v":{"$error":"#DIV/0!"}},{"$f":"F8597/(G8597*12*memoria!$B$47)","v":{"$error":"#DIV/0!"}}]
[null,null,null,null,null,null,null,{"$f":"F8603*memoria!$B$44/(G8603*12*memoria!$B$47)","v":{"$error":"#DIV/0!"}},{"$f":"F8603/(G8603*12*memoria!$B$47)","v":{"$error":"#DIV/0!"}}]
[null,null,null,null,null,null,null,{"$f":"F8608*memoria!$B$44/(G8608*12*memoria!$B$47)","v":{"$error":"#DIV/0!"}},{"$f":"F8608/(G8608*12*memoria!$B$47)","v":{"$error":"#DIV/0!"}}]
[null,null,null,null,null,null,null,{"$f":"F8614*memoria!$B$44/(G8614*12*memoria!$B$47)","v":{"$error":"#DIV/0!"}},{"$f":"F8614/(G8614*12*memoria!$B$47)","v":{"$error":"#DIV/0!"}}]
[null,null,null,null,null,null,null,{"$f":"F8619*memoria!$B$44/(G8619*12*memoria!$B$47)","v":{"$error":"#DIV/0!"}},{"$f":"F8619/(G8619*12*memoria!$B$47)","v":{"$error":"#DIV/0!"}}]
[null,null,null,null,null,null,null,{"$f":"F8624*memoria!$B$44/(G8624*12*memoria!$B$47)","v":{"$error":"#DIV/0!"}},{"$f":"F8624/(G8624*12*memoria!$B$47)","v":{"$error":"#DIV/0!"}}]
[null,null,null,null,null,null,null,{"$f":"F8625*memoria!$B$44/(G8625*12*memoria!$B$47)","v":{"$error":"#DIV/0!"}},{"$f":"F8625/(G8625*12*memoria!$B$47)","v":{"$error":"#DIV/0!"}}]
[null,null,null,null,null,null,null,{"$f":"F8630*memoria!$B$44/(G8630*12*memoria!$B$47)","v":{"$error":"#DIV/0!"}},{"$f":"F8630/(G8630*12*memoria!$B$47)","v":{"$error":"#DIV/0!"}}]
[null,null,null,null,null,null,null,{"$f":"F8636*memoria!$B$44/(G8636*12*memoria!$B$47)","v":{"$error":"#DIV/0!"}},{"$f":"F8636/(G8636*12*memoria!$B$47)","v":{"$error":"#DIV/0!"}}]
[null,null,null,null,null,null,null,{"$f":"F8644*memoria!$B$44/(G8644*12*memoria!$B$47)","v":{"$error":"#DIV/0!"}},{"$f":"F8644/(G8644*12*memoria!$B$47)","v":{"$error":"#DIV/0!"}}]
[null,null,null,null,null,null,null,{"$f":"F8647*memoria!$B$44/(G8647*12*memoria!$B$47)","v":{"$error":"#DIV/0!"}},{"$f":"F8647/(G8647*12*memoria!$B$47)","v":{"$error":"#DIV/0!"}}]
[null,null,null,null,null,null,null,{"$f":"F8653*memoria!$B$44/(G8653*12*memoria!$B$47)","v":{"$error":"#DIV/0!"}},{"$f":"F8653/(G8653*12*memoria!$B$47)","v":{"$error":"#DIV/0!"}}]
[null,null,null,null,null,null,null,{"$f":"F8658*memoria!$B$44/(G8658*12*memoria!$B$47)","v":{"$error":"#DIV/0!"}},{"$f":"F8658/(G8658*12*memoria!$B$47)","v":{"$error":"#DIV/0!"}}]
[null,null,null,null,null,null,null,{"$f":"F8663*memoria!$B$44/(G8663*12*memoria!$B$47)","v":{"$error":"#DIV/0!"}},{"$f":"F8663/(G8663*12*memoria!$B$47)","v":{"$error":"#DIV/0!"}}]
[null,null,null,null,null,null,null,{"$f":"F8669*memoria!$B$44/(G8669*12*memoria!$B$47)","v":{"$error":"#DIV/0!"}},{"$f":"F8669/(G8669*12*memoria!$B$47)","v":{"$error":"#DIV/0!"}}]
[null,null,null,null,null,null,null,{"$f":"F8674*memoria!$B$44/(G8674*12*memoria!$B$47)","v":{"$error":"#DIV/0!"}},{"$f":"F8674/(G8674*12*memoria!$B$47)","v":{"$error":"#DIV/0!"}}]
[null,null,null,null,null,null,null,{"$f":"F8680*memoria!$B$44/(G8680*12*memoria!$B$47)","v":{"$error":"#DIV/0!"}},{"$f":"F8680/(G8680*12*memoria!$B$47)","v":{"$error":"#DIV/0!"}}]
[null,null,null,null,null,null,null,{"$f":"F8685*memoria!$B$44/(G8685*12*memoria!$B$47)","v":{"$error":"#DIV/0!"}},{"$f":"F8685/(G8685*12*memoria!$B$47)","v":{"$error":"#DIV/0!"}}]
[null,null,null,null,null,null,null,{"$f":"F8691*memoria!$B$44/(G8691*12*memoria!$B$47)","v":{"$error":"#DIV/0!"}},{"$f":"F8691/(G8691*12*memoria!$B$47)","v":{"$error":"#DIV/0!"}}]
[null,null,null,null,null,null,null,{"$f":"F8692*memoria!$B$44/(G8692*12*memoria!$B$47)","v":{"$error":"#DIV/0!"}},{"$f":"F8692/(G8692*12*memoria!$B$47)","v":{"$error":"#DIV/0!"}}]
[null,null,null,null,null,null,null,{"$f":"F8697*memoria!$B$44/(G8697*12*memoria!$B$47)","v":{"$error":"#DIV/0!"}},{"$f":"F8697/(G8697*12*memoria!$B$47)","v":{"$error":"#DIV/0!"}}]
[null,null,null,null,null,null,null,{"$f":"F8702*memoria!$B$44/(G8702*12*memoria!$B$47)","v":{"$error":"#DIV/0!"}},{"$f":"F8702/(G8702*12*memoria!$B$47)","v":{"$error":"#DIV/0!"}}]
[null,null,null,null,null,null,null,{"$f":"F8708*memoria!$B$44/(G8708*12*memoria!$B$47)","v":{"$error":"#DIV/0!"}},{"$f":"F8708/(G8708*12*memoria!$B$47)","v":{"$error":"#DIV/0!"}}]
[null,null,null,null,null,null,null,{"$f":"F8713*memoria!$B$44/(G8713*12*memoria!$B$47)","v":{"$error":"#DIV/0!"}},{"$f":"F8713/(G8713*12*memoria!$B$47)","v":{"$error":"#DIV/0!"}}]
[null,null,null,null,null,null,null,{"$f":"F8719*memoria!$B$44/(G8719*12*memoria!$B$47)","v":{"$error":"#DIV/0!"}},{"$f":"F8719/(G8719*12*memoria!$B$47)","v":{"$error":"#DIV/0!"}}]
[null,null,null,null,null,null,null,{"$f":"F8726*memoria!$B$44/(G8726*12*memoria!$B$47)","v":{"$error":"#DIV/0!"}},{"$f":"F8726/(G8726*12*memoria!$B$47)","v":{"$error":"#DIV/0!"}}]
[null,null,null,null,null,null,null,{"$f":"F8730*memoria!$B$44/(G8730*12*memoria!$B$47)","v":{"$error":"#DIV/0!"}},{"$f":"F8730/(G8730*12*memoria!$B$47)","v":{"$error":"#DIV/0!"}}]
[null,null,null,null,null,null,null,{"$f":"F8736*memoria!$B$44/(G8736*12*memoria!$B$47)","v":{"$error":"#DIV/0!"}},{"$f":"F8736/(G8736*12*memoria!$B$47)","v":{"$error":"#DIV/0!"}}]
[null,null,null,null,null,null,null,{"$f":"F8741*memoria!$B$44/(G8741*12*memoria!$B$47)","v":{"$error":"#DIV/0!"}},{"$f":"F8741/(G8741*12*memoria!$B$47)","v":{"$error":"#DIV/0!"}}]
[null,null,null,null,null,null,null,{"$f":"F8747*memoria!$B$44/(G8747*12*memoria!$B$47)","v":{"$error":"#DIV/0!"}},{"$f":"F8747/(G8747*12*memoria!$B$47)","v":{"$error":"#DIV/0!"}}]
[null,null,null,null,null,null,null,{"$f":"F8752*memoria!$B$44/(G8752*12*memoria!$B$47)","v":{"$error":"#DIV/0!"}},{"$f":"F8752/(G8752*12*memoria!$B$47)","v":{"$error":"#DIV/0!"}}]
[null,null,null,null,null,null,null,{"$f":"F8757*memoria!$B$44/(G8757*12*memoria!$B$47)","v":{"$error":"#DIV/0!"}},{"$f":"F8757/(G8757*12*memoria!$B$47)","v":{"$error":"#DIV/0!"}}]
[null,null,null,null,null,null,null,{"$f":"F8758*memoria!$B$44/(G8758*12*memoria!$B$47)","v":{"$error":"#DIV/0!"}},{"$f":"F8758/(G8758*12*memoria!$B$47)","v":{"$error":"#DIV/0!"}}]
[null,null,null,null,null,null,null,{"$f":"F8763*memoria!$B$44/(G8763*12*memoria!$B$47)","v":{"$error":"#DIV/0!"}},{"$f":"F8763/(G8763*12*memoria!$B$47)","v":{"$error":"#DIV/0!"}}]
[null,null,null,null,null,null,null,{"$f":"F8769*memoria!$B$44/(G8769*12*memoria!$B$47)","v":{"$error":"#DIV/0!"}},{"$f":"F8769/(G8769*12*memoria!$B$47)","v":{"$error":"#DIV/0!"}}]
[null,null,null,null,null,null,null,{"$f":"F8775*memoria!$B$44/(G8775*12*memoria!$B$47)","v":{"$error":"#DIV/0!"}},{"$f":"F8775/(G8775*12*memoria!$B$47)","v":{"$error":"#DIV/0!"}}]
[null,null,null,null,null,null,null,{"$f":"F8780*memoria!$B$44/(G8780*12*memoria!$B$47)","v":{"$error":"#DIV/0!"}},{"$f":"F8780/(G8780*12*memoria!$B$47)","v":{"$error":"#DIV/0!"}}]
[null,null,null,null,null,null,null,{"$f":"F8786*memoria!$B$44/(G8786*12*memoria!$B$47)","v":{"$error":"#DIV/0!"}},{"$f":"F8786/(G8786*12*memoria!$B$47)","v":{"$error":"#DIV/0!"}}]
[null,null,null,null,null,null,null,{"$f":"F8791*memoria!$B$44/(G8791*12*memoria!$B$47)","v":{"$error":"#DIV/0!"}},{"$f":"F8791/(G8791*12*memoria!$B$47)","v":{"$error":"#DIV/0!"}}]
[null,null,null,null,null,null,null,{"$f":"F8796*memoria!$B$44/(G8796*12*memoria!$B$47)","v":{"$error":"#DIV/0!"}},{"$f":"F8796/(G8796*12*memoria!$B$47)","v":{"$error":"#DIV/0!"}}]
[null,null,null,null,null,null,null,{"$f":"F8802*memoria!$B$44/(G8802*12*memoria!$B$47)","v":{"$error":"#DIV/0!"}},{"$f":"F8802/(G8802*12*memoria!$B$47)","v":{"$error":"#DIV/0!"}}]
[null,null,null,null,null,null,null,{"$f":"F8807*memoria!$B$44/(G8807*12*memoria!$B$47)","v":{"$error":"#DIV/0!"}},{"$f":"F8807/(G8807*12*memoria!$B$47)","v":{"$error":"#DIV/0!"}}]
[null,null,null,null,null,null,null,{"$f":"F8814*memoria!$B$44/(G8814*12*memoria!$B$47)","v":{"$error":"#DIV/0!"}},{"$f":"F8814/(G8814*12*memoria!$B$47)","v":{"$error":"#DIV/0!"}}]
[null,null,null,null,null,null,null,{"$f":"F8819*memoria!$B$44/(G8819*12*memoria!$B$47)","v":{"$error":"#DIV/0!"}},{"$f":"F8819/(G8819*12*memoria!$B$47)","v":{"$error":"#DIV/0!"}}]
[null,null,null,null,null,null,null,{"$f":"F8824*memoria!$B$44/(G8824*12*memoria!$B$47)","v":{"$error":"#DIV/0!"}},{"$f":"F8824/(G8824*12*memoria!$B$47)","v":{"$error":"#DIV/0!"}}]
[null,null,null,null,null,null,null,{"$f":"F8825*memoria!$B$44/(G8825*12*memoria!$B$47)","v":{"$error":"#DIV/0!"}},{"$f":"F8825/(G8825*12*memoria!$B$47)","v":{"$error":"#DIV/0!"}}]
[null,null,null,null,null,null,null,{"$f":"F8830*memoria!$B$44/(G8830*12*memoria!$B$47)","v":{"$error":"#DIV/0!"}},{"$f":"F8830/(G8830*12*memoria!$B$47)","v":{"$error":"#DIV/0!"}}]
[null,null,null,null,null,null,null,{"$f":"F8835*memoria!$B$44/(G8835*12*memoria!$B$47)","v":{"$error":"#DIV/0!"}},{"$f":"F8835/(G8835*12*memoria!$B$47)","v":{"$error":"#DIV/0!"}}]
[null,null,null,null,null,null,null,{"$f":"F8841*memoria!$B$44/(G8841*12*memoria!$B$47)","v":{"$error":"#DIV/0!"}},{"$f":"F8841/(G8841*12*memoria!$B$47)","v":{"$error":"#DIV/0!"}}]
[null,null,null,null,null,null,null,{"$f":"F8846*memoria!$B$44/(G8846*12*memoria!$B$47)","v":{"$error":"#DIV/0!"}},{"$f":"F8846/(G8846*12*memoria!$B$47)","v":{"$error":"#DIV/0!"}}]
[null,null,null,null,null,null,null,{"$f":"F8855*memoria!$B$44/(G8855*12*memoria!$B$47)","v":{"$error":"#DIV/0!"}},{"$f":"F8855/(G8855*12*memoria!$B$47)","v":{"$error":"#DIV/0!"}}]
[null,null,null,null,null,null,null,{"$f":"F8858*memoria!$B$44/(G8858*12*memoria!$B$47)","v":{"$error":"#DIV/0!"}},{"$f":"F8858/(G8858*12*memoria!$B$47)","v":{"$error":"#DIV/0!"}}]
[null,null,null,null,null,null,null,{"$f":"F8863*memoria!$B$44/(G8863*12*memoria!$B$47)","v":{"$error":"#DIV/0!"}},{"$f":"F8863/(G8863*12*memoria!$B$47)","v":{"$error":"#DIV/0!"}}]
[null,null,null,null,null,null,null,{"$f":"F8869*memoria!$B$44/(G8869*12*memoria!$B$47)","v":{"$error":"#DIV/0!"}},{"$f":"F8869/(G8869*12*memoria!$B$47)","v":{"$error":"#DIV/0!"}}]
[null,null,null,null,null,null,null,{"$f":"F8874*memoria!$B$44/(G8874*12*memoria!$B$47)","v":{"$error":"#DIV/0!"}},{"$f":"F8874/(G8874*12*memoria!$B$47)","v":{"$error":"#DIV/0!"}}]
[null,null,null,null,null,null,null,{"$f":"F8879*memoria!$B$44/(G8879*12*memoria!$B$47)","v":{"$error":"#DIV/0!"}},{"$f":"F8879/(G8879*12*memoria!$B$47)","v":{"$error":"#DIV/0!"}}]
[null,null,null,null,null,null,null,{"$f":"F8885*memoria!$B$44/(G8885*12*memoria!$B$47)","v":{"$error":"#DIV/0!"}},{"$f":"F8885/(G8885*12*memoria!$B$47)","v":{"$error":"#DIV/0!"}}]
[null,null,null,null,null,null,null,{"$f":"F8890*memoria!$B$44/(G8890*12*memoria!$B$47)","v":{"$error":"#DIV/0!"}},{"$f":"F8890/(G8890*12*memoria!$B$47)","v":{"$error":"#DIV/0!"}}]
[null,null,null,null,null,null,null,{"$f":"F8891*memoria!$B$44/(G8891*12*memoria!$B$47)","v":{"$error":"#DIV/0!"}},{"$f":"F8891/(G8891*12*memoria!$B$47)","v":{"$error":"#DIV/0!"}}]
[null,null,null,null,null,null,null,{"$f":"F8898*memoria!$B$44/(G8898*12*memoria!$B$47)","v":{"$error":"#DIV/0!"}},{"$f":"F8898/(G8898*12*memoria!$B$47)","v":{"$error":"#DIV/0!"}}]
[null,null,null,null,null,null,null,{"$f":"F8902*memoria!$B$44/(G8902*12*memoria!$B$47)","v":{"$error":"#DIV/0!"}},{"$f":"F8902/(G8902*12*memoria!$B$47)","v":{"$error":"#DIV/0!"}}]
[null,null,null,null,null,null,null,{"$f":"F8908*memoria!$B$44/(G8908*12*memoria!$B$47)","v":{"$error":"#DIV/0!"}},{"$f":"F8908/(G8908*12*memoria!$B$47)","v":{"$error":"#DIV/0!"}}]
[null,null,null,null,null,null,null,{"$f":"F8913*memoria!$B$44/(G8913*12*memoria!$B$47)","v":{"$error":"#DIV/0!"}},{"$f":"F8913/(G8913*12*memoria!$B$47)","v":{"$error":"#DIV/0!"}}]
[null,null,null,null,null,null,null,{"$f":"F8919*memoria!$B$44/(G8919*12*memoria!$B$47)","v":{"$error":"#DIV/0!"}},{"$f":"F8919/(G8919*12*memoria!$B$47)","v":{"$error":"#DIV/0!"}}]
[null,null,null,null,null,null,null,{"$f":"F8924*memoria!$B$44/(G8924*12*memoria!$B$47)","v":{"$error":"#DIV/0!"}},{"$f":"F8924/(G8924*12*memoria!$B$47)","v":{"$error":"#DIV/0!"}}]
[null,null,null,null,null,null,null,{"$f":"F8929*memoria!$B$44/(G8929*12*memoria!$B$47)","v":{"$error":"#DIV/0!"}},{"$f":"F8929/(G8929*12*memoria!$B$47)","v":{"$error":"#DIV/0!"}}]
[null,null,null,null,null,null,null,{"$f":"F8935*memoria!$B$44/(G8935*12*memoria!$B$47)","v":{"$error":"#DIV/0!"}},{"$f":"F8935/(G8935*12*memoria!$B$47)","v":{"$error":"#DIV/0!"}}]
[null,null,null,null,null,null,null,{"$f":"F8939*memoria!$B$44/(G8939*12*memoria!$B$47)","v":{"$error":"#DIV/0!"}},{"$f":"F8939/(G8939*12*memoria!$B$47)","v":{"$error":"#DIV/0!"}}]
[null,null,null,null,null,null,null,{"$f":"F8946*memoria!$B$44/(G8946*12*memoria!$B$47)","v":{"$error":"#DIV/0!"}},{"$f":"F8946/(G8946*12*memoria!$B$47)","v":{"$error":"#DIV/0!"}}]
[null,null,null,null,null,null,null,{"$f":"F8952*memoria!$B$44/(G8952*12*memoria!$B$47)","v":{"$error":"#DIV/0!"}},{"$f":"F8952/(G8952*12*memoria!$B$47)","v":{"$error":"#DIV/0!"}}]
[null,null,null,null,null,null,null,{"$f":"F8957*memoria!$B$44/(G8957*12*memoria!$B$47)","v":{"$error":"#DIV/0!"}},{"$f":"F8957/(G8957*12*memoria!$B$47)","v":{"$error":"#DIV/0!"}}]
[null,null,null,null,null,null,null,{"$f":"F8958*memoria!$B$44/(G8958*12*memoria!$B$47)","v":{"$error":"#DIV/0!"}},{"$f":"F8958/(G8958*12*memoria!$B$47)","v":{"$error":"#DIV/0!"}}]
[null,null,null,null,null,null,null,{"$f":"F8963*memoria!$B$44/(G8963*12*memoria!$B$47)","v":{"$error":"#DIV/0!"}},{"$f":"F8963/(G8963*12*memoria!$B$47)","v":{"$error":"#DIV/0!"}}]
[null,null,null,null,null,null,null,{"$f":"F8968*memoria!$B$44/(G8968*12*memoria!$B$47)","v":{"$error":"#DIV/0!"}},{"$f":"F8968/(G8968*12*memoria!$B$47)","v":{"$error":"#DIV/0!"}}]
[null,null,null,null,null,null,null,{"$f":"F8974*memoria!$B$44/(G8974*12*memoria!$B$47)","v":{"$error":"#DIV/0!"}},{"$f":"F8974/(G8974*12*memoria!$B$47)","v":{"$error":"#DIV/0!"}}]
[null,null,null,null,null,null,null,{"$f":"F8979*memoria!$B$44/(G8979*12*memoria!$B$47)","v":{"$error":"#DIV/0!"}},{"$f":"F8979/(G8979*12*memoria!$B$47)","v":{"$error":"#DIV/0!"}}]
[null,null,null,null,null,null,null,{"$f":"F8986*memoria!$B$44/(G8986*12*memoria!$B$47)","v":{"$error":"#DIV/0!"}},{"$f":"F8986/(G8986*12*memoria!$B$47)","v":{"$error":"#DIV/0!"}}]
[null,null,null,null,null,null,null,{"$f":"F8991*memoria!$B$44/(G8991*12*memoria!$B$47)","v":{"$error":"#DIV/0!"}},{"$f":"F8991/(G8991*12*memoria!$B$47)","v":{"$error":"#DIV/0!"}}]
[null,null,null,null,null,null,null,{"$f":"F8996*memoria!$B$44/(G8996*12*memoria!$B$47)","v":{"$error":"#DIV/0!"}},{"$f":"F8996/(G8996*12*memoria!$B$47)","v":{"$error":"#DIV/0!"}}]
[null,null,null,null,null,null,null,{"$f":"F9002*memoria!$B$44/(G9002*12*memoria!$B$47)","v":{"$error":"#DIV/0!"}},{"$f":"F9002/(G9002*12*memoria!$B$47)","v":{"$error":"#DIV/0!"}}]
[null,null,null,null,null,null,null,{"$f":"F9007*memoria!$B$44/(G9007*12*memoria!$B$47)","v":{"$error":"#DIV/0!"}},{"$f":"F9007/(G9007*12*memoria!$B$47)","v":{"$error":"#DIV/0!"}}]
[null,null,null,null,null,null,null,{"$f":"F9012*memoria!$B$44/(G9012*12*memoria!$B$47)","v":{"$error":"#DIV/0!"}},{"$f":"F9012/(G9012*12*memoria!$B$47)","v":{"$error":"#DIV/0!"}}]
[null,null,null,null,null,null,null,{"$f":"F9018*memoria!$B$44/(G9018*12*memoria!$B$47)","v":{"$error":"#DIV/0!"}},{"$f":"F9018/(G9018*12*memoria!$B$47)","v":{"$error":"#DIV/0!"}}]
[null,null,null,null,null,null,null,{"$f":"F9023*memoria!$B$44/(G9023*12*memoria!$B$47)","v":{"$error":"#DIV/0!"}},{"$f":"F9023/(G9023*12*memoria!$B$47)","v":{"$error":"#DIV/0!"}}]
[null,null,null,null,null,null,null,{"$f":"F9027*memoria!$B$44/(G9027*12*memoria!$B$47)","v":{"$error":"#DIV/0!"}},{"$f":"F9027/(G9027*12*memoria!$B$47)","v":{"$error":"#DIV/0!"}}]
[null,null,null,null,null,null,null,{"$f":"F9030*memoria!$B$44/(G9030*12*memoria!$B$47)","v":{"$error":"#DIV/0!"}},{"$f":"F9030/(G9030*12*memoria!$B$47)","v":{"$error":"#DIV/0!"}}]
[null,null,null,null,null,null,null,{"$f":"F9035*memoria!$B$44/(G9035*12*memoria!$B$47)","v":{"$error":"#DIV/0!"}},{"$f":"F9035/(G9035*12*memoria!$B$47)","v":{"$error":"#DIV/0!"}}]
[null,null,null,null,null,null,null,{"$f":"F9041*memoria!$B$44/(G9041*12*memoria!$B$47)","v":{"$error":"#DIV/0!"}},{"$f":"F9041/(G9041*12*memoria!$B$47)","v":{"$error":"#DIV/0!"}}]
[null,null,null,null,null,null,null,{"$f":"F9046*memoria!$B$44/(G9046*12*memoria!$B$47)","v":{"$error":"#DIV/0!"}},{"$f":"F9046/(G9046*12*memoria!$B$47)","v":{"$error":"#DIV/0!"}}]
[null,null,null,null,null,null,null,{"$f":"F9051*memoria!$B$44/(G9051*12*memoria!$B$47)","v":{"$error":"#DIV/0!"}},{"$f":"F9051/(G9051*12*memoria!$B$47)","v":{"$error":"#DIV/0!"}}]
[null,null,null,null,null,null,null,{"$f":"F9057*memoria!$B$44/(G9057*12*memoria!$B$47)","v":{"$error":"#DIV/0!"}},{"$f":"F9057/(G9057*12*memoria!$B$47)","v":{"$error":"#DIV/0!"}}]
[null,null,null,null,null,null,null,{"$f":"F9062*memoria!$B$44/(G9062*12*memoria!$B$47)","v":{"$error":"#DIV/0!"}},{"$f":"F9062/(G9062*12*memoria!$B$47)","v":{"$error":"#DIV/0!"}}]
[null,null,null,null,null,null,null,{"$f":"F9068*memoria!$B$44/(G9068*12*memoria!$B$47)","v":{"$error":"#DIV/0!"}},{"$f":"F9068/(G9068*12*memoria!$B$47)","v":{"$error":"#DIV/0!"}}]
[null,null,null,null,null,null,null,{"$f":"F9074*memoria!$B$44/(G9074*12*memoria!$B$47)","v":{"$error":"#DIV/0!"}},{"$f":"F9074/(G9074*12*memoria!$B$47)","v":{"$error":"#DIV/0!"}}]
[null,null,null,null,null,null,null,{"$f":"F9079*memoria!$B$44/(G9079*12*memoria!$B$47)","v":{"$error":"#DIV/0!"}},{"$f":"F9079/(G9079*12*memoria!$B$47)","v":{"$error":"#DIV/0!"}}]
[null,null,null,null,null,null,null,{"$f":"F9085*memoria!$B$44/(G9085*12*memoria!$B$47)","v":{"$error":"#DIV/0!"}},{"$f":"F9085/(G9085*12*memoria!$B$47)","v":{"$error":"#DIV/0!"}}]
[null,null,null,null,null,null,null,{"$f":"F9090*memoria!$B$44/(G9090*12*memoria!$B$47)","v":{"$error":"#DIV/0!"}},{"$f":"F9090/(G9090*12*memoria!$B$47)","v":{"$error":"#DIV/0!"}}]
[null,null,null,null,null,null,null,{"$f":"F9091*memoria!$B$44/(G9091*12*memoria!$B$47)","v":{"$error":"#DIV/0!"}},{"$f":"F9091/(G9091*12*memoria!$B$47)","v":{"$error":"#DIV/0!"}}]
[null,null,null,null,null,null,null,{"$f":"F9096*memoria!$B$44/(G9096*12*memoria!$B$47)","v":{"$error":"#DIV/0!"}},{"$f":"F9096/(G9096*12*memoria!$B$47)","v":{"$error":"#DIV/0!"}}]
[null,null,null,null,null,null,null,{"$f":"F9101*memoria!$B$44/(G9101*12*memoria!$B$47)","v":{"$error":"#DIV/0!"}},{"$f":"F9101/(G9101*12*memoria!$B$47)","v":{"$error":"#DIV/0!"}}]
[null,null,null,null,null,null,null,{"$f":"F9107*memoria!$B$44/(G9107*12*memoria!$B$47)","v":{"$error":"#DIV/0!"}},{"$f":"F9107/(G9107*12*memoria!$B$47)","v":{"$error":"#DIV/0!"}}]
[null,null,null,null,null,null,null,{"$f":"F9111*memoria!$B$44/(G9111*12*memoria!$B$47)","v":{"$error":"#DIV/0!"}},{"$f":"F9111/(G9111*12*memoria!$B$47)","v":{"$error":"#DIV/0!"}}]
[null,null,null,null,null,null,null,{"$f":"F9118*memoria!$B$44/(G9118*12*memoria!$B$47)","v":{"$error":"#DIV/0!"}},{"$f":"F9118/(G9118*12*memoria!$B$47)","v":{"$error":"#DIV/0!"}}]
[null,null,null,null,null,null,null,{"$f":"F9124*memoria!$B$44/(G9124*12*memoria!$B$47)","v":{"$error":"#DIV/0!"}},{"$f":"F9124/(G9124*12*memoria!$B$47)","v":{"$error":"#DIV/0!"}}]
[null,null,null,null,null,null,null,{"$f":"F9129*memoria!$B$44/(G9129*12*memoria!$B$47)","v":{"$error":"#DIV/0!"}},{"$f":"F9129/(G9129*12*memoria!$B$47)","v":{"$error":"#DIV/0!"}}]
[null,null,null,null,null,null,null,{"$f":"F9135*memoria!$B$44/(G9135*12*memoria!$B$47)","v":{"$error":"#DIV/0!"}},{"$f":"F9135/(G9135*12*memoria!$B$47)","v":{"$error":"#DIV/0!"}}]
[null,null,null,null,null,null,null,{"$f":"F9140*memoria!$B$44/(G9140*12*memoria!$B$47)","v":{"$error":"#DIV/0!"}},{"$f":"F9140/(G9140*12*memoria!$B$47)","v":{"$error":"#DIV/0!"}}]
[null,null,null,null,null,null,null,{"$f":"F9145*memoria!$B$44/(G9145*12*memoria!$B$47)","v":{"$error":"#DIV/0!"}},{"$f":"F9145/(G9145*12*memoria!$B$47)","v":{"$error":"#DIV/0!"}}]
[null,null,null,null,null,null,null,{"$f":"F9151*memoria!$B$44/(G9151*12*memoria!$B$47)","v":{"$error":"#DIV/0!"}},{"$f":"F9151/(G9151*12*memoria!$B$47)","v":{"$error":"#DIV/0!"}}]
[null,null,null,null,null,null,null,{"$f":"F9152*memoria!$B$44/(G9152*12*memoria!$B$47)","v":{"$error":"#DIV/0!"}},{"$f":"F9152/(G9152*12*memoria!$B$47)","v":{"$error":"#DIV/0!"}}]
[null,null,null,null,null,null,null,{"$f":"F9162*memoria!$B$44/(G9162*12*memoria!$B$47)","v":{"$error":"#DIV/0!"}},{"$f":"F9162/(G9162*12*memoria!$B$47)","v":{"$error":"#DIV/0!"}}]
[null,null,null,null,null,null,null,{"$f":"F9163*memoria!$B$44/(G9163*12*memoria!$B$47)","v":{"$error":"#DIV/0!"}},{"$f":"F9163/(G9163*12*memoria!$B$47)","v":{"$error":"#DIV/0!"}}]
[null,null,null,null,null,null,null,{"$f":"F9168*memoria!$B$44/(G9168*12*memoria!$B$47)","v":{"$error":"#DIV/0!"}},{"$f":"F9168/(G9168*12*memoria!$B$47)","v":{"$error":"#DIV/0!"}}]
[null,null,null,null,null,null,null,{"$f":"F9174*memoria!$B$44/(G9174*12*memoria!$B$47)","v":{"$error":"#DIV/0!"}},{"$f":"F9174/(G9174*12*memoria!$B$47)","v":{"$error":"#DIV/0!"}}]
[null,null,null,null,null,null,null,{"$f":"F9179*memoria!$B$44/(G9179*12*memoria!$B$47)","v":{"$error":"#DIV/0!"}},{"$f":"F9179/(G9179*12*memoria!$B$47)","v":{"$error":"#DIV/0!"}}]
[null,null,null,null,null,null,null,{"$f":"F9184*memoria!$B$44/(G9184*12*memoria!$B$47)","v":{"$error":"#DIV/0!"}},{"$f":"F9184/(G9184*12*memoria!$B$47)","v":{"$error":"#DIV/0!"}}]
[null,null,null,null,null,null,null,{"$f":"F9190*memoria!$B$44/(G9190*12*memoria!$B$47)","v":{"$error":"#DIV/0!"}},{"$f":"F9190/(G9190*12*memoria!$B$47)","v":{"$error":"#DIV/0!"}}]
[null,null,null,null,null,null,null,{"$f":"F9193*memoria!$B$44/(G9193*12*memoria!$B$47)","v":{"$error":"#DIV/0!"}},{"$f":"F9193/(G9193*12*memoria!$B$47)","v":{"$error":"#DIV/0!"}}]
[null,null,null,null,null,null,null,{"$f":"F9202*memoria!$B$44/(G9202*12*memoria!$B$47)","v":{"$error":"#DIV/0!"}},{"$f":"F9202/(G9202*12*memoria!$B$47)","v":{"$error":"#DIV/0!"}}]
[null,null,null,null,null,null,null,{"$f":"F9207*memoria!$B$44/(G9207*12*memoria!$B$47)","v":{"$error":"#DIV/0!"}},{"$f":"F9207/(G9207*12*memoria!$B$47)","v":{"$error":"#DIV/0!"}}]
[null,null,null,null,null,null,null,{"$f":"F9212*memoria!$B$44/(G9212*12*memoria!$B$47)","v":{"$error":"#DIV/0!"}},{"$f":"F9212/(G9212*12*memoria!$B$47)","v":{"$error":"#DIV/0!"}}]
[null,null,null,null,null,null,null,{"$f":"F9218*memoria!$B$44/(G9218*12*memoria!$B$47)","v":{"$error":"#DIV/0!"}},{"$f":"F9218/(G9218*12*memoria!$B$47)","v":{"$error":"#DIV/0!"}}]
[null,null,null,null,null,null,null,{"$f":"F9223*memoria!$B$44/(G9223*12*memoria!$B$47)","v":{"$error":"#DIV/0!"}},{"$f":"F9223/(G9223*12*memoria!$B$47)","v":{"$error":"#DIV/0!"}}]
[null,null,null,null,null,null,null,{"$f":"F9228*memoria!$B$44/(G9228*12*memoria!$B$47)","v":{"$error":"#DIV/0!"}},{"$f":"F9228/(G9228*12*memoria!$B$47)","v":{"$error":"#DIV/0!"}}]
[null,null,null,null,null,null,null,{"$f":"F9229*memoria!$B$44/(G9229*12*memoria!$B$47)","v":{"$error":"#DIV/0!"}},{"$f":"F9229/(G9229*12*memoria!$B$47)","v":{"$error":"#DIV/0!"}}]
[null,null,null,null,null,null,null,{"$f":"F9234*memoria!$B$44/(G9234*12*memoria!$B$47)","v":{"$error":"#DIV/0!"}},{"$f":"F9234/(G9234*12*memoria!$B$47)","v":{"$error":"#DIV/0!"}}]
[null,null,null,null,null,null,null,{"$f":"F9240*memoria!$B$44/(G9240*12*memoria!$B$47)","v":{"$error":"#DIV/0!"}},{"$f":"F9240/(G9240*12*memoria!$B$47)","v":{"$error":"#DIV/0!"}}]
[null,null,null,null,null,null,null,{"$f":"F9246*memoria!$B$44/(G9246*12*memoria!$B$47)","v":{"$error":"#DIV/0!"}},{"$f":"F9246/(G9246*12*memoria!$B$47)","v":{"$error":"#DIV/0!"}}]
[null,null,null,null,null,null,null,{"$f":"F9251*memoria!$B$44/(G9251*12*memoria!$B$47)","v":{"$error":"#DIV/0!"}},{"$f":"F9251/(G9251*12*memoria!$B$47)","v":{"$error":"#DIV/0!"}}]
[null,null,null,null,null,null,null,{"$f":"F9257*memoria!$B$44/(G9257*12*memoria!$B$47)","v":{"$error":"#DIV/0!"}},{"$f":"F9257/(G9257*12*memoria!$B$47)","v":{"$error":"#DIV/0!"}}]
[null,null,null,null,null,null,null,{"$f":"F9262*memoria!$B$44/(G9262*12*memoria!$B$47)","v":{"$error":"#DIV/0!"}},{"$f":"F9262/(G9262*12*memoria!$B$47)","v":{"$error":"#DIV/0!"}}]
[null,null,null,null,null,null,null,{"$f":"F9268*memoria!$B$44/(G9268*12*memoria!$B$47)","v":{"$error":"#DIV/0!"}},{"$f":"F9268/(G9268*12*memoria!$B$47)","v":{"$error":"#DIV/0!"}}]
[null,null,null,null,null,null,null,{"$f":"F9273*memoria!$B$44/(G9273*12*memoria!$B$47)","v":{"$error":"#DIV/0!"}},{"$f":"F9273/(G9273*12*memoria!$B$47)","v":{"$error":"#DIV/0!"}}]
[null,null,null,null,null,null,null,{"$f":"F9278*memoria!$B$44/(G9278*12*memoria!$B$47)","v":{"$error":"#DIV/0!"}},{"$f":"F9278/(G9278*12*memoria!$B$47)","v":{"$error":"#DIV/0!"}}]
[null,null,null,null,null,null,null,{"$f":"F9281*memoria!$B$44/(G9281*12*memoria!$B$47)","v":{"$error":"#DIV/0!"}},{"$f":"F9281/(G9281*12*memoria!$B$47)","v":{"$error":"#DIV/0!"}}]
[null,null,null,null,null,null,null,{"$f":"F9290*memoria!$B$44/(G9290*12*memoria!$B$47)","v":{"$error":"#DIV/0!"}},{"$f":"F9290/(G9290*12*memoria!$B$47)","v":{"$error":"#DIV/0!"}}]
[null,null,null,null,null,null,null,{"$f":"F9295*memoria!$B$44/(G9295*12*memoria!$B$47)","v":{"$error":"#DIV/0!"}},{"$f":"F9295/(G9295*12*memoria!$B$47)","v":{"$error":"#DIV/0!"}}]
[null,null,null,null,null,null,null,{"$f":"F9296*memoria!$B$44/(G9296*12*memoria!$B$47)","v":{"$error":"#DIV/0!"}},{"$f":"F9296/(G9296*12*memoria!$B$47)","v":{"$error":"#DIV/0!"}}]
[null,null,null,null,null,null,null,{"$f":"F9301*memoria!$B$44/(G9301*12*memoria!$B$47)","v":{"$error":"#DIV/0!"}},{"$f":"F9301/(G9301*12*memoria!$B$47)","v":{"$error":"#DIV/0!"}}]
[null,null,null,null,null,null,null,{"$f":"F9307*memoria!$B$44/(G9307*12*memoria!$B$47)","v":{"$error":"#DIV/0!"}},{"$f":"F9307/(G9307*12*memoria!$B$47)","v":{"$error":"#DIV/0!"}}]
[null,null,null,null,null,null,null,{"$f":"F9312*memoria!$B$44/(G9312*12*memoria!$B$47)","v":{"$error":"#DIV/0!"}},{"$f":"F9312/(G9312*12*memoria!$B$47)","v":{"$error":"#DIV/0!"}}]
[null,null,null,null,null,null,null,{"$f":"F9317*memoria!$B$44/(G9317*12*memoria!$B$47)","v":{"$error":"#DIV/0!"}},{"$f":"F9317/(G9317*12*memoria!$B$47)","v":{"$error":"#DIV/0!"}}]
[null,null,null,null,null,null,null,{"$f":"F9322*memoria!$B$44/(G9322*12*memoria!$B$47)","v":{"$error":"#DIV/0!"}},{"$f":"F9322/(G9322*12*memoria!$B$47)","v":{"$error":"#DIV/0!"}}]
[null,null,null,null,null,null,null,{"$f":"F9329*memoria!$B$44/(G9329*12*memoria!$B$47)","v":{"$error":"#DIV/0!"}},{"$f":"F9329/(G9329*12*memoria!$B$47)","v":{"$error":"#DIV/0!"}}]
[null,null,null,null,null,null,null,{"$f":"F9334*memoria!$B$44/(G9334*12*memoria!$B$47)","v":{"$error":"#DIV/0!"}},{"$f":"F9334/(G9334*12*memoria!$B$47)","v":{"$error":"#DIV/0!"}}]
[null,null,null,null,null,null,null,{"$f":"F9340*memoria!$B$44/(G9340*12*memoria!$B$47)","v":{"$error":"#DIV/0!"}},{"$f":"F9340/(G9340*12*memoria!$B$47)","v":{"$error":"#DIV/0!"}}]
[null,null,null,null,null,null,null,{"$f":"F9345*memoria!$B$44/(G9345*12*memoria!$B$47)","v":{"$error":"#DIV/0!"}},{"$f":"F9345/(G9345*12*memoria!$B$47)","v":{"$error":"#DIV/0!"}}]
[null,null,null,null,null,null,null,{"$f":"F9351*memoria!$B$44/(G9351*12*memoria!$B$47)","v":{"$error":"#DIV/0!"}},{"$f":"F9351/(G9351*12*memoria!$B$47)","v":{"$error":"#DIV/0!"}}]
[null,null,null,null,null,null,null,{"$f":"F9356*memoria!$B$44/(G9356*12*memoria!$B$47)","v":{"$error":"#DIV/0!"}},{"$f":"F9356/(G9356*12*memoria!$B$47)","v":{"$error":"#DIV/0!"}}]
[null,null,null,null,null,null,null,{"$f":"F9361*memoria!$B$44/(G9361*12*memoria!$B$47)","v":{"$error":"#DIV/0!"}},{"$f":"F9361/(G9361*12*memoria!$B$47)","v":{"$error":"#DIV/0!"}}]
[null,null,null,null,null,null,null,{"$f":"F9362*memoria!$B$44/(G9362*12*memoria!$B$47)","v":{"$error":"#DIV/0!"}},{"$f":"F9362/(G9362*12*memoria!$B$47)","v":{"$error":"#DIV/0!"}}]
[null,null,null,null,null,null,null,{"$f":"F9371*memoria!$B$44/(G9371*12*memoria!$B$47)","v":{"$error":"#DIV/0!"}},{"$f":"F9371/(G9371*12*memoria!$B$47)","v":{"$error":"#DIV/0!"}}]
[null,null,null,null,null,null,null,{"$f":"F9374*memoria!$B$44/(G9374*12*memoria!$B$47)","v":{"$error":"#DIV/0!"}},{"$f":"F9374/(G9374*12*memoria!$B$47)","v":{"$error":"#DIV/0!"}}]
[null,null,null,null,null,null,null,{"$f":"F9379*memoria!$B$44/(G9379*12*memoria!$B$47)","v":{"$error":"#DIV/0!"}},{"$f":"F9379/(G9379*12*memoria!$B$47)","v":{"$error":"#DIV/0!"}}]
[null,null,null,null,null,null,null,{"$f":"F9384*memoria!$B$44/(G9384*12*memoria!$B$47)","v":{"$error":"#DIV/0!"}},{"$f":"F9384/(G9384*12*memoria!$B$47)","v":{"$error":"#DIV/0!"}}]
[null,null,null,null,null,null,null,{"$f":"F9390*memoria!$B$44/(G9390*12*memoria!$B$47)","v":{"$error":"#DIV/0!"}},{"$f":"F9390/(G9390*12*memoria!$B$47)","v":{"$error":"#DIV/0!"}}]
[null,null,null,null,null,null,null,{"$f":"F9395*memoria!$B$44/(G9395*12*memoria!$B$47)","v":{"$error":"#DIV/0!"}},{"$f":"F9395/(G9395*12*memoria!$B$47)","v":{"$error":"#DIV/0!"}}]
[null,null,null,null,null,null,null,{"$f":"F9400*memoria!$B$44/(G9400*12*memoria!$B$47)","v":{"$error":"#DIV/0!"}},{"$f":"F9400/(G9400*12*memoria!$B$47)","v":{"$error":"#DIV/0!"}}]
[null,null,null,null,null,null,null,{"$f":"F9406*memoria!$B$44/(G9406*12*memoria!$B$47)","v":{"$error":"#DIV/0!"}},{"$f":"F9406/(G9406*12*memoria!$B$47)","v":{"$error":"#DIV/0!"}}]
[null,null,null,null,null,null,null,{"$f":"F9412*memoria!$B$44/(G9412*12*memoria!$B$47)","v":{"$error":"#DIV/0!"}},{"$f":"F9412/(G9412*12*memoria!$B$47)","v":{"$error":"#DIV/0!"}}]
[null,null,null,null,null,null,null,{"$f":"F9418*memoria!$B$44/(G9418*12*memoria!$B$47)","v":{"$error":"#DIV/0!"}},{"$f":"F9418/(G9418*12*memoria!$B$47)","v":{"$error":"#DIV/0!"}}]
[null,null,null,null,null,null,null,{"$f":"F9423*memoria!$B$44/(G9423*12*memoria!$B$47)","v":{"$error":"#DIV/0!"}},{"$f":"F9423/(G9423*12*memoria!$B$47)","v":{"$error":"#DIV/0!"}}]
[null,null,null,null,null,null,null,{"$f":"F9428*memoria!$B$44/(G9428*12*memoria!$B$47)","v":{"$error":"#DIV/0!"}},{"$f":"F9428/(G9428*12*memoria!$B$47)","v":{"$error":"#DIV/0!"}}]
[null,null,null,null,null,null,null,{"$f":"F9429*memoria!$B$44/(G9429*12*memoria!$B$47)","v":{"$error":"#DIV/0!"}},{"$f":"F9429/(G9429*12*memoria!$B$47)","v":{"$error":"#DIV/0!"}}]
[null,null,null,null,null,null,null,{"$f":"F9434*memoria!$B$44/(G9434*12*memoria!$B$47)","v":{"$error":"#DIV/0!"}},{"$f":"F9434/(G9434*12*memoria!$B$47)","v":{"$error":"#DIV/0!"}}]
[null,null,null,null,null,null,null,{"$f":"F9439*memoria!$B$44/(G9439*12*memoria!$B$47)","v":{"$error":"#DIV/0!"}},{"$f":"F9439/(G9439*12*memoria!$B$47)","v":{"$error":"#DIV/0!"}}]
[null,null,null,null,null,null,null,{"$f":"F9445*memoria!$B$44/(G9445*12*memoria!$B$47)","v":{"$error":"#DIV/0!"}},{"$f":"F9445/(G9445*12*memoria!$B$47)","v":{"$error":"#DIV/0!"}}]
[null,null,null,null,null,null,null,{"$f":"F9450*memoria!$B$44/(G9450*12*memoria!$B$47)","v":{"$error":"#DIV/0!"}},{"$f":"F9450/(G9450*12*memoria!$B$47)","v":{"$error":"#DIV/0!"}}]
[null,null,null,null,null,null,null,{"$f":"F9459*memoria!$B$44/(G9459*12*memoria!$B$47)","v":{"$error":"#DIV/0!"}},{"$f":"F9459/(G9459*12*memoria!$B$47)","v":{"$error":"#DIV/0!"}}]
[null,null,null,null,null,null,null,{"$f":"F9462*memoria!$B$44/(G9462*12*memoria!$B$47)","v":{"$error":"#DIV/0!"}},{"$f":"F9462/(G9462*12*memoria!$B$47)","v":{"$error":"#DIV/0!"}}]
[null,null,null,null,null,null,null,{"$f":"F9467*memoria!$B$44/(G9467*12*memoria!$B$47)","v":{"$error":"#DIV/0!"}},{"$f":"F9467/(G9467*12*memoria!$B$47)","v":{"$error":"#DIV/0!"}}]
[null,null,null,null,null,null,null,{"$f":"F9473*memoria!$B$44/(G9473*12*memoria!$B$47)","v":{"$error":"#DIV/0!"}},{"$f":"F9473/(G9473*12*memoria!$B$47)","v":{"$error":"#DIV/0!"}}]
[null,null,null,null,null,null,null,{"$f":"F9478*memoria!$B$44/(G9478*12*memoria!$B$47)","v":{"$error":"#DIV/0!"}},{"$f":"F9478/(G9478*12*memoria!$B$47)","v":{"$error":"#DIV/0!"}}]
[null,null,null,null,null,null,null,{"$f":"F9484*memoria!$B$44/(G9484*12*memoria!$B$47)","v":{"$error":"#DIV/0!"}},{"$f":"F9484/(G9484*12*memoria!$B$47)","v":{"$error":"#DIV/0!"}}]
[null,null,null,null,null,null,null,{"$f":"F9489*memoria!$B$44/(G9489*12*memoria!$B$47)","v":{"$error":"#DIV/0!"}},{"$f":"F9489/(G9489*12*memoria!$B$47)","v":{"$error":"#DIV/0!"}}]
[null,null,null,null,null,null,null,{"$f":"F9494*memoria!$B$44/(G9494*12*memoria!$B$47)","v":{"$error":"#DIV/0!"}},{"$f":"F9494/(G9494*12*memoria!$B$47)","v":{"$error":"#DIV/0!"}}]
[null,null,null,null,null,null,null,{"$f":"F9500*memoria!$B$44/(G9500*12*memoria!$B$47)","v":{"$error":"#DIV/0!"}},{"$f":"F9500/(G9500*12*memoria!$B$47)","v":{"$error":"#DIV/0!"}}]
[null,null,null,null,null,null,null,{"$f":"F9501*memoria!$B$44/(G9501*12*memoria!$B$47)","v":{"$error":"#DIV/0!"}},{"$f":"F9501/(G9501*12*memoria!$B$47)","v":{"$error":"#DIV/0!"}}]
[null,null,null,null,null,null,null,{"$f":"F9506*memoria!$B$44/(G9506*12*memoria!$B$47)","v":{"$error":"#DIV/0!"}},{"$f":"F9506/(G9506*12*memoria!$B$47)","v":{"$error":"#DIV/0!"}}]
[null,null,null,null,null,null,null,{"$f":"F9512*memoria!$B$44/(G9512*12*memoria!$B$47)","v":{"$error":"#DIV/0!"}},{"$f":"F9512/(G9512*12*memoria!$B$47)","v":{"$error":"#DIV/0!"}}]
[null,null,null,null,null,null,null,{"$f":"F9517*memoria!$B$44/(G9517*12*memoria!$B$47)","v":{"$error":"#DIV/0!"}},{"$f":"F9517/(G9517*12*memoria!$B$47)","v":{"$error":"#DIV/0!"}}]
[null,null,null,null,null,null,null,{"$f":"F9523*memoria!$B$44/(G9523*12*memoria!$B$47)","v":{"$error":"#DIV/0!"}},{"$f":"F9523/(G9523*12*memoria!$B$47)","v":{"$error":"#DIV/0!"}}]
[null,null,null,null,null,null,null,{"$f":"F9528*memoria!$B$44/(G9528*12*memoria!$B$47)","v":{"$error":"#DIV/0!"}},{"$f":"F9528/(G9528*12*memoria!$B$47)","v":{"$error":"#DIV/0!"}}]
[null,null,null,null,null,null,null,{"$f":"F9533*memoria!$B$44/(G9533*12*memoria!$B$47)","v":{"$error":"#DIV/0!"}},{"$f":"F9533/(G9533*12*memoria!$B$47)","v":{"$error":"#DIV/0!"}}]
[null,null,null,null,null,null,null,{"$f":"F9541*memoria!$B$44/(G9541*12*memoria!$B$47)","v":{"$error":"#DIV/0!"}},{"$f":"F9541/(G9541*12*memoria!$B$47)","v":{"$error":"#DIV/0!"}}]
[null,null,null,null,null,null,null,{"$f":"F9545*memoria!$B$44/(G9545*12*memoria!$B$47)","v":{"$error":"#DIV/0!"}},{"$f":"F9545/(G9545*12*memoria!$B$47)","v":{"$error":"#DIV/0!"}}]
[null,null,null,null,null,null,null,{"$f":"F9551*memoria!$B$44/(G9551*12*memoria!$B$47)","v":{"$error":"#DIV/0!"}},{"$f":"F9551/(G9551*12*memoria!$B$47)","v":{"$error":"#DIV/0!"}}]
[null,null,null,null,null,null,null,{"$f":"F9556*memoria!$B$44/(G9556*12*memoria!$B$47)","v":{"$error":"#DIV/0!"}},{"$f":"F9556/(G9556*12*memoria!$B$47)","v":{"$error":"#DIV/0!"}}]
[null,null,null,null,null,null,null,{"$f":"F9561*memoria!$B$44/(G9561*12*memoria!$B$47)","v":{"$error":"#DIV/0!"}},{"$f":"F9561/(G9561*12*memoria!$B$47)","v":{"$error":"#DIV/0!"}}]
[null,null,null,null,null,null,null,{"$f":"F9562*memoria!$B$44/(G9562*12*memoria!$B$47)","v":{"$error":"#DIV/0!"}},{"$f":"F9562/(G9562*12*memoria!$B$47)","v":{"$error":"#DIV/0!"}}]
[null,null,null,null,null,null,null,{"$f":"F9567*memoria!$B$44/(G9567*12*memoria!$B$47)","v":{"$error":"#DIV/0!"}},{"$f":"F9567/(G9567*12*memoria!$B$47)","v":{"$error":"#DIV/0!"}}]
[null,null,null,null,null,null,null,{"$f":"F9572*memoria!$B$44/(G9572*12*memoria!$B$47)","v":{"$error":"#DIV/0!"}},{"$f":"F9572/(G9572*12*memoria!$B$47)","v":{"$error":"#DIV/0!"}}]
[null,null,null,null,null,null,null,{"$f":"F9578*memoria!$B$44/(G9578*12*memoria!$B$47)","v":{"$error":"#DIV/0!"}},{"$f":"F9578/(G9578*12*memoria!$B$47)","v":{"$error":"#DIV/0!"}}]
[null,null,null,null,null,null,null,{"$f":"F9584*memoria!$B$44/(G9584*12*memoria!$B$47)","v":{"$error":"#DIV/0!"}},{"$f":"F9584/(G9584*12*memoria!$B$47)","v":{"$error":"#DIV/0!"}}]
[null,null,null,null,null,null,null,{"$f":"F9590*memoria!$B$44/(G9590*12*memoria!$B$47)","v":{"$error":"#DIV/0!"}},{"$f":"F9590/(G9590*12*memoria!$B$47)","v":{"$error":"#DIV/0!"}}]
[null,null,null,null,null,null,null,{"$f":"F9595*memoria!$B$44/(G9595*12*memoria!$B$47)","v":{"$error":"#DIV/0!"}},{"$f":"F9595/(G9595*12*memoria!$B$47)","v":{"$error":"#DIV/0!"}}]
[null,null,null,null,null,null,null,{"$f":"F9600*memoria!$B$44/(G9600*12*memoria!$B$47)","v":{"$error":"#DIV/0!"}},{"$f":"F9600/(G9600*12*memoria!$B$47)","v":{"$error":"#DIV/0!"}}]
[null,null,null,null,null,null,null,{"$f":"F9606*memoria!$B$44/(G9606*12*memoria!$B$47)","v":{"$error":"#DIV/0!"}},{"$f":"F9606/(G9606*12*memoria!$B$47)","v":{"$error":"#DIV/0!"}}]
[null,null,null,null,null,null,null,{"$f":"F9611*memoria!$B$44/(G9611*12*memoria!$B$47)","v":{"$error":"#DIV/0!"}},{"$f":"F9611/(G9611*12*memoria!$B$47)","v":{"$error":"#DIV/0!"}}]
[null,null,null,null,null,null,null,{"$f":"F9616*memoria!$B$44/(G9616*12*memoria!$B$47)","v":{"$error":"#DIV/0!"}},{"$f":"F9616/(G9616*12*memoria!$B$47)","v":{"$error":"#DIV/0!"}}]
[null,null,null,null,null,null,null,{"$f":"F9622*memoria!$B$44/(G9622*12*memoria!$B$47)","v":{"$error":"#DIV/0!"}},{"$f":"F9622/(G9622*12*memoria!$B$47)","v":{"$error":"#DIV/0!"}}]
[null,null,null,null,null,null,null,{"$f":"F9625*memoria!$B$44/(G9625*12*memoria!$B$47)","v":{"$error":"#DIV/0!"}},{"$f":"F9625/(G9625*12*memoria!$B$47)","v":{"$error":"#DIV/0!"}}]
[null,null,null,null,null,null,null,{"$f":"F9629*memoria!$B$44/(G9629*12*memoria!$B$47)","v":{"$error":"#DIV/0!"}},{"$f":"F9629/(G9629*12*memoria!$B$47)","v":{"$error":"#DIV/0!"}}]
[null,null,null,null,null,null,null,{"$f":"F9634*memoria!$B$44/(G9634*12*memoria!$B$47)","v":{"$error":"#DIV/0!"}},{"$f":"F9634/(G9634*12*memoria!$B$47)","v":{"$error":"#DIV/0!"}}]
[null,null,null,null,null,null,null,{"$f":"F9639*memoria!$B$44/(G9639*12*memoria!$B$47)","v":{"$error":"#DIV/0!"}},{"$f":"F9639/(G9639*12*memoria!$B$47)","v":{"$error":"#DIV/0!"}}]
[null,null,null,null,null,null,null,{"$f":"F9645*memoria!$B$44/(G9645*12*memoria!$B$47)","v":{"$error":"#DIV/0!"}},{"$f":"F9645/(G9645*12*memoria!$B$47)","v":{"$error":"#DIV/0!"}}]
[null,null,null,null,null,null,null,{"$f":"F9650*memoria!$B$44/(G9650*12*memoria!$B$47)","v":{"$error":"#DIV/0!"}},{"$f":"F9650/(G9650*12*memoria!$B$47)","v":{"$error":"#DIV/0!"}}]
[null,null,null,null,null,null,null,{"$f":"F9656*memoria!$B$44/(G9656*12*memoria!$B$47)","v":{"$error":"#DIV/0!"}},{"$f":"F9656/(G9656*12*memoria!$B$47)","v":{"$error":"#DIV/0!"}}]
[null,null,null,null,null,null,null,{"$f":"F9661*memoria!$B$44/(G9661*12*memoria!$B$47)","v":{"$error":"#DIV/0!"}},{"$f":"F9661/(G9661*12*memoria!$B$47)","v":{"$error":"#DIV/0!"}}]
[null,null,null,null,null,null,null,{"$f":"F9666*memoria!$B$44/(G9666*12*memoria!$B$47)","v":{"$error":"#DIV/0!"}},{"$f":"F9666/(G9666*12*memoria!$B$47)","v":{"$error":"#DIV/0!"}}]
[null,null,null,null,null,null,null,{"$f":"F9673*memoria!$B$44/(G9673*12*memoria!$B$47)","v":{"$error":"#DIV/0!"}},{"$f":"F9673/(G9673*12*memoria!$B$47)","v":{"$error":"#DIV/0!"}}]
[null,null,null,null,null,null,null,{"$f":"F9678*memoria!$B$44/(G9678*12*memoria!$B$47)","v":{"$error":"#DIV/0!"}},{"$f":"F9678/(G9678*12*memoria!$B$47)","v":{"$error":"#DIV/0!"}}]
[null,null,null,null,null,null,null,{"$f":"F9683*memoria!$B$44/(G9683*12*memoria!$B$47)","v":{"$error":"#DIV/0!"}},{"$f":"F9683/(G9683*12*memoria!$B$47)","v":{"$error":"#DIV/0!"}}]
[null,null,null,null,null,null,null,{"$f":"F9689*memoria!$B$44/(G9689*12*memoria!$B$47)","v":{"$error":"#DIV/0!"}},{"$f":"F9689/(G9689*12*memoria!$B$47)","v":{"$error":"#DIV/0!"}}]
[null,null,null,null,null,null,null,{"$f":"F9694*memoria!$B$44/(G9694*12*memoria!$B$47)","v":{"$error":"#DIV/0!"}},{"$f":"F9694/(G9694*12*memoria!$B$47)","v":{"$error":"#DIV/0!"}}]
[null,null,null,null,null,null,null,{"$f":"F9695*memoria!$B$44/(G9695*12*memoria!$B$47)","v":{"$error":"#DIV/0!"}},{"$f":"F9695/(G9695*12*memoria!$B$47)","v":{"$error":"#DIV/0!"}}]
[null,null,null,null,null,null,null,{"$f":"F9700*memoria!$B$44/(G9700*12*memoria!$B$47)","v":{"$error":"#DIV/0!"}},{"$f":"F9700/(G9700*12*memoria!$B$47)","v":{"$error":"#DIV/0!"}}]
[null,null,null,null,null,null,null,{"$f":"F9705*memoria!$B$44/(G9705*12*memoria!$B$47)","v":{"$error":"#DIV/0!"}},{"$f":"F9705/(G9705*12*memoria!$B$47)","v":{"$error":"#DIV/0!"}}]
[null,null,null,null,null,null,null,{"$f":"F9713*memoria!$B$44/(G9713*12*memoria!$B$47)","v":{"$error":"#DIV/0!"}},{"$f":"F9713/(G9713*12*memoria!$B$47)","v":{"$error":"#DIV/0!"}}]
[null,null,null,null,null,null,null,{"$f":"F9717*memoria!$B$44/(G9717*12*memoria!$B$47)","v":{"$error":"#DIV/0!"}},{"$f":"F9717/(G9717*12*memoria!$B$47)","v":{"$error":"#DIV/0!"}}]
[null,null,null,null,null,null,null,{"$f":"F9723*memoria!$B$44/(G9723*12*memoria!$B$47)","v":{"$error":"#DIV/0!"}},{"$f":"F9723/(G9723*12*memoria!$B$47)","v":{"$error":"#DIV/0!"}}]
[null,null,null,null,null,null,null,{"$f":"F9728*memoria!$B$44/(G9728*12*memoria!$B$47)","v":{"$error":"#DIV/0!"}},{"$f":"F9728/(G9728*12*memoria!$B$47)","v":{"$error":"#DIV/0!"}}]
[null,null,null,null,null,null,null,{"$f":"F9733*memoria!$B$44/(G9733*12*memoria!$B$47)","v":{"$error":"#DIV/0!"}},{"$f":"F9733/(G9733*12*memoria!$B$47)","v":{"$error":"#DIV/0!"}}]
[null,null,null,null,null,null,null,{"$f":"F9739*memoria!$B$44/(G9739*12*memoria!$B$47)","v":{"$error":"#DIV/0!"}},{"$f":"F9739/(G9739*12*memoria!$B$47)","v":{"$error":"#DIV/0!"}}]
[null,null,null,null,null,null,null,{"$f":"F9744*memoria!$B$44/(G9744*12*memoria!$B$47)","v":{"$error":"#DIV/0!"}},{"$f":"F9744/(G9744*12*memoria!$B$47)","v":{"$error":"#DIV/0!"}}]
[null,null,null,null,null,null,null,{"$f":"F9749*memoria!$B$44/(G9749*12*memoria!$B$47)","v":{"$error":"#DIV/0!"}},{"$f":"F9749/(G9749*12*memoria!$B$47)","v":{"$error":"#DIV/0!"}}]
[null,null,null,null,null,null,null,{"$f":"F9754*memoria!$B$44/(G9754*12*memoria!$B$47)","v":{"$error":"#DIV/0!"}},{"$f":"F9754/(G9754*12*memoria!$B$47)","v":{"$error":"#DIV/0!"}}]
[null,null,null,null,null,null,null,{"$f":"F9761*memoria!$B$44/(G9761*12*memoria!$B$47)","v":{"$error":"#DIV/0!"}},{"$f":"F9761/(G9761*12*memoria!$B$47)","v":{"$error":"#DIV/0!"}}]
[null,null,null,null,null,null,null,{"$f":"F9762*memoria!$B$44/(G9762*12*memoria!$B$47)","v":{"$error":"#DIV/0!"}},{"$f":"F9762/(G9762*12*memoria!$B$47)","v":{"$error":"#DIV/0!"}}]
[null,null,null,null,null,null,null,{"$f":"F9767*memoria!$B$44/(G9767*12*memoria!$B$47)","v":{"$error":"#DIV/0!"}},{"$f":"F9767/(G9767*12*memoria!$B$47)","v":{"$error":"#DIV/0!"}}]
[null,null,null,null,null,null,null,{"$f":"F9772*memoria!$B$44/(G9772*12*memoria!$B$47)","v":{"$error":"#DIV/0!"}},{"$f":"F9772/(G9772*12*memoria!$B$47)","v":{"$error":"#DIV/0!"}}]
[null,null,null,null,null,null,null,{"$f":"F9778*memoria!$B$44/(G9778*12*memoria!$B$47)","v":{"$error":"#DIV/0!"}},{"$f":"F9778/(G9778*12*memoria!$B$47)","v":{"$error":"#DIV/0!"}}]
[null,null,null,null,null,null,null,{"$f":"F9783*memoria!$B$44/(G9783*12*memoria!$B$47)","v":{"$error":"#DIV/0!"}},{"$f":"F9783/(G9783*12*memoria!$B$47)","v":{"$error":"#DIV/0!"}}]
[null,null,null,null,null,null,null,{"$f":"F9788*memoria!$B$44/(G9788*12*memoria!$B$47)","v":{"$error":"#DIV/0!"}},{"$f":"F9788/(G9788*12*memoria!$B$47)","v":{"$error":"#DIV/0!"}}]
[null,null,null,null,null,null,null,{"$f":"F9794*memoria!$B$44/(G9794*12*memoria!$B$47)","v":{"$error":"#DIV/0!"}},{"$f":"F9794/(G9794*12*memoria!$B$47)","v":{"$error":"#DIV/0!"}}]
[null,null,null,null,null,null,null,{"$f":"F9797*memoria!$B$44/(G9797*12*memoria!$B$47)","v":{"$error":"#DIV/0!"}},{"$f":"F9797/(G9797*12*memoria!$B$47)","v":{"$error":"#DIV/0!"}}]
[null,null,null,null,null,null,null,{"$f":"F9806*memoria!$B$44/(G9806*12*memoria!$B$47)","v":{"$error":"#DIV/0!"}},{"$f":"F9806/(G9806*12*memoria!$B$47)","v":{"$error":"#DIV/0!"}}]
[null,null,null,null,null,null,null,{"$f":"F9811*memoria!$B$44/(G9811*12*memoria!$B$47)","v":{"$error":"#DIV/0!"}},{"$f":"F9811/(G9811*12*memoria!$B$47)","v":{"$error":"#DIV/0!"}}]
[null,null,null,null,null,null,null,{"$f":"F9816*memoria!$B$44/(G9816*12*memoria!$B$47)","v":{"$error":"#DIV/0!"}},{"$f":"F9816/(G9816*12*memoria!$B$47)","v":{"$error":"#DIV/0!"}}]
[null,null,null,null,null,null,null,{"$f":"F9822*memoria!$B$44/(G9822*12*memoria!$B$47)","v":{"$error":"#DIV/0!"}},{"$f":"F9822/(G9822*12*memoria!$B$47)","v":{"$error":"#DIV/0!"}}]
[null,null,null,null,null,null,null,{"$f":"F9827*memoria!$B$44/(G9827*12*memoria!$B$47)","v":{"$error":"#DIV/0!"}},{"$f":"F9827/(G9827*12*memoria!$B$47)","v":{"$error":"#DIV/0!"}}]
[null,null,null,null,null,null,null,{"$f":"F9828*memoria!$B$44/(G9828*12*memoria!$B$47)","v":{"$error":"#DIV/0!"}},{"$f":"F9828/(G9828*12*memoria!$B$47)","v":{"$error":"#DIV/0!"}}]
[null,null,null,null,null,null,null,{"$f":"F9833*memoria!$B$44/(G9833*12*memoria!$B$47)","v":{"$error":"#DIV/0!"}},{"$f":"F9833/(G9833*12*memoria!$B$47)","v":{"$error":"#DIV/0!"}}]
[null,null,null,null,null,null,null,{"$f":"F9838*memoria!$B$44/(G9838*12*memoria!$B$47)","v":{"$error":"#DIV/0!"}},{"$f":"F9838/(G9838*12*memoria!$B$47)","v":{"$error":"#DIV/0!"}}]
[null,null,null,null,null,null,null,{"$f":"F9845*memoria!$B$44/(G9845*12*memoria!$B$47)","v":{"$error":"#DIV/0!"}},{"$f":"F9845/(G9845*12*memoria!$B$47)","v":{"$error":"#DIV/0!"}}]
[null,null,null,null,null,null,null,{"$f":"F9850*memoria!$B$44/(G9850*12*memoria!$B$47)","v":{"$error":"#DIV/0!"}},{"$f":"F9850/(G9850*12*memoria!$B$47)","v":{"$error":"#DIV/0!"}}]
[null,null,null,null,null,null,null,{"$f":"F9855*memoria!$B$44/(G9855*12*memoria!$B$47)","v":{"$error":"#DIV/0!"}},{"$f":"F9855/(G9855*12*memoria!$B$47)","v":{"$error":"#DIV/0!"}}]
[null,null,null,null,null,null,null,{"$f":"F9861*memoria!$B$44/(G9861*12*memoria!$B$47)","v":{"$error":"#DIV/0!"}},{"$f":"F9861/(G9861*12*memoria!$B$47)","v":{"$error":"#DIV/0!"}}]
[null,null,null,null,null,null,null,{"$f":"F9866*memoria!$B$44/(G9866*12*memoria!$B$47)","v":{"$error":"#DIV/0!"}},{"$f":"F9866/(G9866*12*memoria!$B$47)","v":{"$error":"#DIV/0!"}}]
[null,null,null,null,null,null,null,{"$f":"F9872*memoria!$B$44/(G9872*12*memoria!$B$47)","v":{"$error":"#DIV/0!"}},{"$f":"F9872/(G9872*12*memoria!$B$47)","v":{"$error":"#DIV/0!"}}]
[null,null,null,null,null,null,null,{"$f":"F9877*memoria!$B$44/(G9877*12*memoria!$B$47)","v":{"$error":"#DIV/0!"}},{"$f":"F9877/(G9877*12*memoria!$B$47)","v":{"$error":"#DIV/0!"}}]
[null,null,null,null,null,null,null,{"$f":"F9879*memoria!$B$44/(G9879*12*memoria!$B$47)","v":{"$error":"#DIV/0!"}},{"$f":"F9879/(G9879*12*memoria!$B$47)","v":{"$error":"#DIV/0!"}}]
[null,null,null,null,null,null,null,{"$f":"F9889*memoria!$B$44/(G9889*12*memoria!$B$47)","v":{"$error":"#DIV/0!"}},{"$f":"F9889/(G9889*12*memoria!$B$47)","v":{"$error":"#DIV/0!"}}]
[null,null,null,null,null,null,null,{"$f":"F9894*memoria!$B$44/(G9894*12*memoria!$B$47)","v":{"$error":"#DIV/0!"}},{"$f":"F9894/(G9894*12*memoria!$B$47)","v":{"$error":"#DIV/0!"}}]
[null,null,null,null,null,null,null,{"$f":"F9899*memoria!$B$44/(G9899*12*memoria!$B$47)","v":{"$error":"#DIV/0!"}},{"$f":"F9899/(G9899*12*memoria!$B$47)","v":{"$error":"#DIV/0!"}}]
[null,null,null,null,null,null,null,{"$f":"F9900*memoria!$B$44/(G9900*12*memoria!$B$47)","v":{"$error":"#DIV/0!"}},{"$f":"F9900/(G9900*12*memoria!$B$47)","v":{"$error":"#DIV/0!"}}]
[null,null,null,null,null,null,null,{"$f":"F9905*memoria!$B$44/(G9905*12*memoria!$B$47)","v":{"$error":"#DIV/0!"}},{"$f":"F9905/(G9905*12*memoria!$B$47)","v":{"$error":"#DIV/0!"}}]
[null,null,null,null,null,null,null,{"$f":"F9911*memoria!$B$44/(G9911*12*memoria!$B$47)","v":{"$error":"#DIV/0!"}},{"$f":"F9911/(G9911*12*memoria!$B$47)","v":{"$error":"#DIV/0!"}}]
[null,null,null,null,null,null,null,{"$f":"F9916*memoria!$B$44/(G9916*12*memoria!$B$47)","v":{"$error":"#DIV/0!"}},{"$f":"F9916/(G9916*12*memoria!$B$47)","v":{"$error":"#DIV/0!"}}]
[null,null,null,null,null,null,null,{"$f":"F9921*memoria!$B$44/(G9921*12*memoria!$B$47)","v":{"$error":"#DIV/0!"}},{"$f":"F9921/(G9921*12*memoria!$B$47)","v":{"$error":"#DIV/0!"}}]
[null,null,null,null,null,null,null,{"$f":"F9926*memoria!$B$44/(G9926*12*memoria!$B$47)","v":{"$error":"#DIV/0!"}},{"$f":"F9926/(G9926*12*memoria!$B$47)","v":{"$error":"#DIV/0!"}}]
[null,null,null,null,null,null,null,{"$f":"F9933*memoria!$B$44/(G9933*12*memoria!$B$47)","v":{"$error":"#DIV/0!"}},{"$f":"F9933/(G9933*12*memoria!$B$47)","v":{"$error":"#DIV/0!"}}]
[null,null,null,null,null,null,null,{"$f":"F9939*memoria!$B$44/(G9939*12*memoria!$B$47)","v":{"$error":"#DIV/0!"}},{"$f":"F9939/(G9939*12*memoria!$B$47)","v":{"$error":"#DIV/0!"}}]
[null,null,null,null,null,null,null,{"$f":"F9944*memoria!$B$44/(G9944*12*memoria!$B$47)","v":{"$error":"#DIV/0!"}},{"$f":"F9944/(G9944*12*memoria!$B$47)","v":{"$error":"#DIV/0!"}}]
[null,null,null,null,null,null,null,{"$f":"F9949*memoria!$B$44/(G9949*12*memoria!$B$47)","v":{"$error":"#DIV/0!"}},{"$f":"F9949/(G9949*12*memoria!$B$47)","v":{"$error":"#DIV/0!"}}]
[null,null,null,null,null,null,null,{"$f":"F9955*memoria!$B$44/(G9955*12*memoria!$B$47)","v":{"$error":"#DIV/0!"}},{"$f":"F9955/(G9955*12*memoria!$B$47)","v":{"$error":"#DIV/0!"}}]
[null,null,null,null,null,null,null,{"$f":"F9960*memoria!$B$44/(G9960*12*memoria!$B$47)","v":{"$error":"#DIV/0!"}},{"$f":"F9960/(G9960*12*memoria!$B$47)","v":{"$error":"#DIV/0!"}}]
[null,null,null,null,null,null,null,{"$f":"F9965*memoria!$B$44/(G9965*12*memoria!$B$47)","v":{"$error":"#DIV/0!"}},{"$f":"F9965/(G9965*12*memoria!$B$47)","v":{"$error":"#DIV/0!"}}]
[null,null,null,null,null,null,null,{"$f":"F9967*memoria!$B$44/(G9967*12*memoria!$B$47)","v":{"$error":"#DIV/0!"}},{"$f":"F9967/(G9967*12*memoria!$B$47)","v":{"$error":"#DIV/0!"}}]
[null,null,null,null,null,null,null,{"$f":"F9972*memoria!$B$44/(G9972*12*memoria!$B$47)","v":{"$error":"#DIV/0!"}},{"$f":"F9972/(G9972*12*memoria!$B$47)","v":{"$error":"#DIV/0!"}}]
[null,null,null,null,null,null,null,{"$f":"F9978*memoria!$B$44/(G9978*12*memoria!$B$47)","v":{"$error":"#DIV/0!"}},{"$f":"F9978/(G9978*12*memoria!$B$47)","v":{"$error":"#DIV/0!"}}]
[null,null,null,null,null,null,null,{"$f":"F9983*memoria!$B$44/(G9983*12*memoria!$B$47)","v":{"$error":"#DIV/0!"}},{"$f":"F9983/(G9983*12*memoria!$B$47)","v":{"$error":"#DIV/0!"}}]
[null,null,null,null,null,null,null,{"$f":"F9988*memoria!$B$44/(G9988*12*memoria!$B$47)","v":{"$error":"#DIV/0!"}},{"$f":"F9988/(G9988*12*memoria!$B$47)","v":{"$error":"#DIV/0!"}}]
[null,null,null,null,null,null,null,{"$f":"F9994*memoria!$B$44/(G9994*12*memoria!$B$47)","v":{"$error":"#DIV/0!"}},{"$f":"F9994/(G9994*12*memoria!$B$47)","v":{"$error":"#DIV/0!"}}]
[null,null,null,null,null,null,null,{"$f":"F9999*memoria!$B$44/(G9999*12*memoria!$B$47)","v":{"$error":"#DIV/0!"}},{"$f":"F9999/(G9999*12*memoria!$B$47)","v":{"$error":"#DIV/0!"}}]
[null,null,null,null,null,null,null,{"$f":"F10005*memoria!$B$44/(G10005*12*memoria!$B$47)","v":{"$error":"#DIV/0!"}},{"$f":"F10005/(G10005*12*memoria!$B$47)","v":{"$error":"#DIV/0!"}}]
[null,null,null,null,null,null,null,{"$f":"F10008*memoria!$B$44/(G10008*12*memoria!$B$47)","v":{"$error":"#DIV/0!"}},{"$f":"F10008/(G10008*12*memoria!$B$47)","v":{"$error":"#DIV/0!"}}]
[null,null,null,null,null,null,null,{"$f":"F10016*memoria!$B$44/(G10016*12*memoria!$B$47)","v":{"$error":"#DIV/0!"}},{"$f":"F10016/(G10016*12*memoria!$B$47)","v":{"$error":"#DIV/0!"}}]
[null,null,null,null,null,null,null,{"$f":"F10022*memoria!$B$44/(G10022*12*memoria!$B$47)","v":{"$error":"#DIV/0!"}},{"$f":"F10022/(G10022*12*memoria!$B$47)","v":{"$error":"#DIV/0!"}}]
[null,null,null,null,null,null,null,{"$f":"F10027*memoria!$B$44/(G10027*12*memoria!$B$47)","v":{"$error":"#DIV/0!"}},{"$f":"F10027/(G10027*12*memoria!$B$47)","v":{"$error":"#DIV/0!"}}]
[null,null,null,null,null,null,null,{"$f":"F10032*memoria!$B$44/(G10032*12*memoria!$B$47)","v":{"$error":"#DIV/0!"}},{"$f":"F10032/(G10032*12*memoria!$B$47)","v":{"$error":"#DIV/0!"}}]
[null,null,null,null,null,null,null,{"$f":"F10033*memoria!$B$44/(G10033*12*memoria!$B$47)","v":{"$error":"#DIV/0!"}},{"$f":"F10033/(G10033*12*memoria!$B$47)","v":{"$error":"#DIV/0!"}}]
[null,null,null,null,null,null,null,{"$f":"F10038*memoria!$B$44/(G10038*12*memoria!$B$47)","v":{"$error":"#DIV/0!"}},{"$f":"F10038/(G10038*12*memoria!$B$47)","v":{"$error":"#DIV/0!"}}]
[null,null,null,null,null,null,null,{"$f":"F10044*memoria!$B$44/(G10044*12*memoria!$B$47)","v":{"$error":"#DIV/0!"}},{"$f":"F10044/(G10044*12*memoria!$B$47)","v":{"$error":"#DIV/0!"}}]
[null,null,null,null,null,null,null,{"$f":"F10049*memoria!$B$44/(G10049*12*memoria!$B$47)","v":{"$error":"#DIV/0!"}},{"$f":"F10049/(G10049*12*memoria!$B$47)","v":{"$error":"#DIV/0!"}}]
[null,null,null,null,null,null,null,{"$f":"F10057*memoria!$B$44/(G10057*12*memoria!$B$47)","v":{"$error":"#DIV/0!"}},{"$f":"F10057/(G10057*12*memoria!$B$47)","v":{"$error":"#DIV/0!"}}]
[null,null,null,null,null,null,null,{"$f":"F10061*memoria!$B$44/(G10061*12*memoria!$B$47)","v":{"$error":"#DIV/0!"}},{"$f":"F10061/(G10061*12*memoria!$B$47)","v":{"$error":"#DIV/0!"}}]
[null,null,null,null,null,null,null,{"$f":"F10066*memoria!$B$44/(G10066*12*memoria!$B$47)","v":{"$error":"#DIV/0!"}},{"$f":"F10066/(G10066*12*memoria!$B$47)","v":{"$error":"#DIV/0!"}}]
[null,null,null,null,null,null,null,{"$f":"F10071*memoria!$B$44/(G10071*12*memoria!$B$47)","v":{"$error":"#DIV/0!"}},{"$f":"F10071/(G10071*12*memoria!$B$47)","v":{"$error":"#DIV/0!"}}]
[null,null,null,null,null,null,null,{"$f":"F10077*memoria!$B$44/(G10077*12*memoria!$B$47)","v":{"$error":"#DIV/0!"}},{"$f":"F10077/(G10077*12*memoria!$B$47)","v":{"$error":"#DIV/0!"}}]
[null,null,null,null,null,null,null,{"$f":"F10082*memoria!$B$44/(G10082*12*memoria!$B$47)","v":{"$error":"#DIV/0!"}},{"$f":"F10082/(G10082*12*memoria!$B$47)","v":{"$error":"#DIV/0!"}}]
[null,null,null,null,null,null,null,{"$f":"F10088*memoria!$B$44/(G10088*12*memoria!$B$47)","v":{"$error":"#DIV/0!"}},{"$f":"F10088/(G10088*12*memoria!$B$47)","v":{"$error":"#DIV/0!"}}]
[null,null,null,null,null,null,null,{"$f":"F10093*memoria!$B$44/(G10093*12*memoria!$B$47)","v":{"$error":"#DIV/0!"}},{"$f":"F10093/(G10093*12*memoria!$B$47)","v":{"$error":"#DIV/0!"}}]
[null,null,null,null,null,null,null,{"$f":"F10098*memoria!$B$44/(G10098*12*memoria!$B$47)","v":{"$error":"#DIV/0!"}},{"$f":"F10098/(G10098*12*memoria!$B$47)","v":{"$error":"#DIV/0!"}}]
[null,null,null,null,null,null,null,{"$f":"F10100*memoria!$B$44/(G10100*12*memoria!$B$47)","v":{"$error":"#DIV/0!"}},{"$f":"F10100/(G10100*12*memoria!$B$47)","v":{"$error":"#DIV/0!"}}]
[null,null,null,null,null,null,null,{"$f":"F10105*memoria!$B$44/(G10105*12*memoria!$B$47)","v":{"$error":"#DIV/0!"}},{"$f":"F10105/(G10105*12*memoria!$B$47)","v":{"$error":"#DIV/0!"}}]
[null,null,null,null,null,null,null,{"$f":"F10111*memoria!$B$44/(G10111*12*memoria!$B$47)","v":{"$error":"#DIV/0!"}},{"$f":"F10111/(G10111*12*memoria!$B$47)","v":{"$error":"#DIV/0!"}}]
[null,null,null,null,null,null,null,{"$f":"F10116*memoria!$B$44/(G10116*12*memoria!$B$47)","v":{"$error":"#DIV/0!"}},{"$f":"F10116/(G10116*12*memoria!$B$47)","v":{"$error":"#DIV/0!"}}]
[null,null,null,null,null,null,null,{"$f":"F10121*memoria!$B$44/(G10121*12*memoria!$B$47)","v":{"$error":"#DIV/0!"}},{"$f":"F10121/(G10121*12*memoria!$B$47)","v":{"$error":"#DIV/0!"}}]
[null,null,null,null,null,null,null,{"$f":"F10127*memoria!$B$44/(G10127*12*memoria!$B$47)","v":{"$error":"#DIV/0!"}},{"$f":"F10127/(G10127*12*memoria!$B$47)","v":{"$error":"#DIV/0!"}}]
[null,null,null,null,null,null,null,{"$f":"F10132*memoria!$B$44/(G10132*12*memoria!$B$47)","v":{"$error":"#DIV/0!"}},{"$f":"F10132/(G10132*12*memoria!$B$47)","v":{"$error":"#DIV/0!"}}]
[null,null,null,null,null,null,null,{"$f":"F10139*memoria!$B$44/(G10139*12*memoria!$B$47)","v":{"$error":"#DIV/0!"}},{"$f":"F10139/(G10139*12*memoria!$B$47)","v":{"$error":"#DIV/0!"}}]
[null,null,null,null,null,null,null,{"$f":"F10144*memoria!$B$44/(G10144*12*memoria!$B$47)","v":{"$error":"#DIV/0!"}},{"$f":"F10144/(G10144*12*memoria!$B$47)","v":{"$error":"#DIV/0!"}}]
[null,null,null,null,null,null,null,{"$f":"F10149*memoria!$B$44/(G10149*12*memoria!$B$47)","v":{"$error":"#DIV/0!"}},{"$f":"F10149/(G10149*12*memoria!$B$47)","v":{"$error":"#DIV/0!"}}]
[null,null,null,null,null,null,null,{"$f":"F10155*memoria!$B$44/(G10155*12*memoria!$B$47)","v":{"$error":"#DIV/0!"}},{"$f":"F10155/(G10155*12*memoria!$B$47)","v":{"$error":"#DIV/0!"}}]
[null,null,null,null,null,null,null,{"$f":"F10160*memoria!$B$44/(G10160*12*memoria!$B$47)","v":{"$error":"#DIV/0!"}},{"$f":"F10160/(G10160*12*memoria!$B$47)","v":{"$error":"#DIV/0!"}}]
[null,null,null,null,null,null,null,{"$f":"F10165*memoria!$B$44/(G10165*12*memoria!$B$47)","v":{"$error":"#DIV/0!"}},{"$f":"F10165/(G10165*12*memoria!$B$47)","v":{"$error":"#DIV/0!"}}]
[null,null,null,null,null,null,null,{"$f":"F10166*memoria!$B$44/(G10166*12*memoria!$B$47)","v":{"$error":"#DIV/0!"}},{"$f":"F10166/(G10166*12*memoria!$B$47)","v":{"$error":"#DIV/0!"}}]
[null,null,null,null,null,null,null,{"$f":"F10171*memoria!$B$44/(G10171*12*memoria!$B$47)","v":{"$error":"#DIV/0!"}},{"$f":"F10171/(G10171*12*memoria!$B$47)","v":{"$error":"#DIV/0!"}}]
[null,null,null,null,null,null,null,{"$f":"F10176*memoria!$B$44/(G10176*12*memoria!$B$47)","v":{"$error":"#DIV/0!"}},{"$f":"F10176/(G10176*12*memoria!$B$47)","v":{"$error":"#DIV/0!"}}]
[null,null,null,null,null,null,null,{"$f":"F10186*memoria!$B$44/(G10186*12*memoria!$B$47)","v":{"$error":"#DIV/0!"}},{"$f":"F10186/(G10186*12*memoria!$B$47)","v":{"$error":"#DIV/0!"}}]
[null,null,null,null,null,null,null,{"$f":"F10188*memoria!$B$44/(G10188*12*memoria!$B$47)","v":{"$error":"#DIV/0!"}},{"$f":"F10188/(G10188*12*memoria!$B$47)","v":{"$error":"#DIV/0!"}}]
[null,null,null,null,null,null,null,{"$f":"F10194*memoria!$B$44/(G10194*12*memoria!$B$47)","v":{"$error":"#DIV/0!"}},{"$f":"F10194/(G10194*12*memoria!$B$47)","v":{"$error":"#DIV/0!"}}]
[null,null,null,null,null,null,null,{"$f":"F10199*memoria!$B$44/(G10199*12*memoria!$B$47)","v":{"$error":"#DIV/0!"}},{"$f":"F10199/(G10199*12*memoria!$B$47)","v":{"$error":"#DIV/0!"}}]
[null,null,null,null,null,null,null,{"$f":"F10204*memoria!$B$44/(G10204*12*memoria!$B$47)","v":{"$error":"#DIV/0!"}},{"$f":"F10204/(G10204*12*memoria!$B$47)","v":{"$error":"#DIV/0!"}}]
[null,null,null,null,null,null,null,{"$f":"F10210*memoria!$B$44/(G10210*12*memoria!$B$47)","v":{"$error":"#DIV/0!"}},{"$f":"F10210/(G10210*12*memoria!$B$47)","v":{"$error":"#DIV/0!"}}]
[null,null,null,null,null,null,null,{"$f":"F10215*memoria!$B$44/(G10215*12*memoria!$B$47)","v":{"$error":"#DIV/0!"}},{"$f":"F10215/(G10215*12*memoria!$B$47)","v":{"$error":"#DIV/0!"}}]
[null,null,null,null,null,null,null,{"$f":"F10221*memoria!$B$44/(G10221*12*memoria!$B$47)","v":{"$error":"#DIV/0!"}},{"$f":"F10221/(G10221*12*memoria!$B$47)","v":{"$error":"#DIV/0!"}}]
[null,null,null,null,null,null,null,{"$f":"F10227*memoria!$B$44/(G10227*12*memoria!$B$47)","v":{"$error":"#DIV/0!"}},{"$f":"F10227/(G10227*12*memoria!$B$47)","v":{"$error":"#DIV/0!"}}]
[null,null,null,null,null,null,null,{"$f":"F10232*memoria!$B$44/(G10232*12*memoria!$B$47)","v":{"$error":"#DIV/0!"}},{"$f":"F10232/(G10232*12*memoria!$B$47)","v":{"$error":"#DIV/0!"}}]
[null,null,null,null,null,null,null,{"$f":"F10233*memoria!$B$44/(G10233*12*memoria!$B$47)","v":{"$error":"#DIV/0!"}},{"$f":"F10233/(G10233*12*memoria!$B$47)","v":{"$error":"#DIV/0!"}}]
[null,null,null,null,null,null,null,{"$f":"F10238*memoria!$B$44/(G10238*12*memoria!$B$47)","v":{"$error":"#DIV/0!"}},{"$f":"F10238/(G10238*12*memoria!$B$47)","v":{"$error":"#DIV/0!"}}]
[null,null,null,null,null,null,null,{"$f":"F10243*memoria!$B$44/(G10243*12*memoria!$B$47)","v":{"$error":"#DIV/0!"}},{"$f":"F10243/(G10243*12*memoria!$B$47)","v":{"$error":"#DIV/0!"}}]
[null,null,null,null,null,null,null,{"$f":"F10249*memoria!$B$44/(G10249*12*memoria!$B$47)","v":{"$error":"#DIV/0!"}},{"$f":"F10249/(G10249*12*memoria!$B$47)","v":{"$error":"#DIV/0!"}}]
[null,null,null,null,null,null,null,{"$f":"F10254*memoria!$B$44/(G10254*12*memoria!$B$47)","v":{"$error":"#DIV/0!"}},{"$f":"F10254/(G10254*12*memoria!$B$47)","v":{"$error":"#DIV/0!"}}]
[null,null,null,null,null,null,null,{"$f":"F10260*memoria!$B$44/(G10260*12*memoria!$B$47)","v":{"$error":"#DIV/0!"}},{"$f":"F10260/(G10260*12*memoria!$B$47)","v":{"$error":"#DIV/0!"}}]
[null,null,null,null,null,null,null,{"$f":"F10265*memoria!$B$44/(G10265*12*memoria!$B$47)","v":{"$error":"#DIV/0!"}},{"$f":"F10265/(G10265*12*memoria!$B$47)","v":{"$error":"#DIV/0!"}}]
[null,null,null,null,null,null,null,{"$f":"F10270*memoria!$B$44/(G10270*12*memoria!$B$47)","v":{"$error":"#DIV/0!"}},{"$f":"F10270/(G10270*12*memoria!$B$47)","v":{"$error":"#DIV/0!"}}]
[null,null,null,null,null,null,null,{"$f":"F10277*memoria!$B$44/(G10277*12*memoria!$B$47)","v":{"$error":"#DIV/0!"}},{"$f":"F10277/(G10277*12*memoria!$B$47)","v":{"$error":"#DIV/0!"}}]
[null,null,null,null,null,null,null,{"$f":"F10282*memoria!$B$44/(G10282*12*memoria!$B$47)","v":{"$error":"#DIV/0!"}},{"$f":"F10282/(G10282*12*memoria!$B$47)","v":{"$error":"#DIV/0!"}}]
[null,null,null,null,null,null,null,{"$f":"F10288*memoria!$B$44/(G10288*12*memoria!$B$47)","v":{"$error":"#DIV/0!"}},{"$f":"F10288/(G10288*12*memoria!$B$47)","v":{"$error":"#DIV/0!"}}]
[null,null,null,null,null,null,null,{"$f":"F10293*memoria!$B$44/(G10293*12*memoria!$B$47)","v":{"$error":"#DIV/0!"}},{"$f":"F10293/(G10293*12*memoria!$B$47)","v":{"$error":"#DIV/0!"}}]
[null,null,null,null,null,null,null,{"$f":"F10298*memoria!$B$44/(G10298*12*memoria!$B$47)","v":{"$error":"#DIV/0!"}},{"$f":"F10298/(G10298*12*memoria!$B$47)","v":{"$error":"#DIV/0!"}}]
[null,null,null,null,null,null,null,{"$f":"F10299*memoria!$B$44/(G10299*12*memoria!$B$47)","v":{"$error":"#DIV/0!"}},{"$f":"F10299/(G10299*12*memoria!$B$47)","v":{"$error":"#DIV/0!"}}]
[null,null,null,null,null,null,null,{"$f":"F10304*memoria!$B$44/(G10304*12*memoria!$B$47)","v":{"$error":"#DIV/0!"}},{"$f":"F10304/(G10304*12*memoria!$B$47)","v":{"$error":"#DIV/0!"}}]
[null,null,null,null,null,null,null,{"$f":"F10311*memoria!$B$44/(G10311*12*memoria!$B$47)","v":{"$error":"#DIV/0!"}},{"$f":"F10311/(G10311*12*memoria!$B$47)","v":{"$error":"#DIV/0!"}}]
[null,null,null,null,null,null,null,{"$f":"F10316*memoria!$B$44/(G10316*12*memoria!$B$47)","v":{"$error":"#DIV/0!"}},{"$f":"F10316/(G10316*12*memoria!$B$47)","v":{"$error":"#DIV/0!"}}]
[null,null,null,null,null,null,null,{"$f":"F10321*memoria!$B$44/(G10321*12*memoria!$B$47)","v":{"$error":"#DIV/0!"}},{"$f":"F10321/(G10321*12*memoria!$B$47)","v":{"$error":"#DIV/0!"}}]
[null,null,null,null,null,null,null,{"$f":"F10327*memoria!$B$44/(G10327*12*memoria!$B$47)","v":{"$error":"#DIV/0!"}},{"$f":"F10327/(G10327*12*memoria!$B$47)","v":{"$error":"#DIV/0!"}}]
[null,null,null,null,null,null,null,{"$f":"F10332*memoria!$B$44/(G10332*12*memoria!$B$47)","v":{"$error":"#DIV/0!"}},{"$f":"F10332/(G10332*12*memoria!$B$47)","v":{"$error":"#DIV/0!"}}]
[null,null,null,null,null,null,null,{"$f":"F10337*memoria!$B$44/(G10337*12*memoria!$B$47)","v":{"$error":"#DIV/0!"}},{"$f":"F10337/(G10337*12*memoria!$B$47)","v":{"$error":"#DIV/0!"}}]
[null,null,null,null,null,null,null,{"$f":"F10343*memoria!$B$44/(G10343*12*memoria!$B$47)","v":{"$error":"#DIV/0!"}},{"$f":"F10343/(G10343*12*memoria!$B$47)","v":{"$error":"#DIV/0!"}}]
[null,null,null,null,null,null,null,{"$f":"F10348*memoria!$B$44/(G10348*12*memoria!$B$47)","v":{"$error":"#DIV/0!"}},{"$f":"F10348/(G10348*12*memoria!$B$47)","v":{"$error":"#DIV/0!"}}]
[null,null,null,null,null,null,null,{"$f":"F10352*memoria!$B$44/(G10352*12*memoria!$B$47)","v":{"$error":"#DIV/0!"}},{"$f":"F10352/(G10352*12*memoria!$B$47)","v":{"$error":"#DIV/0!"}}]
[null,null,null,null,null,null,null,{"$f":"F10360*memoria!$B$44/(G10360*12*memoria!$B$47)","v":{"$error":"#DIV/0!"}},{"$f":"F10360/(G10360*12*memoria!$B$47)","v":{"$error":"#DIV/0!"}}]
[null,null,null,null,null,null,null,{"$f":"F10365*memoria!$B$44/(G10365*12*memoria!$B$47)","v":{"$error":"#DIV/0!"}},{"$f":"F10365/(G10365*12*memoria!$B$47)","v":{"$error":"#DIV/0!"}}]
[null,null,null,null,null,null,null,{"$f":"F10366*memoria!$B$44/(G10366*12*memoria!$B$47)","v":{"$error":"#DIV/0!"}},{"$f":"F10366/(G10366*12*memoria!$B$47)","v":{"$error":"#DIV/0!"}}]
[null,null,null,null,null,null,null,{"$f":"F10371*memoria!$B$44/(G10371*12*memoria!$B$47)","v":{"$error":"#DIV/0!"}},{"$f":"F10371/(G10371*12*memoria!$B$47)","v":{"$error":"#DIV/0!"}}]
[null,null,null,null,null,null,null,{"$f":"F10376*memoria!$B$44/(G10376*12*memoria!$B$47)","v":{"$error":"#DIV/0!"}},{"$f":"F10376/(G10376*12*memoria!$B$47)","v":{"$error":"#DIV/0!"}}]
[null,null,null,null,null,null,null,{"$f":"F10382*memoria!$B$44/(G10382*12*memoria!$B$47)","v":{"$error":"#DIV/0!"}},{"$f":"F10382/(G10382*12*memoria!$B$47)","v":{"$error":"#DIV/0!"}}]
[null,null,null,null,null,null,null,{"$f":"F10387*memoria!$B$44/(G10387*12*memoria!$B$47)","v":{"$error":"#DIV/0!"}},{"$f":"F10387/(G10387*12*memoria!$B$47)","v":{"$error":"#DIV/0!"}}]
[null,null,null,null,null,null,null,{"$f":"F10393*memoria!$B$44/(G10393*12*memoria!$B$47)","v":{"$error":"#DIV/0!"}},{"$f":"F10393/(G10393*12*memoria!$B$47)","v":{"$error":"#DIV/0!"}}]
[null,null,null,null,null,null,null,{"$f":"F10399*memoria!$B$44/(G10399*12*memoria!$B$47)","v":{"$error":"#DIV/0!"}},{"$f":"F10399/(G10399*12*memoria!$B$47)","v":{"$error":"#DIV/0!"}}]
[null,null,null,null,null,null,null,{"$f":"F10404*memoria!$B$44/(G10404*12*memoria!$B$47)","v":{"$error":"#DIV/0!"}},{"$f":"F10404/(G10404*12*memoria!$B$47)","v":{"$error":"#DIV/0!"}}]
[null,null,null,null,null,null,null,{"$f":"F10410*memoria!$B$44/(G10410*12*memoria!$B$47)","v":{"$error":"#DIV/0!"}},{"$f":"F10410/(G10410*12*memoria!$B$47)","v":{"$error":"#DIV/0!"}}]
[null,null,null,null,null,null,null,{"$f":"F10415*memoria!$B$44/(G10415*12*memoria!$B$47)","v":{"$error":"#DIV/0!"}},{"$f":"F10415/(G10415*12*memoria!$B$47)","v":{"$error":"#DIV/0!"}}]
[null,null,null,null,null,null,null,{"$f":"F10420*memoria!$B$44/(G10420*12*memoria!$B$47)","v":{"$error":"#DIV/0!"}},{"$f":"F10420/(G10420*12*memoria!$B$47)","v":{"$error":"#DIV/0!"}}]
[null,null,null,null,null,null,null,{"$f":"F10426*memoria!$B$44/(G10426*12*memoria!$B$47)","v":{"$error":"#DIV/0!"}},{"$f":"F10426/(G10426*12*memoria!$B$47)","v":{"$error":"#DIV/0!"}}]
[null,null,null,null,null,null,null,{"$f":"F10431*memoria!$B$44/(G10431*12*memoria!$B$47)","v":{"$error":"#DIV/0!"}},{"$f":"F10431/(G10431*12*memoria!$B$47)","v":{"$error":"#DIV/0!"}}]
[null,null,null,null,null,null,null,{"$f":"F10432*memoria!$B$44/(G10432*12*memoria!$B$47)","v":{"$error":"#DIV/0!"}},{"$f":"F10432/(G10432*12*memoria!$B$47)","v":{"$error":"#DIV/0!"}}]
[null,null,null,null,null,null,null,{"$f":"F10440*memoria!$B$44/(G10440*12*memoria!$B$47)","v":{"$error":"#DIV/0!"}},{"$f":"F10440/(G10440*12*memoria!$B$47)","v":{"$error":"#DIV/0!"}}]
[null,null,null,null,null,null,null,{"$f":"F10443*memoria!$B$44/(G10443*12*memoria!$B$47)","v":{"$error":"#DIV/0!"}},{"$f":"F10443/(G10443*12*memoria!$B$47)","v":{"$error":"#DIV/0!"}}]
[null,null,null,null,null,null,null,{"$f":"F10449*memoria!$B$44/(G10449*12*memoria!$B$47)","v":{"$error":"#DIV/0!"}},{"$f":"F10449/(G10449*12*memoria!$B$47)","v":{"$error":"#DIV/0!"}}]
[null,null,null,null,null,null,null,{"$f":"F10454*memoria!$B$44/(G10454*12*memoria!$B$47)","v":{"$error":"#DIV/0!"}},{"$f":"F10454/(G10454*12*memoria!$B$47)","v":{"$error":"#DIV/0!"}}]
[null,null,null,null,null,null,null,{"$f":"F10460*memoria!$B$44/(G10460*12*memoria!$B$47)","v":{"$error":"#DIV/0!"}},{"$f":"F10460/(G10460*12*memoria!$B$47)","v":{"$error":"#DIV/0!"}}]
[null,null,null,null,null,null,null,{"$f":"F10465*memoria!$B$44/(G10465*12*memoria!$B$47)","v":{"$error":"#DIV/0!"}},{"$f":"F10465/(G10465*12*memoria!$B$47)","v":{"$error":"#DIV/0!"}}]
[null,null,null,null,null,null,null,{"$f":"F10470*memoria!$B$44/(G10470*12*memoria!$B$47)","v":{"$error":"#DIV/0!"}},{"$f":"F10470/(G10470*12*memoria!$B$47)","v":{"$error":"#DIV/0!"}}]
[null,null,null,null,null,null,null,{"$f":"F10476*memoria!$B$44/(G10476*12*memoria!$B$47)","v":{"$error":"#DIV/0!"}},{"$f":"F10476/(G10476*12*memoria!$B$47)","v":{"$error":"#DIV/0!"}}]
[null,null,null,null,null,null,null,{"$f":"F10481*memoria!$B$44/(G10481*12*memoria!$B$47)","v":{"$error":"#DIV/0!"}},{"$f":"F10481/(G10481*12*memoria!$B$47)","v":{"$error":"#DIV/0!"}}]
[null,null,null,null,null,null,null,{"$f":"F10487*memoria!$B$44/(G10487*12*memoria!$B$47)","v":{"$error":"#DIV/0!"}},{"$f":"F10487/(G10487*12*memoria!$B$47)","v":{"$error":"#DIV/0!"}}]
[null,null,null,null,null,null,null,{"$f":"F10493*memoria!$B$44/(G10493*12*memoria!$B$47)","v":{"$error":"#DIV/0!"}},{"$f":"F10493/(G10493*12*memoria!$B$47)","v":{"$error":"#DIV/0!"}}]
[null,null,null,null,null,null,null,{"$f":"F10498*memoria!$B$44/(G10498*12*memoria!$B$47)","v":{"$error":"#DIV/0!"}},{"$f":"F10498/(G10498*12*memoria!$B$47)","v":{"$error":"#DIV/0!"}}]
[null,null,null,null,null,null,null,{"$f":"F10499*memoria!$B$44/(G10499*12*memoria!$B$47)","v":{"$error":"#DIV/0!"}},{"$f":"F10499/(G10499*12*memoria!$B$47)","v":{"$error":"#DIV/0!"}}]
[null,null,null,null,null,null,null,{"$f":"F10504*memoria!$B$44/(G10504*12*memoria!$B$47)","v":{"$error":"#DIV/0!"}},{"$f":"F10504/(G10504*12*memoria!$B$47)","v":{"$error":"#DIV/0!"}}]
[null,null,null,null,null,null,null,{"$f":"F10509*memoria!$B$44/(G10509*12*memoria!$B$47)","v":{"$error":"#DIV/0!"}},{"$f":"F10509/(G10509*12*memoria!$B$47)","v":{"$error":"#DIV/0!"}}]
[null,null,null,null,null,null,null,{"$f":"F10515*memoria!$B$44/(G10515*12*memoria!$B$47)","v":{"$error":"#DIV/0!"}},{"$f":"F10515/(G10515*12*memoria!$B$47)","v":{"$error":"#DIV/0!"}}]
[null,null,null,null,null,null,null,{"$f":"F10520*memoria!$B$44/(G10520*12*memoria!$B$47)","v":{"$error":"#DIV/0!"}},{"$f":"F10520/(G10520*12*memoria!$B$47)","v":{"$error":"#DIV/0!"}}]
[null,null,null,null,null,null,null,{"$f":"F10524*memoria!$B$44/(G10524*12*memoria!$B$47)","v":{"$error":"#DIV/0!"}},{"$f":"F10524/(G10524*12*memoria!$B$47)","v":{"$error":"#DIV/0!"}}]
[null,null,null,null,null,null,null,{"$f":"F10532*memoria!$B$44/(G10532*12*memoria!$B$47)","v":{"$error":"#DIV/0!"}},{"$f":"F10532/(G10532*12*memoria!$B$47)","v":{"$error":"#DIV/0!"}}]
[null,null,null,null,null,null,null,{"$f":"F10537*memoria!$B$44/(G10537*12*memoria!$B$47)","v":{"$error":"#DIV/0!"}},{"$f":"F10537/(G10537*12*memoria!$B$47)","v":{"$error":"#DIV/0!"}}]
[null,null,null,null,null,null,null,{"$f":"F10543*memoria!$B$44/(G10543*12*memoria!$B$47)","v":{"$error":"#DIV/0!"}},{"$f":"F10543/(G10543*12*memoria!$B$47)","v":{"$error":"#DIV/0!"}}]
[null,null,null,null,null,null,null,{"$f":"F10548*memoria!$B$44/(G10548*12*memoria!$B$47)","v":{"$error":"#DIV/0!"}},{"$f":"F10548/(G10548*12*memoria!$B$47)","v":{"$error":"#DIV/0!"}}]
[null,null,null,null,null,null,null,{"$f":"F10553*memoria!$B$44/(G10553*12*memoria!$B$47)","v":{"$error":"#DIV/0!"}},{"$f":"F10553/(G10553*12*memoria!$B$47)","v":{"$error":"#DIV/0!"}}]
[null,null,null,null,null,null,null,{"$f":"F10559*memoria!$B$44/(G10559*12*memoria!$B$47)","v":{"$error":"#DIV/0!"}},{"$f":"F10559/(G10559*12*memoria!$B$47)","v":{"$error":"#DIV/0!"}}]
[null,null,null,null,null,null,null,{"$f":"F10564*memoria!$B$44/(G10564*12*memoria!$B$47)","v":{"$error":"#DIV/0!"}},{"$f":"F10564/(G10564*12*memoria!$B$47)","v":{"$error":"#DIV/0!"}}]
[null,null,null,null,null,null,null,{"$f":"F10569*memoria!$B$44/(G10569*12*memoria!$B$47)","v":{"$error":"#DIV/0!"}},{"$f":"F10569/(G10569*12*memoria!$B$47)","v":{"$error":"#DIV/0!"}}]
[null,null,null,null,null,null,null,{"$f":"F10571*memoria!$B$44/(G10571*12*memoria!$B$47)","v":{"$error":"#DIV/0!"}},{"$f":"F10571/(G10571*12*memoria!$B$47)","v":{"$error":"#DIV/0!"}}]
[null,null,null,null,null,null,null,{"$f":"F10576*memoria!$B$44/(G10576*12*memoria!$B$47)","v":{"$error":"#DIV/0!"}},{"$f":"F10576/(G10576*12*memoria!$B$47)","v":{"$error":"#DIV/0!"}}]
[null,null,null,null,null,null,null,{"$f":"F10582*memoria!$B$44/(G10582*12*memoria!$B$47)","v":{"$error":"#DIV/0!"}},{"$f":"F10582/(G10582*12*memoria!$B$47)","v":{"$error":"#DIV/0!"}}]
[null,null,null,null,null,null,null,{"$f":"F10587*memoria!$B$44/(G10587*12*memoria!$B$47)","v":{"$error":"#DIV/0!"}},{"$f":"F10587/(G10587*12*memoria!$B$47)","v":{"$error":"#DIV/0!"}}]
[null,null,null,null,null,null,null,{"$f":"F10592*memoria!$B$44/(G10592*12*memoria!$B$47)","v":{"$error":"#DIV/0!"}},{"$f":"F10592/(G10592*12*memoria!$B$47)","v":{"$error":"#DIV/0!"}}]
[null,null,null,null,null,null,null,{"$f":"F10598*memoria!$B$44/(G10598*12*memoria!$B$47)","v":{"$error":"#DIV/0!"}},{"$f":"F10598/(G10598*12*memoria!$B$47)","v":{"$error":"#DIV/0!"}}]
[null,null,null,null,null,null,null,{"$f":"F10603*memoria!$B$44/(G10603*12*memoria!$B$47)","v":{"$error":"#DIV/0!"}},{"$f":"F10603/(G10603*12*memoria!$B$47)","v":{"$error":"#DIV/0!"}}]
[null,null,null,null,null,null,null,{"$f":"F10609*memoria!$B$44/(G10609*12*memoria!$B$47)","v":{"$error":"#DIV/0!"}},{"$f":"F10609/(G10609*12*memoria!$B$47)","v":{"$error":"#DIV/0!"}}]
[null,null,null,null,null,null,null,{"$f":"F10612*memoria!$B$44/(G10612*12*memoria!$B$47)","v":{"$error":"#DIV/0!"}},{"$f":"F10612/(G10612*12*memoria!$B$47)","v":{"$error":"#DIV/0!"}}]
[null,null,null,null,null,null,null,{"$f":"F10620*memoria!$B$44/(G10620*12*memoria!$B$47)","v":{"$error":"#DIV/0!"}},{"$f":"F10620/(G10620*12*memoria!$B$47)","v":{"$error":"#DIV/0!"}}]
[null,null,null,null,null,null,null,{"$f":"F10626*memoria!$B$44/(G10626*12*memoria!$B$47)","v":{"$error":"#DIV/0!"}},{"$f":"F10626/(G10626*12*memoria!$B$47)","v":{"$error":"#DIV/0!"}}]
[null,null,null,null,null,null,null,{"$f":"F10631*memoria!$B$44/(G10631*12*memoria!$B$47)","v":{"$error":"#DIV/0!"}},{"$f":"F10631/(G10631*12*memoria!$B$47)","v":{"$error":"#DIV/0!"}}]
[null,null,null,null,null,null,null,{"$f":"F10636*memoria!$B$44/(G10636*12*memoria!$B$47)","v":{"$error":"#DIV/0!"}},{"$f":"F10636/(G10636*12*memoria!$B$47)","v":{"$error":"#DIV/0!"}}]
[null,null,null,null,null,null,null,{"$f":"F10637*memoria!$B$44/(G10637*12*memoria!$B$47)","v":{"$error":"#DIV/0!"}},{"$f":"F10637/(G10637*12*memoria!$B$47)","v":{"$error":"#DIV/0!"}}]
[null,null,null,null,null,null,null,{"$f":"F10642*memoria!$B$44/(G10642*12*memoria!$B$47)","v":{"$error":"#DIV/0!"}},{"$f":"F10642/(G10642*12*memoria!$B$47)","v":{"$error":"#DIV/0!"}}]
[null,null,null,null,null,null,null,{"$f":"F10648*memoria!$B$44/(G10648*12*memoria!$B$47)","v":{"$error":"#DIV/0!"}},{"$f":"F10648/(G10648*12*memoria!$B$47)","v":{"$error":"#DIV/0!"}}]
[null,null,null,null,null,null,null,{"$f":"F10653*memoria!$B$44/(G10653*12*memoria!$B$47)","v":{"$error":"#DIV/0!"}},{"$f":"F10653/(G10653*12*memoria!$B$47)","v":{"$error":"#DIV/0!"}}]
[null,null,null,null,null,null,null,{"$f":"F10659*memoria!$B$44/(G10659*12*memoria!$B$47)","v":{"$error":"#DIV/0!"}},{"$f":"F10659/(G10659*12*memoria!$B$47)","v":{"$error":"#DIV/0!"}}]
[null,null,null,null,null,null,null,{"$f":"F10665*memoria!$B$44/(G10665*12*memoria!$B$47)","v":{"$error":"#DIV/0!"}},{"$f":"F10665/(G10665*12*memoria!$B$47)","v":{"$error":"#DIV/0!"}}]
[null,null,null,null,null,null,null,{"$f":"F10670*memoria!$B$44/(G10670*12*memoria!$B$47)","v":{"$error":"#DIV/0!"}},{"$f":"F10670/(G10670*12*memoria!$B$47)","v":{"$error":"#DIV/0!"}}]
[null,null,null,null,null,null,null,{"$f":"F10676*memoria!$B$44/(G10676*12*memoria!$B$47)","v":{"$error":"#DIV/0!"}},{"$f":"F10676/(G10676*12*memoria!$B$47)","v":{"$error":"#DIV/0!"}}]
[null,null,null,null,null,null,null,{"$f":"F10681*memoria!$B$44/(G10681*12*memoria!$B$47)","v":{"$error":"#DIV/0!"}},{"$f":"F10681/(G10681*12*memoria!$B$47)","v":{"$error":"#DIV/0!"}}]
[null,null,null,null,null,null,null,{"$f":"F10686*memoria!$B$44/(G10686*12*memoria!$B$47)","v":{"$error":"#DIV/0!"}},{"$f":"F10686/(G10686*12*memoria!$B$47)","v":{"$error":"#DIV/0!"}}]
[null,null,null,null,null,null,null,{"$f":"F10692*memoria!$B$44/(G10692*12*memoria!$B$47)","v":{"$error":"#DIV/0!"}},{"$f":"F10692/(G10692*12*memoria!$B$47)","v":{"$error":"#DIV/0!"}}]
[null,null,null,null,null,null,null,{"$f":"F10694*memoria!$B$44/(G10694*12*memoria!$B$47)","v":{"$error":"#DIV/0!"}},{"$f":"F10694/(G10694*12*memoria!$B$47)","v":{"$error":"#DIV/0!"}}]
[null,null,null,null,null,null,null,{"$f":"F10703*memoria!$B$44/(G10703*12*memoria!$B$47)","v":{"$error":"#DIV/0!"}},{"$f":"F10703/(G10703*12*memoria!$B$47)","v":{"$error":"#DIV/0!"}}]
[null,null,null,null,null,null,null,{"$f":"F10704*memoria!$B$44/(G10704*12*memoria!$B$47)","v":{"$error":"#DIV/0!"}},{"$f":"F10704/(G10704*12*memoria!$B$47)","v":{"$error":"#DIV/0!"}}]
[null,null,null,null,null,null,null,{"$f":"F10709*memoria!$B$44/(G10709*12*memoria!$B$47)","v":{"$error":"#DIV/0!"}},{"$f":"F10709/(G10709*12*memoria!$B$47)","v":{"$error":"#DIV/0!"}}]
[null,null,null,null,null,null,null,{"$f":"F10715*memoria!$B$44/(G10715*12*memoria!$B$47)","v":{"$error":"#DIV/0!"}},{"$f":"F10715/(G10715*12*memoria!$B$47)","v":{"$error":"#DIV/0!"}}]
[null,null,null,null,null,null,null,{"$f":"F10720*memoria!$B$44/(G10720*12*memoria!$B$47)","v":{"$error":"#DIV/0!"}},{"$f":"F10720/(G10720*12*memoria!$B$47)","v":{"$error":"#DIV/0!"}}]
[null,null,null,null,null,null,null,{"$f":"F10725*memoria!$B$44/(G10725*12*memoria!$B$47)","v":{"$error":"#DIV/0!"}},{"$f":"F10725/(G10725*12*memoria!$B$47)","v":{"$error":"#DIV/0!"}}]
[null,null,null,null,null,null,null,{"$f":"F10731*memoria!$B$44/(G10731*12*memoria!$B$47)","v":{"$error":"#DIV/0!"}},{"$f":"F10731/(G10731*12*memoria!$B$47)","v":{"$error":"#DIV/0!"}}]
[null,null,null,null,null,null,null,{"$f":"F10736*memoria!$B$44/(G10736*12*memoria!$B$47)","v":{"$error":"#DIV/0!"}},{"$f":"F10736/(G10736*12*memoria!$B$47)","v":{"$error":"#DIV/0!"}}]
[null,null,null,null,null,null,null,{"$f":"F10741*memoria!$B$44/(G10741*12*memoria!$B$47)","v":{"$error":"#DIV/0!"}},{"$f":"F10741/(G10741*12*memoria!$B$47)","v":{"$error":"#DIV/0!"}}]
[null,null,null,null,null,null,null,{"$f":"F10748*memoria!$B$44/(G10748*12*memoria!$B$47)","v":{"$error":"#DIV/0!"}},{"$f":"F10748/(G10748*12*memoria!$B$47)","v":{"$error":"#DIV/0!"}}]
[null,null,null,null,null,null,null,{"$f":"F10753*memoria!$B$44/(G10753*12*memoria!$B$47)","v":{"$error":"#DIV/0!"}},{"$f":"F10753/(G10753*12*memoria!$B$47)","v":{"$error":"#DIV/0!"}}]
[null,null,null,null,null,null,null,{"$f":"F10759*memoria!$B$44/(G10759*12*memoria!$B$47)","v":{"$error":"#DIV/0!"}},{"$f":"F10759/(G10759*12*memoria!$B$47)","v":{"$error":"#DIV/0!"}}]
[null,null,null,null,null,null,null,{"$f":"F10764*memoria!$B$44/(G10764*12*memoria!$B$47)","v":{"$error":"#DIV/0!"}},{"$f":"F10764/(G10764*12*memoria!$B$47)","v":{"$error":"#DIV/0!"}}]
[null,null,null,null,null,null,null,{"$f":"F10769*memoria!$B$44/(G10769*12*memoria!$B$47)","v":{"$error":"#DIV/0!"}},{"$f":"F10769/(G10769*12*memoria!$B$47)","v":{"$error":"#DIV/0!"}}]
[null,null,null,null,null,null,null,{"$f":"F10770*memoria!$B$44/(G10770*12*memoria!$B$47)","v":{"$error":"#DIV/0!"}},{"$f":"F10770/(G10770*12*memoria!$B$47)","v":{"$error":"#DIV/0!"}}]
[null,null,null,null,null,null,null,{"$f":"F10775*memoria!$B$44/(G10775*12*memoria!$B$47)","v":{"$error":"#DIV/0!"}},{"$f":"F10775/(G10775*12*memoria!$B$47)","v":{"$error":"#DIV/0!"}}]
[null,null,null,null,null,null,null,{"$f":"F10782*memoria!$B$44/(G10782*12*memoria!$B$47)","v":{"$error":"#DIV/0!"}},{"$f":"F10782/(G10782*12*memoria!$B$47)","v":{"$error":"#DIV/0!"}}]
[null,null,null,null,null,null,null,{"$f":"F10787*memoria!$B$44/(G10787*12*memoria!$B$47)","v":{"$error":"#DIV/0!"}},{"$f":"F10787/(G10787*12*memoria!$B$47)","v":{"$error":"#DIV/0!"}}]
[null,null,null,null,null,null,null,{"$f":"F10792*memoria!$B$44/(G10792*12*memoria!$B$47)","v":{"$error":"#DIV/0!"}},{"$f":"F10792/(G10792*12*memoria!$B$47)","v":{"$error":"#DIV/0!"}}]
[null,null,null,null,null,null,null,{"$f":"F10798*memoria!$B$44/(G10798*12*memoria!$B$47)","v":{"$error":"#DIV/0!"}},{"$f":"F10798/(G10798*12*memoria!$B$47)","v":{"$error":"#DIV/0!"}}]
[null,null,null,null,null,null,null,{"$f":"F10803*memoria!$B$44/(G10803*12*memoria!$B$47)","v":{"$error":"#DIV/0!"}},{"$f":"F10803/(G10803*12*memoria!$B$47)","v":{"$error":"#DIV/0!"}}]
[null,null,null,null,null,null,null,{"$f":"F10808*memoria!$B$44/(G10808*12*memoria!$B$47)","v":{"$error":"#DIV/0!"}},{"$f":"F10808/(G10808*12*memoria!$B$47)","v":{"$error":"#DIV/0!"}}]
[null,null,null,null,null,null,null,{"$f":"F10814*memoria!$B$44/(G10814*12*memoria!$B$47)","v":{"$error":"#DIV/0!"}},{"$f":"F10814/(G10814*12*memoria!$B$47)","v":{"$error":"#DIV/0!"}}]
[null,null,null,null,null,null,null,{"$f":"F10819*memoria!$B$44/(G10819*12*memoria!$B$47)","v":{"$error":"#DIV/0!"}},{"$f":"F10819/(G10819*12*memoria!$B$47)","v":{"$error":"#DIV/0!"}}]
[null,null,null,null,null,null,null,{"$f":"F10823*memoria!$B$44/(G10823*12*memoria!$B$47)","v":{"$error":"#DIV/0!"}},{"$f":"F10823/(G10823*12*memoria!$B$47)","v":{"$error":"#DIV/0!"}}]
[null,null,null,null,null,null,null,{"$f":"F10831*memoria!$B$44/(G10831*12*memoria!$B$47)","v":{"$error":"#DIV/0!"}},{"$f":"F10831/(G10831*12*memoria!$B$47)","v":{"$error":"#DIV/0!"}}]
[null,null,null,null,null,null,null,{"$f":"F10836*memoria!$B$44/(G10836*12*memoria!$B$47)","v":{"$error":"#DIV/0!"}},{"$f":"F10836/(G10836*12*memoria!$B$47)","v":{"$error":"#DIV/0!"}}]
[null,null,null,null,null,null,null,{"$f":"F10837*memoria!$B$44/(G10837*12*memoria!$B$47)","v":{"$error":"#DIV/0!"}},{"$f":"F10837/(G10837*12*memoria!$B$47)","v":{"$error":"#DIV/0!"}}]
[null,null,null,null,null,null,null,{"$f":"F10842*memoria!$B$44/(G10842*12*memoria!$B$47)","v":{"$error":"#DIV/0!"}},{"$f":"F10842/(G10842*12*memoria!$B$47)","v":{"$error":"#DIV/0!"}}]
[null,null,null,null,null,null,null,{"$f":"F10848*memoria!$B$44/(G10848*12*memoria!$B$47)","v":{"$error":"#DIV/0!"}},{"$f":"F10848/(G10848*12*memoria!$B$47)","v":{"$error":"#DIV/0!"}}]
[null,null,null,null,null,null,null,{"$f":"F10853*memoria!$B$44/(G10853*12*memoria!$B$47)","v":{"$error":"#DIV/0!"}},{"$f":"F10853/(G10853*12*memoria!$B$47)","v":{"$error":"#DIV/0!"}}]
[null,null,null,null,null,null,null,{"$f":"F10858*memoria!$B$44/(G10858*12*memoria!$B$47)","v":{"$error":"#DIV/0!"}},{"$f":"F10858/(G10858*12*memoria!$B$47)","v":{"$error":"#DIV/0!"}}]
[null,null,null,null,null,null,null,{"$f":"F10864*memoria!$B$44/(G10864*12*memoria!$B$47)","v":{"$error":"#DIV/0!"}},{"$f":"F10864/(G10864*12*memoria!$B$47)","v":{"$error":"#DIV/0!"}}]
[null,null,null,null,null,null,null,{"$f":"F10872*memoria!$B$44/(G10872*12*memoria!$B$47)","v":{"$error":"#DIV/0!"}},{"$f":"F10872/(G10872*12*memoria!$B$47)","v":{"$error":"#DIV/0!"}}]
[null,null,null,null,null,null,null,{"$f":"F10875*memoria!$B$44/(G10875*12*memoria!$B$47)","v":{"$error":"#DIV/0!"}},{"$f":"F10875/(G10875*12*memoria!$B$47)","v":{"$error":"#DIV/0!"}}]
[null,null,null,null,null,null,null,{"$f":"F10881*memoria!$B$44/(G10881*12*memoria!$B$47)","v":{"$error":"#DIV/0!"}},{"$f":"F10881/(G10881*12*memoria!$B$47)","v":{"$error":"#DIV/0!"}}]
[null,null,null,null,null,null,null,{"$f":"F10886*memoria!$B$44/(G10886*12*memoria!$B$47)","v":{"$error":"#DIV/0!"}},{"$f":"F10886/(G10886*12*memoria!$B$47)","v":{"$error":"#DIV/0!"}}]
[null,null,null,null,null,null,null,{"$f":"F10892*memoria!$B$44/(G10892*12*memoria!$B$47)","v":{"$error":"#DIV/0!"}},{"$f":"F10892/(G10892*12*memoria!$B$47)","v":{"$error":"#DIV/0!"}}]
[null,null,null,null,null,null,null,{"$f":"F10897*memoria!$B$44/(G10897*12*memoria!$B$47)","v":{"$error":"#DIV/0!"}},{"$f":"F10897/(G10897*12*memoria!$B$47)","v":{"$error":"#DIV/0!"}}]
[null,null,null,null,null,null,null,{"$f":"F10902*memoria!$B$44/(G10902*12*memoria!$B$47)","v":{"$error":"#DIV/0!"}},{"$f":"F10902/(G10902*12*memoria!$B$47)","v":{"$error":"#DIV/0!"}}]
[null,null,null,null,null,null,null,{"$f":"F10903*memoria!$B$44/(G10903*12*memoria!$B$47)","v":{"$error":"#DIV/0!"}},{"$f":"F10903/(G10903*12*memoria!$B$47)","v":{"$error":"#DIV/0!"}}]
[null,null,null,null,null,null,null,{"$f":"F10913*memoria!$B$44/(G10913*12*memoria!$B$47)","v":{"$error":"#DIV/0!"}},{"$f":"F10913/(G10913*12*memoria!$B$47)","v":{"$error":"#DIV/0!"}}]
[null,null,null,null,null,null,null,{"$f":"F10915*memoria!$B$44/(G10915*12*memoria!$B$47)","v":{"$error":"#DIV/0!"}},{"$f":"F10915/(G10915*12*memoria!$B$47)","v":{"$error":"#DIV/0!"}}]
[null,null,null,null,null,null,null,{"$f":"F10920*memoria!$B$44/(G10920*12*memoria!$B$47)","v":{"$error":"#DIV/0!"}},{"$f":"F10920/(G10920*12*memoria!$B$47)","v":{"$error":"#DIV/0!"}}]
[null,null,null,null,null,null,null,{"$f":"F10925*memoria!$B$44/(G10925*12*memoria!$B$47)","v":{"$error":"#DIV/0!"}},{"$f":"F10925/(G10925*12*memoria!$B$47)","v":{"$error":"#DIV/0!"}}]
[null,null,null,null,null,null,null,{"$f":"F10931*memoria!$B$44/(G10931*12*memoria!$B$47)","v":{"$error":"#DIV/0!"}},{"$f":"F10931/(G10931*12*memoria!$B$47)","v":{"$error":"#DIV/0!"}}]
[null,null,null,null,null,null,null,{"$f":"F10936*memoria!$B$44/(G10936*12*memoria!$B$47)","v":{"$error":"#DIV/0!"}},{"$f":"F10936/(G10936*12*memoria!$B$47)","v":{"$error":"#DIV/0!"}}]
[null,null,null,null,null,null,null,{"$f":"F10941*memoria!$B$44/(G10941*12*memoria!$B$47)","v":{"$error":"#DIV/0!"}},{"$f":"F10941/(G10941*12*memoria!$B$47)","v":{"$error":"#DIV/0!"}}]
[null,null,null,null,null,null,null,{"$f":"F10947*memoria!$B$44/(G10947*12*memoria!$B$47)","v":{"$error":"#DIV/0!"}},{"$f":"F10947/(G10947*12*memoria!$B$47)","v":{"$error":"#DIV/0!"}}]
[null,null,null,null,null,null,null,{"$f":"F10954*memoria!$B$44/(G10954*12*memoria!$B$47)","v":{"$error":"#DIV/0!"}},{"$f":"F10954/(G10954*12*memoria!$B$47)","v":{"$error":"#DIV/0!"}}]
[null,null,null,null,null,null,null,{"$f":"F10959*memoria!$B$44/(G10959*12*memoria!$B$47)","v":{"$error":"#DIV/0!"}},{"$f":"F10959/(G10959*12*memoria!$B$47)","v":{"$error":"#DIV/0!"}}]
[null,null,null,null,null,null,null,{"$f":"F10964*memoria!$B$44/(G10964*12*memoria!$B$47)","v":{"$error":"#DIV/0!"}},{"$f":"F10964/(G10964*12*memoria!$B$47)","v":{"$error":"#DIV/0!"}}]
[null,null,null,null,null,null,null,{"$f":"F10969*memoria!$B$44/(G10969*12*memoria!$B$47)","v":{"$error":"#DIV/0!"}},{"$f":"F10969/(G10969*12*memoria!$B$47)","v":{"$error":"#DIV/0!"}}]
[null,null,null,null,null,null,null,{"$f":"F10970*memoria!$B$44/(G10970*12*memoria!$B$47)","v":{"$error":"#DIV/0!"}},{"$f":"F10970/(G10970*12*memoria!$B$47)","v":{"$error":"#DIV/0!"}}]
[null,null,null,null,null,null,null,{"$f":"F10975*memoria!$B$44/(G10975*12*memoria!$B$47)","v":{"$error":"#DIV/0!"}},{"$f":"F10975/(G10975*12*memoria!$B$47)","v":{"$error":"#DIV/0!"}}]
[null,null,null,null,null,null,null,{"$f":"F10980*memoria!$B$44/(G10980*12*memoria!$B$47)","v":{"$error":"#DIV/0!"}},{"$f":"F10980/(G10980*12*memoria!$B$47)","v":{"$error":"#DIV/0!"}}]
[null,null,null,null,null,null,null,{"$f":"F10986*memoria!$B$44/(G10986*12*memoria!$B$47)","v":{"$error":"#DIV/0!"}},{"$f":"F10986/(G10986*12*memoria!$B$47)","v":{"$error":"#DIV/0!"}}]
[null,null,null,null,null,null,null,{"$f":"F10991*memoria!$B$44/(G10991*12*memoria!$B$47)","v":{"$error":"#DIV/0!"}},{"$f":"F10991/(G10991*12*memoria!$B$47)","v":{"$error":"#DIV/0!"}}]
[null,null,null,null,null,null,null,{"$f":"F10995*memoria!$B$44/(G10995*12*memoria!$B$47)","v":{"$error":"#DIV/0!"}},{"$f":"F10995/(G10995*12*memoria!$B$47)","v":{"$error":"#DIV/0!"}}]
[null,null,null,null,null,null,null,{"$f":"F11003*memoria!$B$44/(G11003*12*memoria!$B$47)","v":{"$error":"#DIV/0!"}},{"$f":"F11003/(G11003*12*memoria!$B$47)","v":{"$error":"#DIV/0!"}}]
[null,null,null,null,null,null,null,{"$f":"F11008*memoria!$B$44/(G11008*12*memoria!$B$47)","v":{"$error":"#DIV/0!"}},{"$f":"F11008/(G11008*12*memoria!$B$47)","v":{"$error":"#DIV/0!"}}]
[null,null,null,null,null,null,null,{"$f":"F11014*memoria!$B$44/(G11014*12*memoria!$B$47)","v":{"$error":"#DIV/0!"}},{"$f":"F11014/(G11014*12*memoria!$B$47)","v":{"$error":"#DIV/0!"}}]
[null,null,null,null,null,null,null,{"$f":"F11019*memoria!$B$44/(G11019*12*memoria!$B$47)","v":{"$error":"#DIV/0!"}},{"$f":"F11019/(G11019*12*memoria!$B$47)","v":{"$error":"#DIV/0!"}}]
[null,null,null,null,null,null,null,{"$f":"F11025*memoria!$B$44/(G11025*12*memoria!$B$47)","v":{"$error":"#DIV/0!"}},{"$f":"F11025/(G11025*12*memoria!$B$47)","v":{"$error":"#DIV/0!"}}]
[null,null,null,null,null,null,null,{"$f":"F11030*memoria!$B$44/(G11030*12*memoria!$B$47)","v":{"$error":"#DIV/0!"}},{"$f":"F11030/(G11030*12*memoria!$B$47)","v":{"$error":"#DIV/0!"}}]
[null,null,null,null,null,null,null,{"$f":"F11035*memoria!$B$44/(G11035*12*memoria!$B$47)","v":{"$error":"#DIV/0!"}},{"$f":"F11035/(G11035*12*memoria!$B$47)","v":{"$error":"#DIV/0!"}}]
[null,null,null,null,null,null,null,{"$f":"F11036*memoria!$B$44/(G11036*12*memoria!$B$47)","v":{"$error":"#DIV/0!"}},{"$f":"F11036/(G11036*12*memoria!$B$47)","v":{"$error":"#DIV/0!"}}]
[null,null,null,null,null,null,null,{"$f":"F11042*memoria!$B$44/(G11042*12*memoria!$B$47)","v":{"$error":"#DIV/0!"}},{"$f":"F11042/(G11042*12*memoria!$B$47)","v":{"$error":"#DIV/0!"}}]
[null,null,null,null,null,null,null,{"$f":"F11047*memoria!$B$44/(G11047*12*memoria!$B$47)","v":{"$error":"#DIV/0!"}},{"$f":"F11047/(G11047*12*memoria!$B$47)","v":{"$error":"#DIV/0!"}}]
[null,null,null,null,null,null,null,{"$f":"F11053*memoria!$B$44/(G11053*12*memoria!$B$47)","v":{"$error":"#DIV/0!"}},{"$f":"F11053/(G11053*12*memoria!$B$47)","v":{"$error":"#DIV/0!"}}]
[null,null,null,null,null,null,null,{"$f":"F11058*memoria!$B$44/(G11058*12*memoria!$B$47)","v":{"$error":"#DIV/0!"}},{"$f":"F11058/(G11058*12*memoria!$B$47)","v":{"$error":"#DIV/0!"}}]
[null,null,null,null,null,null,null,{"$f":"F11064*memoria!$B$44/(G11064*12*memoria!$B$47)","v":{"$error":"#DIV/0!"}},{"$f":"F11064/(G11064*12*memoria!$B$47)","v":{"$error":"#DIV/0!"}}]
[null,null,null,null,null,null,null,{"$f":"F11069*memoria!$B$44/(G11069*12*memoria!$B$47)","v":{"$error":"#DIV/0!"}},{"$f":"F11069/(G11069*12*memoria!$B$47)","v":{"$error":"#DIV/0!"}}]
[null,null,null,null,null,null,null,{"$f":"F11074*memoria!$B$44/(G11074*12*memoria!$B$47)","v":{"$error":"#DIV/0!"}},{"$f":"F11074/(G11074*12*memoria!$B$47)","v":{"$error":"#DIV/0!"}}]
[null,null,null,null,null,null,null,{"$f":"F11080*memoria!$B$44/(G11080*12*memoria!$B$47)","v":{"$error":"#DIV/0!"}},{"$f":"F11080/(G11080*12*memoria!$B$47)","v":{"$error":"#DIV/0!"}}]
[null,null,null,null,null,null,null,{"$f":"F11085*memoria!$B$44/(G11085*12*memoria!$B$47)","v":{"$error":"#DIV/0!"}},{"$f":"F11085/(G11085*12*memoria!$B$47)","v":{"$error":"#DIV/0!"}}]
[null,null,null,null,null,null,null,{"$f":"F11091*memoria!$B$44/(G11091*12*memoria!$B$47)","v":{"$error":"#DIV/0!"}},{"$f":"F11091/(G11091*12*memoria!$B$47)","v":{"$error":"#DIV/0!"}}]
[null,null,null,null,null,null,null,{"$f":"F11097*memoria!$B$44/(G11097*12*memoria!$B$47)","v":{"$error":"#DIV/0!"}},{"$f":"F11097/(G11097*12*memoria!$B$47)","v":{"$error":"#DIV/0!"}}]
[null,null,null,null,null,null,null,{"$f":"F11102*memoria!$B$44/(G11102*12*memoria!$B$47)","v":{"$error":"#DIV/0!"}},{"$f":"F11102/(G11102*12*memoria!$B$47)","v":{"$error":"#DIV/0!"}}]
[null,null,null,null,null,null,null,{"$f":"F11103*memoria!$B$44/(G11103*12*memoria!$B$47)","v":{"$error":"#DIV/0!"}},{"$f":"F11103/(G11103*12*memoria!$B$47)","v":{"$error":"#DIV/0!"}}]
[null,null,null,null,null,null,null,{"$f":"F11108*memoria!$B$44/(G11108*12*memoria!$B$47)","v":{"$error":"#DIV/0!"}},{"$f":"F11108/(G11108*12*memoria!$B$47)","v":{"$error":"#DIV/0!"}}]
[null,null,null,null,null,null,null,{"$f":"F11113*memoria!$B$44/(G11113*12*memoria!$B$47)","v":{"$error":"#DIV/0!"}},{"$f":"F11113/(G11113*12*memoria!$B$47)","v":{"$error":"#DIV/0!"}}]
[null,null,null,null,null,null,null,{"$f":"F11119*memoria!$B$44/(G11119*12*memoria!$B$47)","v":{"$error":"#DIV/0!"}},{"$f":"F11119/(G11119*12*memoria!$B$47)","v":{"$error":"#DIV/0!"}}]
[null,null,null,null,null,null,null,{"$f":"F11126*memoria!$B$44/(G11126*12*memoria!$B$47)","v":{"$error":"#DIV/0!"}},{"$f":"F11126/(G11126*12*memoria!$B$47)","v":{"$error":"#DIV/0!"}}]
[null,null,null,null,null,null,null,{"$f":"F11131*memoria!$B$44/(G11131*12*memoria!$B$47)","v":{"$error":"#DIV/0!"}},{"$f":"F11131/(G11131*12*memoria!$B$47)","v":{"$error":"#DIV/0!"}}]
[null,null,null,null,null,null,null,{"$f":"F11136*memoria!$B$44/(G11136*12*memoria!$B$47)","v":{"$error":"#DIV/0!"}},{"$f":"F11136/(G11136*12*memoria!$B$47)","v":{"$error":"#DIV/0!"}}]
[null,null,null,null,null,null,null,{"$f":"F11141*memoria!$B$44/(G11141*12*memoria!$B$47)","v":{"$error":"#DIV/0!"}},{"$f":"F11141/(G11141*12*memoria!$B$47)","v":{"$error":"#DIV/0!"}}]
[null,null,null,null,null,null,null,{"$f":"F11147*memoria!$B$44/(G11147*12*memoria!$B$47)","v":{"$error":"#DIV/0!"}},{"$f":"F11147/(G11147*12*memoria!$B$47)","v":{"$error":"#DIV/0!"}}]
[null,null,null,null,null,null,null,{"$f":"F11152*memoria!$B$44/(G11152*12*memoria!$B$47)","v":{"$error":"#DIV/0!"}},{"$f":"F11152/(G11152*12*memoria!$B$47)","v":{"$error":"#DIV/0!"}}]
[null,null,null,null,null,null,null,{"$f":"F11157*memoria!$B$44/(G11157*12*memoria!$B$47)","v":{"$error":"#DIV/0!"}},{"$f":"F11157/(G11157*12*memoria!$B$47)","v":{"$error":"#DIV/0!"}}]
[null,null,null,null,null,null,null,{"$f":"F11163*memoria!$B$44/(G11163*12*memoria!$B$47)","v":{"$error":"#DIV/0!"}},{"$f":"F11163/(G11163*12*memoria!$B$47)","v":{"$error":"#DIV/0!"}}]
[null,null,null,null,null,null,null,{"$f":"F11167*memoria!$B$44/(G11167*12*memoria!$B$47)","v":{"$error":"#DIV/0!"}},{"$f":"F11167/(G11167*12*memoria!$B$47)","v":{"$error":"#DIV/0!"}}]
[null,null,null,null,null,null,null,{"$f":"F11170*memoria!$B$44/(G11170*12*memoria!$B$47)","v":{"$error":"#DIV/0!"}},{"$f":"F11170/(G11170*12*memoria!$B$47)","v":{"$error":"#DIV/0!"}}]
[null,null,null,null,null,null,null,{"$f":"F11175*memoria!$B$44/(G11175*12*memoria!$B$47)","v":{"$error":"#DIV/0!"}},{"$f":"F11175/(G11175*12*memoria!$B$47)","v":{"$error":"#DIV/0!"}}]
[null,null,null,null,null,null,null,{"$f":"F11180*memoria!$B$44/(G11180*12*memoria!$B$47)","v":{"$error":"#DIV/0!"}},{"$f":"F11180/(G11180*12*memoria!$B$47)","v":{"$error":"#DIV/0!"}}]
[null,null,null,null,null,null,null,{"$f":"F11186*memoria!$B$44/(G11186*12*memoria!$B$47)","v":{"$error":"#DIV/0!"}},{"$f":"F11186/(G11186*12*memoria!$B$47)","v":{"$error":"#DIV/0!"}}]
[null,null,null,null,null,null,null,{"$f":"F11191*memoria!$B$44/(G11191*12*memoria!$B$47)","v":{"$error":"#DIV/0!"}},{"$f":"F11191/(G11191*12*memoria!$B$47)","v":{"$error":"#DIV/0!"}}]
[null,null,null,null,null,null,null,{"$f":"F11197*memoria!$B$44/(G11197*12*memoria!$B$47)","v":{"$error":"#DIV/0!"}},{"$f":"F11197/(G11197*12*memoria!$B$47)","v":{"$error":"#DIV/0!"}}]
[null,null,null,null,null,null,null,{"$f":"F11202*memoria!$B$44/(G11202*12*memoria!$B$47)","v":{"$error":"#DIV/0!"}},{"$f":"F11202/(G11202*12*memoria!$B$47)","v":{"$error":"#DIV/0!"}}]
[null,null,null,null,null,null,null,{"$f":"F11207*memoria!$B$44/(G11207*12*memoria!$B$47)","v":{"$error":"#DIV/0!"}},{"$f":"F11207/(G11207*12*memoria!$B$47)","v":{"$error":"#DIV/0!"}}]
[null,null,null,null,null,null,null,{"$f":"F11214*memoria!$B$44/(G11214*12*memoria!$B$47)","v":{"$error":"#DIV/0!"}},{"$f":"F11214/(G11214*12*memoria!$B$47)","v":{"$error":"#DIV/0!"}}]
[null,null,null,null,null,null,null,{"$f":"F11219*memoria!$B$44/(G11219*12*memoria!$B$47)","v":{"$error":"#DIV/0!"}},{"$f":"F11219/(G11219*12*memoria!$B$47)","v":{"$error":"#DIV/0!"}}]
[null,null,null,null,null,null,null,{"$f":"F11224*memoria!$B$44/(G11224*12*memoria!$B$47)","v":{"$error":"#DIV/0!"}},{"$f":"F11224/(G11224*12*memoria!$B$47)","v":{"$error":"#DIV/0!"}}]
[null,null,null,null,null,null,null,{"$f":"F11230*memoria!$B$44/(G11230*12*memoria!$B$47)","v":{"$error":"#DIV/0!"}},{"$f":"F11230/(G11230*12*memoria!$B$47)","v":{"$error":"#DIV/0!"}}]
[null,null,null,null,null,null,null,{"$f":"F11235*memoria!$B$44/(G11235*12*memoria!$B$47)","v":{"$error":"#DIV/0!"}},{"$f":"F11235/(G11235*12*memoria!$B$47)","v":{"$error":"#DIV/0!"}}]
[null,null,null,null,null,null,null,{"$f":"F11236*memoria!$B$44/(G11236*12*memoria!$B$47)","v":{"$error":"#DIV/0!"}},{"$f":"F11236/(G11236*12*memoria!$B$47)","v":{"$error":"#DIV/0!"}}]
[null,null,null,null,null,null,null,{"$f":"F11241*memoria!$B$44/(G11241*12*memoria!$B$47)","v":{"$error":"#DIV/0!"}},{"$f":"F11241/(G11241*12*memoria!$B$47)","v":{"$error":"#DIV/0!"}}]
[null,null,null,null,null,null,null,{"$f":"F11246*memoria!$B$44/(G11246*12*memoria!$B$47)","v":{"$error":"#DIV/0!"}},{"$f":"F11246/(G11246*12*memoria!$B$47)","v":{"$error":"#DIV/0!"}}]
[null,null,null,null,null,null,null,{"$f":"F11255*memoria!$B$44/(G11255*12*memoria!$B$47)","v":{"$error":"#DIV/0!"}},{"$f":"F11255/(G11255*12*memoria!$B$47)","v":{"$error":"#DIV/0!"}}]
[null,null,null,null,null,null,null,{"$f":"F11258*memoria!$B$44/(G11258*12*memoria!$B$47)","v":{"$error":"#DIV/0!"}},{"$f":"F11258/(G11258*12*memoria!$B$47)","v":{"$error":"#DIV/0!"}}]
[null,null,null,null,null,null,null,{"$f":"F11263*memoria!$B$44/(G11263*12*memoria!$B$47)","v":{"$error":"#DIV/0!"}},{"$f":"F11263/(G11263*12*memoria!$B$47)","v":{"$error":"#DIV/0!"}}]
[null,null,null,null,null,null,null,{"$f":"F11269*memoria!$B$44/(G11269*12*memoria!$B$47)","v":{"$error":"#DIV/0!"}},{"$f":"F11269/(G11269*12*memoria!$B$47)","v":{"$error":"#DIV/0!"}}]
[null,null,null,null,null,null,null,{"$f":"F11274*memoria!$B$44/(G11274*12*memoria!$B$47)","v":{"$error":"#DIV/0!"}},{"$f":"F11274/(G11274*12*memoria!$B$47)","v":{"$error":"#DIV/0!"}}]
[null,null,null,null,null,null,null,{"$f":"F11280*memoria!$B$44/(G11280*12*memoria!$B$47)","v":{"$error":"#DIV/0!"}},{"$f":"F11280/(G11280*12*memoria!$B$47)","v":{"$error":"#DIV/0!"}}]
[null,null,null,null,null,null,null,{"$f":"F11285*memoria!$B$44/(G11285*12*memoria!$B$47)","v":{"$error":"#DIV/0!"}},{"$f":"F11285/(G11285*12*memoria!$B$47)","v":{"$error":"#DIV/0!"}}]
[null,null,null,null,null,null,null,{"$f":"F11290*memoria!$B$44/(G11290*12*memoria!$B$47)","v":{"$error":"#DIV/0!"}},{"$f":"F11290/(G11290*12*memoria!$B$47)","v":{"$error":"#DIV/0!"}}]
[null,null,null,null,null,null,null,{"$f":"F11296*memoria!$B$44/(G11296*12*memoria!$B$47)","v":{"$error":"#DIV/0!"}},{"$f":"F11296/(G11296*12*memoria!$B$47)","v":{"$error":"#DIV/0!"}}]
[null,null,null,null,null,null,null,{"$f":"F11302*memoria!$B$44/(G11302*12*memoria!$B$47)","v":{"$error":"#DIV/0!"}},{"$f":"F11302/(G11302*12*memoria!$B$47)","v":{"$error":"#DIV/0!"}}]
[null,null,null,null,null,null,null,{"$f":"F11303*memoria!$B$44/(G11303*12*memoria!$B$47)","v":{"$error":"#DIV/0!"}},{"$f":"F11303/(G11303*12*memoria!$B$47)","v":{"$error":"#DIV/0!"}}]
[null,null,null,null,null,null,null,{"$f":"F11308*memoria!$B$44/(G11308*12*memoria!$B$47)","v":{"$error":"#DIV/0!"}},{"$f":"F11308/(G11308*12*memoria!$B$47)","v":{"$error":"#DIV/0!"}}]
[null,null,null,null,null,null,null,{"$f":"F11313*memoria!$B$44/(G11313*12*memoria!$B$47)","v":{"$error":"#DIV/0!"}},{"$f":"F11313/(G11313*12*memoria!$B$47)","v":{"$error":"#DIV/0!"}}]
[null,null,null,null,null,null,null,{"$f":"F11319*memoria!$B$44/(G11319*12*memoria!$B$47)","v":{"$error":"#DIV/0!"}},{"$f":"F11319/(G11319*12*memoria!$B$47)","v":{"$error":"#DIV/0!"}}]
[null,null,null,null,null,null,null,{"$f":"F11324*memoria!$B$44/(G11324*12*memoria!$B$47)","v":{"$error":"#DIV/0!"}},{"$f":"F11324/(G11324*12*memoria!$B$47)","v":{"$error":"#DIV/0!"}}]
[null,null,null,null,null,null,null,{"$f":"F11329*memoria!$B$44/(G11329*12*memoria!$B$47)","v":{"$error":"#DIV/0!"}},{"$f":"F11329/(G11329*12*memoria!$B$47)","v":{"$error":"#DIV/0!"}}]
[null,null,null,null,null,null,null,{"$f":"F11335*memoria!$B$44/(G11335*12*memoria!$B$47)","v":{"$error":"#DIV/0!"}},{"$f":"F11335/(G11335*12*memoria!$B$47)","v":{"$error":"#DIV/0!"}}]
[null,null,null,null,null,null,null,{"$f":"F11339*memoria!$B$44/(G11339*12*memoria!$B$47)","v":{"$error":"#DIV/0!"}},{"$f":"F11339/(G11339*12*memoria!$B$47)","v":{"$error":"#DIV/0!"}}]
[null,null,null,null,null,null,null,{"$f":"F11347*memoria!$B$44/(G11347*12*memoria!$B$47)","v":{"$error":"#DIV/0!"}},{"$f":"F11347/(G11347*12*memoria!$B$47)","v":{"$error":"#DIV/0!"}}]
[null,null,null,null,null,null,null,{"$f":"F11352*memoria!$B$44/(G11352*12*memoria!$B$47)","v":{"$error":"#DIV/0!"}},{"$f":"F11352/(G11352*12*memoria!$B$47)","v":{"$error":"#DIV/0!"}}]
[null,null,null,null,null,null,null,{"$f":"F11357*memoria!$B$44/(G11357*12*memoria!$B$47)","v":{"$error":"#DIV/0!"}},{"$f":"F11357/(G11357*12*memoria!$B$47)","v":{"$error":"#DIV/0!"}}]
[null,null,null,null,null,null,null,{"$f":"F11363*memoria!$B$44/(G11363*12*memoria!$B$47)","v":{"$error":"#DIV/0!"}},{"$f":"F11363/(G11363*12*memoria!$B$47)","v":{"$error":"#DIV/0!"}}]
[null,null,null,null,null,null,null,{"$f":"F11368*memoria!$B$44/(G11368*12*memoria!$B$47)","v":{"$error":"#DIV/0!"}},{"$f":"F11368/(G11368*12*memoria!$B$47)","v":{"$error":"#DIV/0!"}}]
[null,null,null,null,null,null,null,{"$f":"F11373*memoria!$B$44/(G11373*12*memoria!$B$47)","v":{"$error":"#DIV/0!"}},{"$f":"F11373/(G11373*12*memoria!$B$47)","v":{"$error":"#DIV/0!"}}]
[null,null,null,null,null,null,null,{"$f":"F11374*memoria!$B$44/(G11374*12*memoria!$B$47)","v":{"$error":"#DIV/0!"}},{"$f":"F11374/(G11374*12*memoria!$B$47)","v":{"$error":"#DIV/0!"}}]
[null,null,null,null,null,null,null,{"$f":"F11380*memoria!$B$44/(G11380*12*memoria!$B$47)","v":{"$error":"#DIV/0!"}},{"$f":"F11380/(G11380*12*memoria!$B$47)","v":{"$error":"#DIV/0!"}}]
[null,null,null,null,null,null,null,{"$f":"F11386*memoria!$B$44/(G11386*12*memoria!$B$47)","v":{"$error":"#DIV/0!"}},{"$f":"F11386/(G11386*12*memoria!$B$47)","v":{"$error":"#DIV/0!"}}]
[null,null,null,null,null,null,null,{"$f":"F11391*memoria!$B$44/(G11391*12*memoria!$B$47)","v":{"$error":"#DIV/0!"}},{"$f":"F11391/(G11391*12*memoria!$B$47)","v":{"$error":"#DIV/0!"}}]
[null,null,null,null,null,null,null,{"$f":"F11396*memoria!$B$44/(G11396*12*memoria!$B$47)","v":{"$error":"#DIV/0!"}},{"$f":"F11396/(G11396*12*memoria!$B$47)","v":{"$error":"#DIV/0!"}}]
[null,null,null,null,null,null,null,{"$f":"F11402*memoria!$B$44/(G11402*12*memoria!$B$47)","v":{"$error":"#DIV/0!"}},{"$f":"F11402/(G11402*12*memoria!$B$47)","v":{"$error":"#DIV/0!"}}]
[null,null,null,null,null,null,null,{"$f":"F11407*memoria!$B$44/(G11407*12*memoria!$B$47)","v":{"$error":"#DIV/0!"}},{"$f":"F11407/(G11407*12*memoria!$B$47)","v":{"$error":"#DIV/0!"}}]
[null,null,null,null,null,null,null,{"$f":"F11413*memoria!$B$44/(G11413*12*memoria!$B$47)","v":{"$error":"#DIV/0!"}},{"$f":"F11413/(G11413*12*memoria!$B$47)","v":{"$error":"#DIV/0!"}}]
[null,null,null,null,null,null,null,{"$f":"F11418*memoria!$B$44/(G11418*12*memoria!$B$47)","v":{"$error":"#DIV/0!"}},{"$f":"F11418/(G11418*12*memoria!$B$47)","v":{"$error":"#DIV/0!"}}]
[null,null,null,null,null,null,null,{"$f":"F11423*memoria!$B$44/(G11423*12*memoria!$B$47)","v":{"$error":"#DIV/0!"}},{"$f":"F11423/(G11423*12*memoria!$B$47)","v":{"$error":"#DIV/0!"}}]
[null,null,null,null,null,null,null,{"$f":"F11427*memoria!$B$44/(G11427*12*memoria!$B$47)","v":{"$error":"#DIV/0!"}},{"$f":"F11427/(G11427*12*memoria!$B$47)","v":{"$error":"#DIV/0!"}}]
[null,null,null,null,null,null,null,{"$f":"F11435*memoria!$B$44/(G11435*12*memoria!$B$47)","v":{"$error":"#DIV/0!"}},{"$f":"F11435/(G11435*12*memoria!$B$47)","v":{"$error":"#DIV/0!"}}]
[null,null,null,null,null,null,null,{"$f":"F11440*memoria!$B$44/(G11440*12*memoria!$B$47)","v":{"$error":"#DIV/0!"}},{"$f":"F11440/(G11440*12*memoria!$B$47)","v":{"$error":"#DIV/0!"}}]
[null,null,null,null,null,null,null,{"$f":"F11441*memoria!$B$44/(G11441*12*memoria!$B$47)","v":{"$error":"#DIV/0!"}},{"$f":"F11441/(G11441*12*memoria!$B$47)","v":{"$error":"#DIV/0!"}}]
[null,null,null,null,null,null,null,{"$f":"F11446*memoria!$B$44/(G11446*12*memoria!$B$47)","v":{"$error":"#DIV/0!"}},{"$f":"F11446/(G11446*12*memoria!$B$47)","v":{"$error":"#DIV/0!"}}]
[null,null,null,null,null,null,null,{"$f":"F11452*memoria!$B$44/(G11452*12*memoria!$B$47)","v":{"$error":"#DIV/0!"}},{"$f":"F11452/(G11452*12*memoria!$B$47)","v":{"$error":"#DIV/0!"}}]
[null,null,null,null,null,null,null,{"$f":"F11457*memoria!$B$44/(G11457*12*memoria!$B$47)","v":{"$error":"#DIV/0!"}},{"$f":"F11457/(G11457*12*memoria!$B$47)","v":{"$error":"#DIV/0!"}}]
[null,null,null,null,null,null,null,{"$f":"F11462*memoria!$B$44/(G11462*12*memoria!$B$47)","v":{"$error":"#DIV/0!"}},{"$f":"F11462/(G11462*12*memoria!$B$47)","v":{"$error":"#DIV/0!"}}]
[null,null,null,null,null,null,null,{"$f":"F11468*memoria!$B$44/(G11468*12*memoria!$B$47)","v":{"$error":"#DIV/0!"}},{"$f":"F11468/(G11468*12*memoria!$B$47)","v":{"$error":"#DIV/0!"}}]
[null,null,null,null,null,null,null,{"$f":"F11474*memoria!$B$44/(G11474*12*memoria!$B$47)","v":{"$error":"#DIV/0!"}},{"$f":"F11474/(G11474*12*memoria!$B$47)","v":{"$error":"#DIV/0!"}}]
[null,null,null,null,null,null,null,{"$f":"F11480*memoria!$B$44/(G11480*12*memoria!$B$47)","v":{"$error":"#DIV/0!"}},{"$f":"F11480/(G11480*12*memoria!$B$47)","v":{"$error":"#DIV/0!"}}]
[null,null,null,null,null,null,null,{"$f":"F11485*memoria!$B$44/(G11485*12*memoria!$B$47)","v":{"$error":"#DIV/0!"}},{"$f":"F11485/(G11485*12*memoria!$B$47)","v":{"$error":"#DIV/0!"}}]
[null,null,null,null,null,null,null,{"$f":"F11490*memoria!$B$44/(G11490*12*memoria!$B$47)","v":{"$error":"#DIV/0!"}},{"$f":"F11490/(G11490*12*memoria!$B$47)","v":{"$error":"#DIV/0!"}}]
[null,null,null,null,null,null,null,{"$f":"F11496*memoria!$B$44/(G11496*12*memoria!$B$47)","v":{"$error":"#DIV/0!"}},{"$f":"F11496/(G11496*12*memoria!$B$47)","v":{"$error":"#DIV/0!"}}]
[null,null,null,null,null,null,null,{"$f":"F11501*memoria!$B$44/(G11501*12*memoria!$B$47)","v":{"$error":"#DIV/0!"}},{"$f":"F11501/(G11501*12*memoria!$B$47)","v":{"$error":"#DIV/0!"}}]
[null,null,null,null,null,null,null,{"$f":"F11506*memoria!$B$44/(G11506*12*memoria!$B$47)","v":{"$error":"#DIV/0!"}},{"$f":"F11506/(G11506*12*memoria!$B$47)","v":{"$error":"#DIV/0!"}}]
[null,null,null,null,null,null,null,{"$f":"F11509*memoria!$B$44/(G11509*12*memoria!$B$47)","v":{"$error":"#DIV/0!"}},{"$f":"F11509/(G11509*12*memoria!$B$47)","v":{"$error":"#DIV/0!"}}]
[null,null,null,null,null,null,null,{"$f":"F11513*memoria!$B$44/(G11513*12*memoria!$B$47)","v":{"$error":"#DIV/0!"}},{"$f":"F11513/(G11513*12*memoria!$B$47)","v":{"$error":"#DIV/0!"}}]
[null,null,null,null,null,null,null,{"$f":"F11519*memoria!$B$44/(G11519*12*memoria!$B$47)","v":{"$error":"#DIV/0!"}},{"$f":"F11519/(G11519*12*memoria!$B$47)","v":{"$error":"#DIV/0!"}}]
[null,null,null,null,null,null,null,{"$f":"F11524*memoria!$B$44/(G11524*12*memoria!$B$47)","v":{"$error":"#DIV/0!"}},{"$f":"F11524/(G11524*12*memoria!$B$47)","v":{"$error":"#DIV/0!"}}]
[null,null,null,null,null,null,null,{"$f":"F11529*memoria!$B$44/(G11529*12*memoria!$B$47)","v":{"$error":"#DIV/0!"}},{"$f":"F11529/(G11529*12*memoria!$B$47)","v":{"$error":"#DIV/0!"}}]
[null,null,null,null,null,null,null,{"$f":"F11535*memoria!$B$44/(G11535*12*memoria!$B$47)","v":{"$error":"#DIV/0!"}},{"$f":"F11535/(G11535*12*memoria!$B$47)","v":{"$error":"#DIV/0!"}}]
[null,null,null,null,null,null,null,{"$f":"F11540*memoria!$B$44/(G11540*12*memoria!$B$47)","v":{"$error":"#DIV/0!"}},{"$f":"F11540/(G11540*12*memoria!$B$47)","v":{"$error":"#DIV/0!"}}]
[null,null,null,null,null,null,null,{"$f":"F11545*memoria!$B$44/(G11545*12*memoria!$B$47)","v":{"$error":"#DIV/0!"}},{"$f":"F11545/(G11545*12*memoria!$B$47)","v":{"$error":"#DIV/0!"}}]
[null,null,null,null,null,null,null,{"$f":"F11551*memoria!$B$44/(G11551*12*memoria!$B$47)","v":{"$error":"#DIV/0!"}},{"$f":"F11551/(G11551*12*memoria!$B$47)","v":{"$error":"#DIV/0!"}}]
[null,null,null,null,null,null,null,{"$f":"F11558*memoria!$B$44/(G11558*12*memoria!$B$47)","v":{"$error":"#DIV/0!"}},{"$f":"F11558/(G11558*12*memoria!$B$47)","v":{"$error":"#DIV/0!"}}]
[null,null,null,null,null,null,null,{"$f":"F11563*memoria!$B$44/(G11563*12*memoria!$B$47)","v":{"$error":"#DIV/0!"}},{"$f":"F11563/(G11563*12*memoria!$B$47)","v":{"$error":"#DIV/0!"}}]
[null,null,null,null,null,null,null,{"$f":"F11568*memoria!$B$44/(G11568*12*memoria!$B$47)","v":{"$error":"#DIV/0!"}},{"$f":"F11568/(G11568*12*memoria!$B$47)","v":{"$error":"#DIV/0!"}}]
[null,null,null,null,null,null,null,{"$f":"F11573*memoria!$B$44/(G11573*12*memoria!$B$47)","v":{"$error":"#DIV/0!"}},{"$f":"F11573/(G11573*12*memoria!$B$47)","v":{"$error":"#DIV/0!"}}]
[null,null,null,null,null,null,null,{"$f":"F11574*memoria!$B$44/(G11574*12*memoria!$B$47)","v":{"$error":"#DIV/0!"}},{"$f":"F11574/(G11574*12*memoria!$B$47)","v":{"$error":"#DIV/0!"}}]
[null,null,null,null,null,null,null,{"$f":"F11579*memoria!$B$44/(G11579*12*memoria!$B$47)","v":{"$error":"#DIV/0!"}},{"$f":"F11579/(G11579*12*memoria!$B$47)","v":{"$error":"#DIV/0!"}}]
[null,null,null,null,null,null,null,{"$f":"F11585*memoria!$B$44/(G11585*12*memoria!$B$47)","v":{"$error":"#DIV/0!"}},{"$f":"F11585/(G11585*12*memoria!$B$47)","v":{"$error":"#DIV/0!"}}]
[null,null,null,null,null,null,null,{"$f":"F11590*memoria!$B$44/(G11590*12*memoria!$B$47)","v":{"$error":"#DIV/0!"}},{"$f":"F11590/(G11590*12*memoria!$B$47)","v":{"$error":"#DIV/0!"}}]
[null,null,null,null,null,null,null,{"$f":"F11599*memoria!$B$44/(G11599*12*memoria!$B$47)","v":{"$error":"#DIV/0!"}},{"$f":"F11599/(G11599*12*memoria!$B$47)","v":{"$error":"#DIV/0!"}}]
[null,null,null,null,null,null,null,{"$f":"F11602*memoria!$B$44/(G11602*12*memoria!$B$47)","v":{"$error":"#DIV/0!"}},{"$f":"F11602/(G11602*12*memoria!$B$47)","v":{"$error":"#DIV/0!"}}]
[null,null,null,null,null,null,null,{"$f":"F11607*memoria!$B$44/(G11607*12*memoria!$B$47)","v":{"$error":"#DIV/0!"}},{"$f":"F11607/(G11607*12*memoria!$B$47)","v":{"$error":"#DIV/0!"}}]
[null,null,null,null,null,null,null,{"$f":"F11612*memoria!$B$44/(G11612*12*memoria!$B$47)","v":{"$error":"#DIV/0!"}},{"$f":"F11612/(G11612*12*memoria!$B$47)","v":{"$error":"#DIV/0!"}}]
[null,null,null,null,null,null,null,{"$f":"F11618*memoria!$B$44/(G11618*12*memoria!$B$47)","v":{"$error":"#DIV/0!"}},{"$f":"F11618/(G11618*12*memoria!$B$47)","v":{"$error":"#DIV/0!"}}]
[null,null,null,null,null,null,null,{"$f":"F11623*memoria!$B$44/(G11623*12*memoria!$B$47)","v":{"$error":"#DIV/0!"}},{"$f":"F11623/(G11623*12*memoria!$B$47)","v":{"$error":"#DIV/0!"}}]
[null,null,null,null,null,null,null,{"$f":"F11629*memoria!$B$44/(G11629*12*memoria!$B$47)","v":{"$error":"#DIV/0!"}},{"$f":"F11629/(G11629*12*memoria!$B$47)","v":{"$error":"#DIV/0!"}}]
[null,null,null,null,null,null,null,{"$f":"F11634*memoria!$B$44/(G11634*12*memoria!$B$47)","v":{"$error":"#DIV/0!"}},{"$f":"F11634/(G11634*12*memoria!$B$47)","v":{"$error":"#DIV/0!"}}]
[null,null,null,null,null,null,null,{"$f":"F11640*memoria!$B$44/(G11640*12*memoria!$B$47)","v":{"$error":"#DIV/0!"}},{"$f":"F11640/(G11640*12*memoria!$B$47)","v":{"$error":"#DIV/0!"}}]
[null,null,null,null,null,null,null,{"$f":"F11641*memoria!$B$44/(G11641*12*memoria!$B$47)","v":{"$error":"#DIV/0!"}},{"$f":"F11641/(G11641*12*memoria!$B$47)","v":{"$error":"#DIV/0!"}}]
[null,null,null,null,null,null,null,{"$f":"F11646*memoria!$B$44/(G11646*12*memoria!$B$47)","v":{"$error":"#DIV/0!"}},{"$f":"F11646/(G11646*12*memoria!$B$47)","v":{"$error":"#DIV/0!"}}]
[null,null,null,null,null,null,null,{"$f":"F11652*memoria!$B$44/(G11652*12*memoria!$B$47)","v":{"$error":"#DIV/0!"}},{"$f":"F11652/(G11652*12*memoria!$B$47)","v":{"$error":"#DIV/0!"}}]
[null,null,null,null,null,null,null,{"$f":"F11657*memoria!$B$44/(G11657*12*memoria!$B$47)","v":{"$error":"#DIV/0!"}},{"$f":"F11657/(G11657*12*memoria!$B$47)","v":{"$error":"#DIV/0!"}}]
[null,null,null,null,null,null,null,{"$f":"F11662*memoria!$B$44/(G11662*12*memoria!$B$47)","v":{"$error":"#DIV/0!"}},{"$f":"F11662/(G11662*12*memoria!$B$47)","v":{"$error":"#DIV/0!"}}]
[null,null,null,null,null,null,null,{"$f":"F11668*memoria!$B$44/(G11668*12*memoria!$B$47)","v":{"$error":"#DIV/0!"}},{"$f":"F11668/(G11668*12*memoria!$B$47)","v":{"$error":"#DIV/0!"}}]
[null,null,null,null,null,null,null,{"$f":"F11673*memoria!$B$44/(G11673*12*memoria!$B$47)","v":{"$error":"#DIV/0!"}},{"$f":"F11673/(G11673*12*memoria!$B$47)","v":{"$error":"#DIV/0!"}}]
[null,null,null,null,null,null,null,{"$f":"F11678*memoria!$B$44/(G11678*12*memoria!$B$47)","v":{"$error":"#DIV/0!"}},{"$f":"F11678/(G11678*12*memoria!$B$47)","v":{"$error":"#DIV/0!"}}]
[null,null,null,null,null,null,null,{"$f":"F11681*memoria!$B$44/(G11681*12*memoria!$B$47)","v":{"$error":"#DIV/0!"}},{"$f":"F11681/(G11681*12*memoria!$B$47)","v":{"$error":"#DIV/0!"}}]
[null,null,null,null,null,null,null,{"$f":"F11690*memoria!$B$44/(G11690*12*memoria!$B$47)","v":{"$error":"#DIV/0!"}},{"$f":"F11690/(G11690*12*memoria!$B$47)","v":{"$error":"#DIV/0!"}}]
[null,null,null,null,null,null,null,{"$f":"F11696*memoria!$B$44/(G11696*12*memoria!$B$47)","v":{"$error":"#DIV/0!"}},{"$f":"F11696/(G11696*12*memoria!$B$47)","v":{"$error":"#DIV/0!"}}]
[null,null,null,null,null,null,null,{"$f":"F11701*memoria!$B$44/(G11701*12*memoria!$B$47)","v":{"$error":"#DIV/0!"}},{"$f":"F11701/(G11701*12*memoria!$B$47)","v":{"$error":"#DIV/0!"}}]
[null,null,null,null,null,null,null,{"$f":"F11706*memoria!$B$44/(G11706*12*memoria!$B$47)","v":{"$error":"#DIV/0!"}},{"$f":"F11706/(G11706*12*memoria!$B$47)","v":{"$error":"#DIV/0!"}}]
[null,null,null,null,null,null,null,{"$f":"F11707*memoria!$B$44/(G11707*12*memoria!$B$47)","v":{"$error":"#DIV/0!"}},{"$f":"F11707/(G11707*12*memoria!$B$47)","v":{"$error":"#DIV/0!"}}]
[null,null,null,null,null,null,null,{"$f":"F11712*memoria!$B$44/(G11712*12*memoria!$B$47)","v":{"$error":"#DIV/0!"}},{"$f":"F11712/(G11712*12*memoria!$B$47)","v":{"$error":"#DIV/0!"}}]
[null,null,null,null,null,null,null,{"$f":"F11717*memoria!$B$44/(G11717*12*memoria!$B$47)","v":{"$error":"#DIV/0!"}},{"$f":"F11717/(G11717*12*memoria!$B$47)","v":{"$error":"#DIV/0!"}}]
[null,null,null,null,null,null,null,{"$f":"F11722*memoria!$B$44/(G11722*12*memoria!$B$47)","v":{"$error":"#DIV/0!"}},{"$f":"F11722/(G11722*12*memoria!$B$47)","v":{"$error":"#DIV/0!"}}]
[null,null,null,null,null,null,null,{"$f":"F11729*memoria!$B$44/(G11729*12*memoria!$B$47)","v":{"$error":"#DIV/0!"}},{"$f":"F11729/(G11729*12*memoria!$B$47)","v":{"$error":"#DIV/0!"}}]
[null,null,null,null,null,null,null,{"$f":"F11735*memoria!$B$44/(G11735*12*memoria!$B$47)","v":{"$error":"#DIV/0!"}},{"$f":"F11735/(G11735*12*memoria!$B$47)","v":{"$error":"#DIV/0!"}}]
[null,null,null,null,null,null,null,{"$f":"F11740*memoria!$B$44/(G11740*12*memoria!$B$47)","v":{"$error":"#DIV/0!"}},{"$f":"F11740/(G11740*12*memoria!$B$47)","v":{"$error":"#DIV/0!"}}]
[null,null,null,null,null,null,null,{"$f":"F11745*memoria!$B$44/(G11745*12*memoria!$B$47)","v":{"$error":"#DIV/0!"}},{"$f":"F11745/(G11745*12*memoria!$B$47)","v":{"$error":"#DIV/0!"}}]
[null,null,null,null,null,null,null,{"$f":"F11751*memoria!$B$44/(G11751*12*memoria!$B$47)","v":{"$error":"#DIV/0!"}},{"$f":"F11751/(G11751*12*memoria!$B$47)","v":{"$error":"#DIV/0!"}}]
[null,null,null,null,null,null,null,{"$f":"F11756*memoria!$B$44/(G11756*12*memoria!$B$47)","v":{"$error":"#DIV/0!"}},{"$f":"F11756/(G11756*12*memoria!$B$47)","v":{"$error":"#DIV/0!"}}]
[null,null,null,null,null,null,null,{"$f":"F11762*memoria!$B$44/(G11762*12*memoria!$B$47)","v":{"$error":"#DIV/0!"}},{"$f":"F11762/(G11762*12*memoria!$B$47)","v":{"$error":"#DIV/0!"}}]
[null,null,null,null,null,null,null,{"$f":"F11763*memoria!$B$44/(G11763*12*memoria!$B$47)","v":{"$error":"#DIV/0!"}},{"$f":"F11763/(G11763*12*memoria!$B$47)","v":{"$error":"#DIV/0!"}}]
[null,null,null,null,null,null,null,{"$f":"F11773*memoria!$B$44/(G11773*12*memoria!$B$47)","v":{"$error":"#DIV/0!"}},{"$f":"F11773/(G11773*12*memoria!$B$47)","v":{"$error":"#DIV/0!"}}]
[null,null,null,null,null,null,null,{"$f":"F11774*memoria!$B$44/(G11774*12*memoria!$B$47)","v":{"$error":"#DIV/0!"}},{"$f":"F11774/(G11774*12*memoria!$B$47)","v":{"$error":"#DIV/0!"}}]
[null,null,null,null,null,null,null,{"$f":"F11779*memoria!$B$44/(G11779*12*memoria!$B$47)","v":{"$error":"#DIV/0!"}},{"$f":"F11779/(G11779*12*memoria!$B$47)","v":{"$error":"#DIV/0!"}}]
[null,null,null,null,null,null,null,{"$f":"F11784*memoria!$B$44/(G11784*12*memoria!$B$47)","v":{"$error":"#DIV/0!"}},{"$f":"F11784/(G11784*12*memoria!$B$47)","v":{"$error":"#DIV/0!"}}]
[null,null,null,null,null,null,null,{"$f":"F11790*memoria!$B$44/(G11790*12*memoria!$B$47)","v":{"$error":"#DIV/0!"}},{"$f":"F11790/(G11790*12*memoria!$B$47)","v":{"$error":"#DIV/0!"}}]
[null,null,null,null,null,null,null,{"$f":"F11795*memoria!$B$44/(G11795*12*memoria!$B$47)","v":{"$error":"#DIV/0!"}},{"$f":"F11795/(G11795*12*memoria!$B$47)","v":{"$error":"#DIV/0!"}}]
[null,null,null,null,null,null,null,{"$f":"F11801*memoria!$B$44/(G11801*12*memoria!$B$47)","v":{"$error":"#DIV/0!"}},{"$f":"F11801/(G11801*12*memoria!$B$47)","v":{"$error":"#DIV/0!"}}]
[null,null,null,null,null,null,null,{"$f":"F11806*memoria!$B$44/(G11806*12*memoria!$B$47)","v":{"$error":"#DIV/0!"}},{"$f":"F11806/(G11806*12*memoria!$B$47)","v":{"$error":"#DIV/0!"}}]
[null,null,null,null,null,null,null,{"$f":"F11812*memoria!$B$44/(G11812*12*memoria!$B$47)","v":{"$error":"#DIV/0!"}},{"$f":"F11812/(G11812*12*memoria!$B$47)","v":{"$error":"#DIV/0!"}}]
[null,null,null,null,null,null,null,{"$f":"F11818*memoria!$B$44/(G11818*12*memoria!$B$47)","v":{"$error":"#DIV/0!"}},{"$f":"F11818/(G11818*12*memoria!$B$47)","v":{"$error":"#DIV/0!"}}]
[null,null,null,null,null,null,null,{"$f":"F11823*memoria!$B$44/(G11823*12*memoria!$B$47)","v":{"$error":"#DIV/0!"}},{"$f":"F11823/(G11823*12*memoria!$B$47)","v":{"$error":"#DIV/0!"}}]
[null,null,null,null,null,null,null,{"$f":"F11828*memoria!$B$44/(G11828*12*memoria!$B$47)","v":{"$error":"#DIV/0!"}},{"$f":"F11828/(G11828*12*memoria!$B$47)","v":{"$error":"#DIV/0!"}}]
[null,null,null,null,null,null,null,{"$f":"F11834*memoria!$B$44/(G11834*12*memoria!$B$47)","v":{"$error":"#DIV/0!"}},{"$f":"F11834/(G11834*12*memoria!$B$47)","v":{"$error":"#DIV/0!"}}]
[null,null,null,null,null,null,null,{"$f":"F11839*memoria!$B$44/(G11839*12*memoria!$B$47)","v":{"$error":"#DIV/0!"}},{"$f":"F11839/(G11839*12*memoria!$B$47)","v":{"$error":"#DIV/0!"}}]
[null,null,null,null,null,null,null,{"$f":"F11840*memoria!$B$44/(G11840*12*memoria!$B$47)","v":{"$error":"#DIV/0!"}},{"$f":"F11840/(G11840*12*memoria!$B$47)","v":{"$error":"#DIV/0!"}}]
[null,null,null,null,null,null,null,{"$f":"F11845*memoria!$B$44/(G11845*12*memoria!$B$47)","v":{"$error":"#DIV/0!"}},{"$f":"F11845/(G11845*12*memoria!$B$47)","v":{"$error":"#DIV/0!"}}]
[null,null,null,null,null,null,null,{"$f":"F11853*memoria!$B$44/(G11853*12*memoria!$B$47)","v":{"$error":"#DIV/0!"}},{"$f":"F11853/(G11853*12*memoria!$B$47)","v":{"$error":"#DIV/0!"}}]
[null,null,null,null,null,null,null,{"$f":"F11857*memoria!$B$44/(G11857*12*memoria!$B$47)","v":{"$error":"#DIV/0!"}},{"$f":"F11857/(G11857*12*memoria!$B$47)","v":{"$error":"#DIV/0!"}}]
[null,null,null,null,null,null,null,{"$f":"F11862*memoria!$B$44/(G11862*12*memoria!$B$47)","v":{"$error":"#DIV/0!"}},{"$f":"F11862/(G11862*12*memoria!$B$47)","v":{"$error":"#DIV/0!"}}]
[null,null,null,null,null,null,null,{"$f":"F11868*memoria!$B$44/(G11868*12*memoria!$B$47)","v":{"$error":"#DIV/0!"}},{"$f":"F11868/(G11868*12*memoria!$B$47)","v":{"$error":"#DIV/0!"}}]
[null,null,null,null,null,null,null,{"$f":"F11873*memoria!$B$44/(G11873*12*memoria!$B$47)","v":{"$error":"#DIV/0!"}},{"$f":"F11873/(G11873*12*memoria!$B$47)","v":{"$error":"#DIV/0!"}}]
[null,null,null,null,null,null,null,{"$f":"F11878*memoria!$B$44/(G11878*12*memoria!$B$47)","v":{"$error":"#DIV/0!"}},{"$f":"F11878/(G11878*12*memoria!$B$47)","v":{"$error":"#DIV/0!"}}]
[null,null,null,null,null,null,null,{"$f":"F11884*memoria!$B$44/(G11884*12*memoria!$B$47)","v":{"$error":"#DIV/0!"}},{"$f":"F11884/(G11884*12*memoria!$B$47)","v":{"$error":"#DIV/0!"}}]
[null,null,null,null,null,null,null,{"$f":"F11889*memoria!$B$44/(G11889*12*memoria!$B$47)","v":{"$error":"#DIV/0!"}},{"$f":"F11889/(G11889*12*memoria!$B$47)","v":{"$error":"#DIV/0!"}}]
[null,null,null,null,null,null,null,{"$f":"F11894*memoria!$B$44/(G11894*12*memoria!$B$47)","v":{"$error":"#DIV/0!"}},{"$f":"F11894/(G11894*12*memoria!$B$47)","v":{"$error":"#DIV/0!"}}]
[null,null,null,null,null,null,null,{"$f":"F11900*memoria!$B$44/(G11900*12*memoria!$B$47)","v":{"$error":"#DIV/0!"}},{"$f":"F11900/(G11900*12*memoria!$B$47)","v":{"$error":"#DIV/0!"}}]
[null,null,null,null,null,null,null,{"$f":"F11906*memoria!$B$44/(G11906*12*memoria!$B$47)","v":{"$error":"#DIV/0!"}},{"$f":"F11906/(G11906*12*memoria!$B$47)","v":{"$error":"#DIV/0!"}}]
[null,null,null,null,null,null,null,{"$f":"F11907*memoria!$B$44/(G11907*12*memoria!$B$47)","v":{"$error":"#DIV/0!"}},{"$f":"F11907/(G11907*12*memoria!$B$47)","v":{"$error":"#DIV/0!"}}]
[null,null,null,null,null,null,null,{"$f":"F11912*memoria!$B$44/(G11912*12*memoria!$B$47)","v":{"$error":"#DIV/0!"}},{"$f":"F11912/(G11912*12*memoria!$B$47)","v":{"$error":"#DIV/0!"}}]
[null,null,null,null,null,null,null,{"$f":"F11917*memoria!$B$44/(G11917*12*memoria!$B$47)","v":{"$error":"#DIV/0!"}},{"$f":"F11917/(G11917*12*memoria!$B$47)","v":{"$error":"#DIV/0!"}}]
[null,null,null,null,null,null,null,{"$f":"F11923*memoria!$B$44/(G11923*12*memoria!$B$47)","v":{"$error":"#DIV/0!"}},{"$f":"F11923/(G11923*12*memoria!$B$47)","v":{"$error":"#DIV/0!"}}]
[null,null,null,null,null,null,null,{"$f":"F11928*memoria!$B$44/(G11928*12*memoria!$B$47)","v":{"$error":"#DIV/0!"}},{"$f":"F11928/(G11928*12*memoria!$B$47)","v":{"$error":"#DIV/0!"}}]
[null,null,null,null,null,null,null,{"$f":"F11934*memoria!$B$44/(G11934*12*memoria!$B$47)","v":{"$error":"#DIV/0!"}},{"$f":"F11934/(G11934*12*memoria!$B$47)","v":{"$error":"#DIV/0!"}}]
[null,null,null,null,null,null,null,{"$f":"F11941*memoria!$B$44/(G11941*12*memoria!$B$47)","v":{"$error":"#DIV/0!"}},{"$f":"F11941/(G11941*12*memoria!$B$47)","v":{"$error":"#DIV/0!"}}]
[null,null,null,null,null,null,null,{"$f":"F11945*memoria!$B$44/(G11945*12*memoria!$B$47)","v":{"$error":"#DIV/0!"}},{"$f":"F11945/(G11945*12*memoria!$B$47)","v":{"$error":"#DIV/0!"}}]
[null,null,null,null,null,null,null,{"$f":"F11951*memoria!$B$44/(G11951*12*memoria!$B$47)","v":{"$error":"#DIV/0!"}},{"$f":"F11951/(G11951*12*memoria!$B$47)","v":{"$error":"#DIV/0!"}}]
[null,null,null,null,null,null,null,{"$f":"F11956*memoria!$B$44/(G11956*12*memoria!$B$47)","v":{"$error":"#DIV/0!"}},{"$f":"F11956/(G11956*12*memoria!$B$47)","v":{"$error":"#DIV/0!"}}]
[null,null,null,null,null,null,null,{"$f":"F11961*memoria!$B$44/(G11961*12*memoria!$B$47)","v":{"$error":"#DIV/0!"}},{"$f":"F11961/(G11961*12*memoria!$B$47)","v":{"$error":"#DIV/0!"}}]
[null,null,null,null,null,null,null,{"$f":"F11967*memoria!$B$44/(G11967*12*memoria!$B$47)","v":{"$error":"#DIV/0!"}},{"$f":"F11967/(G11967*12*memoria!$B$47)","v":{"$error":"#DIV/0!"}}]
[null,null,null,null,null,null,null,{"$f":"F11972*memoria!$B$44/(G11972*12*memoria!$B$47)","v":{"$error":"#DIV/0!"}},{"$f":"F11972/(G11972*12*memoria!$B$47)","v":{"$error":"#DIV/0!"}}]
[null,null,null,null,null,null,null,{"$f":"F11973*memoria!$B$44/(G11973*12*memoria!$B$47)","v":{"$error":"#DIV/0!"}},{"$f":"F11973/(G11973*12*memoria!$B$47)","v":{"$error":"#DIV/0!"}}]
[null,null,null,null,null,null,null,{"$f":"F11982*memoria!$B$44/(G11982*12*memoria!$B$47)","v":{"$error":"#DIV/0!"}},{"$f":"F11982/(G11982*12*memoria!$B$47)","v":{"$error":"#DIV/0!"}}]
[null,null,null,null,null,null,null,{"$f":"F11984*memoria!$B$44/(G11984*12*memoria!$B$47)","v":{"$error":"#DIV/0!"}},{"$f":"F11984/(G11984*12*memoria!$B$47)","v":{"$error":"#DIV/0!"}}]
[null,null,null,null,null,null,null,{"$f":"F11990*memoria!$B$44/(G11990*12*memoria!$B$47)","v":{"$error":"#DIV/0!"}},{"$f":"F11990/(G11990*12*memoria!$B$47)","v":{"$error":"#DIV/0!"}}]
[null,null,null,null,null,null,null,{"$f":"F11995*memoria!$B$44/(G11995*12*memoria!$B$47)","v":{"$error":"#DIV/0!"}},{"$f":"F11995/(G11995*12*memoria!$B$47)","v":{"$error":"#DIV/0!"}}]
[null,null,null,null,null,null,null,{"$f":"F12000*memoria!$B$44/(G12000*12*memoria!$B$47)","v":{"$error":"#DIV/0!"}},{"$f":"F12000/(G12000*12*memoria!$B$47)","v":{"$error":"#DIV/0!"}}]
[null,null,null,null,null,null,null,{"$f":"F12006*memoria!$B$44/(G12006*12*memoria!$B$47)","v":{"$error":"#DIV/0!"}},{"$f":"F12006/(G12006*12*memoria!$B$47)","v":{"$error":"#DIV/0!"}}]
[null,null,null,null,null,null,null,{"$f":"F12011*memoria!$B$44/(G12011*12*memoria!$B$47)","v":{"$error":"#DIV/0!"}},{"$f":"F12011/(G12011*12*memoria!$B$47)","v":{"$error":"#DIV/0!"}}]
[null,null,null,null,null,null,null,{"$f":"F12017*memoria!$B$44/(G12017*12*memoria!$B$47)","v":{"$error":"#DIV/0!"}},{"$f":"F12017/(G12017*12*memoria!$B$47)","v":{"$error":"#DIV/0!"}}]
[null,null,null,null,null,null,null,{"$f":"F12022*memoria!$B$44/(G12022*12*memoria!$B$47)","v":{"$error":"#DIV/0!"}},{"$f":"F12022/(G12022*12*memoria!$B$47)","v":{"$error":"#DIV/0!"}}]
[null,null,null,null,null,null,null,{"$f":"F12025*memoria!$B$44/(G12025*12*memoria!$B$47)","v":{"$error":"#DIV/0!"}},{"$f":"F12025/(G12025*12*memoria!$B$47)","v":{"$error":"#DIV/0!"}}]
[null,null,null,null,null,null,null,{"$f":"F12034*memoria!$B$44/(G12034*12*memoria!$B$47)","v":{"$error":"#DIV/0!"}},{"$f":"F12034/(G12034*12*memoria!$B$47)","v":{"$error":"#DIV/0!"}}]
[null,null,null,null,null,null,null,{"$f":"F12039*memoria!$B$44/(G12039*12*memoria!$B$47)","v":{"$error":"#DIV/0!"}},{"$f":"F12039/(G12039*12*memoria!$B$47)","v":{"$error":"#DIV/0!"}}]
[null,null,null,null,null,null,null,{"$f":"F12040*memoria!$B$44/(G12040*12*memoria!$B$47)","v":{"$error":"#DIV/0!"}},{"$f":"F12040/(G12040*12*memoria!$B$47)","v":{"$error":"#DIV/0!"}}]
[null,null,null,null,null,null,null,{"$f":"F12045*memoria!$B$44/(G12045*12*memoria!$B$47)","v":{"$error":"#DIV/0!"}},{"$f":"F12045/(G12045*12*memoria!$B$47)","v":{"$error":"#DIV/0!"}}]
[null,null,null,null,null,null,null,{"$f":"F12050*memoria!$B$44/(G12050*12*memoria!$B$47)","v":{"$error":"#DIV/0!"}},{"$f":"F12050/(G12050*12*memoria!$B$47)","v":{"$error":"#DIV/0!"}}]
[null,null,null,null,null,null,null,{"$f":"F12056*memoria!$B$44/(G12056*12*memoria!$B$47)","v":{"$error":"#DIV/0!"}},{"$f":"F12056/(G12056*12*memoria!$B$47)","v":{"$error":"#DIV/0!"}}]
[null,null,null,null,null,null,null,{"$f":"F12061*memoria!$B$44/(G12061*12*memoria!$B$47)","v":{"$error":"#DIV/0!"}},{"$f":"F12061/(G12061*12*memoria!$B$47)","v":{"$error":"#DIV/0!"}}]
[null,null,null,null,null,null,null,{"$f":"F12066*memoria!$B$44/(G12066*12*memoria!$B$47)","v":{"$error":"#DIV/0!"}},{"$f":"F12066/(G12066*12*memoria!$B$47)","v":{"$error":"#DIV/0!"}}]
[null,null,null,null,null,null,null,{"$f":"F12073*memoria!$B$44/(G12073*12*memoria!$B$47)","v":{"$error":"#DIV/0!"}},{"$f":"F12073/(G12073*12*memoria!$B$47)","v":{"$error":"#DIV/0!"}}]
[null,null,null,null,null,null,null,{"$f":"F12078*memoria!$B$44/(G12078*12*memoria!$B$47)","v":{"$error":"#DIV/0!"}},{"$f":"F12078/(G12078*12*memoria!$B$47)","v":{"$error":"#DIV/0!"}}]
[null,null,null,null,null,null,null,{"$f":"F12084*memoria!$B$44/(G12084*12*memoria!$B$47)","v":{"$error":"#DIV/0!"}},{"$f":"F12084/(G12084*12*memoria!$B$47)","v":{"$error":"#DIV/0!"}}]
[null,null,null,null,null,null,null,{"$f":"F12089*memoria!$B$44/(G12089*12*memoria!$B$47)","v":{"$error":"#DIV/0!"}},{"$f":"F12089/(G12089*12*memoria!$B$47)","v":{"$error":"#DIV/0!"}}]
[null,null,null,null,null,null,null,{"$f":"F12094*memoria!$B$44/(G12094*12*memoria!$B$47)","v":{"$error":"#DIV/0!"}},{"$f":"F12094/(G12094*12*memoria!$B$47)","v":{"$error":"#DIV/0!"}}]
[null,null,null,null,null,null,null,{"$f":"F12100*memoria!$B$44/(G12100*12*memoria!$B$47)","v":{"$error":"#DIV/0!"}},{"$f":"F12100/(G12100*12*memoria!$B$47)","v":{"$error":"#DIV/0!"}}]
[null,null,null,null,null,null,null,{"$f":"F12105*memoria!$B$44/(G12105*12*memoria!$B$47)","v":{"$error":"#DIV/0!"}},{"$f":"F12105/(G12105*12*memoria!$B$47)","v":{"$error":"#DIV/0!"}}]
[null,null,null,null,null,null,null,{"$f":"F12111*memoria!$B$44/(G12111*12*memoria!$B$47)","v":{"$error":"#DIV/0!"}},{"$f":"F12111/(G12111*12*memoria!$B$47)","v":{"$error":"#DIV/0!"}}]
[null,null,null,null,null,null,null,{"$f":"F12112*memoria!$B$44/(G12112*12*memoria!$B$47)","v":{"$error":"#DIV/0!"}},{"$f":"F12112/(G12112*12*memoria!$B$47)","v":{"$error":"#DIV/0!"}}]
[null,null,null,null,null,null,null,{"$f":"F12117*memoria!$B$44/(G12117*12*memoria!$B$47)","v":{"$error":"#DIV/0!"}},{"$f":"F12117/(G12117*12*memoria!$B$47)","v":{"$error":"#DIV/0!"}}]
[null,null,null,null,null,null,null,{"$f":"F12123*memoria!$B$44/(G12123*12*memoria!$B$47)","v":{"$error":"#DIV/0!"}},{"$f":"F12123/(G12123*12*memoria!$B$47)","v":{"$error":"#DIV/0!"}}]
[null,null,null,null,null,null,null,{"$f":"F12128*memoria!$B$44/(G12128*12*memoria!$B$47)","v":{"$error":"#DIV/0!"}},{"$f":"F12128/(G12128*12*memoria!$B$47)","v":{"$error":"#DIV/0!"}}]
[null,null,null,null,null,null,null,{"$f":"F12133*memoria!$B$44/(G12133*12*memoria!$B$47)","v":{"$error":"#DIV/0!"}},{"$f":"F12133/(G12133*12*memoria!$B$47)","v":{"$error":"#DIV/0!"}}]
[null,null,null,null,null,null,null,{"$f":"F12139*memoria!$B$44/(G12139*12*memoria!$B$47)","v":{"$error":"#DIV/0!"}},{"$f":"F12139/(G12139*12*memoria!$B$47)","v":{"$error":"#DIV/0!"}}]
[null,null,null,null,null,null,null,{"$f":"F12144*memoria!$B$44/(G12144*12*memoria!$B$47)","v":{"$error":"#DIV/0!"}},{"$f":"F12144/(G12144*12*memoria!$B$47)","v":{"$error":"#DIV/0!"}}]
[null,null,null,null,null,null,null,{"$f":"F12150*memoria!$B$44/(G12150*12*memoria!$B$47)","v":{"$error":"#DIV/0!"}},{"$f":"F12150/(G12150*12*memoria!$B$47)","v":{"$error":"#DIV/0!"}}]
[null,null,null,null,null,null,null,{"$f":"F12154*memoria!$B$44/(G12154*12*memoria!$B$47)","v":{"$error":"#DIV/0!"}},{"$f":"F12154/(G12154*12*memoria!$B$47)","v":{"$error":"#DIV/0!"}}]
[null,null,null,null,null,null,null,{"$f":"F12161*memoria!$B$44/(G12161*12*memoria!$B$47)","v":{"$error":"#DIV/0!"}},{"$f":"F12161/(G12161*12*memoria!$B$47)","v":{"$error":"#DIV/0!"}}]
[null,null,null,null,null,null,null,{"$f":"F12167*memoria!$B$44/(G12167*12*memoria!$B$47)","v":{"$error":"#DIV/0!"}},{"$f":"F12167/(G12167*12*memoria!$B$47)","v":{"$error":"#DIV/0!"}}]
[null,null,null,null,null,null,null,{"$f":"F12172*memoria!$B$44/(G12172*12*memoria!$B$47)","v":{"$error":"#DIV/0!"}},{"$f":"F12172/(G12172*12*memoria!$B$47)","v":{"$error":"#DIV/0!"}}]
[null,null,null,null,null,null,null,{"$f":"F12177*memoria!$B$44/(G12177*12*memoria!$B$47)","v":{"$error":"#DIV/0!"}},{"$f":"F12177/(G12177*12*memoria!$B$47)","v":{"$error":"#DIV/0!"}}]
[null,null,null,null,null,null,null,{"$f":"F12178*memoria!$B$44/(G12178*12*memoria!$B$47)","v":{"$error":"#DIV/0!"}},{"$f":"F12178/(G12178*12*memoria!$B$47)","v":{"$error":"#DIV/0!"}}]
[null,null,null,null,null,null,null,{"$f":"F12183*memoria!$B$44/(G12183*12*memoria!$B$47)","v":{"$error":"#DIV/0!"}},{"$f":"F12183/(G12183*12*memoria!$B$47)","v":{"$error":"#DIV/0!"}}]
[null,null,null,null,null,null,null,{"$f":"F12189*memoria!$B$44/(G12189*12*memoria!$B$47)","v":{"$error":"#DIV/0!"}},{"$f":"F12189/(G12189*12*memoria!$B$47)","v":{"$error":"#DIV/0!"}}]
[null,null,null,null,null,null,null,{"$f":"F12195*memoria!$B$44/(G12195*12*memoria!$B$47)","v":{"$error":"#DIV/0!"}},{"$f":"F12195/(G12195*12*memoria!$B$47)","v":{"$error":"#DIV/0!"}}]
[null,null,null,null,null,null,null,{"$f":"F12200*memoria!$B$44/(G12200*12*memoria!$B$47)","v":{"$error":"#DIV/0!"}},{"$f":"F12200/(G12200*12*memoria!$B$47)","v":{"$error":"#DIV/0!"}}]
[null,null,null,null,null,null,null,{"$f":"F12206*memoria!$B$44/(G12206*12*memoria!$B$47)","v":{"$error":"#DIV/0!"}},{"$f":"F12206/(G12206*12*memoria!$B$47)","v":{"$error":"#DIV/0!"}}]
[null,null,null,null,null,null,null,{"$f":"F12211*memoria!$B$44/(G12211*12*memoria!$B$47)","v":{"$error":"#DIV/0!"}},{"$f":"F12211/(G12211*12*memoria!$B$47)","v":{"$error":"#DIV/0!"}}]
[null,null,null,null,null,null,null,{"$f":"F12217*memoria!$B$44/(G12217*12*memoria!$B$47)","v":{"$error":"#DIV/0!"}},{"$f":"F12217/(G12217*12*memoria!$B$47)","v":{"$error":"#DIV/0!"}}]
[null,null,null,null,null,null,null,{"$f":"F12222*memoria!$B$44/(G12222*12*memoria!$B$47)","v":{"$error":"#DIV/0!"}},{"$f":"F12222/(G12222*12*memoria!$B$47)","v":{"$error":"#DIV/0!"}}]
[null,null,null,null,null,null,null,{"$f":"F12227*memoria!$B$44/(G12227*12*memoria!$B$47)","v":{"$error":"#DIV/0!"}},{"$f":"F12227/(G12227*12*memoria!$B$47)","v":{"$error":"#DIV/0!"}}]
[null,null,null,null,null,null,null,{"$f":"F12233*memoria!$B$44/(G12233*12*memoria!$B$47)","v":{"$error":"#DIV/0!"}},{"$f":"F12233/(G12233*12*memoria!$B$47)","v":{"$error":"#DIV/0!"}}]
[null,null,null,null,null,null,null,{"$f":"F12236*memoria!$B$44/(G12236*12*memoria!$B$47)","v":{"$error":"#DIV/0!"}},{"$f":"F12236/(G12236*12*memoria!$B$47)","v":{"$error":"#DIV/0!"}}]
[null,null,null,null,null,null,null,{"$f":"F12240*memoria!$B$44/(G12240*12*memoria!$B$47)","v":{"$error":"#DIV/0!"}},{"$f":"F12240/(G12240*12*memoria!$B$47)","v":{"$error":"#DIV/0!"}}]
[null,null,null,null,null,null,null,{"$f":"F12241*memoria!$B$44/(G12241*12*memoria!$B$47)","v":{"$error":"#DIV/0!"}},{"$f":"F12241/(G12241*12*memoria!$B$47)","v":{"$error":"#DIV/0!"}}]
[null,null,null,null,null,null,null,{"$f":"F12242*memoria!$B$44/(G12242*12*memoria!$B$47)","v":{"$error":"#DIV/0!"}},{"$f":"F12242/(G12242*12*memoria!$B$47)","v":{"$error":"#DIV/0!"}}]
[null,null,null,null,null,null,null,{"$f":"F12243*memoria!$B$44/(G12243*12*memoria!$B$47)","v":{"$error":"#DIV/0!"}},{"$f":"F12243/(G12243*12*memoria!$B$47)","v":{"$error":"#DIV/0!"}}]
[null,null,null,null,null,null,null,{"$f":"F12244*memoria!$B$44/(G12244*12*memoria!$B$47)","v":{"$error":"#DIV/0!"}},{"$f":"F12244/(G12244*12*memoria!$B$47)","v":{"$error":"#DIV/0!"}}]
[null,null,null,null,null,null,null,{"$f":"F12245*memoria!$B$44/(G12245*12*memoria!$B$47)","v":{"$error":"#DIV/0!"}},{"$f":"F12245/(G12245*12*memoria!$B$47)","v":{"$error":"#DIV/0!"}}]
[null,null,null,null,null,null,null,{"$f":"F12246*memoria!$B$44/(G12246*12*memoria!$B$47)","v":{"$error":"#DIV/0!"}},{"$f":"F12246/(G12246*12*memoria!$B$47)","v":{"$error":"#DIV/0!"}}]
[null,null,null,null,null,null,null,{"$f":"F12247*memoria!$B$44/(G12247*12*memoria!$B$47)","v":{"$error":"#DIV/0!"}},{"$f":"F12247/(G12247*12*memoria!$B$47)","v":{"$error":"#DIV/0!"}}]
[null,null,null,null,null,null,null,{"$f":"F12248*memoria!$B$44/(G12248*12*memoria!$B$47)","v":{"$error":"#DIV/0!"}},{"$f":"F12248/(G12248*12*memoria!$B$47)","v":{"$error":"#DIV/0!"}}]
[null,null,null,null,null,null,null,{"$f":"F12249*memoria!$B$44/(G12249*12*memoria!$B$47)","v":{"$error":"#DIV/0!"}},{"$f":"F12249/(G12249*12*memoria!$B$47)","v":{"$error":"#DIV/0!"}}]
[null,null,null,null,null,null,null,{"$f":"F12250*memoria!$B$44/(G12250*12*memoria!$B$47)","v":{"$error":"#DIV/0!"}},{"$f":"F12250/(G12250*12*memoria!$B$47)","v":{"$error":"#DIV/0!"}}]
[null,null,null,null,null,null,null,{"$f":"F12251*memoria!$B$44/(G12251*12*memoria!$B$47)","v":{"$error":"#DIV/0!"}},{"$f":"F12251/(G12251*12*memoria!$B$47)","v":{"$error":"#DIV/0!"}}]
[null,null,null,null,null,null,null,{"$f":"F12252*memoria!$B$44/(G12252*12*memoria!$B$47)","v":{"$error":"#DIV/0!"}},{"$f":"F12252/(G12252*12*memoria!$B$47)","v":{"$error":"#DIV/0!"}}]
[null,null,null,null,null,null,null,{"$f":"F12253*memoria!$B$44/(G12253*12*memoria!$B$47)","v":{"$error":"#DIV/0!"}},{"$f":"F12253/(G12253*12*memoria!$B$47)","v":{"$error":"#DIV/0!"}}]
[null,null,null,null,null,null,null,{"$f":"F12254*memoria!$B$44/(G12254*12*memoria!$B$47)","v":{"$error":"#DIV/0!"}},{"$f":"F12254/(G12254*12*memoria!$B$47)","v":{"$error":"#DIV/0!"}}]
[null,null,null,null,null,null,null,{"$f":"F12255*memoria!$B$44/(G12255*12*memoria!$B$47)","v":{"$error":"#DIV/0!"}},{"$f":"F12255/(G12255*12*memoria!$B$47)","v":{"$error":"#DIV/0!"}}]
[null,null,null,null,null,null,null,{"$f":"F12256*memoria!$B$44/(G12256*12*memoria!$B$47)","v":{"$error":"#DIV/0!"}},{"$f":"F12256/(G12256*12*memoria!$B$47)","v":{"$error":"#DIV/0!"}}]
[null,null,null,null,null,null,null,{"$f":"F12257*memoria!$B$44/(G12257*12*memoria!$B$47)","v":{"$error":"#DIV/0!"}},{"$f":"F12257/(G12257*12*memoria!$B$47)","v":{"$error":"#DIV/0!"}}]
[null,null,null,null,null,null,null,{"$f":"F12258*memoria!$B$44/(G12258*12*memoria!$B$47)","v":{"$error":"#DIV/0!"}},{"$f":"F12258/(G12258*12*memoria!$B$47)","v":{"$error":"#DIV/0!"}}]
[null,null,null,null,null,null,null,{"$f":"F12259*memoria!$B$44/(G12259*12*memoria!$B$47)","v":{"$error":"#DIV/0!"}},{"$f":"F12259/(G12259*12*memoria!$B$47)","v":{"$error":"#DIV/0!"}}]
[null,null,null,null,null,null,null,{"$f":"F12260*memoria!$B$44/(G12260*12*memoria!$B$47)","v":{"$error":"#DIV/0!"}},{"$f":"F12260/(G12260*12*memoria!$B$47)","v":{"$error":"#DIV/0!"}}]
[null,null,null,null,null,null,null,{"$f":"F12261*memoria!$B$44/(G12261*12*memoria!$B$47)","v":{"$error":"#DIV/0!"}},{"$f":"F12261/(G12261*12*memoria!$B$47)","v":{"$error":"#DIV/0!"}}]
[null,null,null,null,null,null,null,{"$f":"F12262*memoria!$B$44/(G12262*12*memoria!$B$47)","v":{"$error":"#DIV/0!"}},{"$f":"F12262/(G12262*12*memoria!$B$47)","v":{"$error":"#DIV/0!"}}]
[null,null,null,null,null,null,null,{"$f":"F12263*memoria!$B$44/(G12263*12*memoria!$B$47)","v":{"$error":"#DIV/0!"}},{"$f":"F12263/(G12263*12*memoria!$B$47)","v":{"$error":"#DIV/0!"}}]
[null,null,null,null,null,null,null,{"$f":"F12264*memoria!$B$44/(G12264*12*memoria!$B$47)","v":{"$error":"#DIV/0!"}},{"$f":"F12264/(G12264*12*memoria!$B$47)","v":{"$error":"#DIV/0!"}}]
[null,null,null,null,null,null,null,{"$f":"F12265*memoria!$B$44/(G12265*12*memoria!$B$47)","v":{"$error":"#DIV/0!"}},{"$f":"F12265/(G12265*12*memoria!$B$47)","v":{"$error":"#DIV/0!"}}]
[null,null,null,null,null,null,null,{"$f":"F12266*memoria!$B$44/(G12266*12*memoria!$B$47)","v":{"$error":"#DIV/0!"}},{"$f":"F12266/(G12266*12*memoria!$B$47)","v":{"$error":"#DIV/0!"}}]
[null,null,null,null,null,null,null,{"$f":"F12267*memoria!$B$44/(G12267*12*memoria!$B$47)","v":{"$error":"#DIV/0!"}},{"$f":"F12267/(G12267*12*memoria!$B$47)","v":{"$error":"#DIV/0!"}}]
[null,null,null,null,null,null,null,{"$f":"F12268*memoria!$B$44/(G12268*12*memoria!$B$47)","v":{"$error":"#DIV/0!"}},{"$f":"F12268/(G12268*12*memoria!$B$47)","v":{"$error":"#DIV/0!"}}]
[null,null,null,null,null,null,null,{"$f":"F12269*memoria!$B$44/(G12269*12*memoria!$B$47)","v":{"$error":"#DIV/0!"}},{"$f":"F12269/(G12269*12*memoria!$B$47)","v":{"$error":"#DIV/0!"}}]
[null,null,null,null,null,null,null,{"$f":"F12270*memoria!$B$44/(G12270*12*memoria!$B$47)","v":{"$error":"#DIV/0!"}},{"$f":"F12270/(G12270*12*memoria!$B$47)","v":{"$error":"#DIV/0!"}}]
[null,null,null,null,null,null,null,{"$f":"F12271*memoria!$B$44/(G12271*12*memoria!$B$47)","v":{"$error":"#DIV/0!"}},{"$f":"F12271/(G12271*12*memoria!$B$47)","v":{"$error":"#DIV/0!"}}]
[null,null,null,null,null,null,null,{"$f":"F12272*memoria!$B$44/(G12272*12*memoria!$B$47)","v":{"$error":"#DIV/0!"}},{"$f":"F12272/(G12272*12*memoria!$B$47)","v":{"$error":"#DIV/0!"}}]
[null,null,null,null,null,null,null,{"$f":"F12273*memoria!$B$44/(G12273*12*memoria!$B$47)","v":{"$error":"#DIV/0!"}},{"$f":"F12273/(G12273*12*memoria!$B$47)","v":{"$error":"#DIV/0!"}}]
[null,null,null,null,null,null,null,{"$f":"F12274*memoria!$B$44/(G12274*12*memoria!$B$47)","v":{"$error":"#DIV/0!"}},{"$f":"F12274/(G12274*12*memoria!$B$47)","v":{"$error":"#DIV/0!"}}]
[null,null,null,null,null,null,null,{"$f":"F12275*memoria!$B$44/(G12275*12*memoria!$B$47)","v":{"$error":"#DIV/0!"}},{"$f":"F12275/(G12275*12*memoria!$B$47)","v":{"$error":"#DIV/0!"}}]
[null,null,null,null,null,null,null,{"$f":"F12276*memoria!$B$44/(G12276*12*memoria!$B$47)","v":{"$error":"#DIV/0!"}},{"$f":"F12276/(G12276*12*memoria!$B$47)","v":{"$error":"#DIV/0!"}}]
[null,null,null,null,null,null,null,{"$f":"F12277*memoria!$B$44/(G12277*12*memoria!$B$47)","v":{"$error":"#DIV/0!"}},{"$f":"F12277/(G12277*12*memoria!$B$47)","v":{"$error":"#DIV/0!"}}]
[null,null,null,null,null,null,null,{"$f":"F12278*memoria!$B$44/(G12278*12*memoria!$B$47)","v":{"$error":"#DIV/0!"}},{"$f":"F12278/(G12278*12*memoria!$B$47)","v":{"$error":"#DIV/0!"}}]
[null,null,null,null,null,null,null,{"$f":"F12279*memoria!$B$44/(G12279*12*memoria!$B$47)","v":{"$error":"#DIV/0!"}},{"$f":"F12279/(G12279*12*memoria!$B$47)","v":{"$error":"#DIV/0!"}}]
[null,null,null,null,null,null,null,{"$f":"F12280*memoria!$B$44/(G12280*12*memoria!$B$47)","v":{"$error":"#DIV/0!"}},{"$f":"F12280/(G12280*12*memoria!$B$47)","v":{"$error":"#DIV/0!"}}]
[null,null,null,null,null,null,null,{"$f":"F12281*memoria!$B$44/(G12281*12*memoria!$B$47)","v":{"$error":"#DIV/0!"}},{"$f":"F12281/(G12281*12*memoria!$B$47)","v":{"$error":"#DIV/0!"}}]
[null,null,null,null,null,null,null,{"$f":"F12282*memoria!$B$44/(G12282*12*memoria!$B$47)","v":{"$error":"#DIV/0!"}},{"$f":"F12282/(G12282*12*memoria!$B$47)","v":{"$error":"#DIV/0!"}}]
[null,null,null,null,null,null,null,{"$f":"F12283*memoria!$B$44/(G12283*12*memoria!$B$47)","v":{"$error":"#DIV/0!"}},{"$f":"F12283/(G12283*12*memoria!$B$47)","v":{"$error":"#DIV/0!"}}]
[null,null,null,null,null,null,null,{"$f":"F12284*memoria!$B$44/(G12284*12*memoria!$B$47)","v":{"$error":"#DIV/0!"}},{"$f":"F12284/(G12284*12*memoria!$B$47)","v":{"$error":"#DIV/0!"}}]
[null,null,null,null,null,null,null,{"$f":"F12285*memoria!$B$44/(G12285*12*memoria!$B$47)","v":{"$error":"#DIV/0!"}},{"$f":"F12285/(G12285*12*memoria!$B$47)","v":{"$error":"#DIV/0!"}}]
[null,null,null,null,null,null,null,{"$f":"F12286*memoria!$B$44/(G12286*12*memoria!$B$47)","v":{"$error":"#DIV/0!"}},{"$f":"F12286/(G12286*12*memoria!$B$47)","v":{"$error":"#DIV/0!"}}]
[null,null,null,null,null,null,null,{"$f":"F12287*memoria!$B$44/(G12287*12*memoria!$B$47)","v":{"$error":"#DIV/0!"}},{"$f":"F12287/(G12287*12*memoria!$B$47)","v":{"$error":"#DIV/0!"}}]
[null,null,null,null,null,null,null,{"$f":"F12288*memoria!$B$44/(G12288*12*memoria!$B$47)","v":{"$error":"#DIV/0!"}},{"$f":"F12288/(G12288*12*memoria!$B$47)","v":{"$error":"#DIV/0!"}}]
[null,null,null,null,null,null,null,{"$f":"F12289*memoria!$B$44/(G12289*12*memoria!$B$47)","v":{"$error":"#DIV/0!"}},{"$f":"F12289/(G12289*12*memoria!$B$47)","v":{"$error":"#DIV/0!"}}]
[null,null,null,null,null,null,null,{"$f":"F12290*memoria!$B$44/(G12290*12*memoria!$B$47)","v":{"$error":"#DIV/0!"}},{"$f":"F12290/(G12290*12*memoria!$B$47)","v":{"$error":"#DIV/0!"}}]
[null,null,null,null,null,null,null,{"$f":"F12291*memoria!$B$44/(G12291*12*memoria!$B$47)","v":{"$error":"#DIV/0!"}},{"$f":"F12291/(G12291*12*memoria!$B$47)","v":{"$error":"#DIV/0!"}}]
[null,null,null,null,null,null,null,{"$f":"F12292*memoria!$B$44/(G12292*12*memoria!$B$47)","v":{"$error":"#DIV/0!"}},{"$f":"F12292/(G12292*12*memoria!$B$47)","v":{"$error":"#DIV/0!"}}]
[null,null,null,null,null,null,null,{"$f":"F12293*memoria!$B$44/(G12293*12*memoria!$B$47)","v":{"$error":"#DIV/0!"}},{"$f":"F12293/(G12293*12*memoria!$B$47)","v":{"$error":"#DIV/0!"}}]
[null,null,null,null,null,null,null,{"$f":"F12294*memoria!$B$44/(G12294*12*memoria!$B$47)","v":{"$error":"#DIV/0!"}},{"$f":"F12294/(G12294*12*memoria!$B$47)","v":{"$error":"#DIV/0!"}}]
[null,null,null,null,null,null,null,{"$f":"F12295*memoria!$B$44/(G12295*12*memoria!$B$47)","v":{"$error":"#DIV/0!"}},{"$f":"F12295/(G12295*12*memoria!$B$47)","v":{"$error":"#DIV/0!"}}]
[null,null,null,null,null,null,null,{"$f":"F12296*memoria!$B$44/(G12296*12*memoria!$B$47)","v":{"$error":"#DIV/0!"}},{"$f":"F12296/(G12296*12*memoria!$B$47)","v":{"$error":"#DIV/0!"}}]
[null,null,null,null,null,null,null,{"$f":"F12297*memoria!$B$44/(G12297*12*memoria!$B$47)","v":{"$error":"#DIV/0!"}},{"$f":"F12297/(G12297*12*memoria!$B$47)","v":{"$error":"#DIV/0!"}}]
[null,null,null,null,null,null,null,{"$f":"F12298*memoria!$B$44/(G12298*12*memoria!$B$47)","v":{"$error":"#DIV/0!"}},{"$f":"F12298/(G12298*12*memoria!$B$47)","v":{"$error":"#DIV/0!"}}]
[null,null,null,null,null,null,null,{"$f":"F12299*memoria!$B$44/(G12299*12*memoria!$B$47)","v":{"$error":"#DIV/0!"}},{"$f":"F12299/(G12299*12*memoria!$B$47)","v":{"$error":"#DIV/0!"}}]
[null,null,null,null,null,null,null,{"$f":"F12300*memoria!$B$44/(G12300*12*memoria!$B$47)","v":{"$error":"#DIV/0!"}},{"$f":"F12300/(G12300*12*memoria!$B$47)","v":{"$error":"#DIV/0!"}}]
[null,null,null,null,null,null,null,{"$f":"F12301*memoria!$B$44/(G12301*12*memoria!$B$47)","v":{"$error":"#DIV/0!"}},{"$f":"F12301/(G12301*12*memoria!$B$47)","v":{"$error":"#DIV/0!"}}]
[null,null,null,null,null,null,null,{"$f":"F12302*memoria!$B$44/(G12302*12*memoria!$B$47)","v":{"$error":"#DIV/0!"}},{"$f":"F12302/(G12302*12*memoria!$B$47)","v":{"$error":"#DIV/0!"}}]
[null,null,null,null,null,null,null,{"$f":"F12303*memoria!$B$44/(G12303*12*memoria!$B$47)","v":{"$error":"#DIV/0!"}},{"$f":"F12303/(G12303*12*memoria!$B$47)","v":{"$error":"#DIV/0!"}}]
[null,null,null,null,null,null,null,{"$f":"F12304*memoria!$B$44/(G12304*12*memoria!$B$47)","v":{"$error":"#DIV/0!"}},{"$f":"F12304/(G12304*12*memoria!$B$47)","v":{"$error":"#DIV/0!"}}]
[null,null,null,null,null,null,null,{"$f":"F12305*memoria!$B$44/(G12305*12*memoria!$B$47)","v":{"$error":"#DIV/0!"}},{"$f":"F12305/(G12305*12*memoria!$B$47)","v":{"$error":"#DIV/0!"}}]
[null,null,null,null,null,null,null,{"$f":"F12306*memoria!$B$44/(G12306*12*memoria!$B$47)","v":{"$error":"#DIV/0!"}},{"$f":"F12306/(G12306*12*memoria!$B$47)","v":{"$error":"#DIV/0!"}}]
[null,null,null,null,null,null,null,{"$f":"F12307*memoria!$B$44/(G12307*12*memoria!$B$47)","v":{"$error":"#DIV/0!"}},{"$f":"F12307/(G12307*12*memoria!$B$47)","v":{"$error":"#DIV/0!"}}]
[null,null,null,null,null,null,null,{"$f":"F12308*memoria!$B$44/(G12308*12*memoria!$B$47)","v":{"$error":"#DIV/0!"}},{"$f":"F12308/(G12308*12*memoria!$B$47)","v":{"$error":"#DIV/0!"}}]
[null,null,null,null,null,null,null,{"$f":"F12309*memoria!$B$44/(G12309*12*memoria!$B$47)","v":{"$error":"#DIV/0!"}},{"$f":"F12309/(G12309*12*memoria!$B$47)","v":{"$error":"#DIV/0!"}}]
[null,null,null,null,null,null,null,{"$f":"F12310*memoria!$B$44/(G12310*12*memoria!$B$47)","v":{"$error":"#DIV/0!"}},{"$f":"F12310/(G12310*12*memoria!$B$47)","v":{"$error":"#DIV/0!"}}]
[null,null,null,null,null,null,null,{"$f":"F12311*memoria!$B$44/(G12311*12*memoria!$B$47)","v":{"$error":"#DIV/0!"}},{"$f":"F12311/(G12311*12*memoria!$B$47)","v":{"$error":"#DIV/0!"}}]
[null,null,null,null,null,null,null,{"$f":"F12312*memoria!$B$44/(G12312*12*memoria!$B$47)","v":{"$error":"#DIV/0!"}},{"$f":"F12312/(G12312*12*memoria!$B$47)","v":{"$error":"#DIV/0!"}}]
[null,null,null,null,null,null,null,{"$f":"F12313*memoria!$B$44/(G12313*12*memoria!$B$47)","v":{"$error":"#DIV/0!"}},{"$f":"F12313/(G12313*12*memoria!$B$47)","v":{"$error":"#DIV/0!"}}]
[null,null,null,null,null,null,null,{"$f":"F12314*memoria!$B$44/(G12314*12*memoria!$B$47)","v":{"$error":"#DIV/0!"}},{"$f":"F12314/(G12314*12*memoria!$B$47)","v":{"$error":"#DIV/0!"}}]
[null,null,null,null,null,null,null,{"$f":"F12315*memoria!$B$44/(G12315*12*memoria!$B$47)","v":{"$error":"#DIV/0!"}},{"$f":"F12315/(G12315*12*memoria!$B$47)","v":{"$error":"#DIV/0!"}}]
[null,null,null,null,null,null,null,{"$f":"F12316*memoria!$B$44/(G12316*12*memoria!$B$47)","v":{"$error":"#DIV/0!"}},{"$f":"F12316/(G12316*12*memoria!$B$47)","v":{"$error":"#DIV/0!"}}]
[null,null,null,null,null,null,null,{"$f":"F12317*memoria!$B$44/(G12317*12*memoria!$B$47)","v":{"$error":"#DIV/0!"}},{"$f":"F12317/(G12317*12*memoria!$B$47)","v":{"$error":"#DIV/0!"}}]
[null,null,null,null,null,null,null,{"$f":"F12318*memoria!$B$44/(G12318*12*memoria!$B$47)","v":{"$error":"#DIV/0!"}},{"$f":"F12318/(G12318*12*memoria!$B$47)","v":{"$error":"#DIV/0!"}}]
[null,null,null,null,null,null,null,{"$f":"F12319*memoria!$B$44/(G12319*12*memoria!$B$47)","v":{"$error":"#DIV/0!"}},{"$f":"F12319/(G12319*12*memoria!$B$47)","v":{"$error":"#DIV/0!"}}]
[null,null,null,null,null,null,null,{"$f":"F12320*memoria!$B$44/(G12320*12*memoria!$B$47)","v":{"$error":"#DIV/0!"}},{"$f":"F12320/(G12320*12*memoria!$B$47)","v":{"$error":"#DIV/0!"}}]
[null,null,null,null,null,null,null,{"$f":"F12321*memoria!$B$44/(G12321*12*memoria!$B$47)","v":{"$error":"#DIV/0!"}},{"$f":"F12321/(G12321*12*memoria!$B$47)","v":{"$error":"#DIV/0!"}}]
[null,null,null,null,null,null,null,{"$f":"F12322*memoria!$B$44/(G12322*12*memoria!$B$47)","v":{"$error":"#DIV/0!"}},{"$f":"F12322/(G12322*12*memoria!$B$47)","v":{"$error":"#DIV/0!"}}]
[null,null,null,null,null,null,null,{"$f":"F12323*memoria!$B$44/(G12323*12*memoria!$B$47)","v":{"$error":"#DIV/0!"}},{"$f":"F12323/(G12323*12*memoria!$B$47)","v":{"$error":"#DIV/0!"}}]
[null,null,null,null,null,null,null,{"$f":"F12324*memoria!$B$44/(G12324*12*memoria!$B$47)","v":{"$error":"#DIV/0!"}},{"$f":"F12324/(G12324*12*memoria!$B$47)","v":{"$error":"#DIV/0!"}}]
[null,null,null,null,null,null,null,{"$f":"F12325*memoria!$B$44/(G12325*12*memoria!$B$47)","v":{"$error":"#DIV/0!"}},{"$f":"F12325/(G12325*12*memoria!$B$47)","v":{"$error":"#DIV/0!"}}]
[null,null,null,null,null,null,null,{"$f":"F12326*memoria!$B$44/(G12326*12*memoria!$B$47)","v":{"$error":"#DIV/0!"}},{"$f":"F12326/(G12326*12*memoria!$B$47)","v":{"$error":"#DIV/0!"}}]
[null,null,null,null,null,null,null,{"$f":"F12327*memoria!$B$44/(G12327*12*memoria!$B$47)","v":{"$error":"#DIV/0!"}},{"$f":"F12327/(G12327*12*memoria!$B$47)","v":{"$error":"#DIV/0!"}}]
[null,null,null,null,null,null,null,{"$f":"F12328*memoria!$B$44/(G12328*12*memoria!$B$47)","v":{"$error":"#DIV/0!"}},{"$f":"F12328/(G12328*12*memoria!$B$47)","v":{"$error":"#DIV/0!"}}]
[null,null,null,null,null,null,null,{"$f":"F12329*memoria!$B$44/(G12329*12*memoria!$B$47)","v":{"$error":"#DIV/0!"}},{"$f":"F12329/(G12329*12*memoria!$B$47)","v":{"$error":"#DIV/0!"}}]
[null,null,null,null,null,null,null,{"$f":"F12330*memoria!$B$44/(G12330*12*memoria!$B$47)","v":{"$error":"#DIV/0!"}},{"$f":"F12330/(G12330*12*memoria!$B$47)","v":{"$error":"#DIV/0!"}}]
[null,null,null,null,null,null,null,{"$f":"F12331*memoria!$B$44/(G12331*12*memoria!$B$47)","v":{"$error":"#DIV/0!"}},{"$f":"F12331/(G12331*12*memoria!$B$47)","v":{"$error":"#DIV/0!"}}]
[null,null,null,null,null,null,null,{"$f":"F12332*memoria!$B$44/(G12332*12*memoria!$B$47)","v":{"$error":"#DIV/0!"}},{"$f":"F12332/(G12332*12*memoria!$B$47)","v":{"$error":"#DIV/0!"}}]
[null,null,null,null,null,null,null,{"$f":"F12333*memoria!$B$44/(G12333*12*memoria!$B$47)","v":{"$error":"#DIV/0!"}},{"$f":"F12333/(G12333*12*memoria!$B$47)","v":{"$error":"#DIV/0!"}}]
[null,null,null,null,null,null,null,{"$f":"F12334*memoria!$B$44/(G12334*12*memoria!$B$47)","v":{"$error":"#DIV/0!"}},{"$f":"F12334/(G12334*12*memoria!$B$47)","v":{"$error":"#DIV/0!"}}]
[null,null,null,null,null,null,null,{"$f":"F12335*memoria!$B$44/(G12335*12*memoria!$B$47)","v":{"$error":"#DIV/0!"}},{"$f":"F12335/(G12335*12*memoria!$B$47)","v":{"$error":"#DIV/0!"}}]
[null,null,null,null,null,null,null,{"$f":"F12336*memoria!$B$44/(G12336*12*memoria!$B$47)","v":{"$error":"#DIV/0!"}},{"$f":"F12336/(G12336*12*memoria!$B$47)","v":{"$error":"#DIV/0!"}}]
[null,null,null,null,null,null,null,{"$f":"F12337*memoria!$B$44/(G12337*12*memoria!$B$47)","v":{"$error":"#DIV/0!"}},{"$f":"F12337/(G12337*12*memoria!$B$47)","v":{"$error":"#DIV/0!"}}]
[null,null,null,null,null,null,null,{"$f":"F12338*memoria!$B$44/(G12338*12*memoria!$B$47)","v":{"$error":"#DIV/0!"}},{"$f":"F12338/(G12338*12*memoria!$B$47)","v":{"$error":"#DIV/0!"}}]
[null,null,null,null,null,null,null,{"$f":"F12339*memoria!$B$44/(G12339*12*memoria!$B$47)","v":{"$error":"#DIV/0!"}},{"$f":"F12339/(G12339*12*memoria!$B$47)","v":{"$error":"#DIV/0!"}}]
[null,null,null,null,null,null,null,{"$f":"F12340*memoria!$B$44/(G12340*12*memoria!$B$47)","v":{"$error":"#DIV/0!"}},{"$f":"F12340/(G12340*12*memoria!$B$47)","v":{"$error":"#DIV/0!"}}]
[null,null,null,null,null,null,null,{"$f":"F12341*memoria!$B$44/(G12341*12*memoria!$B$47)","v":{"$error":"#DIV/0!"}},{"$f":"F12341/(G12341*12*memoria!$B$47)","v":{"$error":"#DIV/0!"}}]
[null,null,null,null,null,null,null,{"$f":"F12342*memoria!$B$44/(G12342*12*memoria!$B$47)","v":{"$error":"#DIV/0!"}},{"$f":"F12342/(G12342*12*memoria!$B$47)","v":{"$error":"#DIV/0!"}}]
[null,null,null,null,null,null,null,{"$f":"F12343*memoria!$B$44/(G12343*12*memoria!$B$47)","v":{"$error":"#DIV/0!"}},{"$f":"F12343/(G12343*12*memoria!$B$47)","v":{"$error":"#DIV/0!"}}]
[null,null,null,null,null,null,null,{"$f":"F12344*memoria!$B$44/(G12344*12*memoria!$B$47)","v":{"$error":"#DIV/0!"}},{"$f":"F12344/(G12344*12*memoria!$B$47)","v":{"$error":"#DIV/0!"}}]
[null,null,null,null,null,null,null,{"$f":"F12345*memoria!$B$44/(G12345*12*memoria!$B$47)","v":{"$error":"#DIV/0!"}},{"$f":"F12345/(G12345*12*memoria!$B$47)","v":{"$error":"#DIV/0!"}}]
[null,null,null,null,null,null,null,{"$f":"F12346*memoria!$B$44/(G12346*12*memoria!$B$47)","v":{"$error":"#DIV/0!"}},{"$f":"F12346/(G12346*12*memoria!$B$47)","v":{"$error":"#DIV/0!"}}]
[null,null,null,null,null,null,null,{"$f":"F12347*memoria!$B$44/(G12347*12*memoria!$B$47)","v":{"$error":"#DIV/0!"}},{"$f":"F12347/(G12347*12*memoria!$B$47)","v":{"$error":"#DIV/0!"}}]
[null,null,null,null,null,null,null,{"$f":"F12348*memoria!$B$44/(G12348*12*memoria!$B$47)","v":{"$error":"#DIV/0!"}},{"$f":"F12348/(G12348*12*memoria!$B$47)","v":{"$error":"#DIV/0!"}}]
[null,null,null,null,null,null,null,{"$f":"F12349*memoria!$B$44/(G12349*12*memoria!$B$47)","v":{"$error":"#DIV/0!"}},{"$f":"F12349/(G12349*12*memoria!$B$47)","v":{"$error":"#DIV/0!"}}]
[null,null,null,null,null,null,null,{"$f":"F12350*memoria!$B$44/(G12350*12*memoria!$B$47)","v":{"$error":"#DIV/0!"}},{"$f":"F12350/(G12350*12*memoria!$B$47)","v":{"$error":"#DIV/0!"}}]
[null,null,null,null,null,null,null,{"$f":"F12351*memoria!$B$44/(G12351*12*memoria!$B$47)","v":{"$error":"#DIV/0!"}},{"$f":"F12351/(G12351*12*memoria!$B$47)","v":{"$error":"#DIV/0!"}}]
[null,null,null,null,null,null,null,{"$f":"F12352*memoria!$B$44/(G12352*12*memoria!$B$47)","v":{"$error":"#DIV/0!"}},{"$f":"F12352/(G12352*12*memoria!$B$47)","v":{"$error":"#DIV/0!"}}]
[null,null,null,null,null,null,null,{"$f":"F12353*memoria!$B$44/(G12353*12*memoria!$B$47)","v":{"$error":"#DIV/0!"}},{"$f":"F12353/(G12353*12*memoria!$B$47)","v":{"$error":"#DIV/0!"}}]
[null,null,null,null,null,null,null,{"$f":"F12354*memoria!$B$44/(G12354*12*memoria!$B$47)","v":{"$error":"#DIV/0!"}},{"$f":"F12354/(G12354*12*memoria!$B$47)","v":{"$error":"#DIV/0!"}}]
[null,null,null,null,null,null,null,{"$f":"F12355*memoria!$B$44/(G12355*12*memoria!$B$47)","v":{"$error":"#DIV/0!"}},{"$f":"F12355/(G12355*12*memoria!$B$47)","v":{"$error":"#DIV/0!"}}]
[null,null,null,null,null,null,null,{"$f":"F12356*memoria!$B$44/(G12356*12*memoria!$B$47)","v":{"$error":"#DIV/0!"}},{"$f":"F12356/(G12356*12*memoria!$B$47)","v":{"$error":"#DIV/0!"}}]
[null,null,null,null,null,null,null,{"$f":"F12357*memoria!$B$44/(G12357*12*memoria!$B$47)","v":{"$error":"#DIV/0!"}},{"$f":"F12357/(G12357*12*memoria!$B$47)","v":{"$error":"#DIV/0!"}}]
[null,null,null,null,null,null,null,{"$f":"F12358*memoria!$B$44/(G12358*12*memoria!$B$47)","v":{"$error":"#DIV/0!"}},{"$f":"F12358/(G12358*12*memoria!$B$47)","v":{"$error":"#DIV/0!"}}]
[null,null,null,null,null,null,null,{"$f":"F12359*memoria!$B$44/(G12359*12*memoria!$B$47)","v":{"$error":"#DIV/0!"}},{"$f":"F12359/(G12359*12*memoria!$B$47)","v":{"$error":"#DIV/0!"}}]
[null,null,null,null,null,null,null,{"$f":"F12360*memoria!$B$44/(G12360*12*memoria!$B$47)","v":{"$error":"#DIV/0!"}},{"$f":"F12360/(G12360*12*memoria!$B$47)","v":{"$error":"#DIV/0!"}}]
[null,null,null,null,null,null,null,{"$f":"F12361*memoria!$B$44/(G12361*12*memoria!$B$47)","v":{"$error":"#DIV/0!"}},{"$f":"F12361/(G12361*12*memoria!$B$47)","v":{"$error":"#DIV/0!"}}]
[null,null,null,null,null,null,null,{"$f":"F12362*memoria!$B$44/(G12362*12*memoria!$B$47)","v":{"$error":"#DIV/0!"}},{"$f":"F12362/(G12362*12*memoria!$B$47)","v":{"$error":"#DIV/0!"}}]
[null,null,null,null,null,null,null,{"$f":"F12363*memoria!$B$44/(G12363*12*memoria!$B$47)","v":{"$error":"#DIV/0!"}},{"$f":"F12363/(G12363*12*memoria!$B$47)","v":{"$error":"#DIV/0!"}}]
[null,null,null,null,null,null,null,{"$f":"F12364*memoria!$B$44/(G12364*12*memoria!$B$47)","v":{"$error":"#DIV/0!"}},{"$f":"F12364/(G12364*12*memoria!$B$47)","v":{"$error":"#DIV/0!"}}]
[null,null,null,null,null,null,null,{"$f":"F12365*memoria!$B$44/(G12365*12*memoria!$B$47)","v":{"$error":"#DIV/0!"}},{"$f":"F12365/(G12365*12*memoria!$B$47)","v":{"$error":"#DIV/0!"}}]
[null,null,null,null,null,null,null,{"$f":"F12366*memoria!$B$44/(G12366*12*memoria!$B$47)","v":{"$error":"#DIV/0!"}},{"$f":"F12366/(G12366*12*memoria!$B$47)","v":{"$error":"#DIV/0!"}}]
[null,null,null,null,null,null,null,{"$f":"F12367*memoria!$B$44/(G12367*12*memoria!$B$47)","v":{"$error":"#DIV/0!"}},{"$f":"F12367/(G12367*12*memoria!$B$47)","v":{"$error":"#DIV/0!"}}]
[null,null,null,null,null,null,null,{"$f":"F12368*memoria!$B$44/(G12368*12*memoria!$B$47)","v":{"$error":"#DIV/0!"}},{"$f":"F12368/(G12368*12*memoria!$B$47)","v":{"$error":"#DIV/0!"}}]
[null,null,null,null,null,null,null,{"$f":"F12369*memoria!$B$44/(G12369*12*memoria!$B$47)","v":{"$error":"#DIV/0!"}},{"$f":"F12369/(G12369*12*memoria!$B$47)","v":{"$error":"#DIV/0!"}}]
[null,null,null,null,null,null,null,{"$f":"F12370*memoria!$B$44/(G12370*12*memoria!$B$47)","v":{"$error":"#DIV/0!"}},{"$f":"F12370/(G12370*12*memoria!$B$47)","v":{"$error":"#DIV/0!"}}]
[null,null,null,null,null,null,null,{"$f":"F12371*memoria!$B$44/(G12371*12*memoria!$B$47)","v":{"$error":"#DIV/0!"}},{"$f":"F12371/(G12371*12*memoria!$B$47)","v":{"$error":"#DIV/0!"}}]
[null,null,null,null,null,null,null,{"$f":"F12372*memoria!$B$44/(G12372*12*memoria!$B$47)","v":{"$error":"#DIV/0!"}},{"$f":"F12372/(G12372*12*memoria!$B$47)","v":{"$error":"#DIV/0!"}}]
[null,null,null,null,null,null,null,{"$f":"F12373*memoria!$B$44/(G12373*12*memoria!$B$47)","v":{"$error":"#DIV/0!"}},{"$f":"F12373/(G12373*12*memoria!$B$47)","v":{"$error":"#DIV/0!"}}]
[null,null,null,null,null,null,null,{"$f":"F12374*memoria!$B$44/(G12374*12*memoria!$B$47)","v":{"$error":"#DIV/0!"}},{"$f":"F12374/(G12374*12*memoria!$B$47)","v":{"$error":"#DIV/0!"}}]
[null,null,null,null,null,null,null,{"$f":"F12375*memoria!$B$44/(G12375*12*memoria!$B$47)","v":{"$error":"#DIV/0!"}},{"$f":"F12375/(G12375*12*memoria!$B$47)","v":{"$error":"#DIV/0!"}}]
[null,null,null,null,null,null,null,{"$f":"F12376*memoria!$B$44/(G12376*12*memoria!$B$47)","v":{"$error":"#DIV/0!"}},{"$f":"F12376/(G12376*12*memoria!$B$47)","v":{"$error":"#DIV/0!"}}]
[null,null,null,null,null,null,null,{"$f":"F12377*memoria!$B$44/(G12377*12*memoria!$B$47)","v":{"$error":"#DIV/0!"}},{"$f":"F12377/(G12377*12*memoria!$B$47)","v":{"$error":"#DIV/0!"}}]
[null,null,null,null,null,null,null,{"$f":"F12378*memoria!$B$44/(G12378*12*memoria!$B$47)","v":{"$error":"#DIV/0!"}},{"$f":"F12378/(G12378*12*memoria!$B$47)","v":{"$error":"#DIV/0!"}}]
[null,null,null,null,null,null,null,{"$f":"F12379*memoria!$B$44/(G12379*12*memoria!$B$47)","v":{"$error":"#DIV/0!"}},{"$f":"F12379/(G12379*12*memoria!$B$47)","v":{"$error":"#DIV/0!"}}]
[null,null,null,null,null,null,null,{"$f":"F12380*memoria!$B$44/(G12380*12*memoria!$B$47)","v":{"$error":"#DIV/0!"}},{"$f":"F12380/(G12380*12*memoria!$B$47)","v":{"$error":"#DIV/0!"}}]
[null,null,null,null,null,null,null,{"$f":"F12381*memoria!$B$44/(G12381*12*memoria!$B$47)","v":{"$error":"#DIV/0!"}},{"$f":"F12381/(G12381*12*memoria!$B$47)","v":{"$error":"#DIV/0!"}}]
[null,null,null,null,null,null,null,{"$f":"F12382*memoria!$B$44/(G12382*12*memoria!$B$47)","v":{"$error":"#DIV/0!"}},{"$f":"F12382/(G12382*12*memoria!$B$47)","v":{"$error":"#DIV/0!"}}]
[null,null,null,null,null,null,null,{"$f":"F12383*memoria!$B$44/(G12383*12*memoria!$B$47)","v":{"$error":"#DIV/0!"}},{"$f":"F12383/(G12383*12*memoria!$B$47)","v":{"$error":"#DIV/0!"}}]
[null,null,null,null,null,null,null,{"$f":"F12384*memoria!$B$44/(G12384*12*memoria!$B$47)","v":{"$error":"#DIV/0!"}},{"$f":"F12384/(G12384*12*memoria!$B$47)","v":{"$error":"#DIV/0!"}}]
[null,null,null,null,null,null,null,{"$f":"F12385*memoria!$B$44/(G12385*12*memoria!$B$47)","v":{"$error":"#DIV/0!"}},{"$f":"F12385/(G12385*12*memoria!$B$47)","v":{"$error":"#DIV/0!"}}]
[null,null,null,null,null,null,null,{"$f":"F12386*memoria!$B$44/(G12386*12*memoria!$B$47)","v":{"$error":"#DIV/0!"}},{"$f":"F12386/(G12386*12*memoria!$B$47)","v":{"$error":"#DIV/0!"}}]
[null,null,null,null,null,null,null,{"$f":"F12387*memoria!$B$44/(G12387*12*memoria!$B$47)","v":{"$error":"#DIV/0!"}},{"$f":"F12387/(G12387*12*memoria!$B$47)","v":{"$error":"#DIV/0!"}}]
[null,null,null,null,null,null,null,{"$f":"F12388*memoria!$B$44/(G12388*12*memoria!$B$47)","v":{"$error":"#DIV/0!"}},{"$f":"F12388/(G12388*12*memoria!$B$47)","v":{"$error":"#DIV/0!"}}]
[null,null,null,null,null,null,null,{"$f":"F12389*memoria!$B$44/(G12389*12*memoria!$B$47)","v":{"$error":"#DIV/0!"}},{"$f":"F12389/(G12389*12*memoria!$B$47)","v":{"$error":"#DIV/0!"}}]
[null,null,null,null,null,null,null,{"$f":"F12390*memoria!$B$44/(G12390*12*memoria!$B$47)","v":{"$error":"#DIV/0!"}},{"$f":"F12390/(G12390*12*memoria!$B$47)","v":{"$error":"#DIV/0!"}}]
[null,null,null,null,null,null,null,{"$f":"F12391*memoria!$B$44/(G12391*12*memoria!$B$47)","v":{"$error":"#DIV/0!"}},{"$f":"F12391/(G12391*12*memoria!$B$47)","v":{"$error":"#DIV/0!"}}]
[null,null,null,null,null,null,null,{"$f":"F12392*memoria!$B$44/(G12392*12*memoria!$B$47)","v":{"$error":"#DIV/0!"}},{"$f":"F12392/(G12392*12*memoria!$B$47)","v":{"$error":"#DIV/0!"}}]
[null,null,null,null,null,null,null,{"$f":"F12393*memoria!$B$44/(G12393*12*memoria!$B$47)","v":{"$error":"#DIV/0!"}},{"$f":"F12393/(G12393*12*memoria!$B$47)","v":{"$error":"#DIV/0!"}}]
[null,null,null,null,null,null,null,{"$f":"F12394*memoria!$B$44/(G12394*12*memoria!$B$47)","v":{"$error":"#DIV/0!"}},{"$f":"F12394/(G12394*12*memoria!$B$47)","v":{"$error":"#DIV/0!"}}]
[null,null,null,null,null,null,null,{"$f":"F12395*memoria!$B$44/(G12395*12*memoria!$B$47)","v":{"$error":"#DIV/0!"}},{"$f":"F12395/(G12395*12*memoria!$B$47)","v":{"$error":"#DIV/0!"}}]
[null,null,null,null,null,null,null,{"$f":"F12396*memoria!$B$44/(G12396*12*memoria!$B$47)","v":{"$error":"#DIV/0!"}},{"$f":"F12396/(G12396*12*memoria!$B$47)","v":{"$error":"#DIV/0!"}}]
[null,null,null,null,null,null,null,{"$f":"F12397*memoria!$B$44/(G12397*12*memoria!$B$47)","v":{"$error":"#DIV/0!"}},{"$f":"F12397/(G12397*12*memoria!$B$47)","v":{"$error":"#DIV/0!"}}]
[null,null,null,null,null,null,null,{"$f":"F12398*memoria!$B$44/(G12398*12*memoria!$B$47)","v":{"$error":"#DIV/0!"}},{"$f":"F12398/(G12398*12*memoria!$B$47)","v":{"$error":"#DIV/0!"}}]
[null,null,null,null,null,null,null,{"$f":"F12399*memoria!$B$44/(G12399*12*memoria!$B$47)","v":{"$error":"#DIV/0!"}},{"$f":"F12399/(G12399*12*memoria!$B$47)","v":{"$error":"#DIV/0!"}}]
[null,null,null,null,null,null,null,{"$f":"F12400*memoria!$B$44/(G12400*12*memoria!$B$47)","v":{"$error":"#DIV/0!"}},{"$f":"F12400/(G12400*12*memoria!$B$47)","v":{"$error":"#DIV/0!"}}]
[null,null,null,null,null,null,null,{"$f":"F12401*memoria!$B$44/(G12401*12*memoria!$B$47)","v":{"$error":"#DIV/0!"}},{"$f":"F12401/(G12401*12*memoria!$B$47)","v":{"$error":"#DIV/0!"}}]
[null,null,null,null,null,null,null,{"$f":"F12402*memoria!$B$44/(G12402*12*memoria!$B$47)","v":{"$error":"#DIV/0!"}},{"$f":"F12402/(G12402*12*memoria!$B$47)","v":{"$error":"#DIV/0!"}}]
[null,null,null,null,null,null,null,{"$f":"F12403*memoria!$B$44/(G12403*12*memoria!$B$47)","v":{"$error":"#DIV/0!"}},{"$f":"F12403/(G12403*12*memoria!$B$47)","v":{"$error":"#DIV/0!"}}]
[null,null,null,null,null,null,null,{"$f":"F12404*memoria!$B$44/(G12404*12*memoria!$B$47)","v":{"$error":"#DIV/0!"}},{"$f":"F12404/(G12404*12*memoria!$B$47)","v":{"$error":"#DIV/0!"}}]
[null,null,null,null,null,null,null,{"$f":"F12405*memoria!$B$44/(G12405*12*memoria!$B$47)","v":{"$error":"#DIV/0!"}},{"$f":"F12405/(G12405*12*memoria!$B$47)","v":{"$error":"#DIV/0!"}}]
[null,null,null,null,null,null,null,{"$f":"F12406*memoria!$B$44/(G12406*12*memoria!$B$47)","v":{"$error":"#DIV/0!"}},{"$f":"F12406/(G12406*12*memoria!$B$47)","v":{"$error":"#DIV/0!"}}]
[null,null,null,null,null,null,null,{"$f":"F12407*memoria!$B$44/(G12407*12*memoria!$B$47)","v":{"$error":"#DIV/0!"}},{"$f":"F12407/(G12407*12*memoria!$B$47)","v":{"$error":"#DIV/0!"}}]
[null,null,null,null,null,null,null,{"$f":"F12408*memoria!$B$44/(G12408*12*memoria!$B$47)","v":{"$error":"#DIV/0!"}},{"$f":"F12408/(G12408*12*memoria!$B$47)","v":{"$error":"#DIV/0!"}}]
[null,null,null,null,null,null,null,{"$f":"F12409*memoria!$B$44/(G12409*12*memoria!$B$47)","v":{"$error":"#DIV/0!"}},{"$f":"F12409/(G12409*12*memoria!$B$47)","v":{"$error":"#DIV/0!"}}]
[null,null,null,null,null,null,null,{"$f":"F12410*memoria!$B$44/(G12410*12*memoria!$B$47)","v":{"$error":"#DIV/0!"}},{"$f":"F12410/(G12410*12*memoria!$B$47)","v":{"$error":"#DIV/0!"}}]
[null,null,null,null,null,null,null,{"$f":"F12411*memoria!$B$44/(G12411*12*memoria!$B$47)","v":{"$error":"#DIV/0!"}},{"$f":"F12411/(G12411*12*memoria!$B$47)","v":{"$error":"#DIV/0!"}}]
[null,null,null,null,null,null,null,{"$f":"F12412*memoria!$B$44/(G12412*12*memoria!$B$47)","v":{"$error":"#DIV/0!"}},{"$f":"F12412/(G12412*12*memoria!$B$47)","v":{"$error":"#DIV/0!"}}]
[null,null,null,null,null,null,null,{"$f":"F12413*memoria!$B$44/(G12413*12*memoria!$B$47)","v":{"$error":"#DIV/0!"}},{"$f":"F12413/(G12413*12*memoria!$B$47)","v":{"$error":"#DIV/0!"}}]
[null,null,null,null,null,null,null,{"$f":"F12414*memoria!$B$44/(G12414*12*memoria!$B$47)","v":{"$error":"#DIV/0!"}},{"$f":"F12414/(G12414*12*memoria!$B$47)","v":{"$error":"#DIV/0!"}}]
[null,null,null,null,null,null,null,{"$f":"F12415*memoria!$B$44/(G12415*12*memoria!$B$47)","v":{"$error":"#DIV/0!"}},{"$f":"F12415/(G12415*12*memoria!$B$47)","v":{"$error":"#DIV/0!"}}]
[null,null,null,null,null,null,null,{"$f":"F12416*memoria!$B$44/(G12416*12*memoria!$B$47)","v":{"$error":"#DIV/0!"}},{"$f":"F12416/(G12416*12*memoria!$B$47)","v":{"$error":"#DIV/0!"}}]
[null,null,null,null,null,null,null,{"$f":"F12417*memoria!$B$44/(G12417*12*memoria!$B$47)","v":{"$error":"#DIV/0!"}},{"$f":"F12417/(G12417*12*memoria!$B$47)","v":{"$error":"#DIV/0!"}}]
[null,null,null,null,null,null,null,{"$f":"F12418*memoria!$B$44/(G12418*12*memoria!$B$47)","v":{"$error":"#DIV/0!"}},{"$f":"F12418/(G12418*12*memoria!$B$47)","v":{"$error":"#DIV/0!"}}]
[null,null,null,null,null,null,null,{"$f":"F12419*memoria!$B$44/(G12419*12*memoria!$B$47)","v":{"$error":"#DIV/0!"}},{"$f":"F12419/(G12419*12*memoria!$B$47)","v":{"$error":"#DIV/0!"}}]
[null,null,null,null,null,null,null,{"$f":"F12420*memoria!$B$44/(G12420*12*memoria!$B$47)","v":{"$error":"#DIV/0!"}},{"$f":"F12420/(G12420*12*memoria!$B$47)","v":{"$error":"#DIV/0!"}}]
[null,null,null,null,null,null,null,{"$f":"F12421*memoria!$B$44/(G12421*12*memoria!$B$47)","v":{"$error":"#DIV/0!"}},{"$f":"F12421/(G12421*12*memoria!$B$47)","v":{"$error":"#DIV/0!"}}]
[null,null,null,null,null,null,null,{"$f":"F12422*memoria!$B$44/(G12422*12*memoria!$B$47)","v":{"$error":"#DIV/0!"}},{"$f":"F12422/(G12422*12*memoria!$B$47)","v":{"$error":"#DIV/0!"}}]
[null,null,null,null,null,null,null,{"$f":"F12423*memoria!$B$44/(G12423*12*memoria!$B$47)","v":{"$error":"#DIV/0!"}},{"$f":"F12423/(G12423*12*memoria!$B$47)","v":{"$error":"#DIV/0!"}}]
[null,null,null,null,null,null,null,{"$f":"F12424*memoria!$B$44/(G12424*12*memoria!$B$47)","v":{"$error":"#DIV/0!"}},{"$f":"F12424/(G12424*12*memoria!$B$47)","v":{"$error":"#DIV/0!"}}]
[null,null,null,null,null,null,null,{"$f":"F12425*memoria!$B$44/(G12425*12*memoria!$B$47)","v":{"$error":"#DIV/0!"}},{"$f":"F12425/(G12425*12*memoria!$B$47)","v":{"$error":"#DIV/0!"}}]
[null,null,null,null,null,null,null,{"$f":"F12426*memoria!$B$44/(G12426*12*memoria!$B$47)","v":{"$error":"#DIV/0!"}},{"$f":"F12426/(G12426*12*memoria!$B$47)","v":{"$error":"#DIV/0!"}}]
[null,null,null,null,null,null,null,{"$f":"F12427*memoria!$B$44/(G12427*12*memoria!$B$47)","v":{"$error":"#DIV/0!"}},{"$f":"F12427/(G12427*12*memoria!$B$47)","v":{"$error":"#DIV/0!"}}]
[null,null,null,null,null,null,null,{"$f":"F12428*memoria!$B$44/(G12428*12*memoria!$B$47)","v":{"$error":"#DIV/0!"}},{"$f":"F12428/(G12428*12*memoria!$B$47)","v":{"$error":"#DIV/0!"}}]
[null,null,null,null,null,null,null,{"$f":"F12429*memoria!$B$44/(G12429*12*memoria!$B$47)","v":{"$error":"#DIV/0!"}},{"$f":"F12429/(G12429*12*memoria!$B$47)","v":{"$error":"#DIV/0!"}}]
[null,null,null,null,null,null,null,{"$f":"F12430*memoria!$B$44/(G12430*12*memoria!$B$47)","v":{"$error":"#DIV/0!"}},{"$f":"F12430/(G12430*12*memoria!$B$47)","v":{"$error":"#DIV/0!"}}]
[null,null,null,null,null,null,null,{"$f":"F12431*memoria!$B$44/(G12431*12*memoria!$B$47)","v":{"$error":"#DIV/0!"}},{"$f":"F12431/(G12431*12*memoria!$B$47)","v":{"$error":"#DIV/0!"}}]
[null,null,null,null,null,null,null,{"$f":"F12432*memoria!$B$44/(G12432*12*memoria!$B$47)","v":{"$error":"#DIV/0!"}},{"$f":"F12432/(G12432*12*memoria!$B$47)","v":{"$error":"#DIV/0!"}}]
[null,null,null,null,null,null,null,{"$f":"F12433*memoria!$B$44/(G12433*12*memoria!$B$47)","v":{"$error":"#DIV/0!"}},{"$f":"F12433/(G12433*12*memoria!$B$47)","v":{"$error":"#DIV/0!"}}]
[null,null,null,null,null,null,null,{"$f":"F12434*memoria!$B$44/(G12434*12*memoria!$B$47)","v":{"$error":"#DIV/0!"}},{"$f":"F12434/(G12434*12*memoria!$B$47)","v":{"$error":"#DIV/0!"}}]
[null,null,null,null,null,null,null,{"$f":"F12435*memoria!$B$44/(G12435*12*memoria!$B$47)","v":{"$error":"#DIV/0!"}},{"$f":"F12435/(G12435*12*memoria!$B$47)","v":{"$error":"#DIV/0!"}}]
[null,null,null,null,null,null,null,{"$f":"F12436*memoria!$B$44/(G12436*12*memoria!$B$47)","v":{"$error":"#DIV/0!"}},{"$f":"F12436/(G12436*12*memoria!$B$47)","v":{"$error":"#DIV/0!"}}]
[null,null,null,null,null,null,null,{"$f":"F12437*memoria!$B$44/(G12437*12*memoria!$B$47)","v":{"$error":"#DIV/0!"}},{"$f":"F12437/(G12437*12*memoria!$B$47)","v":{"$error":"#DIV/0!"}}]
[null,null,null,null,null,null,null,{"$f":"F12438*memoria!$B$44/(G12438*12*memoria!$B$47)","v":{"$error":"#DIV/0!"}},{"$f":"F12438/(G12438*12*memoria!$B$47)","v":{"$error":"#DIV/0!"}}]
[null,null,null,null,null,null,null,{"$f":"F12439*memoria!$B$44/(G12439*12*memoria!$B$47)","v":{"$error":"#DIV/0!"}},{"$f":"F12439/(G12439*12*memoria!$B$47)","v":{"$error":"#DIV/0!"}}]
[null,null,null,null,null,null,null,{"$f":"F12440*memoria!$B$44/(G12440*12*memoria!$B$47)","v":{"$error":"#DIV/0!"}},{"$f":"F12440/(G12440*12*memoria!$B$47)","v":{"$error":"#DIV/0!"}}]
[null,null,null,null,null,null,null,{"$f":"F12441*memoria!$B$44/(G12441*12*memoria!$B$47)","v":{"$error":"#DIV/0!"}},{"$f":"F12441/(G12441*12*memoria!$B$47)","v":{"$error":"#DIV/0!"}}]
[null,null,null,null,null,null,null,{"$f":"F12442*memoria!$B$44/(G12442*12*memoria!$B$47)","v":{"$error":"#DIV/0!"}},{"$f":"F12442/(G12442*12*memoria!$B$47)","v":{"$error":"#DIV/0!"}}]
[null,null,null,null,null,null,null,{"$f":"F12443*memoria!$B$44/(G12443*12*memoria!$B$47)","v":{"$error":"#DIV/0!"}},{"$f":"F12443/(G12443*12*memoria!$B$47)","v":{"$error":"#DIV/0!"}}]
[null,null,null,null,null,null,null,{"$f":"F12444*memoria!$B$44/(G12444*12*memoria!$B$47)","v":{"$error":"#DIV/0!"}},{"$f":"F12444/(G12444*12*memoria!$B$47)","v":{"$error":"#DIV/0!"}}]
[null,null,null,null,null,null,null,{"$f":"F12445*memoria!$B$44/(G12445*12*memoria!$B$47)","v":{"$error":"#DIV/0!"}},{"$f":"F12445/(G12445*12*memoria!$B$47)","v":{"$error":"#DIV/0!"}}]
[null,null,null,null,null,null,null,{"$f":"F12446*memoria!$B$44/(G12446*12*memoria!$B$47)","v":{"$error":"#DIV/0!"}},{"$f":"F12446/(G12446*12*memoria!$B$47)","v":{"$error":"#DIV/0!"}}]
[null,null,null,null,null,null,null,{"$f":"F12447*memoria!$B$44/(G12447*12*memoria!$B$47)","v":{"$error":"#DIV/0!"}},{"$f":"F12447/(G12447*12*memoria!$B$47)","v":{"$error":"#DIV/0!"}}]
[null,null,null,null,null,null,null,{"$f":"F12448*memoria!$B$44/(G12448*12*memoria!$B$47)","v":{"$error":"#DIV/0!"}},{"$f":"F12448/(G12448*12*memoria!$B$47)","v":{"$error":"#DIV/0!"}}]
[null,null,null,null,null,null,null,{"$f":"F12449*memoria!$B$44/(G12449*12*memoria!$B$47)","v":{"$error":"#DIV/0!"}},{"$f":"F12449/(G12449*12*memoria!$B$47)","v":{"$error":"#DIV/0!"}}]
[null,null,null,null,null,null,null,{"$f":"F12450*memoria!$B$44/(G12450*12*memoria!$B$47)","v":{"$error":"#DIV/0!"}},{"$f":"F12450/(G12450*12*memoria!$B$47)","v":{"$error":"#DIV/0!"}}]
[null,null,null,null,null,null,null,{"$f":"F12451*memoria!$B$44/(G12451*12*memoria!$B$47)","v":{"$error":"#DIV/0!"}},{"$f":"F12451/(G12451*12*memoria!$B$47)","v":{"$error":"#DIV/0!"}}]
[null,null,null,null,null,null,null,{"$f":"F12452*memoria!$B$44/(G12452*12*memoria!$B$47)","v":{"$error":"#DIV/0!"}},{"$f":"F12452/(G12452*12*memoria!$B$47)","v":{"$error":"#DIV/0!"}}]
[null,null,null,null,null,null,null,{"$f":"F12453*memoria!$B$44/(G12453*12*memoria!$B$47)","v":{"$error":"#DIV/0!"}},{"$f":"F12453/(G12453*12*memoria!$B$47)","v":{"$error":"#DIV/0!"}}]
[null,null,null,null,null,null,null,{"$f":"F12454*memoria!$B$44/(G12454*12*memoria!$B$47)","v":{"$error":"#DIV/0!"}},{"$f":"F12454/(G12454*12*memoria!$B$47)","v":{"$error":"#DIV/0!"}}]
[null,null,null,null,null,null,null,{"$f":"F12455*memoria!$B$44/(G12455*12*memoria!$B$47)","v":{"$error":"#DIV/0!"}},{"$f":"F12455/(G12455*12*memoria!$B$47)","v":{"$error":"#DIV/0!"}}]
[null,null,null,null,null,null,null,{"$f":"F12456*memoria!$B$44/(G12456*12*memoria!$B$47)","v":{"$error":"#DIV/0!"}},{"$f":"F12456/(G12456*12*memoria!$B$47)","v":{"$error":"#DIV/0!"}}]
[null,null,null,null,null,null,null,{"$f":"F12457*memoria!$B$44/(G12457*12*memoria!$B$47)","v":{"$error":"#DIV/0!"}},{"$f":"F12457/(G12457*12*memoria!$B$47)","v":{"$error":"#DIV/0!"}}]
[null,null,null,null,null,null,null,{"$f":"F12458*memoria!$B$44/(G12458*12*memoria!$B$47)","v":{"$error":"#DIV/0!"}},{"$f":"F12458/(G12458*12*memoria!$B$47)","v":{"$error":"#DIV/0!"}}]
[null,null,null,null,null,null,null,{"$f":"F12459*memoria!$B$44/(G12459*12*memoria!$B$47)","v":{"$error":"#DIV/0!"}},{"$f":"F12459/(G12459*12*memoria!$B$47)","v":{"$error":"#DIV/0!"}}]
[null,null,null,null,null,null,null,{"$f":"F12460*memoria!$B$44/(G12460*12*memoria!$B$47)","v":{"$error":"#DIV/0!"}},{"$f":"F12460/(G12460*12*memoria!$B$47)","v":{"$error":"#DIV/0!"}}]
[null,null,null,null,null,null,null,{"$f":"F12461*memoria!$B$44/(G12461*12*memoria!$B$47)","v":{"$error":"#DIV/0!"}},{"$f":"F12461/(G12461*12*memoria!$B$47)","v":{"$error":"#DIV/0!"}}]
[null,null,null,null,null,null,null,{"$f":"F12462*memoria!$B$44/(G12462*12*memoria!$B$47)","v":{"$error":"#DIV/0!"}},{"$f":"F12462/(G12462*12*memoria!$B$47)","v":{"$error":"#DIV/0!"}}]
[null,null,null,null,null,null,null,{"$f":"F12463*memoria!$B$44/(G12463*12*memoria!$B$47)","v":{"$error":"#DIV/0!"}},{"$f":"F12463/(G12463*12*memoria!$B$47)","v":{"$error":"#DIV/0!"}}]
[null,null,null,null,null,null,null,{"$f":"F12464*memoria!$B$44/(G12464*12*memoria!$B$47)","v":{"$error":"#DIV/0!"}},{"$f":"F12464/(G12464*12*memoria!$B$47)","v":{"$error":"#DIV/0!"}}]
[null,null,null,null,null,null,null,{"$f":"F12465*memoria!$B$44/(G12465*12*memoria!$B$47)","v":{"$error":"#DIV/0!"}},{"$f":"F12465/(G12465*12*memoria!$B$47)","v":{"$error":"#DIV/0!"}}]
[null,null,null,null,null,null,null,{"$f":"F12466*memoria!$B$44/(G12466*12*memoria!$B$47)","v":{"$error":"#DIV/0!"}},{"$f":"F12466/(G12466*12*memoria!$B$47)","v":{"$error":"#DIV/0!"}}]
[null,null,null,null,null,null,null,{"$f":"F12467*memoria!$B$44/(G12467*12*memoria!$B$47)","v":{"$error":"#DIV/0!"}},{"$f":"F12467/(G12467*12*memoria!$B$47)","v":{"$error":"#DIV/0!"}}]
[null,null,null,null,null,null,null,{"$f":"F12468*memoria!$B$44/(G12468*12*memoria!$B$47)","v":{"$error":"#DIV/0!"}},{"$f":"F12468/(G12468*12*memoria!$B$47)","v":{"$error":"#DIV/0!"}}]
[null,null,null,null,null,null,null,{"$f":"F12469*memoria!$B$44/(G12469*12*memoria!$B$47)","v":{"$error":"#DIV/0!"}},{"$f":"F12469/(G12469*12*memoria!$B$47)","v":{"$error":"#DIV/0!"}}]
[null,null,null,null,null,null,null,{"$f":"F12470*memoria!$B$44/(G12470*12*memoria!$B$47)","v":{"$error":"#DIV/0!"}},{"$f":"F12470/(G12470*12*memoria!$B$47)","v":{"$error":"#DIV/0!"}}]
[null,null,null,null,null,null,null,{"$f":"F12471*memoria!$B$44/(G12471*12*memoria!$B$47)","v":{"$error":"#DIV/0!"}},{"$f":"F12471/(G12471*12*memoria!$B$47)","v":{"$error":"#DIV/0!"}}]
[null,null,null,null,null,null,null,{"$f":"F12472*memoria!$B$44/(G12472*12*memoria!$B$47)","v":{"$error":"#DIV/0!"}},{"$f":"F12472/(G12472*12*memoria!$B$47)","v":{"$error":"#DIV/0!"}}]
[null,null,null,null,null,null,null,{"$f":"F12473*memoria!$B$44/(G12473*12*memoria!$B$47)","v":{"$error":"#DIV/0!"}},{"$f":"F12473/(G12473*12*memoria!$B$47)","v":{"$error":"#DIV/0!"}}]
[null,null,null,null,null,null,null,{"$f":"F12474*memoria!$B$44/(G12474*12*memoria!$B$47)","v":{"$error":"#DIV/0!"}},{"$f":"F12474/(G12474*12*memoria!$B$47)","v":{"$error":"#DIV/0!"}}]
[null,null,null,null,null,null,null,{"$f":"F12475*memoria!$B$44/(G12475*12*memoria!$B$47)","v":{"$error":"#DIV/0!"}},{"$f":"F12475/(G12475*12*memoria!$B$47)","v":{"$error":"#DIV/0!"}}]
[null,null,null,null,null,null,null,{"$f":"F12476*memoria!$B$44/(G12476*12*memoria!$B$47)","v":{"$error":"#DIV/0!"}},{"$f":"F12476/(G12476*12*memoria!$B$47)","v":{"$error":"#DIV/0!"}}]
[null,null,null,null,null,null,null,{"$f":"F12477*memoria!$B$44/(G12477*12*memoria!$B$47)","v":{"$error":"#DIV/0!"}},{"$f":"F12477/(G12477*12*memoria!$B$47)","v":{"$error":"#DIV/0!"}}]
[null,null,null,null,null,null,null,{"$f":"F12478*memoria!$B$44/(G12478*12*memoria!$B$47)","v":{"$error":"#DIV/0!"}},{"$f":"F12478/(G12478*12*memoria!$B$47)","v":{"$error":"#DIV/0!"}}]
[null,null,null,null,null,null,null,{"$f":"F12479*memoria!$B$44/(G12479*12*memoria!$B$47)","v":{"$error":"#DIV/0!"}},{"$f":"F12479/(G12479*12*memoria!$B$47)","v":{"$error":"#DIV/0!"}}]
[null,null,null,null,null,null,null,{"$f":"F12480*memoria!$B$44/(G12480*12*memoria!$B$47)","v":{"$error":"#DIV/0!"}},{"$f":"F12480/(G12480*12*memoria!$B$47)","v":{"$error":"#DIV/0!"}}]
[null,null,null,null,null,null,null,{"$f":"F12481*memoria!$B$44/(G12481*12*memoria!$B$47)","v":{"$error":"#DIV/0!"}},{"$f":"F12481/(G12481*12*memoria!$B$47)","v":{"$error":"#DIV/0!"}}]
[null,null,null,null,null,null,null,{"$f":"F12482*memoria!$B$44/(G12482*12*memoria!$B$47)","v":{"$error":"#DIV/0!"}},{"$f":"F12482/(G12482*12*memoria!$B$47)","v":{"$error":"#DIV/0!"}}]
[null,null,null,null,null,null,null,{"$f":"F12483*memoria!$B$44/(G12483*12*memoria!$B$47)","v":{"$error":"#DIV/0!"}},{"$f":"F12483/(G12483*12*memoria!$B$47)","v":{"$error":"#DIV/0!"}}]
[null,null,null,null,null,null,null,{"$f":"F12484*memoria!$B$44/(G12484*12*memoria!$B$47)","v":{"$error":"#DIV/0!"}},{"$f":"F12484/(G12484*12*memoria!$B$47)","v":{"$error":"#DIV/0!"}}]
[null,null,null,null,null,null,null,{"$f":"F12485*memoria!$B$44/(G12485*12*memoria!$B$47)","v":{"$error":"#DIV/0!"}},{"$f":"F12485/(G12485*12*memoria!$B$47)","v":{"$error":"#DIV/0!"}}]
[null,null,null,null,null,null,null,{"$f":"F12486*memoria!$B$44/(G12486*12*memoria!$B$47)","v":{"$error":"#DIV/0!"}},{"$f":"F12486/(G12486*12*memoria!$B$47)","v":{"$error":"#DIV/0!"}}]
[null,null,null,null,null,null,null,{"$f":"F12487*memoria!$B$44/(G12487*12*memoria!$B$47)","v":{"$error":"#DIV/0!"}},{"$f":"F12487/(G12487*12*memoria!$B$47)","v":{"$error":"#DIV/0!"}}]
[null,null,null,null,null,null,null,{"$f":"F12488*memoria!$B$44/(G12488*12*memoria!$B$47)","v":{"$error":"#DIV/0!"}},{"$f":"F12488/(G12488*12*memoria!$B$47)","v":{"$error":"#DIV/0!"}}]
[null,null,null,null,null,null,null,{"$f":"F12489*memoria!$B$44/(G12489*12*memoria!$B$47)","v":{"$error":"#DIV/0!"}},{"$f":"F12489/(G12489*12*memoria!$B$47)","v":{"$error":"#DIV/0!"}}]
[null,null,null,null,null,null,null,{"$f":"F12490*memoria!$B$44/(G12490*12*memoria!$B$47)","v":{"$error":"#DIV/0!"}},{"$f":"F12490/(G12490*12*memoria!$B$47)","v":{"$error":"#DIV/0!"}}]
[null,null,null,null,null,null,null,{"$f":"F12491*memoria!$B$44/(G12491*12*memoria!$B$47)","v":{"$error":"#DIV/0!"}},{"$f":"F12491/(G12491*12*memoria!$B$47)","v":{"$error":"#DIV/0!"}}]
[null,null,null,null,null,null,null,{"$f":"F12492*memoria!$B$44/(G12492*12*memoria!$B$47)","v":{"$error":"#DIV/0!"}},{"$f":"F12492/(G12492*12*memoria!$B$47)","v":{"$error":"#DIV/0!"}}]
[null,null,null,null,null,null,null,{"$f":"F12493*memoria!$B$44/(G12493*12*memoria!$B$47)","v":{"$error":"#DIV/0!"}},{"$f":"F12493/(G12493*12*memoria!$B$47)","v":{"$error":"#DIV/0!"}}]
[null,null,null,null,null,null,null,{"$f":"F12494*memoria!$B$44/(G12494*12*memoria!$B$47)","v":{"$error":"#DIV/0!"}},{"$f":"F12494/(G12494*12*memoria!$B$47)","v":{"$error":"#DIV/0!"}}]
[null,null,null,null,null,null,null,{"$f":"F12495*memoria!$B$44/(G12495*12*memoria!$B$47)","v":{"$error":"#DIV/0!"}},{"$f":"F12495/(G12495*12*memoria!$B$47)","v":{"$error":"#DIV/0!"}}]
[null,null,null,null,null,null,null,{"$f":"F12496*memoria!$B$44/(G12496*12*memoria!$B$47)","v":{"$error":"#DIV/0!"}},{"$f":"F12496/(G12496*12*memoria!$B$47)","v":{"$error":"#DIV/0!"}}]
[null,null,null,null,null,null,null,{"$f":"F12497*memoria!$B$44/(G12497*12*memoria!$B$47)","v":{"$error":"#DIV/0!"}},{"$f":"F12497/(G12497*12*memoria!$B$47)","v":{"$error":"#DIV/0!"}}]
[null,null,null,null,null,null,null,{"$f":"F12498*memoria!$B$44/(G12498*12*memoria!$B$47)","v":{"$error":"#DIV/0!"}},{"$f":"F12498/(G12498*12*memoria!$B$47)","v":{"$error":"#DIV/0!"}}]
[null,null,null,null,null,null,null,{"$f":"F12499*memoria!$B$44/(G12499*12*memoria!$B$47)","v":{"$error":"#DIV/0!"}},{"$f":"F12499/(G12499*12*memoria!$B$47)","v":{"$error":"#DIV/0!"}}]
[null,null,null,null,null,null,null,{"$f":"F12500*memoria!$B$44/(G12500*12*memoria!$B$47)","v":{"$error":"#DIV/0!"}},{"$f":"F12500/(G12500*12*memoria!$B$47)","v":{"$error":"#DIV/0!"}}]
[null,null,null,null,null,null,null,{"$f":"F12501*memoria!$B$44/(G12501*12*memoria!$B$47)","v":{"$error":"#DIV/0!"}},{"$f":"F12501/(G12501*12*memoria!$B$47)","v":{"$error":"#DIV/0!"}}]
[null,null,null,null,null,null,null,{"$f":"F12502*memoria!$B$44/(G12502*12*memoria!$B$47)","v":{"$error":"#DIV/0!"}},{"$f":"F12502/(G12502*12*memoria!$B$47)","v":{"$error":"#DIV/0!"}}]
[null,null,null,null,null,null,null,{"$f":"F12503*memoria!$B$44/(G12503*12*memoria!$B$47)","v":{"$error":"#DIV/0!"}},{"$f":"F12503/(G12503*12*memoria!$B$47)","v":{"$error":"#DIV/0!"}}]
[null,null,null,null,null,null,null,{"$f":"F12504*memoria!$B$44/(G12504*12*memoria!$B$47)","v":{"$error":"#DIV/0!"}},{"$f":"F12504/(G12504*12*memoria!$B$47)","v":{"$error":"#DIV/0!"}}]
[null,null,null,null,null,null,null,{"$f":"F12505*memoria!$B$44/(G12505*12*memoria!$B$47)","v":{"$error":"#DIV/0!"}},{"$f":"F12505/(G12505*12*memoria!$B$47)","v":{"$error":"#DIV/0!"}}]
[null,null,null,null,null,null,null,{"$f":"F12506*memoria!$B$44/(G12506*12*memoria!$B$47)","v":{"$error":"#DIV/0!"}},{"$f":"F12506/(G12506*12*memoria!$B$47)","v":{"$error":"#DIV/0!"}}]
[null,null,null,null,null,null,null,{"$f":"F12507*memoria!$B$44/(G12507*12*memoria!$B$47)","v":{"$error":"#DIV/0!"}},{"$f":"F12507/(G12507*12*memoria!$B$47)","v":{"$error":"#DIV/0!"}}]
[null,null,null,null,null,null,null,{"$f":"F12508*memoria!$B$44/(G12508*12*memoria!$B$47)","v":{"$error":"#DIV/0!"}},{"$f":"F12508/(G12508*12*memoria!$B$47)","v":{"$error":"#DIV/0!"}}]
[null,null,null,null,null,null,null,{"$f":"F12509*memoria!$B$44/(G12509*12*memoria!$B$47)","v":{"$error":"#DIV/0!"}},{"$f":"F12509/(G12509*12*memoria!$B$47)","v":{"$error":"#DIV/0!"}}]
[null,null,null,null,null,null,null,{"$f":"F12510*memoria!$B$44/(G12510*12*memoria!$B$47)","v":{"$error":"#DIV/0!"}},{"$f":"F12510/(G12510*12*memoria!$B$47)","v":{"$error":"#DIV/0!"}}]
[null,null,null,null,null,null,null,{"$f":"F12511*memoria!$B$44/(G12511*12*memoria!$B$47)","v":{"$error":"#DIV/0!"}},{"$f":"F12511/(G12511*12*memoria!$B$47)","v":{"$error":"#DIV/0!"}}]
[null,null,null,null,null,null,null,{"$f":"F12512*memoria!$B$44/(G12512*12*memoria!$B$47)","v":{"$error":"#DIV/0!"}},{"$f":"F12512/(G12512*12*memoria!$B$47)","v":{"$error":"#DIV/0!"}}]
[null,null,null,null,null,null,null,{"$f":"F12513*memoria!$B$44/(G12513*12*memoria!$B$47)","v":{"$error":"#DIV/0!"}},{"$f":"F12513/(G12513*12*memoria!$B$47)","v":{"$error":"#DIV/0!"}}]
[null,null,null,null,null,null,null,{"$f":"F12514*memoria!$B$44/(G12514*12*memoria!$B$47)","v":{"$error":"#DIV/0!"}},{"$f":"F12514/(G12514*12*memoria!$B$47)","v":{"$error":"#DIV/0!"}}]
[null,null,null,null,null,null,null,{"$f":"F12515*memoria!$B$44/(G12515*12*memoria!$B$47)","v":{"$error":"#DIV/0!"}},{"$f":"F12515/(G12515*12*memoria!$B$47)","v":{"$error":"#DIV/0!"}}]
[null,null,null,null,null,null,null,{"$f":"F12516*memoria!$B$44/(G12516*12*memoria!$B$47)","v":{"$error":"#DIV/0!"}},{"$f":"F12516/(G12516*12*memoria!$B$47)","v":{"$error":"#DIV/0!"}}]
[null,null,null,null,null,null,null,{"$f":"F12517*memoria!$B$44/(G12517*12*memoria!$B$47)","v":{"$error":"#DIV/0!"}},{"$f":"F12517/(G12517*12*memoria!$B$47)","v":{"$error":"#DIV/0!"}}]
[null,null,null,null,null,null,null,{"$f":"F12518*memoria!$B$44/(G12518*12*memoria!$B$47)","v":{"$error":"#DIV/0!"}},{"$f":"F12518/(G12518*12*memoria!$B$47)","v":{"$error":"#DIV/0!"}}]
[null,null,null,null,null,null,null,{"$f":"F12519*memoria!$B$44/(G12519*12*memoria!$B$47)","v":{"$error":"#DIV/0!"}},{"$f":"F12519/(G12519*12*memoria!$B$47)","v":{"$error":"#DIV/0!"}}]
[null,null,null,null,null,null,null,{"$f":"F12520*memoria!$B$44/(G12520*12*memoria!$B$47)","v":{"$error":"#DIV/0!"}},{"$f":"F12520/(G12520*12*memoria!$B$47)","v":{"$error":"#DIV/0!"}}]
[null,null,null,null,null,null,null,{"$f":"F12521*memoria!$B$44/(G12521*12*memoria!$B$47)","v":{"$error":"#DIV/0!"}},{"$f":"F12521/(G12521*12*memoria!$B$47)","v":{"$error":"#DIV/0!"}}]
[null,null,null,null,null,null,null,{"$f":"F12522*memoria!$B$44/(G12522*12*memoria!$B$47)","v":{"$error":"#DIV/0!"}},{"$f":"F12522/(G12522*12*memoria!$B$47)","v":{"$error":"#DIV/0!"}}]
[null,null,null,null,null,null,null,{"$f":"F12523*memoria!$B$44/(G12523*12*memoria!$B$47)","v":{"$error":"#DIV/0!"}},{"$f":"F12523/(G12523*12*memoria!$B$47)","v":{"$error":"#DIV/0!"}}]
[null,null,null,null,null,null,null,{"$f":"F12524*memoria!$B$44/(G12524*12*memoria!$B$47)","v":{"$error":"#DIV/0!"}},{"$f":"F12524/(G12524*12*memoria!$B$47)","v":{"$error":"#DIV/0!"}}]
[null,null,null,null,null,null,null,{"$f":"F12525*memoria!$B$44/(G12525*12*memoria!$B$47)","v":{"$error":"#DIV/0!"}},{"$f":"F12525/(G12525*12*memoria!$B$47)","v":{"$error":"#DIV/0!"}}]
[null,null,null,null,null,null,null,{"$f":"F12526*memoria!$B$44/(G12526*12*memoria!$B$47)","v":{"$error":"#DIV/0!"}},{"$f":"F12526/(G12526*12*memoria!$B$47)","v":{"$error":"#DIV/0!"}}]
[null,null,null,null,null,null,null,{"$f":"F12527*memoria!$B$44/(G12527*12*memoria!$B$47)","v":{"$error":"#DIV/0!"}},{"$f":"F12527/(G12527*12*memoria!$B$47)","v":{"$error":"#DIV/0!"}}]
[null,null,null,null,null,null,null,{"$f":"F12528*memoria!$B$44/(G12528*12*memoria!$B$47)","v":{"$error":"#DIV/0!"}},{"$f":"F12528/(G12528*12*memoria!$B$47)","v":{"$error":"#DIV/0!"}}]
[null,null,null,null,null,null,null,{"$f":"F12529*memoria!$B$44/(G12529*12*memoria!$B$47)","v":{"$error":"#DIV/0!"}},{"$f":"F12529/(G12529*12*memoria!$B$47)","v":{"$error":"#DIV/0!"}}]
[null,null,null,null,null,null,null,{"$f":"F12530*memoria!$B$44/(G12530*12*memoria!$B$47)","v":{"$error":"#DIV/0!"}},{"$f":"F12530/(G12530*12*memoria!$B$47)","v":{"$error":"#DIV/0!"}}]
[null,null,null,null,null,null,null,{"$f":"F12531*memoria!$B$44/(G12531*12*memoria!$B$47)","v":{"$error":"#DIV/0!"}},{"$f":"F12531/(G12531*12*memoria!$B$47)","v":{"$error":"#DIV/0!"}}]
[null,null,null,null,null,null,null,{"$f":"F12532*memoria!$B$44/(G12532*12*memoria!$B$47)","v":{"$error":"#DIV/0!"}},{"$f":"F12532/(G12532*12*memoria!$B$47)","v":{"$error":"#DIV/0!"}}]
[null,null,null,null,null,null,null,{"$f":"F12533*memoria!$B$44/(G12533*12*memoria!$B$47)","v":{"$error":"#DIV/0!"}},{"$f":"F12533/(G12533*12*memoria!$B$47)","v":{"$error":"#DIV/0!"}}]
[null,null,null,null,null,null,null,{"$f":"F12534*memoria!$B$44/(G12534*12*memoria!$B$47)","v":{"$error":"#DIV/0!"}},{"$f":"F12534/(G12534*12*memoria!$B$47)","v":{"$error":"#DIV/0!"}}]
[null,null,null,null,null,null,null,{"$f":"F12535*memoria!$B$44/(G12535*12*memoria!$B$47)","v":{"$error":"#DIV/0!"}},{"$f":"F12535/(G12535*12*memoria!$B$47)","v":{"$error":"#DIV/0!"}}]
[null,null,null,null,null,null,null,{"$f":"F12536*memoria!$B$44/(G12536*12*memoria!$B$47)","v":{"$error":"#DIV/0!"}},{"$f":"F12536/(G12536*12*memoria!$B$47)","v":{"$error":"#DIV/0!"}}]
[null,null,null,null,null,null,null,{"$f":"F12537*memoria!$B$44/(G12537*12*memoria!$B$47)","v":{"$error":"#DIV/0!"}},{"$f":"F12537/(G12537*12*memoria!$B$47)","v":{"$error":"#DIV/0!"}}]
[null,null,null,null,null,null,null,{"$f":"F12538*memoria!$B$44/(G12538*12*memoria!$B$47)","v":{"$error":"#DIV/0!"}},{"$f":"F12538/(G12538*12*memoria!$B$47)","v":{"$error":"#DIV/0!"}}]
[null,null,null,null,null,null,null,{"$f":"F12539*memoria!$B$44/(G12539*12*memoria!$B$47)","v":{"$error":"#DIV/0!"}},{"$f":"F12539/(G12539*12*memoria!$B$47)","v":{"$error":"#DIV/0!"}}]
[null,null,null,null,null,null,null,{"$f":"F12540*memoria!$B$44/(G12540*12*memoria!$B$47)","v":{"$error":"#DIV/0!"}},{"$f":"F12540/(G12540*12*memoria!$B$47)","v":{"$error":"#DIV/0!"}}]
[null,null,null,null,null,null,null,{"$f":"F12541*memoria!$B$44/(G12541*12*memoria!$B$47)","v":{"$error":"#DIV/0!"}},{"$f":"F12541/(G12541*12*memoria!$B$47)","v":{"$error":"#DIV/0!"}}]
[null,null,null,null,null,null,null,{"$f":"F12542*memoria!$B$44/(G12542*12*memoria!$B$47)","v":{"$error":"#DIV/0!"}},{"$f":"F12542/(G12542*12*memoria!$B$47)","v":{"$error":"#DIV/0!"}}]
[null,null,null,null,null,null,null,{"$f":"F12543*memoria!$B$44/(G12543*12*memoria!$B$47)","v":{"$error":"#DIV/0!"}},{"$f":"F12543/(G12543*12*memoria!$B$47)","v":{"$error":"#DIV/0!"}}]
[null,null,null,null,null,null,null,{"$f":"F12544*memoria!$B$44/(G12544*12*memoria!$B$47)","v":{"$error":"#DIV/0!"}},{"$f":"F12544/(G12544*12*memoria!$B$47)","v":{"$error":"#DIV/0!"}}]
[null,null,null,null,null,null,null,{"$f":"F12545*memoria!$B$44/(G12545*12*memoria!$B$47)","v":{"$error":"#DIV/0!"}},{"$f":"F12545/(G12545*12*memoria!$B$47)","v":{"$error":"#DIV/0!"}}]
[null,null,null,null,null,null,null,{"$f":"F12546*memoria!$B$44/(G12546*12*memoria!$B$47)","v":{"$error":"#DIV/0!"}},{"$f":"F12546/(G12546*12*memoria!$B$47)","v":{"$error":"#DIV/0!"}}]
[null,null,null,null,null,null,null,{"$f":"F12547*memoria!$B$44/(G12547*12*memoria!$B$47)","v":{"$error":"#DIV/0!"}},{"$f":"F12547/(G12547*12*memoria!$B$47)","v":{"$error":"#DIV/0!"}}]
[null,null,null,null,null,null,null,{"$f":"F12548*memoria!$B$44/(G12548*12*memoria!$B$47)","v":{"$error":"#DIV/0!"}},{"$f":"F12548/(G12548*12*memoria!$B$47)","v":{"$error":"#DIV/0!"}}]
[null,null,null,null,null,null,null,{"$f":"F12549*memoria!$B$44/(G12549*12*memoria!$B$47)","v":{"$error":"#DIV/0!"}},{"$f":"F12549/(G12549*12*memoria!$B$47)","v":{"$error":"#DIV/0!"}}]
[null,null,null,null,null,null,null,{"$f":"F12550*memoria!$B$44/(G12550*12*memoria!$B$47)","v":{"$error":"#DIV/0!"}},{"$f":"F12550/(G12550*12*memoria!$B$47)","v":{"$error":"#DIV/0!"}}]
[null,null,null,null,null,null,null,{"$f":"F12551*memoria!$B$44/(G12551*12*memoria!$B$47)","v":{"$error":"#DIV/0!"}},{"$f":"F12551/(G12551*12*memoria!$B$47)","v":{"$error":"#DIV/0!"}}]
[null,null,null,null,null,null,null,{"$f":"F12552*memoria!$B$44/(G12552*12*memoria!$B$47)","v":{"$error":"#DIV/0!"}},{"$f":"F12552/(G12552*12*memoria!$B$47)","v":{"$error":"#DIV/0!"}}]
[null,null,null,null,null,null,null,{"$f":"F12553*memoria!$B$44/(G12553*12*memoria!$B$47)","v":{"$error":"#DIV/0!"}},{"$f":"F12553/(G12553*12*memoria!$B$47)","v":{"$error":"#DIV/0!"}}]
[null,null,null,null,null,null,null,{"$f":"F12554*memoria!$B$44/(G12554*12*memoria!$B$47)","v":{"$error":"#DIV/0!"}},{"$f":"F12554/(G12554*12*memoria!$B$47)","v":{"$error":"#DIV/0!"}}]
[null,null,null,null,null,null,null,{"$f":"F12555*memoria!$B$44/(G12555*12*memoria!$B$47)","v":{"$error":"#DIV/0!"}},{"$f":"F12555/(G12555*12*memoria!$B$47)","v":{"$error":"#DIV/0!"}}]
[null,null,null,null,null,null,null,{"$f":"F12556*memoria!$B$44/(G12556*12*memoria!$B$47)","v":{"$error":"#DIV/0!"}},{"$f":"F12556/(G12556*12*memoria!$B$47)","v":{"$error":"#DIV/0!"}}]
[null,null,null,null,null,null,null,{"$f":"F12557*memoria!$B$44/(G12557*12*memoria!$B$47)","v":{"$error":"#DIV/0!"}},{"$f":"F12557/(G12557*12*memoria!$B$47)","v":{"$error":"#DIV/0!"}}]
[null,null,null,null,null,null,null,{"$f":"F12558*memoria!$B$44/(G12558*12*memoria!$B$47)","v":{"$error":"#DIV/0!"}},{"$f":"F12558/(G12558*12*memoria!$B$47)","v":{"$error":"#DIV/0!"}}]
[null,null,null,null,null,null,null,{"$f":"F12559*memoria!$B$44/(G12559*12*memoria!$B$47)","v":{"$error":"#DIV/0!"}},{"$f":"F12559/(G12559*12*memoria!$B$47)","v":{"$error":"#DIV/0!"}}]
[null,null,null,null,null,null,null,{"$f":"F12560*memoria!$B$44/(G12560*12*memoria!$B$47)","v":{"$error":"#DIV/0!"}},{"$f":"F12560/(G12560*12*memoria!$B$47)","v":{"$error":"#DIV/0!"}}]
[null,null,null,null,null,null,null,{"$f":"F12561*memoria!$B$44/(G12561*12*memoria!$B$47)","v":{"$error":"#DIV/0!"}},{"$f":"F12561/(G12561*12*memoria!$B$47)","v":{"$error":"#DIV/0!"}}]
[null,null,null,null,null,null,null,{"$f":"F12562*memoria!$B$44/(G12562*12*memoria!$B$47)","v":{"$error":"#DIV/0!"}},{"$f":"F12562/(G12562*12*memoria!$B$47)","v":{"$error":"#DIV/0!"}}]
[null,null,null,null,null,null,null,{"$f":"F12563*memoria!$B$44/(G12563*12*memoria!$B$47)","v":{"$error":"#DIV/0!"}},{"$f":"F12563/(G12563*12*memoria!$B$47)","v":{"$error":"#DIV/0!"}}]
[null,null,null,null,null,null,null,{"$f":"F12564*memoria!$B$44/(G12564*12*memoria!$B$47)","v":{"$error":"#DIV/0!"}},{"$f":"F12564/(G12564*12*memoria!$B$47)","v":{"$error":"#DIV/0!"}}]
[null,null,null,null,null,null,null,{"$f":"F12565*memoria!$B$44/(G12565*12*memoria!$B$47)","v":{"$error":"#DIV/0!"}},{"$f":"F12565/(G12565*12*memoria!$B$47)","v":{"$error":"#DIV/0!"}}]
[null,null,null,null,null,null,null,{"$f":"F12566*memoria!$B$44/(G12566*12*memoria!$B$47)","v":{"$error":"#DIV/0!"}},{"$f":"F12566/(G12566*12*memoria!$B$47)","v":{"$error":"#DIV/0!"}}]
[null,null,null,null,null,null,null,{"$f":"F12567*memoria!$B$44/(G12567*12*memoria!$B$47)","v":{"$error":"#DIV/0!"}},{"$f":"F12567/(G12567*12*memoria!$B$47)","v":{"$error":"#DIV/0!"}}]
[null,null,null,null,null,null,null,{"$f":"F12568*memoria!$B$44/(G12568*12*memoria!$B$47)","v":{"$error":"#DIV/0!"}},{"$f":"F12568/(G12568*12*memoria!$B$47)","v":{"$error":"#DIV/0!"}}]
[null,null,null,null,null,null,null,{"$f":"F12569*memoria!$B$44/(G12569*12*memoria!$B$47)","v":{"$error":"#DIV/0!"}},{"$f":"F12569/(G12569*12*memoria!$B$47)","v":{"$error":"#DIV/0!"}}]
[null,null,null,null,null,null,null,{"$f":"F12570*memoria!$B$44/(G12570*12*memoria!$B$47)","v":{"$error":"#DIV/0!"}},{"$f":"F12570/(G12570*12*memoria!$B$47)","v":{"$error":"#DIV/0!"}}]
[null,null,null,null,null,null,null,{"$f":"F12571*memoria!$B$44/(G12571*12*memoria!$B$47)","v":{"$error":"#DIV/0!"}},{"$f":"F12571/(G12571*12*memoria!$B$47)","v":{"$error":"#DIV/0!"}}]
[null,null,null,null,null,null,null,{"$f":"F12572*memoria!$B$44/(G12572*12*memoria!$B$47)","v":{"$error":"#DIV/0!"}},{"$f":"F12572/(G12572*12*memoria!$B$47)","v":{"$error":"#DIV/0!"}}]
[null,null,null,null,null,null,null,{"$f":"F12573*memoria!$B$44/(G12573*12*memoria!$B$47)","v":{"$error":"#DIV/0!"}},{"$f":"F12573/(G12573*12*memoria!$B$47)","v":{"$error":"#DIV/0!"}}]
[null,null,null,null,null,null,null,{"$f":"F12574*memoria!$B$44/(G12574*12*memoria!$B$47)","v":{"$error":"#DIV/0!"}},{"$f":"F12574/(G12574*12*memoria!$B$47)","v":{"$error":"#DIV/0!"}}]
[null,null,null,null,null,null,null,{"$f":"F12575*memoria!$B$44/(G12575*12*memoria!$B$47)","v":{"$error":"#DIV/0!"}},{"$f":"F12575/(G12575*12*memoria!$B$47)","v":{"$error":"#DIV/0!"}}]
[null,null,null,null,null,null,null,{"$f":"F12576*memoria!$B$44/(G12576*12*memoria!$B$47)","v":{"$error":"#DIV/0!"}},{"$f":"F12576/(G12576*12*memoria!$B$47)","v":{"$error":"#DIV/0!"}}]
[null,null,null,null,null,null,null,{"$f":"F12577*memoria!$B$44/(G12577*12*memoria!$B$47)","v":{"$error":"#DIV/0!"}},{"$f":"F12577/(G12577*12*memoria!$B$47)","v":{"$error":"#DIV/0!"}}]
[null,null,null,null,null,null,null,{"$f":"F12578*memoria!$B$44/(G12578*12*memoria!$B$47)","v":{"$error":"#DIV/0!"}},{"$f":"F12578/(G12578*12*memoria!$B$47)","v":{"$error":"#DIV/0!"}}]
[null,null,null,null,null,null,null,{"$f":"F12579*memoria!$B$44/(G12579*12*memoria!$B$47)","v":{"$error":"#DIV/0!"}},{"$f":"F12579/(G12579*12*memoria!$B$47)","v":{"$error":"#DIV/0!"}}]
[null,null,null,null,null,null,null,{"$f":"F12580*memoria!$B$44/(G12580*12*memoria!$B$47)","v":{"$error":"#DIV/0!"}},{"$f":"F12580/(G12580*12*memoria!$B$47)","v":{"$error":"#DIV/0!"}}]
[null,null,null,null,null,null,null,{"$f":"F12581*memoria!$B$44/(G12581*12*memoria!$B$47)","v":{"$error":"#DIV/0!"}},{"$f":"F12581/(G12581*12*memoria!$B$47)","v":{"$error":"#DIV/0!"}}]
[null,null,null,null,null,null,null,{"$f":"F12582*memoria!$B$44/(G12582*12*memoria!$B$47)","v":{"$error":"#DIV/0!"}},{"$f":"F12582/(G12582*12*memoria!$B$47)","v":{"$error":"#DIV/0!"}}]
[null,null,null,null,null,null,null,{"$f":"F12583*memoria!$B$44/(G12583*12*memoria!$B$47)","v":{"$error":"#DIV/0!"}},{"$f":"F12583/(G12583*12*memoria!$B$47)","v":{"$error":"#DIV/0!"}}]
[null,null,null,null,null,null,null,{"$f":"F12584*memoria!$B$44/(G12584*12*memoria!$B$47)","v":{"$error":"#DIV/0!"}},{"$f":"F12584/(G12584*12*memoria!$B$47)","v":{"$error":"#DIV/0!"}}]
[null,null,null,null,null,null,null,{"$f":"F12585*memoria!$B$44/(G12585*12*memoria!$B$47)","v":{"$error":"#DIV/0!"}},{"$f":"F12585/(G12585*12*memoria!$B$47)","v":{"$error":"#DIV/0!"}}]
[null,null,null,null,null,null,null,{"$f":"F12586*memoria!$B$44/(G12586*12*memoria!$B$47)","v":{"$error":"#DIV/0!"}},{"$f":"F12586/(G12586*12*memoria!$B$47)","v":{"$error":"#DIV/0!"}}]
[null,null,null,null,null,null,null,{"$f":"F12587*memoria!$B$44/(G12587*12*memoria!$B$47)","v":{"$error":"#DIV/0!"}},{"$f":"F12587/(G12587*12*memoria!$B$47)","v":{"$error":"#DIV/0!"}}]
[null,null,null,null,null,null,null,{"$f":"F12588*memoria!$B$44/(G12588*12*memoria!$B$47)","v":{"$error":"#DIV/0!"}},{"$f":"F12588/(G12588*12*memoria!$B$47)","v":{"$error":"#DIV/0!"}}]
[null,null,null,null,null,null,null,{"$f":"F12589*memoria!$B$44/(G12589*12*memoria!$B$47)","v":{"$error":"#DIV/0!"}},{"$f":"F12589/(G12589*12*memoria!$B$47)","v":{"$error":"#DIV/0!"}}]
[null,null,null,null,null,null,null,{"$f":"F12590*memoria!$B$44/(G12590*12*memoria!$B$47)","v":{"$error":"#DIV/0!"}},{"$f":"F12590/(G12590*12*memoria!$B$47)","v":{"$error":"#DIV/0!"}}]
[null,null,null,null,null,null,null,{"$f":"F12591*memoria!$B$44/(G12591*12*memoria!$B$47)","v":{"$error":"#DIV/0!"}},{"$f":"F12591/(G12591*12*memoria!$B$47)","v":{"$error":"#DIV/0!"}}]
[null,null,null,null,null,null,null,{"$f":"F12592*memoria!$B$44/(G12592*12*memoria!$B$47)","v":{"$error":"#DIV/0!"}},{"$f":"F12592/(G12592*12*memoria!$B$47)","v":{"$error":"#DIV/0!"}}]
[null,null,null,null,null,null,null,{"$f":"F12593*memoria!$B$44/(G12593*12*memoria!$B$47)","v":{"$error":"#DIV/0!"}},{"$f":"F12593/(G12593*12*memoria!$B$47)","v":{"$error":"#DIV/0!"}}]
[null,null,null,null,null,null,null,{"$f":"F12594*memoria!$B$44/(G12594*12*memoria!$B$47)","v":{"$error":"#DIV/0!"}},{"$f":"F12594/(G12594*12*memoria!$B$47)","v":{"$error":"#DIV/0!"}}]
[null,null,null,null,null,null,null,{"$f":"F12595*memoria!$B$44/(G12595*12*memoria!$B$47)","v":{"$error":"#DIV/0!"}},{"$f":"F12595/(G12595*12*memoria!$B$47)","v":{"$error":"#DIV/0!"}}]
[null,null,null,null,null,null,null,{"$f":"F12596*memoria!$B$44/(G12596*12*memoria!$B$47)","v":{"$error":"#DIV/0!"}},{"$f":"F12596/(G12596*12*memoria!$B$47)","v":{"$error":"#DIV/0!"}}]
[null,null,null,null,null,null,null,{"$f":"F12597*memoria!$B$44/(G12597*12*memoria!$B$47)","v":{"$error":"#DIV/0!"}},{"$f":"F12597/(G12597*12*memoria!$B$47)","v":{"$error":"#DIV/0!"}}]
[null,null,null,null,null,null,null,{"$f":"F12598*memoria!$B$44/(G12598*12*memoria!$B$47)","v":{"$error":"#DIV/0!"}},{"$f":"F12598/(G12598*12*memoria!$B$47)","v":{"$error":"#DIV/0!"}}]
[null,null,null,null,null,null,null,{"$f":"F12599*memoria!$B$44/(G12599*12*memoria!$B$47)","v":{"$error":"#DIV/0!"}},{"$f":"F12599/(G12599*12*memoria!$B$47)","v":{"$error":"#DIV/0!"}}]
[null,null,null,null,null,null,null,{"$f":"F12600*memoria!$B$44/(G12600*12*memoria!$B$47)","v":{"$error":"#DIV/0!"}},{"$f":"F12600/(G12600*12*memoria!$B$47)","v":{"$error":"#DIV/0!"}}]
[null,null,null,null,null,null,null,{"$f":"F12601*memoria!$B$44/(G12601*12*memoria!$B$47)","v":{"$error":"#DIV/0!"}},{"$f":"F12601/(G12601*12*memoria!$B$47)","v":{"$error":"#DIV/0!"}}]
[null,null,null,null,null,null,null,{"$f":"F12602*memoria!$B$44/(G12602*12*memoria!$B$47)","v":{"$error":"#DIV/0!"}},{"$f":"F12602/(G12602*12*memoria!$B$47)","v":{"$error":"#DIV/0!"}}]
[null,null,null,null,null,null,null,{"$f":"F12603*memoria!$B$44/(G12603*12*memoria!$B$47)","v":{"$error":"#DIV/0!"}},{"$f":"F12603/(G12603*12*memoria!$B$47)","v":{"$error":"#DIV/0!"}}]
[null,null,null,null,null,null,null,{"$f":"F12604*memoria!$B$44/(G12604*12*memoria!$B$47)","v":{"$error":"#DIV/0!"}},{"$f":"F12604/(G12604*12*memoria!$B$47)","v":{"$error":"#DIV/0!"}}]
[null,null,null,null,null,null,null,{"$f":"F12605*memoria!$B$44/(G12605*12*memoria!$B$47)","v":{"$error":"#DIV/0!"}},{"$f":"F12605/(G12605*12*memoria!$B$47)","v":{"$error":"#DIV/0!"}}]
[null,null,null,null,null,null,null,{"$f":"F12606*memoria!$B$44/(G12606*12*memoria!$B$47)","v":{"$error":"#DIV/0!"}},{"$f":"F12606/(G12606*12*memoria!$B$47)","v":{"$error":"#DIV/0!"}}]
[null,null,null,null,null,null,null,{"$f":"F12607*memoria!$B$44/(G12607*12*memoria!$B$47)","v":{"$error":"#DIV/0!"}},{"$f":"F12607/(G12607*12*memoria!$B$47)","v":{"$error":"#DIV/0!"}}]
[null,null,null,null,null,null,null,{"$f":"F12608*memoria!$B$44/(G12608*12*memoria!$B$47)","v":{"$error":"#DIV/0!"}},{"$f":"F12608/(G12608*12*memoria!$B$47)","v":{"$error":"#DIV/0!"}}]
[null,null,null,null,null,null,null,{"$f":"F12609*memoria!$B$44/(G12609*12*memoria!$B$47)","v":{"$error":"#DIV/0!"}},{"$f":"F12609/(G12609*12*memoria!$B$47)","v":{"$error":"#DIV/0!"}}]
[null,null,null,null,null,null,null,{"$f":"F12610*memoria!$B$44/(G12610*12*memoria!$B$47)","v":{"$error":"#DIV/0!"}},{"$f":"F12610/(G12610*12*memoria!$B$47)","v":{"$error":"#DIV/0!"}}]
[null,null,null,null,null,null,null,{"$f":"F12611*memoria!$B$44/(G12611*12*memoria!$B$47)","v":{"$error":"#DIV/0!"}},{"$f":"F12611/(G12611*12*memoria!$B$47)","v":{"$error":"#DIV/0!"}}]
[null,null,null,null,null,null,null,{"$f":"F12612*memoria!$B$44/(G12612*12*memoria!$B$47)","v":{"$error":"#DIV/0!"}},{"$f":"F12612/(G12612*12*memoria!$B$47)","v":{"$error":"#DIV/0!"}}]
[null,null,null,null,null,null,null,{"$f":"F12613*memoria!$B$44/(G12613*12*memoria!$B$47)","v":{"$error":"#DIV/0!"}},{"$f":"F12613/(G12613*12*memoria!$B$47)","v":{"$error":"#DIV/0!"}}]
[null,null,null,null,null,null,null,{"$f":"F12614*memoria!$B$44/(G12614*12*memoria!$B$47)","v":{"$error":"#DIV/0!"}},{"$f":"F12614/(G12614*12*memoria!$B$47)","v":{"$error":"#DIV/0!"}}]
[null,null,null,null,null,null,null,{"$f":"F12615*memoria!$B$44/(G12615*12*memoria!$B$47)","v":{"$error":"#DIV/0!"}},{"$f":"F12615/(G12615*12*memoria!$B$47)","v":{"$error":"#DIV/0!"}}]
[null,null,null,null,null,null,null,{"$f":"F12616*memoria!$B$44/(G12616*12*memoria!$B$47)","v":{"$error":"#DIV/0!"}},{"$f":"F12616/(G12616*12*memoria!$B$47)","v":{"$error":"#DIV/0!"}}]
[null,null,null,null,null,null,null,{"$f":"F12617*memoria!$B$44/(G12617*12*memoria!$B$47)","v":{"$error":"#DIV/0!"}},{"$f":"F12617/(G12617*12*memoria!$B$47)","v":{"$error":"#DIV/0!"}}]
[null,null,null,null,null,null,null,{"$f":"F12618*memoria!$B$44/(G12618*12*memoria!$B$47)","v":{"$error":"#DIV/0!"}},{"$f":"F12618/(G12618*12*memoria!$B$47)","v":{"$error":"#DIV/0!"}}]
[null,null,null,null,null,null,null,{"$f":"F12619*memoria!$B$44/(G12619*12*memoria!$B$47)","v":{"$error":"#DIV/0!"}},{"$f":"F12619/(G12619*12*memoria!$B$47)","v":{"$error":"#DIV/0!"}}]
[null,null,null,null,null,null,null,{"$f":"F12620*memoria!$B$44/(G12620*12*memoria!$B$47)","v":{"$error":"#DIV/0!"}},{"$f":"F12620/(G12620*12*memoria!$B$47)","v":{"$error":"#DIV/0!"}}]
[null,null,null,null,null,null,null,{"$f":"F12621*memoria!$B$44/(G12621*12*memoria!$B$47)","v":{"$error":"#DIV/0!"}},{"$f":"F12621/(G12621*12*memoria!$B$47)","v":{"$error":"#DIV/0!"}}]
[null,null,null,null,null,null,null,{"$f":"F12622*memoria!$B$44/(G12622*12*memoria!$B$47)","v":{"$error":"#DIV/0!"}},{"$f":"F12622/(G12622*12*memoria!$B$47)","v":{"$error":"#DIV/0!"}}]
[null,null,null,null,null,null,null,{"$f":"F12623*memoria!$B$44/(G12623*12*memoria!$B$47)","v":{"$error":"#DIV/0!"}},{"$f":"F12623/(G12623*12*memoria!$B$47)","v":{"$error":"#DIV/0!"}}]
[null,null,null,null,null,null,null,{"$f":"F12624*memoria!$B$44/(G12624*12*memoria!$B$47)","v":{"$error":"#DIV/0!"}},{"$f":"F12624/(G12624*12*memoria!$B$47)","v":{"$error":"#DIV/0!"}}]
[null,null,null,null,null,null,null,{"$f":"F12625*memoria!$B$44/(G12625*12*memoria!$B$47)","v":{"$error":"#DIV/0!"}},{"$f":"F12625/(G12625*12*memoria!$B$47)","v":{"$error":"#DIV/0!"}}]
[null,null,null,null,null,null,null,{"$f":"F12626*memoria!$B$44/(G12626*12*memoria!$B$47)","v":{"$error":"#DIV/0!"}},{"$f":"F12626/(G12626*12*memoria!$B$47)","v":{"$error":"#DIV/0!"}}]
[null,null,null,null,null,null,null,{"$f":"F12627*memoria!$B$44/(G12627*12*memoria!$B$47)","v":{"$error":"#DIV/0!"}},{"$f":"F12627/(G12627*12*memoria!$B$47)","v":{"$error":"#DIV/0!"}}]
[null,null,null,null,null,null,null,{"$f":"F12628*memoria!$B$44/(G12628*12*memoria!$B$47)","v":{"$error":"#DIV/0!"}},{"$f":"F12628/(G12628*12*memoria!$B$47)","v":{"$error":"#DIV/0!"}}]
[null,null,null,null,null,null,null,{"$f":"F12629*memoria!$B$44/(G12629*12*memoria!$B$47)","v":{"$error":"#DIV/0!"}},{"$f":"F12629/(G12629*12*memoria!$B$47)","v":{"$error":"#DIV/0!"}}]
[null,null,null,null,null,null,null,{"$f":"F12630*memoria!$B$44/(G12630*12*memoria!$B$47)","v":{"$error":"#DIV/0!"}},{"$f":"F12630/(G12630*12*memoria!$B$47)","v":{"$error":"#DIV/0!"}}]
[null,null,null,null,null,null,null,{"$f":"F12631*memoria!$B$44/(G12631*12*memoria!$B$47)","v":{"$error":"#DIV/0!"}},{"$f":"F12631/(G12631*12*memoria!$B$47)","v":{"$error":"#DIV/0!"}}]
[null,null,null,null,null,null,null,{"$f":"F12632*memoria!$B$44/(G12632*12*memoria!$B$47)","v":{"$error":"#DIV/0!"}},{"$f":"F12632/(G12632*12*memoria!$B$47)","v":{"$error":"#DIV/0!"}}]
[null,null,null,null,null,null,null,{"$f":"F12633*memoria!$B$44/(G12633*12*memoria!$B$47)","v":{"$error":"#DIV/0!"}},{"$f":"F12633/(G12633*12*memoria!$B$47)","v":{"$error":"#DIV/0!"}}]
[null,null,null,null,null,null,null,{"$f":"F12634*memoria!$B$44/(G12634*12*memoria!$B$47)","v":{"$error":"#DIV/0!"}},{"$f":"F12634/(G12634*12*memoria!$B$47)","v":{"$error":"#DIV/0!"}}]
[null,null,null,null,null,null,null,{"$f":"F12635*memoria!$B$44/(G12635*12*memoria!$B$47)","v":{"$error":"#DIV/0!"}},{"$f":"F12635/(G12635*12*memoria!$B$47)","v":{"$error":"#DIV/0!"}}]
[null,null,null,null,null,null,null,{"$f":"F12636*memoria!$B$44/(G12636*12*memoria!$B$47)","v":{"$error":"#DIV/0!"}},{"$f":"F12636/(G12636*12*memoria!$B$47)","v":{"$error":"#DIV/0!"}}]
[null,null,null,null,null,null,null,{"$f":"F12637*memoria!$B$44/(G12637*12*memoria!$B$47)","v":{"$error":"#DIV/0!"}},{"$f":"F12637/(G12637*12*memoria!$B$47)","v":{"$error":"#DIV/0!"}}]
[null,null,null,null,null,null,null,{"$f":"F12638*memoria!$B$44/(G12638*12*memoria!$B$47)","v":{"$error":"#DIV/0!"}},{"$f":"F12638/(G12638*12*memoria!$B$47)","v":{"$error":"#DIV/0!"}}]
[null,null,null,null,null,null,null,{"$f":"F12639*memoria!$B$44/(G12639*12*memoria!$B$47)","v":{"$error":"#DIV/0!"}},{"$f":"F12639/(G12639*12*memoria!$B$47)","v":{"$error":"#DIV/0!"}}]
[null,null,null,null,null,null,null,{"$f":"F12640*memoria!$B$44/(G12640*12*memoria!$B$47)","v":{"$error":"#DIV/0!"}},{"$f":"F12640/(G12640*12*memoria!$B$47)","v":{"$error":"#DIV/0!"}}]
[null,null,null,null,null,null,null,{"$f":"F12641*memoria!$B$44/(G12641*12*memoria!$B$47)","v":{"$error":"#DIV/0!"}},{"$f":"F12641/(G12641*12*memoria!$B$47)","v":{"$error":"#DIV/0!"}}]
[null,null,null,null,null,null,null,{"$f":"F12642*memoria!$B$44/(G12642*12*memoria!$B$47)","v":{"$error":"#DIV/0!"}},{"$f":"F12642/(G12642*12*memoria!$B$47)","v":{"$error":"#DIV/0!"}}]
[null,null,null,null,null,null,null,{"$f":"F12643*memoria!$B$44/(G12643*12*memoria!$B$47)","v":{"$error":"#DIV/0!"}},{"$f":"F12643/(G12643*12*memoria!$B$47)","v":{"$error":"#DIV/0!"}}]
[null,null,null,null,null,null,null,{"$f":"F12644*memoria!$B$44/(G12644*12*memoria!$B$47)","v":{"$error":"#DIV/0!"}},{"$f":"F12644/(G12644*12*memoria!$B$47)","v":{"$error":"#DIV/0!"}}]
[null,null,null,null,null,null,null,{"$f":"F12645*memoria!$B$44/(G12645*12*memoria!$B$47)","v":{"$error":"#DIV/0!"}},{"$f":"F12645/(G12645*12*memoria!$B$47)","v":{"$error":"#DIV/0!"}}]
[null,null,null,null,null,null,null,{"$f":"F12646*memoria!$B$44/(G12646*12*memoria!$B$47)","v":{"$error":"#DIV/0!"}},{"$f":"F12646/(G12646*12*memoria!$B$47)","v":{"$error":"#DIV/0!"}}]
[null,null,null,null,null,null,null,{"$f":"F12647*memoria!$B$44/(G12647*12*memoria!$B$47)","v":{"$error":"#DIV/0!"}},{"$f":"F12647/(G12647*12*memoria!$B$47)","v":{"$error":"#DIV/0!"}}]
[null,null,null,null,null,null,null,{"$f":"F12648*memoria!$B$44/(G12648*12*memoria!$B$47)","v":{"$error":"#DIV/0!"}},{"$f":"F12648/(G12648*12*memoria!$B$47)","v":{"$error":"#DIV/0!"}}]
[null,null,null,null,null,null,null,{"$f":"F12649*memoria!$B$44/(G12649*12*memoria!$B$47)","v":{"$error":"#DIV/0!"}},{"$f":"F12649/(G12649*12*memoria!$B$47)","v":{"$error":"#DIV/0!"}}]
[null,null,null,null,null,null,null,{"$f":"F12650*memoria!$B$44/(G12650*12*memoria!$B$47)","v":{"$error":"#DIV/0!"}},{"$f":"F12650/(G12650*12*memoria!$B$47)","v":{"$error":"#DIV/0!"}}]
[null,null,null,null,null,null,null,{"$f":"F12651*memoria!$B$44/(G12651*12*memoria!$B$47)","v":{"$error":"#DIV/0!"}},{"$f":"F12651/(G12651*12*memoria!$B$47)","v":{"$error":"#DIV/0!"}}]
[null,null,null,null,null,null,null,{"$f":"F12652*memoria!$B$44/(G12652*12*memoria!$B$47)","v":{"$error":"#DIV/0!"}},{"$f":"F12652/(G12652*12*memoria!$B$47)","v":{"$error":"#DIV/0!"}}]
[null,null,null,null,null,null,null,{"$f":"F12653*memoria!$B$44/(G12653*12*memoria!$B$47)","v":{"$error":"#DIV/0!"}},{"$f":"F12653/(G12653*12*memoria!$B$47)","v":{"$error":"#DIV/0!"}}]
[null,null,null,null,null,null,null,{"$f":"F12654*memoria!$B$44/(G12654*12*memoria!$B$47)","v":{"$error":"#DIV/0!"}},{"$f":"F12654/(G12654*12*memoria!$B$47)","v":{"$error":"#DIV/0!"}}]
[null,null,null,null,null,null,null,{"$f":"F12655*memoria!$B$44/(G12655*12*memoria!$B$47)","v":{"$error":"#DIV/0!"}},{"$f":"F12655/(G12655*12*memoria!$B$47)","v":{"$error":"#DIV/0!"}}]
[null,null,null,null,null,null,null,{"$f":"F12656*memoria!$B$44/(G12656*12*memoria!$B$47)","v":{"$error":"#DIV/0!"}},{"$f":"F12656/(G12656*12*memoria!$B$47)","v":{"$error":"#DIV/0!"}}]
[null,null,null,null,null,null,null,{"$f":"F12657*memoria!$B$44/(G12657*12*memoria!$B$47)","v":{"$error":"#DIV/0!"}},{"$f":"F12657/(G12657*12*memoria!$B$47)","v":{"$error":"#DIV/0!"}}]
[null,null,null,null,null,null,null,{"$f":"F12658*memoria!$B$44/(G12658*12*memoria!$B$47)","v":{"$error":"#DIV/0!"}},{"$f":"F12658/(G12658*12*memoria!$B$47)","v":{"$error":"#DIV/0!"}}]
[null,null,null,null,null,null,null,{"$f":"F12659*memoria!$B$44/(G12659*12*memoria!$B$47)","v":{"$error":"#DIV/0!"}},{"$f":"F12659/(G12659*12*memoria!$B$47)","v":{"$error":"#DIV/0!"}}]
[null,null,null,null,null,null,null,{"$f":"F12660*memoria!$B$44/(G12660*12*memoria!$B$47)","v":{"$error":"#DIV/0!"}},{"$f":"F12660/(G12660*12*memoria!$B$47)","v":{"$error":"#DIV/0!"}}]
[null,null,null,null,null,null,null,{"$f":"F12661*memoria!$B$44/(G12661*12*memoria!$B$47)","v":{"$error":"#DIV/0!"}},{"$f":"F12661/(G12661*12*memoria!$B$47)","v":{"$error":"#DIV/0!"}}]
[null,null,null,null,null,null,null,{"$f":"F12662*memoria!$B$44/(G12662*12*memoria!$B$47)","v":{"$error":"#DIV/0!"}},{"$f":"F12662/(G12662*12*memoria!$B$47)","v":{"$error":"#DIV/0!"}}]
[null,null,null,null,null,null,null,{"$f":"F12663*memoria!$B$44/(G12663*12*memoria!$B$47)","v":{"$error":"#DIV/0!"}},{"$f":"F12663/(G12663*12*memoria!$B$47)","v":{"$error":"#DIV/0!"}}]
[null,null,null,null,null,null,null,{"$f":"F12664*memoria!$B$44/(G12664*12*memoria!$B$47)","v":{"$error":"#DIV/0!"}},{"$f":"F12664/(G12664*12*memoria!$B$47)","v":{"$error":"#DIV/0!"}}]
[null,null,null,null,null,null,null,{"$f":"F12665*memoria!$B$44/(G12665*12*memoria!$B$47)","v":{"$error":"#DIV/0!"}},{"$f":"F12665/(G12665*12*memoria!$B$47)","v":{"$error":"#DIV/0!"}}]
[null,null,null,null,null,null,null,{"$f":"F12666*memoria!$B$44/(G12666*12*memoria!$B$47)","v":{"$error":"#DIV/0!"}},{"$f":"F12666/(G12666*12*memoria!$B$47)","v":{"$error":"#DIV/0!"}}]
[null,null,null,null,null,null,null,{"$f":"F12667*memoria!$B$44/(G12667*12*memoria!$B$47)","v":{"$error":"#DIV/0!"}},{"$f":"F12667/(G12667*12*memoria!$B$47)","v":{"$error":"#DIV/0!"}}]
[null,null,null,null,null,null,null,{"$f":"F12668*memoria!$B$44/(G12668*12*memoria!$B$47)","v":{"$error":"#DIV/0!"}},{"$f":"F12668/(G12668*12*memoria!$B$47)","v":{"$error":"#DIV/0!"}}]
[null,null,null,null,null,null,null,{"$f":"F12669*memoria!$B$44/(G12669*12*memoria!$B$47)","v":{"$error":"#DIV/0!"}},{"$f":"F12669/(G12669*12*memoria!$B$47)","v":{"$error":"#DIV/0!"}}]
[null,null,null,null,null,null,null,{"$f":"F12670*memoria!$B$44/(G12670*12*memoria!$B$47)","v":{"$error":"#DIV/0!"}},{"$f":"F12670/(G12670*12*memoria!$B$47)","v":{"$error":"#DIV/0!"}}]
[null,null,null,null,null,null,null,{"$f":"F12671*memoria!$B$44/(G12671*12*memoria!$B$47)","v":{"$error":"#DIV/0!"}},{"$f":"F12671/(G12671*12*memoria!$B$47)","v":{"$error":"#DIV/0!"}}]
[null,null,null,null,null,null,null,{"$f":"F12672*memoria!$B$44/(G12672*12*memoria!$B$47)","v":{"$error":"#DIV/0!"}},{"$f":"F12672/(G12672*12*memoria!$B$47)","v":{"$error":"#DIV/0!"}}]
[null,null,null,null,null,null,null,{"$f":"F12673*memoria!$B$44/(G12673*12*memoria!$B$47)","v":{"$error":"#DIV/0!"}},{"$f":"F12673/(G12673*12*memoria!$B$47)","v":{"$error":"#DIV/0!"}}]
[null,null,null,null,null,null,null,{"$f":"F12674*memoria!$B$44/(G12674*12*memoria!$B$47)","v":{"$error":"#DIV/0!"}},{"$f":"F12674/(G12674*12*memoria!$B$47)","v":{"$error":"#DIV/0!"}}]
[null,null,null,null,null,null,null,{"$f":"F12675*memoria!$B$44/(G12675*12*memoria!$B$47)","v":{"$error":"#DIV/0!"}},{"$f":"F12675/(G12675*12*memoria!$B$47)","v":{"$error":"#DIV/0!"}}]
[null,null,null,null,null,null,null,{"$f":"F12676*memoria!$B$44/(G12676*12*memoria!$B$47)","v":{"$error":"#DIV/0!"}},{"$f":"F12676/(G12676*12*memoria!$B$47)","v":{"$error":"#DIV/0!"}}]
[null,null,null,null,null,null,null,{"$f":"F12677*memoria!$B$44/(G12677*12*memoria!$B$47)","v":{"$error":"#DIV/0!"}},{"$f":"F12677/(G12677*12*memoria!$B$47)","v":{"$error":"#DIV/0!"}}]
[null,null,null,null,null,null,null,{"$f":"F12678*memoria!$B$44/(G12678*12*memoria!$B$47)","v":{"$error":"#DIV/0!"}},{"$f":"F12678/(G12678*12*memoria!$B$47)","v":{"$error":"#DIV/0!"}}]
[null,null,null,null,null,null,null,{"$f":"F12679*memoria!$B$44/(G12679*12*memoria!$B$47)","v":{"$error":"#DIV/0!"}},{"$f":"F12679/(G12679*12*memoria!$B$47)","v":{"$error":"#DIV/0!"}}]
[null,null,null,null,null,null,null,{"$f":"F12680*memoria!$B$44/(G12680*12*memoria!$B$47)","v":{"$error":"#DIV/0!"}},{"$f":"F12680/(G12680*12*memoria!$B$47)","v":{"$error":"#DIV/0!"}}]
[null,null,null,null,null,null,null,{"$f":"F12681*memoria!$B$44/(G12681*12*memoria!$B$47)","v":{"$error":"#DIV/0!"}},{"$f":"F12681/(G12681*12*memoria!$B$47)","v":{"$error":"#DIV/0!"}}]
[null,null,null,null,null,null,null,{"$f":"F12682*memoria!$B$44/(G12682*12*memoria!$B$47)","v":{"$error":"#DIV/0!"}},{"$f":"F12682/(G12682*12*memoria!$B$47)","v":{"$error":"#DIV/0!"}}]
[null,null,null,null,null,null,null,{"$f":"F12683*memoria!$B$44/(G12683*12*memoria!$B$47)","v":{"$error":"#DIV/0!"}},{"$f":"F12683/(G12683*12*memoria!$B$47)","v":{"$error":"#DIV/0!"}}]
[null,null,null,null,null,null,null,{"$f":"F12684*memoria!$B$44/(G12684*12*memoria!$B$47)","v":{"$error":"#DIV/0!"}},{"$f":"F12684/(G12684*12*memoria!$B$47)","v":{"$error":"#DIV/0!"}}]
[null,null,null,null,null,null,null,{"$f":"F12685*memoria!$B$44/(G12685*12*memoria!$B$47)","v":{"$error":"#DIV/0!"}},{"$f":"F12685/(G12685*12*memoria!$B$47)","v":{"$error":"#DIV/0!"}}]
[null,null,null,null,null,null,null,{"$f":"F12686*memoria!$B$44/(G12686*12*memoria!$B$47)","v":{"$error":"#DIV/0!"}},{"$f":"F12686/(G12686*12*memoria!$B$47)","v":{"$error":"#DIV/0!"}}]
[null,null,null,null,null,null,null,{"$f":"F12687*memoria!$B$44/(G12687*12*memoria!$B$47)","v":{"$error":"#DIV/0!"}},{"$f":"F12687/(G12687*12*memoria!$B$47)","v":{"$error":"#DIV/0!"}}]
[null,null,null,null,null,null,null,{"$f":"F12688*memoria!$B$44/(G12688*12*memoria!$B$47)","v":{"$error":"#DIV/0!"}},{"$f":"F12688/(G12688*12*memoria!$B$47)","v":{"$error":"#DIV/0!"}}]
[null,null,null,null,null,null,null,{"$f":"F12689*memoria!$B$44/(G12689*12*memoria!$B$47)","v":{"$error":"#DIV/0!"}},{"$f":"F12689/(G12689*12*memoria!$B$47)","v":{"$error":"#DIV/0!"}}]
[null,null,null,null,null,null,null,{"$f":"F12690*memoria!$B$44/(G12690*12*memoria!$B$47)","v":{"$error":"#DIV/0!"}},{"$f":"F12690/(G12690*12*memoria!$B$47)","v":{"$error":"#DIV/0!"}}]
[null,null,null,null,null,null,null,{"$f":"F12691*memoria!$B$44/(G12691*12*memoria!$B$47)","v":{"$error":"#DIV/0!"}},{"$f":"F12691/(G12691*12*memoria!$B$47)","v":{"$error":"#DIV/0!"}}]
[null,null,null,null,null,null,null,{"$f":"F12692*memoria!$B$44/(G12692*12*memoria!$B$47)","v":{"$error":"#DIV/0!"}},{"$f":"F12692/(G12692*12*memoria!$B$47)","v":{"$error":"#DIV/0!"}}]
[null,null,null,null,null,null,null,{"$f":"F12693*memoria!$B$44/(G12693*12*memoria!$B$47)","v":{"$error":"#DIV/0!"}},{"$f":"F12693/(G12693*12*memoria!$B$47)","v":{"$error":"#DIV/0!"}}]
[null,null,null,null,null,null,null,{"$f":"F12694*memoria!$B$44/(G12694*12*memoria!$B$47)","v":{"$error":"#DIV/0!"}},{"$f":"F12694/(G12694*12*memoria!$B$47)","v":{"$error":"#DIV/0!"}}]
[null,null,null,null,null,null,null,{"$f":"F12695*memoria!$B$44/(G12695*12*memoria!$B$47)","v":{"$error":"#DIV/0!"}},{"$f":"F12695/(G12695*12*memoria!$B$47)","v":{"$error":"#DIV/0!"}}]
[null,null,null,null,null,null,null,{"$f":"F12696*memoria!$B$44/(G12696*12*memoria!$B$47)","v":{"$error":"#DIV/0!"}},{"$f":"F12696/(G12696*12*memoria!$B$47)","v":{"$error":"#DIV/0!"}}]
[null,null,null,null,null,null,null,{"$f":"F12697*memoria!$B$44/(G12697*12*memoria!$B$47)","v":{"$error":"#DIV/0!"}},{"$f":"F12697/(G12697*12*memoria!$B$47)","v":{"$error":"#DIV/0!"}}]
[null,null,null,null,null,null,null,{"$f":"F12698*memoria!$B$44/(G12698*12*memoria!$B$47)","v":{"$error":"#DIV/0!"}},{"$f":"F12698/(G12698*12*memoria!$B$47)","v":{"$error":"#DIV/0!"}}]
[null,null,null,null,null,null,null,{"$f":"F12699*memoria!$B$44/(G12699*12*memoria!$B$47)","v":{"$error":"#DIV/0!"}},{"$f":"F12699/(G12699*12*memoria!$B$47)","v":{"$error":"#DIV/0!"}}]
[null,null,null,null,null,null,null,{"$f":"F12700*memoria!$B$44/(G12700*12*memoria!$B$47)","v":{"$error":"#DIV/0!"}},{"$f":"F12700/(G12700*12*memoria!$B$47)","v":{"$error":"#DIV/0!"}}]
[null,null,null,null,null,null,null,{"$f":"F12701*memoria!$B$44/(G12701*12*memoria!$B$47)","v":{"$error":"#DIV/0!"}},{"$f":"F12701/(G12701*12*memoria!$B$47)","v":{"$error":"#DIV/0!"}}]
[null,null,null,null,null,null,null,{"$f":"F12702*memoria!$B$44/(G12702*12*memoria!$B$47)","v":{"$error":"#DIV/0!"}},{"$f":"F12702/(G12702*12*memoria!$B$47)","v":{"$error":"#DIV/0!"}}]
[null,null,null,null,null,null,null,{"$f":"F12703*memoria!$B$44/(G12703*12*memoria!$B$47)","v":{"$error":"#DIV/0!"}},{"$f":"F12703/(G12703*12*memoria!$B$47)","v":{"$error":"#DIV/0!"}}]
[null,null,null,null,null,null,null,{"$f":"F12704*memoria!$B$44/(G12704*12*memoria!$B$47)","v":{"$error":"#DIV/0!"}},{"$f":"F12704/(G12704*12*memoria!$B$47)","v":{"$error":"#DIV/0!"}}]
[null,null,null,null,null,null,null,{"$f":"F12705*memoria!$B$44/(G12705*12*memoria!$B$47)","v":{"$error":"#DIV/0!"}},{"$f":"F12705/(G12705*12*memoria!$B$47)","v":{"$error":"#DIV/0!"}}]
[null,null,null,null,null,null,null,{"$f":"F12706*memoria!$B$44/(G12706*12*memoria!$B$47)","v":{"$error":"#DIV/0!"}},{"$f":"F12706/(G12706*12*memoria!$B$47)","v":{"$error":"#DIV/0!"}}]
[null,null,null,null,null,null,null,{"$f":"F12707*memoria!$B$44/(G12707*12*memoria!$B$47)","v":{"$error":"#DIV/0!"}},{"$f":"F12707/(G12707*12*memoria!$B$47)","v":{"$error":"#DIV/0!"}}]
[null,null,null,null,null,null,null,{"$f":"F12708*memoria!$B$44/(G12708*12*memoria!$B$47)","v":{"$error":"#DIV/0!"}},{"$f":"F12708/(G12708*12*memoria!$B$47)","v":{"$error":"#DIV/0!"}}]
[null,null,null,null,null,null,null,{"$f":"F12709*memoria!$B$44/(G12709*12*memoria!$B$47)","v":{"$error":"#DIV/0!"}},{"$f":"F12709/(G12709*12*memoria!$B$47)","v":{"$error":"#DIV/0!"}}]
[null,null,null,null,null,null,null,{"$f":"F12710*memoria!$B$44/(G12710*12*memoria!$B$47)","v":{"$error":"#DIV/0!"}},{"$f":"F12710/(G12710*12*memoria!$B$47)","v":{"$error":"#DIV/0!"}}]
[null,null,null,null,null,null,null,{"$f":"F12711*memoria!$B$44/(G12711*12*memoria!$B$47)","v":{"$error":"#DIV/0!"}},{"$f":"F12711/(G12711*12*memoria!$B$47)","v":{"$error":"#DIV/0!"}}]
[null,null,null,null,null,null,null,{"$f":"F12712*memoria!$B$44/(G12712*12*memoria!$B$47)","v":{"$error":"#DIV/0!"}},{"$f":"F12712/(G12712*12*memoria!$B$47)","v":{"$error":"#DIV/0!"}}]
[null,null,null,null,null,null,null,{"$f":"F12713*memoria!$B$44/(G12713*12*memoria!$B$47)","v":{"$error":"#DIV/0!"}},{"$f":"F12713/(G12713*12*memoria!$B$47)","v":{"$error":"#DIV/0!"}}]
[null,null,null,null,null,null,null,{"$f":"F12714*memoria!$B$44/(G12714*12*memoria!$B$47)","v":{"$error":"#DIV/0!"}},{"$f":"F12714/(G12714*12*memoria!$B$47)","v":{"$error":"#DIV/0!"}}]
[null,null,null,null,null,null,null,{"$f":"F12715*memoria!$B$44/(G12715*12*memoria!$B$47)","v":{"$error":"#DIV/0!"}},{"$f":"F12715/(G12715*12*memoria!$B$47)","v":{"$error":"#DIV/0!"}}]
[null,null,null,null,null,null,null,{"$f":"F12716*memoria!$B$44/(G12716*12*memoria!$B$47)","v":{"$error":"#DIV/0!"}},{"$f":"F12716/(G12716*12*memoria!$B$47)","v":{"$error":"#DIV/0!"}}]
[null,null,null,null,null,null,null,{"$f":"F12717*memoria!$B$44/(G12717*12*memoria!$B$47)","v":{"$error":"#DIV/0!"}},{"$f":"F12717/(G12717*12*memoria!$B$47)","v":{"$error":"#DIV/0!"}}]
[null,null,null,null,null,null,null,{"$f":"F12718*memoria!$B$44/(G12718*12*memoria!$B$47)","v":{"$error":"#DIV/0!"}},{"$f":"F12718/(G12718*12*memoria!$B$47)","v":{"$error":"#DIV/0!"}}]
[null,null,null,null,null,null,null,{"$f":"F12719*memoria!$B$44/(G12719*12*memoria!$B$47)","v":{"$error":"#DIV/0!"}},{"$f":"F12719/(G12719*12*memoria!$B$47)","v":{"$error":"#DIV/0!"}}]
[null,null,null,null,null,null,null,{"$f":"F12720*memoria!$B$44/(G12720*12*memoria!$B$47)","v":{"$error":"#DIV/0!"}},{"$f":"F12720/(G12720*12*memoria!$B$47)","v":{"$error":"#DIV/0!"}}]
[null,null,null,null,null,null,null,{"$f":"F12721*memoria!$B$44/(G12721*12*memoria!$B$47)","v":{"$error":"#DIV/0!"}},{"$f":"F12721/(G12721*12*memoria!$B$47)","v":{"$error":"#DIV/0!"}}]
[null,null,null,null,null,null,null,{"$f":"F12722*memoria!$B$44/(G12722*12*memoria!$B$47)","v":{"$error":"#DIV/0!"}},{"$f":"F12722/(G12722*12*memoria!$B$47)","v":{"$error":"#DIV/0!"}}]
[null,null,null,null,null,null,null,{"$f":"F12723*memoria!$B$44/(G12723*12*memoria!$B$47)","v":{"$error":"#DIV/0!"}},{"$f":"F12723/(G12723*12*memoria!$B$47)","v":{"$error":"#DIV/0!"}}]
[null,null,null,null,null,null,null,{"$f":"F12724*memoria!$B$44/(G12724*12*memoria!$B$47)","v":{"$error":"#DIV/0!"}},{"$f":"F12724/(G12724*12*memoria!$B$47)","v":{"$error":"#DIV/0!"}}]
[null,null,null,null,null,null,null,{"$f":"F12725*memoria!$B$44/(G12725*12*memoria!$B$47)","v":{"$error":"#DIV/0!"}},{"$f":"F12725/(G12725*12*memoria!$B$47)","v":{"$error":"#DIV/0!"}}]
[null,null,null,null,null,null,null,{"$f":"F12726*memoria!$B$44/(G12726*12*memoria!$B$47)","v":{"$error":"#DIV/0!"}},{"$f":"F12726/(G12726*12*memoria!$B$47)","v":{"$error":"#DIV/0!"}}]
[null,null,null,null,null,null,null,{"$f":"F12727*memoria!$B$44/(G12727*12*memoria!$B$47)","v":{"$error":"#DIV/0!"}},{"$f":"F12727/(G12727*12*memoria!$B$47)","v":{"$error":"#DIV/0!"}}]
[null,null,null,null,null,null,null,{"$f":"F12728*memoria!$B$44/(G12728*12*memoria!$B$47)","v":{"$error":"#DIV/0!"}},{"$f":"F12728/(G12728*12*memoria!$B$47)","v":{"$error":"#DIV/0!"}}]
[null,null,null,null,null,null,null,{"$f":"F12729*memoria!$B$44/(G12729*12*memoria!$B$47)","v":{"$error":"#DIV/0!"}},{"$f":"F12729/(G12729*12*memoria!$B$47)","v":{"$error":"#DIV/0!"}}]
[null,null,null,null,null,null,null,{"$f":"F12730*memoria!$B$44/(G12730*12*memoria!$B$47)","v":{"$error":"#DIV/0!"}},{"$f":"F12730/(G12730*12*memoria!$B$47)","v":{"$error":"#DIV/0!"}}]
[null,null,null,null,null,null,null,{"$f":"F12731*memoria!$B$44/(G12731*12*memoria!$B$47)","v":{"$error":"#DIV/0!"}},{"$f":"F12731/(G12731*12*memoria!$B$47)","v":{"$error":"#DIV/0!"}}]
[null,null,null,null,null,null,null,{"$f":"F12732*memoria!$B$44/(G12732*12*memoria!$B$47)","v":{"$error":"#DIV/0!"}},{"$f":"F12732/(G12732*12*memoria!$B$47)","v":{"$error":"#DIV/0!"}}]
[null,null,null,null,null,null,null,{"$f":"F12733*memoria!$B$44/(G12733*12*memoria!$B$47)","v":{"$error":"#DIV/0!"}},{"$f":"F12733/(G12733*12*memoria!$B$47)","v":{"$error":"#DIV/0!"}}]
[null,null,null,null,null,null,null,{"$f":"F12734*memoria!$B$44/(G12734*12*memoria!$B$47)","v":{"$error":"#DIV/0!"}},{"$f":"F12734/(G12734*12*memoria!$B$47)","v":{"$error":"#DIV/0!"}}]
[null,null,null,null,null,null,null,{"$f":"F12735*memoria!$B$44/(G12735*12*memoria!$B$47)","v":{"$error":"#DIV/0!"}},{"$f":"F12735/(G12735*12*memoria!$B$47)","v":{"$error":"#DIV/0!"}}]
[null,null,null,null,null,null,null,{"$f":"F12736*memoria!$B$44/(G12736*12*memoria!$B$47)","v":{"$error":"#DIV/0!"}},{"$f":"F12736/(G12736*12*memoria!$B$47)","v":{"$error":"#DIV/0!"}}]
[null,null,null,null,null,null,null,{"$f":"F12737*memoria!$B$44/(G12737*12*memoria!$B$47)","v":{"$error":"#DIV/0!"}},{"$f":"F12737/(G12737*12*memoria!$B$47)","v":{"$error":"#DIV/0!"}}]
[null,null,null,null,null,null,null,{"$f":"F12738*memoria!$B$44/(G12738*12*memoria!$B$47)","v":{"$error":"#DIV/0!"}},{"$f":"F12738/(G12738*12*memoria!$B$47)","v":{"$error":"#DIV/0!"}}]
[null,null,null,null,null,null,null,{"$f":"F12739*memoria!$B$44/(G12739*12*memoria!$B$47)","v":{"$error":"#DIV/0!"}},{"$f":"F12739/(G12739*12*memoria!$B$47)","v":{"$error":"#DIV/0!"}}]