{"text_format":"1","workbook":"xlsx","n_sheets":6,"sheets":["relatorio","memoria","equipamentos","logs","auxiliar","eventos"],"not_rendered":{"charts":0,"images":1,"macros":1,"external_links":0,"defined_names":2,"comments":0,"pivot_tables":0},"unopened":[],"bounds":{"document_bytes":16777216,"sheet_cells":100000,"rows_first":2000,"rows_last":500,"rows_between":2000,"halvings":0,"cell_chars":16384,"cell_head_chars":4096},"cells_cut":0,"cells_raw":0,"read":"whole","date_system":"1900"}

{"sheet":"relatorio","index":0,"n_rows":47,"n_cols":14,"rows_kept":47,"cut":false,"hidden":false,"merged":[[40,1,40,4],[12,1,12,5],[17,1,17,4],[22,1,22,4],[27,1,27,4],[33,1,33,4],[42,8,46,12],[1,8,2,13],[45,3,45,5],[9,4,9,5],[7,1,7,4],[3,1,3,5],[9,1,9,3],[10,4,10,5],[10,2,10,3],[1,2,2,5],[4,1,4,5],[35,1,35,5],[41,1,42,5]]}
[]
[null,null,"Planilha de Ressarcimento                                     Convênio FAP/UNIFESP",null,null,null,null,null,"                Descrição dos equipamentos"]
[]
[null,"Dados do Projeto",null,null,null,null,null,null,"Equipamento","horas/mês","insumo","manutenção","depreciação","Total"]
[null,"Projeto: a",null,null,null,null,null,null,null,null,null,null,null,{"$f":"SUM(K5:M5)","v":0}]
[null,"Número: a",null,null,null,null,null,null,null,null,null,null,null,{"$f":"SUM(K6:M6)","v":0}]
[null,"Campus: Osasco",null,null,null,null,null,null,null,null,null,null,null,{"$f":"SUM(K7:M7)","v":0}]
[null,"Unidade Administrativa: a",null,null,null,null,null,null,null,null,null,null,null,0]
[null,null,null,null,null,null,null,null,null,null,null,null,null,0]
[null,"Coordenador: a",null,null,"RF: a",null,null,null,null,null,null,null,null,0]
[null,"Vigência: 05/08/2003  à  01/12/2004","(X)Novo Projeto",null,"( )Prorrogação de Vigência",null,null,null,null,null,null,null,null,0]
[null,null,null,null,null,null,null,null,null,null,null,null,null,0]
[null,"Grupo de Despesas",null,null,null,null,null,null,null,null,null,null,null,0]
[null,"1. Apoio","Unidade","Vr. unitário","Qtd/mês","Valor",null,null,null,null,null,null,null,0]
[null,"1.1 administrativo","hora",{"$f":"memoria!B11","v":"16,67"},33,{"$f":"D15*E15","v":550.11},null,null,null,null,null,null,null,0]
[null,"1.2 TI","hora",{"$f":"memoria!B11","v":"16,67"},2,{"$f":"D16*E16","v":33.340000000000003},null,null,null,null,null,null,null,0]
[null,"1.3 laboratorial e outros","hora",{"$f":"memoria!B11","v":"16,67"},null,0,null,null,null,null,null,null,null,0]
[null,"Subtotal grupo 1 (mensal)",null,null,null,{"$f":"SUM(F15:F17)","v":583.45000000000005},null,null,null,null,null,null,null,0]
[null,null,null,null,null,null,null,null,null,null,null,null,null,0]
[null,"2. Espaço Físico","Unidade","Vr. unitário","Qtd","Valor",null,null,null,null,null,null,null,0]
[null,"Sala de aula, auditório e anfiteatros","m²","28,95",50,{"$f":"D21*E21","v":1447.5},null,null,null,null,null,null,null,0]
[null,"Laboratórios ","m²","28,95",null,{"$f":"D22*E22","v":0},null,null,null,null,null,null,null,0]
[null,"Subtotal grupo 2 (mensal)",null,null,null,{"$f":"F21+F22","v":1447.5},null,null,null,null,null,null,null,0]
[null,null,null,null,null,null,null,null,null,null,null,null,null,0]
[null,"3.Infraestrutura","Unidade","Vr. unitário","Qtd","Valor",null,null,null,null,null,null,null,0]
[null,"Custo operacional m²","m²",{"$f":"memoria!B28","v":"18,02"},{"$f":"E21+E22","v":50},{"$f":"D26*E26","v":901},null,null,null,null,null,null,null,0]
[null,"Custo de depreciação m²","m²",{"$f":"memoria!B36","v":"21,32"},{"$f":"E21+E22","v":50},{"$f":"D27*E27","v":1066},null,null,null,null,null,null,null,0]
[null,"Subtotal grupo 3 (mensal)",null,null,null,{"$f":"F26+F27","v":1967},null,null,null,null,null,null,null,0]
[null,null,null,null,null,null,null,null,null,null,null,null,null,0]
[null,"4. Equipamentos","Unidade",null,null,"Valor total",null,null,null,null,null,null,null,0]
[null,"4.1 insumos ou matéria prima","consumo/mês",null,null,{"$f":"K41","v":0},null,null,null,null,null,null,null,0]
[null,"4.2 manutenção operacional","R$/mês",null,null,{"$f":"L41","v":0},null,null,null,null,null,null,null,0]
[null,"4.3 depreciação","R$/mês",null,null,{"$f":"M41","v":0},null,null,null,null,null,null,null,0]
[null,"Subtotal grupo 4 (mensal) ",null,null,null,{"$f":"SUM(F31:F33)","v":0},null,null,null,null,null,null,null,0]
[null,null,null,null,null,null,null,null,null,null,null,null,null,0]
[null,"Ressarcimento",null,null,null,null,null,null,null,null,null,null,null,0]
[null,"Abatimento:",null,null,null,0.5,null,null,null,null,null,null,null,0]
[null,"Total mensal (R$/mês) : ",null,null,null,{"$f":"F18+F23+F28+F34","v":3997.95},null,null,null,null,null,null,null,0]
[null,"Total mensal com abatimento (R$/mês):",null,null,null,{"$f":"F38*(1-F37)","v":1998.9749999999999},null,null,null,null,null,null,null,0]
[null,"Vigência (meses) : ",null,null,null,16,null,null,null,null,null,null,null,0]
[null,"Valor Total de Ressarcimento do Projeto",null,null,null,{"$f":"F39*F40","v":31983.599999999999},null,null,"Total",null,{"$f":"SUM(K5:K40)","v":0},{"$f":"SUM(L5:L40)","v":0},0,0]
[null,"Observações: "]
[null,null,null,null,null,null,null,null,"Observações: "]
[]
[]
[null,"_______________________________",null,"Osasco, 14 de agosto de 2017."]
[null,"Diretor administrativo"]

{"sheet":"memoria","index":1,"n_rows":57,"n_cols":6,"rows_kept":57,"cut":false,"hidden":false,"merged":[]}
["Celebração de Convênios - apoio administrativo"]
["Setor","Horas"]
["Setor Acadêmico Proponente",40]
["Núcleo de Convênios",24]
["Coordenadoria de Convênios",12]
["Procuradoria",24]
["Trimestral",100]
["Mês (mínimo de horas necessárias)",33.333333333333336]
[]
["Vr hora servidores - TAE"]
["Salarios nível (D e E/2)/220 ","16,67"]
[]
["Espaço físico","m² avaliado de cada campus- referência RU/reprografia"]
["metragem","soma da metragem de todos os espaços utilizados na pesquisa"]
[]
["Custo operacional"]
["vigilância ostensiva",11334666.570000002,null,"Metragem unifesp p/campus","m²","R$/m2"]
["manutenção e conserv. De bens imoveis",1838894.57,null,"Diadema",17301.57,"16,46"]
["manutenção e conserv. De maquinas e equip.",2217369.02,null,"Guarulhos",35578.730000000003,"11,29"]
["serviços de energia elétrica",15386820.280000003,null,"Osasco",8000,"28,95"]
["serviços de agua e esgoto",6838855.7000000002,null,"Reitoria",9065.33,"21,91"]
["serviços de telecomunicações",1381963.65,null,"Baixada Santista",25443.89,"24,12"]
["limpeza e conservação",8843383.0599999987,null,"São José dos Campos",30416.720000000001,"18,25"]
["comunicação de dados",1724305.69,null,"São Paulo",103359.03,"21,91"]
["Total",49566258.540000007,null,"Total da metragem útil",229165.27000000002]
["Total de metragem unifesp",229165.27]
["VR m² ano",216.29044636650227]
["VR m² mês","18,02"]
[]
["Custo de amortização/depreciação"]
["Edificações",1173063108.6300001,null,{"$f":"B31+B32","v":1563431595.97}]
["Mobiliário",390368487.33999997,null,{"$f":"D31/(B34*25)","v":272.89154171921427}]
["Total",1173063108.6300001,null,{"$f":"D32/12","v":22.740961809934522}]
["Metragem Unifesp",229165.27]
["VR m² ano",{"$f":"B33/B34","v":5118.852034734583}]
["VR m² mês","21,32"]
[]
["Insumos","valor indicado pelo coordenador"]
[]
[]
["Equipamentos - manutenção"]
["Exemplo: 200.000,00*0,40/(10*12*160)  "]
["200.000,00 - Vr do equipamento de aquisição"]
["0,40 - percentual de manutenção (40%)",0.4]
["10 - vida útil do equipamento"]
["12 - meses ano"]
["160 - horas mês",160]
[]
["Depreciação"]
["Exemplo: 200.000,00/(10*12*160)"]
["200.000,00 - Vr do equipamento de aquisição"]
["10 - vida útil do equipamento"]
["12 - meses ano"]
["160 - horas mês"]
[]
["** só é cobrado o valor do m2 útil, mas o valor é calculado com base no m2 total."]
["***incluir taxa de juros (depreciação e manutenção)"]

{"sheet":"equipamentos","index":2,"n_rows":25058,"n_cols":9,"rows_kept":4500,"cut":true,"hidden":false,"merged":[],"bounds":{"rows_first":2000,"rows_last":500,"rows_between":2000,"halvings":0}}
["Campus","Departamento","Descrição do equipamento","patrimonio","data de aquisição","valor de compra","vida útil","Manutenção","Uso/depreciação"]
["Osasco","Eixo Multidiciplinar","Computador/Módulo Stratosphere","172001","01/01/2015","R$ 79.877,20",5,{"$f":"F2*memoria!$B$44/(G2*12*memoria!$B$47)","v":3.3282166666666666},{"$f":"F2/(G2*12*memoria!$B$47)","v":8.3205416666666672}]
["Osasco","Eixo Multidiciplinar","Computador/Módulo Stratosphere","172002","01/01/2015","R$ 79.877,20",5,{"$f":"F3*memoria!$B$44/(G3*12*memoria!$B$47)","v":3.3282166666666666},{"$f":"F3/(G3*12*memoria!$B$47)","v":8.3205416666666672}]
[null,null,null,null,null,null,1,{"$f":"F4*memoria!$B$44/(G4*12*memoria!$B$47)","v":0},{"$f":"F4/(G4*12*memoria!$B$47)","v":0}]
[null,null,null,null,null,null,1,{"$f":"F5*memoria!$B$44/(G5*12*memoria!$B$47)","v":0},{"$f":"F5/(G5*12*memoria!$B$47)","v":0}]
[null,null,null,null,null,null,1,{"$f":"F6*memoria!$B$44/(G6*12*memoria!$B$47)","v":0},{"$f":"F6/(G6*12*memoria!$B$47)","v":0}]
[null,null,null,null,null,null,1,{"$f":"F7*memoria!$B$44/(G7*12*memoria!$B$47)","v":0},{"$f":"F7/(G7*12*memoria!$B$47)","v":0}]
[null,null,null,null,null,null,1,{"$f":"F8*memoria!$B$44/(G8*12*memoria!$B$47)","v":0},{"$f":"F8/(G8*12*memoria!$B$47)","v":0}]
[null,null,null,null,null,null,1,{"$f":"F9*memoria!$B$44/(G9*12*memoria!$B$47)","v":0},{"$f":"F9/(G9*12*memoria!$B$47)","v":0}]
[null,null,null,null,null,null,1,{"$f":"F10*memoria!$B$44/(G10*12*memoria!$B$47)","v":0},{"$f":"F10/(G10*12*memoria!$B$47)","v":0}]
[null,null,null,null,null,null,1,{"$f":"F11*memoria!$B$44/(G11*12*memoria!$B$47)","v":0},{"$f":"F11/(G11*12*memoria!$B$47)","v":0}]
[null,null,null,null,null,null,1,{"$f":"F12*memoria!$B$44/(G12*12*memoria!$B$47)","v":0},{"$f":"F12/(G12*12*memoria!$B$47)","v":0}]
[null,null,null,null,null,null,1,{"$f":"F13*memoria!$B$44/(G13*12*memoria!$B$47)","v":0},{"$f":"F13/(G13*12*memoria!$B$47)","v":0}]
[null,null,null,null,null,null,1,{"$f":"F14*memoria!$B$44/(G14*12*memoria!$B$47)","v":0},{"$f":"F14/(G14*12*memoria!$B$47)","v":0}]
[null,null,null,null,null,null,1,{"$f":"F15*memoria!$B$44/(G15*12*memoria!$B$47)","v":0},{"$f":"F15/(G15*12*memoria!$B$47)","v":0}]
[null,null,null,null,null,null,1,{"$f":"F16*memoria!$B$44/(G16*12*memoria!$B$47)","v":0},{"$f":"F16/(G16*12*memoria!$B$47)","v":0}]
[null,null,null,null,null,null,1,{"$f":"F17*memoria!$B$44/(G17*12*memoria!$B$47)","v":0},{"$f":"F17/(G17*12*memoria!$B$47)","v":0}]
[null,null,null,null,null,null,1,{"$f":"F18*memoria!$B$44/(G18*12*memoria!$B$47)","v":0},{"$f":"F18/(G18*12*memoria!$B$47)","v":0}]
[null,null,null,null,null,null,1,{"$f":"F19*memoria!$B$44/(G19*12*memoria!$B$47)","v":0},{"$f":"F19/(G19*12*memoria!$B$47)","v":0}]
[null,null,null,null,null,null,1,{"$f":"F20*memoria!$B$44/(G20*12*memoria!$B$47)","v":0},{"$f":"F20/(G20*12*memoria!$B$47)","v":0}]
[null,null,null,null,null,null,1,{"$f":"F21*memoria!$B$44/(G21*12*memoria!$B$47)","v":0},{"$f":"F21/(G21*12*memoria!$B$47)","v":0}]
[null,null,null,null,null,null,1,{"$f":"F22*memoria!$B$44/(G22*12*memoria!$B$47)","v":0},{"$f":"F22/(G22*12*memoria!$B$47)","v":0}]
[null,null,null,null,null,null,1,{"$f":"F23*memoria!$B$44/(G23*12*memoria!$B$47)","v":0},{"$f":"F23/(G23*12*memoria!$B$47)","v":0}]
[null,null,null,null,null,null,1,{"$f":"F24*memoria!$B$44/(G24*12*memoria!$B$47)","v":0},{"$f":"F24/(G24*12*memoria!$B$47)","v":0}]
[null,null,null,null,null,null,1,{"$f":"F25*memoria!$B$44/(G25*12*memoria!$B$47)","v":0},{"$f":"F25/(G25*12*memoria!$B$47)","v":0}]
[null,null,null,null,null,null,1,{"$f":"F26*memoria!$B$44/(G26*12*memoria!$B$47)","v":0},{"$f":"F26/(G26*12*memoria!$B$47)","v":0}]
[null,null,null,null,null,null,1,{"$f":"F27*memoria!$B$44/(G27*12*memoria!$B$47)","v":0},{"$f":"F27/(G27*12*memoria!$B$47)","v":0}]
[null,null,null,null,null,null,1,{"$f":"F28*memoria!$B$44/(G28*12*memoria!$B$47)","v":0},{"$f":"F28/(G28*12*memoria!$B$47)","v":0}]
[null,null,null,null,null,null,1,{"$f":"F29*memoria!$B$44/(G29*12*memoria!$B$47)","v":0},{"$f":"F29/(G29*12*memoria!$B$47)","v":0}]
[null,null,null,null,null,null,1,{"$f":"F30*memoria!$B$44/(G30*12*memoria!$B$47)","v":0},{"$f":"F30/(G30*12*memoria!$B$47)","v":0}]
[null,null,null,null,null,null,1,{"$f":"F31*memoria!$B$44/(G31*12*memoria!$B$47)","v":0},{"$f":"F31/(G31*12*memoria!$B$47)","v":0}]
[null,null,null,null,null,null,1,{"$f":"F32*memoria!$B$44/(G32*12*memoria!$B$47)","v":0},{"$f":"F32/(G32*12*memoria!$B$47)","v":0}]
[null,null,null,null,null,null,1,{"$f":"F33*memoria!$B$44/(G33*12*memoria!$B$47)","v":0},{"$f":"F33/(G33*12*memoria!$B$47)","v":0}]
[null,null,null,null,null,null,1,{"$f":"F34*memoria!$B$44/(G34*12*memoria!$B$47)","v":0},{"$f":"F34/(G34*12*memoria!$B$47)","v":0}]
[null,null,null,null,null,null,1,{"$f":"F35*memoria!$B$44/(G35*12*memoria!$B$47)","v":0},{"$f":"F35/(G35*12*memoria!$B$47)","v":0}]
[null,null,null,null,null,null,1,{"$f":"F36*memoria!$B$44/(G36*12*memoria!$B$47)","v":0},{"$f":"F36/(G36*12*memoria!$B$47)","v":0}]
[null,null,null,null,null,null,1,{"$f":"F37*memoria!$B$44/(G37*12*memoria!$B$47)","v":0},{"$f":"F37/(G37*12*memoria!$B$47)","v":0}]
[null,null,null,null,null,null,1,{"$f":"F38*memoria!$B$44/(G38*12*memoria!$B$47)","v":0},{"$f":"F38/(G38*12*memoria!$B$47)","v":0}]
[null,null,null,null,null,null,1,{"$f":"F39*memoria!$B$44/(G39*12*memoria!$B$47)","v":0},{"$f":"F39/(G39*12*memoria!$B$47)","v":0}]
[null,null,null,null,null,null,1,{"$f":"F40*memoria!$B$44/(G40*12*memoria!$B$47)","v":0},{"$f":"F40/(G40*12*memoria!$B$47)","v":0}]
[null,null,null,null,null,null,1,{"$f":"F41*memoria!$B$44/(G41*12*memoria!$B$47)","v":0},{"$f":"F41/(G41*12*memoria!$B$47)","v":0}]
[null,null,null,null,null,null,1,{"$f":"F42*memoria!$B$44/(G42*12*memoria!$B$47)","v":0},{"$f":"F42/(G42*12*memoria!$B$47)","v":0}]
[null,null,null,null,null,null,1,{"$f":"F43*memoria!$B$44/(G43*12*memoria!$B$47)","v":0},{"$f":"F43/(G43*12*memoria!$B$47)","v":0}]
[null,null,null,null,null,null,1,{"$f":"F44*memoria!$B$44/(G44*12*memoria!$B$47)","v":0},{"$f":"F44/(G44*12*memoria!$B$47)","v":0}]
[null,null,null,null,null,null,1,{"$f":"F45*memoria!$B$44/(G45*12*memoria!$B$47)","v":0},{"$f":"F45/(G45*12*memoria!$B$47)","v":0}]
[null,null,null,null,null,null,1,{"$f":"F46*memoria!$B$44/(G46*12*memoria!$B$47)","v":0},{"$f":"F46/(G46*12*memoria!$B$47)","v":0}]
[null,null,null,null,null,null,1,{"$f":"F47*memoria!$B$44/(G47*12*memoria!$B$47)","v":0},{"$f":"F47/(G47*12*memoria!$B$47)","v":0}]
[null,null,null,null,null,null,1,{"$f":"F48*memoria!$B$44/(G48*12*memoria!$B$47)","v":0},{"$f":"F48/(G48*12*memoria!$B$47)","v":0}]
[null,null,null,null,null,null,1,{"$f":"F49*memoria!$B$44/(G49*12*memoria!$B$47)","v":0},{"$f":"F49/(G49*12*memoria!$B$47)","v":0}]
[null,null,null,null,null,null,1,{"$f":"F50*memoria!$B$44/(G50*12*memoria!$B$47)","v":0},{"$f":"F50/(G50*12*memoria!$B$47)","v":0}]
[null,null,null,null,null,null,1,{"$f":"F51*memoria!$B$44/(G51*12*memoria!$B$47)","v":0},{"$f":"F51/(G51*12*memoria!$B$47)","v":0}]
[null,null,null,null,null,null,1,{"$f":"F52*memoria!$B$44/(G52*12*memoria!$B$47)","v":0},{"$f":"F52/(G52*12*memoria!$B$47)","v":0}]
[null,null,null,null,null,null,1,{"$f":"F53*memoria!$B$44/(G53*12*memoria!$B$47)","v":0},{"$f":"F53/(G53*12*memoria!$B$47)","v":0}]
[null,null,null,null,null,null,1,{"$f":"F54*memoria!$B$44/(G54*12*memoria!$B$47)","v":0},{"$f":"F54/(G54*12*memoria!$B$47)","v":0}]
[null,null,null,null,null,null,1,{"$f":"F55*memoria!$B$44/(G55*12*memoria!$B$47)","v":0},{"$f":"F55/(G55*12*memoria!$B$47)","v":0}]
[null,null,null,null,null,null,1,{"$f":"F56*memoria!$B$44/(G56*12*memoria!$B$47)","v":0},{"$f":"F56/(G56*12*memoria!$B$47)","v":0}]
[null,null,null,null,null,null,1,{"$f":"F57*memoria!$B$44/(G57*12*memoria!$B$47)","v":0},{"$f":"F57/(G57*12*memoria!$B$47)","v":0}]
[null,null,null,null,null,null,1,{"$f":"F58*memoria!$B$44/(G58*12*memoria!$B$47)","v":0},{"$f":"F58/(G58*12*memoria!$B$47)","v":0}]
[null,null,null,null,null,null,1,{"$f":"F59*memoria!$B$44/(G59*12*memoria!$B$47)","v":0},{"$f":"F59/(G59*12*memoria!$B$47)","v":0}]
[null,null,null,null,null,null,1,{"$f":"F60*memoria!$B$44/(G60*12*memoria!$B$47)","v":0},{"$f":"F60/(G60*12*memoria!$B$47)","v":0}]
[null,null,null,null,null,null,1,{"$f":"F61*memoria!$B$44/(G61*12*memoria!$B$47)","v":0},{"$f":"F61/(G61*12*memoria!$B$47)","v":0}]
[null,null,null,null,null,null,1,{"$f":"F62*memoria!$B$44/(G62*12*memoria!$B$47)","v":0},{"$f":"F62/(G62*12*memoria!$B$47)","v":0}]
[null,null,null,null,null,null,1,{"$f":"F63*memoria!$B$44/(G63*12*memoria!$B$47)","v":0},{"$f":"F63/(G63*12*memoria!$B$47)","v":0}]
[null,null,null,null,null,null,1,{"$f":"F64*memoria!$B$44/(G64*12*memoria!$B$47)","v":0},{"$f":"F64/(G64*12*memoria!$B$47)","v":0}]
[null,null,null,null,null,null,1,{"$f":"F65*memoria!$B$44/(G65*12*memoria!$B$47)","v":0},{"$f":"F65/(G65*12*memoria!$B$47)","v":0}]
[null,null,null,null,null,null,1,{"$f":"F66*memoria!$B$44/(G66*12*memoria!$B$47)","v":0},{"$f":"F66/(G66*12*memoria!$B$47)","v":0}]
[null,null,null,null,null,null,1,{"$f":"F67*memoria!$B$44/(G67*12*memoria!$B$47)","v":0},{"$f":"F67/(G67*12*memoria!$B$47)","v":0}]
[null,null,null,null,null,null,1,{"$f":"F68*memoria!$B$44/(G68*12*memoria!$B$47)","v":0},{"$f":"F68/(G68*12*memoria!$B$47)","v":0}]
[null,null,null,null,null,null,1,{"$f":"F69*memoria!$B$44/(G69*12*memoria!$B$47)","v":0},{"$f":"F69/(G69*12*memoria!$B$47)","v":0}]
[null,null,null,null,null,null,1,{"$f":"F70*memoria!$B$44/(G70*12*memoria!$B$47)","v":0},{"$f":"F70/(G70*12*memoria!$B$47)","v":0}]
[null,null,null,null,null,null,1,{"$f":"F71*memoria!$B$44/(G71*12*memoria!$B$47)","v":0},{"$f":"F71/(G71*12*memoria!$B$47)","v":0}]
[null,null,null,null,null,null,1,{"$f":"F72*memoria!$B$44/(G72*12*memoria!$B$47)","v":0},{"$f":"F72/(G72*12*memoria!$B$47)","v":0}]
[null,null,null,null,null,null,1,{"$f":"F73*memoria!$B$44/(G73*12*memoria!$B$47)","v":0},{"$f":"F73/(G73*12*memoria!$B$47)","v":0}]
[null,null,null,null,null,null,1,{"$f":"F74*memoria!$B$44/(G74*12*memoria!$B$47)","v":0},{"$f":"F74/(G74*12*memoria!$B$47)","v":0}]
[null,null,null,null,null,null,1,{"$f":"F75*memoria!$B$44/(G75*12*memoria!$B$47)","v":0},{"$f":"F75/(G75*12*memoria!$B$47)","v":0}]
[null,null,null,null,null,null,1,{"$f":"F76*memoria!$B$44/(G76*12*memoria!$B$47)","v":0},{"$f":"F76/(G76*12*memoria!$B$47)","v":0}]
[null,null,null,null,null,null,1,{"$f":"F77*memoria!$B$44/(G77*12*memoria!$B$47)","v":0},{"$f":"F77/(G77*12*memoria!$B$47)","v":0}]
[null,null,null,null,null,null,1,{"$f":"F78*memoria!$B$44/(G78*12*memoria!$B$47)","v":0},{"$f":"F78/(G78*12*memoria!$B$47)","v":0}]
[null,null,null,null,null,null,1,{"$f":"F79*memoria!$B$44/(G79*12*memoria!$B$47)","v":0},{"$f":"F79/(G79*12*memoria!$B$47)","v":0}]
[null,null,null,null,null,null,1,{"$f":"F80*memoria!$B$44/(G80*12*memoria!$B$47)","v":0},{"$f":"F80/(G80*12*memoria!$B$47)","v":0}]
[null,null,null,null,null,null,1,{"$f":"F81*memoria!$B$44/(G81*12*memoria!$B$47)","v":0},{"$f":"F81/(G81*12*memoria!$B$47)","v":0}]
[null,null,null,null,null,null,1,{"$f":"F82*memoria!$B$44/(G82*12*memoria!$B$47)","v":0},{"$f":"F82/(G82*12*memoria!$B$47)","v":0}]
[null,null,null,null,null,null,1,{"$f":"F83*memoria!$B$44/(G83*12*memoria!$B$47)","v":0},{"$f":"F83/(G83*12*memoria!$B$47)","v":0}]
[null,null,null,null,null,null,1,{"$f":"F84*memoria!$B$44/(G84*12*memoria!$B$47)","v":0},{"$f":"F84/(G84*12*memoria!$B$47)","v":0}]
[null,null,null,null,null,null,1,{"$f":"F85*memoria!$B$44/(G85*12*memoria!$B$47)","v":0},{"$f":"F85/(G85*12*memoria!$B$47)","v":0}]
[null,null,null,null,null,null,1,{"$f":"F86*memoria!$B$44/(G86*12*memoria!$B$47)","v":0},{"$f":"F86/(G86*12*memoria!$B$47)","v":0}]
[null,null,null,null,null,null,1,{"$f":"F87*memoria!$B$44/(G87*12*memoria!$B$47)","v":0},{"$f":"F87/(G87*12*memoria!$B$47)","v":0}]
[null,null,null,null,null,null,1,{"$f":"F88*memoria!$B$44/(G88*12*memoria!$B$47)","v":0},{"$f":"F88/(G88*12*memoria!$B$47)","v":0}]
[null,null,null,null,null,null,1,{"$f":"F89*memoria!$B$44/(G89*12*memoria!$B$47)","v":0},{"$f":"F89/(G89*12*memoria!$B$47)","v":0}]
[null,null,null,null,null,null,1,{"$f":"F90*memoria!$B$44/(G90*12*memoria!$B$47)","v":0},{"$f":"F90/(G90*12*memoria!$B$47)","v":0}]
[null,null,null,null,null,null,1,{"$f":"F91*memoria!$B$44/(G91*12*memoria!$B$47)","v":0},{"$f":"F91/(G91*12*memoria!$B$47)","v":0}]
[null,null,null,null,null,null,1,{"$f":"F92*memoria!$B$44/(G92*12*memoria!$B$47)","v":0},{"$f":"F92/(G92*12*memoria!$B$47)","v":0}]
[null,null,null,null,null,null,1,{"$f":"F93*memoria!$B$44/(G93*12*memoria!$B$47)","v":0},{"$f":"F93/(G93*12*memoria!$B$47)","v":0}]
[null,null,null,null,null,null,1,{"$f":"F94*memoria!$B$44/(G94*12*memoria!$B$47)","v":0},{"$f":"F94/(G94*12*memoria!$B$47)","v":0}]
[null,null,null,null,null,null,1,{"$f":"F95*memoria!$B$44/(G95*12*memoria!$B$47)","v":0},{"$f":"F95/(G95*12*memoria!$B$47)","v":0}]
[null,null,null,null,null,null,1,{"$f":"F96*memoria!$B$44/(G96*12*memoria!$B$47)","v":0},{"$f":"F96/(G96*12*memoria!$B$47)","v":0}]
[null,null,null,null,null,null,1,{"$f":"F97*memoria!$B$44/(G97*12*memoria!$B$47)","v":0},{"$f":"F97/(G97*12*memoria!$B$47)","v":0}]
[null,null,null,null,null,null,1,{"$f":"F98*memoria!$B$44/(G98*12*memoria!$B$47)","v":0},{"$f":"F98/(G98*12*memoria!$B$47)","v":0}]
[null,null,null,null,null,null,1,{"$f":"F99*memoria!$B$44/(G99*12*memoria!$B$47)","v":0},{"$f":"F99/(G99*12*memoria!$B$47)","v":0}]
[null,null,null,null,null,null,1,{"$f":"F100*memoria!$B$44/(G100*12*memoria!$B$47)","v":0},{"$f":"F100/(G100*12*memoria!$B$47)","v":0}]
[null,null,null,null,null,null,1,{"$f":"F101*memoria!$B$44/(G101*12*memoria!$B$47)","v":0},{"$f":"F101/(G101*12*memoria!$B$47)","v":0}]
[null,null,null,null,null,null,1,{"$f":"F102*memoria!$B$44/(G102*12*memoria!$B$47)","v":0},{"$f":"F102/(G102*12*memoria!$B$47)","v":0}]
[null,null,null,null,null,null,1,{"$f":"F103*memoria!$B$44/(G103*12*memoria!$B$47)","v":0},{"$f":"F103/(G103*12*memoria!$B$47)","v":0}]
[null,null,null,null,null,null,1,{"$f":"F104*memoria!$B$44/(G104*12*memoria!$B$47)","v":0},{"$f":"F104/(G104*12*memoria!$B$47)","v":0}]
[null,null,null,null,null,null,1,{"$f":"F105*memoria!$B$44/(G105*12*memoria!$B$47)","v":0},{"$f":"F105/(G105*12*memoria!$B$47)","v":0}]
[null,null,null,null,null,null,1,{"$f":"F106*memoria!$B$44/(G106*12*memoria!$B$47)","v":0},{"$f":"F106/(G106*12*memoria!$B$47)","v":0}]
[null,null,null,null,null,null,1,{"$f":"F107*memoria!$B$44/(G107*12*memoria!$B$47)","v":0},{"$f":"F107/(G107*12*memoria!$B$47)","v":0}]
[null,null,null,null,null,null,1,{"$f":"F108*memoria!$B$44/(G108*12*memoria!$B$47)","v":0},{"$f":"F108/(G108*12*memoria!$B$47)","v":0}]
[null,null,null,null,null,null,1,{"$f":"F109*memoria!$B$44/(G109*12*memoria!$B$47)","v":0},{"$f":"F109/(G109*12*memoria!$B$47)","v":0}]
[null,null,null,null,null,null,1,{"$f":"F110*memoria!$B$44/(G110*12*memoria!$B$47)","v":0},{"$f":"F110/(G110*12*memoria!$B$47)","v":0}]
[null,null,null,null,null,null,1,{"$f":"F111*memoria!$B$44/(G111*12*memoria!$B$47)","v":0},{"$f":"F111/(G111*12*memoria!$B$47)","v":0}]
[null,null,null,null,null,null,1,{"$f":"F112*memoria!$B$44/(G112*12*memoria!$B$47)","v":0},{"$f":"F112/(G112*12*memoria!$B$47)","v":0}]
[null,null,null,null,null,null,1,{"$f":"F113*memoria!$B$44/(G113*12*memoria!$B$47)","v":0},{"$f":"F113/(G113*12*memoria!$B$47)","v":0}]
[null,null,null,null,null,null,1,{"$f":"F114*memoria!$B$44/(G114*12*memoria!$B$47)","v":0},{"$f":"F114/(G114*12*memoria!$B$47)","v":0}]
[null,null,null,null,null,null,1,{"$f":"F115*memoria!$B$44/(G115*12*memoria!$B$47)","v":0},{"$f":"F115/(G115*12*memoria!$B$47)","v":0}]
[null,null,null,null,null,null,1,{"$f":"F116*memoria!$B$44/(G116*12*memoria!$B$47)","v":0},{"$f":"F116/(G116*12*memoria!$B$47)","v":0}]
[null,null,null,null,null,null,1,{"$f":"F117*memoria!$B$44/(G117*12*memoria!$B$47)","v":0},{"$f":"F117/(G117*12*memoria!$B$47)","v":0}]
[null,null,null,null,null,null,1,{"$f":"F118*memoria!$B$44/(G118*12*memoria!$B$47)","v":0},{"$f":"F118/(G118*12*memoria!$B$47)","v":0}]
[null,null,null,null,null,null,1,{"$f":"F119*memoria!$B$44/(G119*12*memoria!$B$47)","v":0},{"$f":"F119/(G119*12*memoria!$B$47)","v":0}]
[null,null,null,null,null,null,1,{"$f":"F120*memoria!$B$44/(G120*12*memoria!$B$47)","v":0},{"$f":"F120/(G120*12*memoria!$B$47)","v":0}]
[null,null,null,null,null,null,1,{"$f":"F121*memoria!$B$44/(G121*12*memoria!$B$47)","v":0},{"$f":"F121/(G121*12*memoria!$B$47)","v":0}]
[null,null,null,null,null,null,1,{"$f":"F122*memoria!$B$44/(G122*12*memoria!$B$47)","v":0},{"$f":"F122/(G122*12*memoria!$B$47)","v":0}]
[null,null,null,null,null,null,1,{"$f":"F123*memoria!$B$44/(G123*12*memoria!$B$47)","v":0},{"$f":"F123/(G123*12*memoria!$B$47)","v":0}]
[null,null,null,null,null,null,1,{"$f":"F124*memoria!$B$44/(G124*12*memoria!$B$47)","v":0},{"$f":"F124/(G124*12*memoria!$B$47)","v":0}]
[null,null,null,null,null,null,1,{"$f":"F125*memoria!$B$44/(G125*12*memoria!$B$47)","v":0},{"$f":"F125/(G125*12*memoria!$B$47)","v":0}]
[null,null,null,null,null,null,1,{"$f":"F126*memoria!$B$44/(G126*12*memoria!$B$47)","v":0},{"$f":"F126/(G126*12*memoria!$B$47)","v":0}]
[null,null,null,null,null,null,1,{"$f":"F127*memoria!$B$44/(G127*12*memoria!$B$47)","v":0},{"$f":"F127/(G127*12*memoria!$B$47)","v":0}]
[null,null,null,null,null,null,1,{"$f":"F128*memoria!$B$44/(G128*12*memoria!$B$47)","v":0},{"$f":"F128/(G128*12*memoria!$B$47)","v":0}]
[null,null,null,null,null,null,1,{"$f":"F129*memoria!$B$44/(G129*12*memoria!$B$47)","v":0},{"$f":"F129/(G129*12*memoria!$B$47)","v":0}]
[null,null,null,null,null,null,1,{"$f":"F130*memoria!$B$44/(G130*12*memoria!$B$47)","v":0},{"$f":"F130/(G130*12*memoria!$B$47)","v":0}]
[null,null,null,null,null,null,1,{"$f":"F131*memoria!$B$44/(G131*12*memoria!$B$47)","v":0},{"$f":"F131/(G131*12*memoria!$B$47)","v":0}]
[null,null,null,null,null,null,1,{"$f":"F132*memoria!$B$44/(G132*12*memoria!$B$47)","v":0},{"$f":"F132/(G132*12*memoria!$B$47)","v":0}]
[null,null,null,null,null,null,1,{"$f":"F133*memoria!$B$44/(G133*12*memoria!$B$47)","v":0},{"$f":"F133/(G133*12*memoria!$B$47)","v":0}]
[null,null,null,null,null,null,1,{"$f":"F134*memoria!$B$44/(G134*12*memoria!$B$47)","v":0},{"$f":"F134/(G134*12*memoria!$B$47)","v":0}]
[null,null,null,null,null,null,1,{"$f":"F135*memoria!$B$44/(G135*12*memoria!$B$47)","v":0},{"$f":"F135/(G135*12*memoria!$B$47)","v":0}]
[null,null,null,null,null,null,1,{"$f":"F136*memoria!$B$44/(G136*12*memoria!$B$47)","v":0},{"$f":"F136/(G136*12*memoria!$B$47)","v":0}]
[null,null,null,null,null,null,1,{"$f":"F137*memoria!$B$44/(G137*12*memoria!$B$47)","v":0},{"$f":"F137/(G137*12*memoria!$B$47)","v":0}]
[null,null,null,null,null,null,1,{"$f":"F138*memoria!$B$44/(G138*12*memoria!$B$47)","v":0},{"$f":"F138/(G138*12*memoria!$B$47)","v":0}]
[null,null,null,null,null,null,1,{"$f":"F139*memoria!$B$44/(G139*12*memoria!$B$47)","v":0},{"$f":"F139/(G139*12*memoria!$B$47)","v":0}]
[null,null,null,null,null,null,1,{"$f":"F140*memoria!$B$44/(G140*12*memoria!$B$47)","v":0},{"$f":"F140/(G140*12*memoria!$B$47)","v":0}]
[null,null,null,null,null,null,1,{"$f":"F141*memoria!$B$44/(G141*12*memoria!$B$47)","v":0},{"$f":"F141/(G141*12*memoria!$B$47)","v":0}]
[null,null,null,null,null,null,1,{"$f":"F142*memoria!$B$44/(G142*12*memoria!$B$47)","v":0},{"$f":"F142/(G142*12*memoria!$B$47)","v":0}]
[null,null,null,null,null,null,1,{"$f":"F143*memoria!$B$44/(G143*12*memoria!$B$47)","v":0},{"$f":"F143/(G143*12*memoria!$B$47)","v":0}]
[null,null,null,null,null,null,1,{"$f":"F144*memoria!$B$44/(G144*12*memoria!$B$47)","v":0},{"$f":"F144/(G144*12*memoria!$B$47)","v":0}]
[null,null,null,null,null,null,1,{"$f":"F145*memoria!$B$44/(G145*12*memoria!$B$47)","v":0},{"$f":"F145/(G145*12*memoria!$B$47)","v":0}]
[null,null,null,null,null,null,1,{"$f":"F146*memoria!$B$44/(G146*12*memoria!$B$47)","v":0},{"$f":"F146/(G146*12*memoria!$B$47)","v":0}]
[null,null,null,null,null,null,1,{"$f":"F147*memoria!$B$44/(G147*12*memoria!$B$47)","v":0},{"$f":"F147/(G147*12*memoria!$B$47)","v":0}]
[null,null,null,null,null,null,1,{"$f":"F148*memoria!$B$44/(G148*12*memoria!$B$47)","v":0},{"$f":"F148/(G148*12*memoria!$B$47)","v":0}]
[null,null,null,null,null,null,1,{"$f":"F149*memoria!$B$44/(G149*12*memoria!$B$47)","v":0},{"$f":"F149/(G149*12*memoria!$B$47)","v":0}]
[null,null,null,null,null,null,1,{"$f":"F150*memoria!$B$44/(G150*12*memoria!$B$47)","v":0},{"$f":"F150/(G150*12*memoria!$B$47)","v":0}]
[null,null,null,null,null,null,1,{"$f":"F151*memoria!$B$44/(G151*12*memoria!$B$47)","v":0},{"$f":"F151/(G151*12*memoria!$B$47)","v":0}]
[null,null,null,null,null,null,1,{"$f":"F152*memoria!$B$44/(G152*12*memoria!$B$47)","v":0},{"$f":"F152/(G152*12*memoria!$B$47)","v":0}]
[null,null,null,null,null,null,1,{"$f":"F153*memoria!$B$44/(G153*12*memoria!$B$47)","v":0},{"$f":"F153/(G153*12*memoria!$B$47)","v":0}]
[null,null,null,null,null,null,1,{"$f":"F154*memoria!$B$44/(G154*12*memoria!$B$47)","v":0},{"$f":"F154/(G154*12*memoria!$B$47)","v":0}]
[null,null,null,null,null,null,1,{"$f":"F155*memoria!$B$44/(G155*12*memoria!$B$47)","v":0},{"$f":"F155/(G155*12*memoria!$B$47)","v":0}]
[null,null,null,null,null,null,1,{"$f":"F156*memoria!$B$44/(G156*12*memoria!$B$47)","v":0},{"$f":"F156/(G156*12*memoria!$B$47)","v":0}]
[null,null,null,null,null,null,1,{"$f":"F157*memoria!$B$44/(G157*12*memoria!$B$47)","v":0},{"$f":"F157/(G157*12*memoria!$B$47)","v":0}]
[null,null,null,null,null,null,1,{"$f":"F158*memoria!$B$44/(G158*12*memoria!$B$47)","v":0},{"$f":"F158/(G158*12*memoria!$B$47)","v":0}]
[null,null,null,null,null,null,1,{"$f":"F159*memoria!$B$44/(G159*12*memoria!$B$47)","v":0},{"$f":"F159/(G159*12*memoria!$B$47)","v":0}]
[null,null,null,null,null,null,1,{"$f":"F160*memoria!$B$44/(G160*12*memoria!$B$47)","v":0},{"$f":"F160/(G160*12*memoria!$B$47)","v":0}]
[null,null,null,null,null,null,1,{"$f":"F161*memoria!$B$44/(G161*12*memoria!$B$47)","v":0},{"$f":"F161/(G161*12*memoria!$B$47)","v":0}]
[null,null,null,null,null,null,1,{"$f":"F162*memoria!$B$44/(G162*12*memoria!$B$47)","v":0},{"$f":"F162/(G162*12*memoria!$B$47)","v":0}]
[null,null,null,null,null,null,1,{"$f":"F163*memoria!$B$44/(G163*12*memoria!$B$47)","v":0},{"$f":"F163/(G163*12*memoria!$B$47)","v":0}]
[null,null,null,null,null,null,1,{"$f":"F164*memoria!$B$44/(G164*12*memoria!$B$47)","v":0},{"$f":"F164/(G164*12*memoria!$B$47)","v":0}]
[null,null,null,null,null,null,1,{"$f":"F165*memoria!$B$44/(G165*12*memoria!$B$47)","v":0},{"$f":"F165/(G165*12*memoria!$B$47)","v":0}]
[null,null,null,null,null,null,1,{"$f":"F166*memoria!$B$44/(G166*12*memoria!$B$47)","v":0},{"$f":"F166/(G166*12*memoria!$B$47)","v":0}]
[null,null,null,null,null,null,1,{"$f":"F167*memoria!$B$44/(G167*12*memoria!$B$47)","v":0},{"$f":"F167/(G167*12*memoria!$B$47)","v":0}]
[null,null,null,null,null,null,1,{"$f":"F168*memoria!$B$44/(G168*12*memoria!$B$47)","v":0},{"$f":"F168/(G168*12*memoria!$B$47)","v":0}]
[null,null,null,null,null,null,1,{"$f":"F169*memoria!$B$44/(G169*12*memoria!$B$47)","v":0},{"$f":"F169/(G169*12*memoria!$B$47)","v":0}]
[null,null,null,null,null,null,1,{"$f":"F170*memoria!$B$44/(G170*12*memoria!$B$47)","v":0},{"$f":"F170/(G170*12*memoria!$B$47)","v":0}]
[null,null,null,null,null,null,1,{"$f":"F171*memoria!$B$44/(G171*12*memoria!$B$47)","v":0},{"$f":"F171/(G171*12*memoria!$B$47)","v":0}]
[null,null,null,null,null,null,1,{"$f":"F172*memoria!$B$44/(G172*12*memoria!$B$47)","v":0},{"$f":"F172/(G172*12*memoria!$B$47)","v":0}]
[null,null,null,null,null,null,1,{"$f":"F173*memoria!$B$44/(G173*12*memoria!$B$47)","v":0},{"$f":"F173/(G173*12*memoria!$B$47)","v":0}]
[null,null,null,null,null,null,1,{"$f":"F174*memoria!$B$44/(G174*12*memoria!$B$47)","v":0},{"$f":"F174/(G174*12*memoria!$B$47)","v":0}]
[null,null,null,null,null,null,1,{"$f":"F175*memoria!$B$44/(G175*12*memoria!$B$47)","v":0},{"$f":"F175/(G175*12*memoria!$B$47)","v":0}]
[null,null,null,null,null,null,1,{"$f":"F176*memoria!$B$44/(G176*12*memoria!$B$47)","v":0},{"$f":"F176/(G176*12*memoria!$B$47)","v":0}]
[null,null,null,null,null,null,1,{"$f":"F177*memoria!$B$44/(G177*12*memoria!$B$47)","v":0},{"$f":"F177/(G177*12*memoria!$B$47)","v":0}]
[null,null,null,null,null,null,1,{"$f":"F178*memoria!$B$44/(G178*12*memoria!$B$47)","v":0},{"$f":"F178/(G178*12*memoria!$B$47)","v":0}]
[null,null,null,null,null,null,1,{"$f":"F179*memoria!$B$44/(G179*12*memoria!$B$47)","v":0},{"$f":"F179/(G179*12*memoria!$B$47)","v":0}]
[null,null,null,null,null,null,1,{"$f":"F180*memoria!$B$44/(G180*12*memoria!$B$47)","v":0},{"$f":"F180/(G180*12*memoria!$B$47)","v":0}]
[null,null,null,null,null,null,1,{"$f":"F181*memoria!$B$44/(G181*12*memoria!$B$47)","v":0},{"$f":"F181/(G181*12*memoria!$B$47)","v":0}]
[null,null,null,null,null,null,1,{"$f":"F182*memoria!$B$44/(G182*12*memoria!$B$47)","v":0},{"$f":"F182/(G182*12*memoria!$B$47)","v":0}]
[null,null,null,null,null,null,1,{"$f":"F183*memoria!$B$44/(G183*12*memoria!$B$47)","v":0},{"$f":"F183/(G183*12*memoria!$B$47)","v":0}]
[null,null,null,null,null,null,1,{"$f":"F184*memoria!$B$44/(G184*12*memoria!$B$47)","v":0},{"$f":"F184/(G184*12*memoria!$B$47)","v":0}]
[null,null,null,null,null,null,1,{"$f":"F185*memoria!$B$44/(G185*12*memoria!$B$47)","v":0},{"$f":"F185/(G185*12*memoria!$B$47)","v":0}]
[null,null,null,null,null,null,1,{"$f":"F186*memoria!$B$44/(G186*12*memoria!$B$47)","v":0},{"$f":"F186/(G186*12*memoria!$B$47)","v":0}]
[null,null,null,null,null,null,1,{"$f":"F187*memoria!$B$44/(G187*12*memoria!$B$47)","v":0},{"$f":"F187/(G187*12*memoria!$B$47)","v":0}]
[null,null,null,null,null,null,1,{"$f":"F188*memoria!$B$44/(G188*12*memoria!$B$47)","v":0},{"$f":"F188/(G188*12*memoria!$B$47)","v":0}]
[null,null,null,null,null,null,1,{"$f":"F189*memoria!$B$44/(G189*12*memoria!$B$47)","v":0},{"$f":"F189/(G189*12*memoria!$B$47)","v":0}]
[null,null,null,null,null,null,1,{"$f":"F190*memoria!$B$44/(G190*12*memoria!$B$47)","v":0},{"$f":"F190/(G190*12*memoria!$B$47)","v":0}]
[null,null,null,null,null,null,1,{"$f":"F191*memoria!$B$44/(G191*12*memoria!$B$47)","v":0},{"$f":"F191/(G191*12*memoria!$B$47)","v":0}]
[null,null,null,null,null,null,1,{"$f":"F192*memoria!$B$44/(G192*12*memoria!$B$47)","v":0},{"$f":"F192/(G192*12*memoria!$B$47)","v":0}]
[null,null,null,null,null,null,1,{"$f":"F193*memoria!$B$44/(G193*12*memoria!$B$47)","v":0},{"$f":"F193/(G193*12*memoria!$B$47)","v":0}]
[null,null,null,null,null,null,1,{"$f":"F194*memoria!$B$44/(G194*12*memoria!$B$47)","v":0},{"$f":"F194/(G194*12*memoria!$B$47)","v":0}]
[null,null,null,null,null,null,1,{"$f":"F195*memoria!$B$44/(G195*12*memoria!$B$47)","v":0},{"$f":"F195/(G195*12*memoria!$B$47)","v":0}]
[null,null,null,null,null,null,1,{"$f":"F196*memoria!$B$44/(G196*12*memoria!$B$47)","v":0},{"$f":"F196/(G196*12*memoria!$B$47)","v":0}]
[null,null,null,null,null,null,1,{"$f":"F197*memoria!$B$44/(G197*12*memoria!$B$47)","v":0},{"$f":"F197/(G197*12*memoria!$B$47)","v":0}]
[null,null,null,null,null,null,1,{"$f":"F198*memoria!$B$44/(G198*12*memoria!$B$47)","v":0},{"$f":"F198/(G198*12*memoria!$B$47)","v":0}]
[null,null,null,null,null,null,1,{"$f":"F199*memoria!$B$44/(G199*12*memoria!$B$47)","v":0},{"$f":"F199/(G199*12*memoria!$B$47)","v":0}]
[null,null,null,null,null,null,1,{"$f":"F200*memoria!$B$44/(G200*12*memoria!$B$47)","v":0},{"$f":"F200/(G200*12*memoria!$B$47)","v":0}]
[null,null,null,null,null,null,1,{"$f":"F201*memoria!$B$44/(G201*12*memoria!$B$47)","v":0},{"$f":"F201/(G201*12*memoria!$B$47)","v":0}]
[null,null,null,null,null,null,1,{"$f":"F202*memoria!$B$44/(G202*12*memoria!$B$47)","v":0},{"$f":"F202/(G202*12*memoria!$B$47)","v":0}]
[null,null,null,null,null,null,1,{"$f":"F203*memoria!$B$44/(G203*12*memoria!$B$47)","v":0},{"$f":"F203/(G203*12*memoria!$B$47)","v":0}]
[null,null,null,null,null,null,1,{"$f":"F204*memoria!$B$44/(G204*12*memoria!$B$47)","v":0},{"$f":"F204/(G204*12*memoria!$B$47)","v":0}]
[null,null,null,null,null,null,1,{"$f":"F205*memoria!$B$44/(G205*12*memoria!$B$47)","v":0},{"$f":"F205/(G205*12*memoria!$B$47)","v":0}]
[null,null,null,null,null,null,1,{"$f":"F206*memoria!$B$44/(G206*12*memoria!$B$47)","v":0},{"$f":"F206/(G206*12*memoria!$B$47)","v":0}]
[null,null,null,null,null,null,1,{"$f":"F207*memoria!$B$44/(G207*12*memoria!$B$47)","v":0},{"$f":"F207/(G207*12*memoria!$B$47)","v":0}]
[null,null,null,null,null,null,1,{"$f":"F208*memoria!$B$44/(G208*12*memoria!$B$47)","v":0},{"$f":"F208/(G208*12*memoria!$B$47)","v":0}]
[null,null,null,null,null,null,1,{"$f":"F209*memoria!$B$44/(G209*12*memoria!$B$47)","v":0},{"$f":"F209/(G209*12*memoria!$B$47)","v":0}]
[null,null,null,null,null,null,1,{"$f":"F210*memoria!$B$44/(G210*12*memoria!$B$47)","v":0},{"$f":"F210/(G210*12*memoria!$B$47)","v":0}]
[null,null,null,null,null,null,1,{"$f":"F211*memoria!$B$44/(G211*12*memoria!$B$47)","v":0},{"$f":"F211/(G211*12*memoria!$B$47)","v":0}]
[null,null,null,null,null,null,1,{"$f":"F212*memoria!$B$44/(G212*12*memoria!$B$47)","v":0},{"$f":"F212/(G212*12*memoria!$B$47)","v":0}]
[null,null,null,null,null,null,1,{"$f":"F213*memoria!$B$44/(G213*12*memoria!$B$47)","v":0},{"$f":"F213/(G213*12*memoria!$B$47)","v":0}]
[null,null,null,null,null,null,1,{"$f":"F214*memoria!$B$44/(G214*12*memoria!$B$47)","v":0},{"$f":"F214/(G214*12*memoria!$B$47)","v":0}]
[null,null,null,null,null,null,1,{"$f":"F215*memoria!$B$44/(G215*12*memoria!$B$47)","v":0},{"$f":"F215/(G215*12*memoria!$B$47)","v":0}]
[null,null,null,null,null,null,1,{"$f":"F216*memoria!$B$44/(G216*12*memoria!$B$47)","v":0},{"$f":"F216/(G216*12*memoria!$B$47)","v":0}]
[null,null,null,null,null,null,1,{"$f":"F217*memoria!$B$44/(G217*12*memoria!$B$47)","v":0},{"$f":"F217/(G217*12*memoria!$B$47)","v":0}]
[null,null,null,null,null,null,1,{"$f":"F218*memoria!$B$44/(G218*12*memoria!$B$47)","v":0},{"$f":"F218/(G218*12*memoria!$B$47)","v":0}]
[null,null,null,null,null,null,1,{"$f":"F219*memoria!$B$44/(G219*12*memoria!$B$47)","v":0},{"$f":"F219/(G219*12*memoria!$B$47)","v":0}]
[null,null,null,null,null,null,1,{"$f":"F220*memoria!$B$44/(G220*12*memoria!$B$47)","v":0},{"$f":"F220/(G220*12*memoria!$B$47)","v":0}]
[null,null,null,null,null,null,1,{"$f":"F221*memoria!$B$44/(G221*12*memoria!$B$47)","v":0},{"$f":"F221/(G221*12*memoria!$B$47)","v":0}]
[null,null,null,null,null,null,1,{"$f":"F222*memoria!$B$44/(G222*12*memoria!$B$47)","v":0},{"$f":"F222/(G222*12*memoria!$B$47)","v":0}]
[null,null,null,null,null,null,1,{"$f":"F223*memoria!$B$44/(G223*12*memoria!$B$47)","v":0},{"$f":"F223/(G223*12*memoria!$B$47)","v":0}]
[null,null,null,null,null,null,1,{"$f":"F224*memoria!$B$44/(G224*12*memoria!$B$47)","v":0},{"$f":"F224/(G224*12*memoria!$B$47)","v":0}]
[null,null,null,null,null,null,1,{"$f":"F225*memoria!$B$44/(G225*12*memoria!$B$47)","v":0},{"$f":"F225/(G225*12*memoria!$B$47)","v":0}]
[null,null,null,null,null,null,1,{"$f":"F226*memoria!$B$44/(G226*12*memoria!$B$47)","v":0},{"$f":"F226/(G226*12*memoria!$B$47)","v":0}]
[null,null,null,null,null,null,1,{"$f":"F227*memoria!$B$44/(G227*12*memoria!$B$47)","v":0},{"$f":"F227/(G227*12*memoria!$B$47)","v":0}]
[null,null,null,null,null,null,1,{"$f":"F228*memoria!$B$44/(G228*12*memoria!$B$47)","v":0},{"$f":"F228/(G228*12*memoria!$B$47)","v":0}]
[null,null,null,null,null,null,1,{"$f":"F229*memoria!$B$44/(G229*12*memoria!$B$47)","v":0},{"$f":"F229/(G229*12*memoria!$B$47)","v":0}]
[null,null,null,null,null,null,1,{"$f":"F230*memoria!$B$44/(G230*12*memoria!$B$47)","v":0},{"$f":"F230/(G230*12*memoria!$B$47)","v":0}]
[null,null,null,null,null,null,1,{"$f":"F231*memoria!$B$44/(G231*12*memoria!$B$47)","v":0},{"$f":"F231/(G231*12*memoria!$B$47)","v":0}]
[null,null,null,null,null,null,1,{"$f":"F232*memoria!$B$44/(G232*12*memoria!$B$47)","v":0},{"$f":"F232/(G232*12*memoria!$B$47)","v":0}]
[null,null,null,null,null,null,1,{"$f":"F233*memoria!$B$44/(G233*12*memoria!$B$47)","v":0},{"$f":"F233/(G233*12*memoria!$B$47)","v":0}]
[null,null,null,null,null,null,1,{"$f":"F234*memoria!$B$44/(G234*12*memoria!$B$47)","v":0},{"$f":"F234/(G234*12*memoria!$B$47)","v":0}]
[null,null,null,null,null,null,1,{"$f":"F235*memoria!$B$44/(G235*12*memoria!$B$47)","v":0},{"$f":"F235/(G235*12*memoria!$B$47)","v":0}]
[null,null,null,null,null,null,1,{"$f":"F236*memoria!$B$44/(G236*12*memoria!$B$47)","v":0},{"$f":"F236/(G236*12*memoria!$B$47)","v":0}]
[null,null,null,null,null,null,1,{"$f":"F237*memoria!$B$44/(G237*12*memoria!$B$47)","v":0},{"$f":"F237/(G237*12*memoria!$B$47)","v":0}]
[null,null,null,null,null,null,1,{"$f":"F238*memoria!$B$44/(G238*12*memoria!$B$47)","v":0},{"$f":"F238/(G238*12*memoria!$B$47)","v":0}]
[null,null,null,null,null,null,1,{"$f":"F239*memoria!$B$44/(G239*12*memoria!$B$47)","v":0},{"$f":"F239/(G239*12*memoria!$B$47)","v":0}]
[null,null,null,null,null,null,1,{"$f":"F240*memoria!$B$44/(G240*12*memoria!$B$47)","v":0},{"$f":"F240/(G240*12*memoria!$B$47)","v":0}]
[null,null,null,null,null,null,1,{"$f":"F241*memoria!$B$44/(G241*12*memoria!$B$47)","v":0},{"$f":"F241/(G241*12*memoria!$B$47)","v":0}]
[null,null,null,null,null,null,1,{"$f":"F242*memoria!$B$44/(G242*12*memoria!$B$47)","v":0},{"$f":"F242/(G242*12*memoria!$B$47)","v":0}]
[null,null,null,null,null,null,1,{"$f":"F243*memoria!$B$44/(G243*12*memoria!$B$47)","v":0},{"$f":"F243/(G243*12*memoria!$B$47)","v":0}]
[null,null,null,null,null,null,1,{"$f":"F244*memoria!$B$44/(G244*12*memoria!$B$47)","v":0},{"$f":"F244/(G244*12*memoria!$B$47)","v":0}]
[null,null,null,null,null,null,1,{"$f":"F245*memoria!$B$44/(G245*12*memoria!$B$47)","v":0},{"$f":"F245/(G245*12*memoria!$B$47)","v":0}]
[null,null,null,null,null,null,1,{"$f":"F246*memoria!$B$44/(G246*12*memoria!$B$47)","v":0},{"$f":"F246/(G246*12*memoria!$B$47)","v":0}]
[null,null,null,null,null,null,1,{"$f":"F247*memoria!$B$44/(G247*12*memoria!$B$47)","v":0},{"$f":"F247/(G247*12*memoria!$B$47)","v":0}]
[null,null,null,null,null,null,1,{"$f":"F248*memoria!$B$44/(G248*12*memoria!$B$47)","v":0},{"$f":"F248/(G248*12*memoria!$B$47)","v":0}]
[null,null,null,null,null,null,1,{"$f":"F249*memoria!$B$44/(G249*12*memoria!$B$47)","v":0},{"$f":"F249/(G249*12*memoria!$B$47)","v":0}]
[null,null,null,null,null,null,1,{"$f":"F250*memoria!$B$44/(G250*12*memoria!$B$47)","v":0},{"$f":"F250/(G250*12*memoria!$B$47)","v":0}]
[null,null,null,null,null,null,1,{"$f":"F251*memoria!$B$44/(G251*12*memoria!$B$47)","v":0},{"$f":"F251/(G251*12*memoria!$B$47)","v":0}]
[null,null,null,null,null,null,1,{"$f":"F252*memoria!$B$44/(G252*12*memoria!$B$47)","v":0},{"$f":"F252/(G252*12*memoria!$B$47)","v":0}]
[null,null,null,null,null,null,1,{"$f":"F253*memoria!$B$44/(G253*12*memoria!$B$47)","v":0},{"$f":"F253/(G253*12*memoria!$B$47)","v":0}]
[null,null,null,null,null,null,1,{"$f":"F254*memoria!$B$44/(G254*12*memoria!$B$47)","v":0},{"$f":"F254/(G254*12*memoria!$B$47)","v":0}]
[null,null,null,null,null,null,1,{"$f":"F255*memoria!$B$44/(G255*12*memoria!$B$47)","v":0},{"$f":"F255/(G255*12*memoria!$B$47)","v":0}]
[null,null,null,null,null,null,1,{"$f":"F256*memoria!$B$44/(G256*12*memoria!$B$47)","v":0},{"$f":"F256/(G256*12*memoria!$B$47)","v":0}]
[null,null,null,null,null,null,1,{"$f":"F257*memoria!$B$44/(G257*12*memoria!$B$47)","v":0},{"$f":"F257/(G257*12*memoria!$B$47)","v":0}]
[null,null,null,null,null,null,1,{"$f":"F258*memoria!$B$44/(G258*12*memoria!$B$47)","v":0},{"$f":"F258/(G258*12*memoria!$B$47)","v":0}]
[null,null,null,null,null,null,1,{"$f":"F259*memoria!$B$44/(G259*12*memoria!$B$47)","v":0},{"$f":"F259/(G259*12*memoria!$B$47)","v":0}]
[null,null,null,null,null,null,1,{"$f":"F260*memoria!$B$44/(G260*12*memoria!$B$47)","v":0},{"$f":"F260/(G260*12*memoria!$B$47)","v":0}]
[null,null,null,null,null,null,1,{"$f":"F261*memoria!$B$44/(G261*12*memoria!$B$47)","v":0},{"$f":"F261/(G261*12*memoria!$B$47)","v":0}]
[null,null,null,null,null,null,1,{"$f":"F262*memoria!$B$44/(G262*12*memoria!$B$47)","v":0},{"$f":"F262/(G262*12*memoria!$B$47)","v":0}]
[null,null,null,null,null,null,1,{"$f":"F263*memoria!$B$44/(G263*12*memoria!$B$47)","v":0},{"$f":"F263/(G263*12*memoria!$B$47)","v":0}]
[null,null,null,null,null,null,1,{"$f":"F264*memoria!$B$44/(G264*12*memoria!$B$47)","v":0},{"$f":"F264/(G264*12*memoria!$B$47)","v":0}]
[null,null,null,null,null,null,1,{"$f":"F265*memoria!$B$44/(G265*12*memoria!$B$47)","v":0},{"$f":"F265/(G265*12*memoria!$B$47)","v":0}]
[null,null,null,null,null,null,1,{"$f":"F266*memoria!$B$44/(G266*12*memoria!$B$47)","v":0},{"$f":"F266/(G266*12*memoria!$B$47)","v":0}]
[null,null,null,null,null,null,1,{"$f":"F267*memoria!$B$44/(G267*12*memoria!$B$47)","v":0},{"$f":"F267/(G267*12*memoria!$B$47)","v":0}]
[null,null,null,null,null,null,1,{"$f":"F268*memoria!$B$44/(G268*12*memoria!$B$47)","v":0},{"$f":"F268/(G268*12*memoria!$B$47)","v":0}]
[null,null,null,null,null,null,1,{"$f":"F269*memoria!$B$44/(G269*12*memoria!$B$47)","v":0},{"$f":"F269/(G269*12*memoria!$B$47)","v":0}]
[null,null,null,null,null,null,1,{"$f":"F270*memoria!$B$44/(G270*12*memoria!$B$47)","v":0},{"$f":"F270/(G270*12*memoria!$B$47)","v":0}]
[null,null,null,null,null,null,1,{"$f":"F271*memoria!$B$44/(G271*12*memoria!$B$47)","v":0},{"$f":"F271/(G271*12*memoria!$B$47)","v":0}]
[null,null,null,null,null,null,1,{"$f":"F272*memoria!$B$44/(G272*12*memoria!$B$47)","v":0},{"$f":"F272/(G272*12*memoria!$B$47)","v":0}]
[null,null,null,null,null,null,1,{"$f":"F273*memoria!$B$44/(G273*12*memoria!$B$47)","v":0},{"$f":"F273/(G273*12*memoria!$B$47)","v":0}]
[null,null,null,null,null,null,1,{"$f":"F274*memoria!$B$44/(G274*12*memoria!$B$47)","v":0},{"$f":"F274/(G274*12*memoria!$B$47)","v":0}]
[null,null,null,null,null,null,1,{"$f":"F275*memoria!$B$44/(G275*12*memoria!$B$47)","v":0},{"$f":"F275/(G275*12*memoria!$B$47)","v":0}]
[null,null,null,null,null,null,1,{"$f":"F276*memoria!$B$44/(G276*12*memoria!$B$47)","v":0},{"$f":"F276/(G276*12*memoria!$B$47)","v":0}]
[null,null,null,null,null,null,1,{"$f":"F277*memoria!$B$44/(G277*12*memoria!$B$47)","v":0},{"$f":"F277/(G277*12*memoria!$B$47)","v":0}]
[null,null,null,null,null,null,1,{"$f":"F278*memoria!$B$44/(G278*12*memoria!$B$47)","v":0},{"$f":"F278/(G278*12*memoria!$B$47)","v":0}]
[null,null,null,null,null,null,1,{"$f":"F279*memoria!$B$44/(G279*12*memoria!$B$47)","v":0},{"$f":"F279/(G279*12*memoria!$B$47)","v":0}]
[null,null,null,null,null,null,1,{"$f":"F280*memoria!$B$44/(G280*12*memoria!$B$47)","v":0},{"$f":"F280/(G280*12*memoria!$B$47)","v":0}]
[null,null,null,null,null,null,1,{"$f":"F281*memoria!$B$44/(G281*12*memoria!$B$47)","v":0},{"$f":"F281/(G281*12*memoria!$B$47)","v":0}]
[null,null,null,null,null,null,1,{"$f":"F282*memoria!$B$44/(G282*12*memoria!$B$47)","v":0},{"$f":"F282/(G282*12*memoria!$B$47)","v":0}]
[null,null,null,null,null,null,1,{"$f":"F283*memoria!$B$44/(G283*12*memoria!$B$47)","v":0},{"$f":"F283/(G283*12*memoria!$B$47)","v":0}]
[null,null,null,null,null,null,1,{"$f":"F284*memoria!$B$44/(G284*12*memoria!$B$47)","v":0},{"$f":"F284/(G284*12*memoria!$B$47)","v":0}]
[null,null,null,null,null,null,1,{"$f":"F285*memoria!$B$44/(G285*12*memoria!$B$47)","v":0},{"$f":"F285/(G285*12*memoria!$B$47)","v":0}]
[null,null,null,null,null,null,1,{"$f":"F286*memoria!$B$44/(G286*12*memoria!$B$47)","v":0},{"$f":"F286/(G286*12*memoria!$B$47)","v":0}]
[null,null,null,null,null,null,1,{"$f":"F287*memoria!$B$44/(G287*12*memoria!$B$47)","v":0},{"$f":"F287/(G287*12*memoria!$B$47)","v":0}]
[null,null,null,null,null,null,1,{"$f":"F288*memoria!$B$44/(G288*12*memoria!$B$47)","v":0},{"$f":"F288/(G288*12*memoria!$B$47)","v":0}]
[null,null,null,null,null,null,1,{"$f":"F289*memoria!$B$44/(G289*12*memoria!$B$47)","v":0},{"$f":"F289/(G289*12*memoria!$B$47)","v":0}]
[null,null,null,null,null,null,1,{"$f":"F290*memoria!$B$44/(G290*12*memoria!$B$47)","v":0},{"$f":"F290/(G290*12*memoria!$B$47)","v":0}]
[null,null,null,null,null,null,1,{"$f":"F291*memoria!$B$44/(G291*12*memoria!$B$47)","v":0},{"$f":"F291/(G291*12*memoria!$B$47)","v":0}]
[null,null,null,null,null,null,1,{"$f":"F292*memoria!$B$44/(G292*12*memoria!$B$47)","v":0},{"$f":"F292/(G292*12*memoria!$B$47)","v":0}]
[null,null,null,null,null,null,1,{"$f":"F293*memoria!$B$44/(G293*12*memoria!$B$47)","v":0},{"$f":"F293/(G293*12*memoria!$B$47)","v":0}]
[null,null,null,null,null,null,1,{"$f":"F294*memoria!$B$44/(G294*12*memoria!$B$47)","v":0},{"$f":"F294/(G294*12*memoria!$B$47)","v":0}]
[null,null,null,null,null,null,1,{"$f":"F295*memoria!$B$44/(G295*12*memoria!$B$47)","v":0},{"$f":"F295/(G295*12*memoria!$B$47)","v":0}]
[null,null,null,null,null,null,1,{"$f":"F296*memoria!$B$44/(G296*12*memoria!$B$47)","v":0},{"$f":"F296/(G296*12*memoria!$B$47)","v":0}]
[null,null,null,null,null,null,1,{"$f":"F297*memoria!$B$44/(G297*12*memoria!$B$47)","v":0},{"$f":"F297/(G297*12*memoria!$B$47)","v":0}]
[null,null,null,null,null,null,1,{"$f":"F298*memoria!$B$44/(G298*12*memoria!$B$47)","v":0},{"$f":"F298/(G298*12*memoria!$B$47)","v":0}]
[null,null,null,null,null,null,1,{"$f":"F299*memoria!$B$44/(G299*12*memoria!$B$47)","v":0},{"$f":"F299/(G299*12*memoria!$B$47)","v":0}]
[null,null,null,null,null,null,1,{"$f":"F300*memoria!$B$44/(G300*12*memoria!$B$47)","v":0},{"$f":"F300/(G300*12*memoria!$B$47)","v":0}]
[null,null,null,null,null,null,1,{"$f":"F301*memoria!$B$44/(G301*12*memoria!$B$47)","v":0},{"$f":"F301/(G301*12*memoria!$B$47)","v":0}]
[null,null,null,null,null,null,1,{"$f":"F302*memoria!$B$44/(G302*12*memoria!$B$47)","v":0},{"$f":"F302/(G302*12*memoria!$B$47)","v":0}]
[null,null,null,null,null,null,1,{"$f":"F303*memoria!$B$44/(G303*12*memoria!$B$47)","v":0},{"$f":"F303/(G303*12*memoria!$B$47)","v":0}]
[null,null,null,null,null,null,1,{"$f":"F304*memoria!$B$44/(G304*12*memoria!$B$47)","v":0},{"$f":"F304/(G304*12*memoria!$B$47)","v":0}]
[null,null,null,null,null,null,1,{"$f":"F305*memoria!$B$44/(G305*12*memoria!$B$47)","v":0},{"$f":"F305/(G305*12*memoria!$B$47)","v":0}]
[null,null,null,null,null,null,1,{"$f":"F306*memoria!$B$44/(G306*12*memoria!$B$47)","v":0},{"$f":"F306/(G306*12*memoria!$B$47)","v":0}]
[null,null,null,null,null,null,1,{"$f":"F307*memoria!$B$44/(G307*12*memoria!$B$47)","v":0},{"$f":"F307/(G307*12*memoria!$B$47)","v":0}]
[null,null,null,null,null,null,1,{"$f":"F308*memoria!$B$44/(G308*12*memoria!$B$47)","v":0},{"$f":"F308/(G308*12*memoria!$B$47)","v":0}]
[null,null,null,null,null,null,1,{"$f":"F309*memoria!$B$44/(G309*12*memoria!$B$47)","v":0},{"$f":"F309/(G309*12*memoria!$B$47)","v":0}]
[null,null,null,null,null,null,1,{"$f":"F310*memoria!$B$44/(G310*12*memoria!$B$47)","v":0},{"$f":"F310/(G310*12*memoria!$B$47)","v":0}]
[null,null,null,null,null,null,1,{"$f":"F311*memoria!$B$44/(G311*12*memoria!$B$47)","v":0},{"$f":"F311/(G311*12*memoria!$B$47)","v":0}]
[null,null,null,null,null,null,1,{"$f":"F312*memoria!$B$44/(G312*12*memoria!$B$47)","v":0},{"$f":"F312/(G312*12*memoria!$B$47)","v":0}]
[null,null,null,null,null,null,1,{"$f":"F313*memoria!$B$44/(G313*12*memoria!$B$47)","v":0},{"$f":"F313/(G313*12*memoria!$B$47)","v":0}]
[null,null,null,null,null,null,1,{"$f":"F314*memoria!$B$44/(G314*12*memoria!$B$47)","v":0},{"$f":"F314/(G314*12*memoria!$B$47)","v":0}]
[null,null,null,null,null,null,1,{"$f":"F315*memoria!$B$44/(G315*12*memoria!$B$47)","v":0},{"$f":"F315/(G315*12*memoria!$B$47)","v":0}]
[null,null,null,null,null,null,1,{"$f":"F316*memoria!$B$44/(G316*12*memoria!$B$47)","v":0},{"$f":"F316/(G316*12*memoria!$B$47)","v":0}]
[null,null,null,null,null,null,1,{"$f":"F317*memoria!$B$44/(G317*12*memoria!$B$47)","v":0},{"$f":"F317/(G317*12*memoria!$B$47)","v":0}]
[null,null,null,null,null,null,1,{"$f":"F318*memoria!$B$44/(G318*12*memoria!$B$47)","v":0},{"$f":"F318/(G318*12*memoria!$B$47)","v":0}]
[null,null,null,null,null,null,1,{"$f":"F319*memoria!$B$44/(G319*12*memoria!$B$47)","v":0},{"$f":"F319/(G319*12*memoria!$B$47)","v":0}]
[null,null,null,null,null,null,1,{"$f":"F320*memoria!$B$44/(G320*12*memoria!$B$47)","v":0},{"$f":"F320/(G320*12*memoria!$B$47)","v":0}]
[null,null,null,null,null,null,1,{"$f":"F321*memoria!$B$44/(G321*12*memoria!$B$47)","v":0},{"$f":"F321/(G321*12*memoria!$B$47)","v":0}]
[null,null,null,null,null,null,1,{"$f":"F322*memoria!$B$44/(G322*12*memoria!$B$47)","v":0},{"$f":"F322/(G322*12*memoria!$B$47)","v":0}]
[null,null,null,null,null,null,1,{"$f":"F323*memoria!$B$44/(G323*12*memoria!$B$47)","v":0},{"$f":"F323/(G323*12*memoria!$B$47)","v":0}]
[null,null,null,null,null,null,1,{"$f":"F324*memoria!$B$44/(G324*12*memoria!$B$47)","v":0},{"$f":"F324/(G324*12*memoria!$B$47)","v":0}]
[null,null,null,null,null,null,1,{"$f":"F325*memoria!$B$44/(G325*12*memoria!$B$47)","v":0},{"$f":"F325/(G325*12*memoria!$B$47)","v":0}]
[null,null,null,null,null,null,1,{"$f":"F326*memoria!$B$44/(G326*12*memoria!$B$47)","v":0},{"$f":"F326/(G326*12*memoria!$B$47)","v":0}]
[null,null,null,null,null,null,1,{"$f":"F327*memoria!$B$44/(G327*12*memoria!$B$47)","v":0},{"$f":"F327/(G327*12*memoria!$B$47)","v":0}]
[null,null,null,null,null,null,1,{"$f":"F328*memoria!$B$44/(G328*12*memoria!$B$47)","v":0},{"$f":"F328/(G328*12*memoria!$B$47)","v":0}]
[null,null,null,null,null,null,1,{"$f":"F329*memoria!$B$44/(G329*12*memoria!$B$47)","v":0},{"$f":"F329/(G329*12*memoria!$B$47)","v":0}]
[null,null,null,null,null,null,1,{"$f":"F330*memoria!$B$44/(G330*12*memoria!$B$47)","v":0},{"$f":"F330/(G330*12*memoria!$B$47)","v":0}]
[null,null,null,null,null,null,1,{"$f":"F331*memoria!$B$44/(G331*12*memoria!$B$47)","v":0},{"$f":"F331/(G331*12*memoria!$B$47)","v":0}]
[null,null,null,null,null,null,1,{"$f":"F332*memoria!$B$44/(G332*12*memoria!$B$47)","v":0},{"$f":"F332/(G332*12*memoria!$B$47)","v":0}]
[null,null,null,null,null,null,1,{"$f":"F333*memoria!$B$44/(G333*12*memoria!$B$47)","v":0},{"$f":"F333/(G333*12*memoria!$B$47)","v":0}]
[null,null,null,null,null,null,1,{"$f":"F334*memoria!$B$44/(G334*12*memoria!$B$47)","v":0},{"$f":"F334/(G334*12*memoria!$B$47)","v":0}]
[null,null,null,null,null,null,1,{"$f":"F335*memoria!$B$44/(G335*12*memoria!$B$47)","v":0},{"$f":"F335/(G335*12*memoria!$B$47)","v":0}]
[null,null,null,null,null,null,1,{"$f":"F336*memoria!$B$44/(G336*12*memoria!$B$47)","v":0},{"$f":"F336/(G336*12*memoria!$B$47)","v":0}]
[null,null,null,null,null,null,1,{"$f":"F337*memoria!$B$44/(G337*12*memoria!$B$47)","v":0},{"$f":"F337/(G337*12*memoria!$B$47)","v":0}]
[null,null,null,null,null,null,1,{"$f":"F338*memoria!$B$44/(G338*12*memoria!$B$47)","v":0},{"$f":"F338/(G338*12*memoria!$B$47)","v":0}]
[null,null,null,null,null,null,1,{"$f":"F339*memoria!$B$44/(G339*12*memoria!$B$47)","v":0},{"$f":"F339/(G339*12*memoria!$B$47)","v":0}]
[null,null,null,null,null,null,1,{"$f":"F340*memoria!$B$44/(G340*12*memoria!$B$47)","v":0},{"$f":"F340/(G340*12*memoria!$B$47)","v":0}]
[null,null,null,null,null,null,1,{"$f":"F341*memoria!$B$44/(G341*12*memoria!$B$47)","v":0},{"$f":"F341/(G341*12*memoria!$B$47)","v":0}]
[null,null,null,null,null,null,1,{"$f":"F342*memoria!$B$44/(G342*12*memoria!$B$47)","v":0},{"$f":"F342/(G342*12*memoria!$B$47)","v":0}]
[null,null,null,null,null,null,1,{"$f":"F343*memoria!$B$44/(G343*12*memoria!$B$47)","v":0},{"$f":"F343/(G343*12*memoria!$B$47)","v":0}]
[null,null,null,null,null,null,1,{"$f":"F344*memoria!$B$44/(G344*12*memoria!$B$47)","v":0},{"$f":"F344/(G344*12*memoria!$B$47)","v":0}]
[null,null,null,null,null,null,1,{"$f":"F345*memoria!$B$44/(G345*12*memoria!$B$47)","v":0},{"$f":"F345/(G345*12*memoria!$B$47)","v":0}]
[null,null,null,null,null,null,1,{"$f":"F346*memoria!$B$44/(G346*12*memoria!$B$47)","v":0},{"$f":"F346/(G346*12*memoria!$B$47)","v":0}]
[null,null,null,null,null,null,1,{"$f":"F347*memoria!$B$44/(G347*12*memoria!$B$47)","v":0},{"$f":"F347/(G347*12*memoria!$B$47)","v":0}]
[null,null,null,null,null,null,1,{"$f":"F348*memoria!$B$44/(G348*12*memoria!$B$47)","v":0},{"$f":"F348/(G348*12*memoria!$B$47)","v":0}]
[null,null,null,null,null,null,1,{"$f":"F349*memoria!$B$44/(G349*12*memoria!$B$47)","v":0},{"$f":"F349/(G349*12*memoria!$B$47)","v":0}]
[null,null,null,null,null,null,1,{"$f":"F350*memoria!$B$44/(G350*12*memoria!$B$47)","v":0},{"$f":"F350/(G350*12*memoria!$B$47)","v":0}]
[null,null,null,null,null,null,1,{"$f":"F351*memoria!$B$44/(G351*12*memoria!$B$47)","v":0},{"$f":"F351/(G351*12*memoria!$B$47)","v":0}]
[null,null,null,null,null,null,1,{"$f":"F352*memoria!$B$44/(G352*12*memoria!$B$47)","v":0},{"$f":"F352/(G352*12*memoria!$B$47)","v":0}]
[null,null,null,null,null,null,1,{"$f":"F353*memoria!$B$44/(G353*12*memoria!$B$47)","v":0},{"$f":"F353/(G353*12*memoria!$B$47)","v":0}]
[null,null,null,null,null,null,1,{"$f":"F354*memoria!$B$44/(G354*12*memoria!$B$47)","v":0},{"$f":"F354/(G354*12*memoria!$B$47)","v":0}]
[null,null,null,null,null,null,1,{"$f":"F355*memoria!$B$44/(G355*12*memoria!$B$47)","v":0},{"$f":"F355/(G355*12*memoria!$B$47)","v":0}]
[null,null,null,null,null,null,1,{"$f":"F356*memoria!$B$44/(G356*12*memoria!$B$47)","v":0},{"$f":"F356/(G356*12*memoria!$B$47)","v":0}]
[null,null,null,null,null,null,1,{"$f":"F357*memoria!$B$44/(G357*12*memoria!$B$47)","v":0},{"$f":"F357/(G357*12*memoria!$B$47)","v":0}]
[null,null,null,null,null,null,1,{"$f":"F358*memoria!$B$44/(G358*12*memoria!$B$47)","v":0},{"$f":"F358/(G358*12*memoria!$B$47)","v":0}]
[null,null,null,null,null,null,1,{"$f":"F359*memoria!$B$44/(G359*12*memoria!$B$47)","v":0},{"$f":"F359/(G359*12*memoria!$B$47)","v":0}]
[null,null,null,null,null,null,1,{"$f":"F360*memoria!$B$44/(G360*12*memoria!$B$47)","v":0},{"$f":"F360/(G360*12*memoria!$B$47)","v":0}]
[null,null,null,null,null,null,1,{"$f":"F361*memoria!$B$44/(G361*12*memoria!$B$47)","v":0},{"$f":"F361/(G361*12*memoria!$B$47)","v":0}]
[null,null,null,null,null,null,1,{"$f":"F362*memoria!$B$44/(G362*12*memoria!$B$47)","v":0},{"$f":"F362/(G362*12*memoria!$B$47)","v":0}]
[null,null,null,null,null,null,1,{"$f":"F363*memoria!$B$44/(G363*12*memoria!$B$47)","v":0},{"$f":"F363/(G363*12*memoria!$B$47)","v":0}]
[null,null,null,null,null,null,1,{"$f":"F364*memoria!$B$44/(G364*12*memoria!$B$47)","v":0},{"$f":"F364/(G364*12*memoria!$B$47)","v":0}]
[null,null,null,null,null,null,1,{"$f":"F365*memoria!$B$44/(G365*12*memoria!$B$47)","v":0},{"$f":"F365/(G365*12*memoria!$B$47)","v":0}]
[null,null,null,null,null,null,1,{"$f":"F366*memoria!$B$44/(G366*12*memoria!$B$47)","v":0},{"$f":"F366/(G366*12*memoria!$B$47)","v":0}]
[null,null,null,null,null,null,1,{"$f":"F367*memoria!$B$44/(G367*12*memoria!$B$47)","v":0},{"$f":"F367/(G367*12*memoria!$B$47)","v":0}]
[null,null,null,null,null,null,1,{"$f":"F368*memoria!$B$44/(G368*12*memoria!$B$47)","v":0},{"$f":"F368/(G368*12*memoria!$B$47)","v":0}]
[null,null,null,null,null,null,1,{"$f":"F369*memoria!$B$44/(G369*12*memoria!$B$47)","v":0},{"$f":"F369/(G369*12*memoria!$B$47)","v":0}]
[null,null,null,null,null,null,1,{"$f":"F370*memoria!$B$44/(G370*12*memoria!$B$47)","v":0},{"$f":"F370/(G370*12*memoria!$B$47)","v":0}]
[null,null,null,null,null,null,1,{"$f":"F371*memoria!$B$44/(G371*12*memoria!$B$47)","v":0},{"$f":"F371/(G371*12*memoria!$B$47)","v":0}]
[null,null,null,null,null,null,1,{"$f":"F372*memoria!$B$44/(G372*12*memoria!$B$47)","v":0},{"$f":"F372/(G372*12*memoria!$B$47)","v":0}]
[null,null,null,null,null,null,1,{"$f":"F373*memoria!$B$44/(G373*12*memoria!$B$47)","v":0},{"$f":"F373/(G373*12*memoria!$B$47)","v":0}]
[null,null,null,null,null,null,1,{"$f":"F374*memoria!$B$44/(G374*12*memoria!$B$47)","v":0},{"$f":"F374/(G374*12*memoria!$B$47)","v":0}]
[null,null,null,null,null,null,1,{"$f":"F375*memoria!$B$44/(G375*12*memoria!$B$47)","v":0},{"$f":"F375/(G375*12*memoria!$B$47)","v":0}]
[null,null,null,null,null,null,1,{"$f":"F376*memoria!$B$44/(G376*12*memoria!$B$47)","v":0},{"$f":"F376/(G376*12*memoria!$B$47)","v":0}]
[null,null,null,null,null,null,1,{"$f":"F377*memoria!$B$44/(G377*12*memoria!$B$47)","v":0},{"$f":"F377/(G377*12*memoria!$B$47)","v":0}]
[null,null,null,null,null,null,1,{"$f":"F378*memoria!$B$44/(G378*12*memoria!$B$47)","v":0},{"$f":"F378/(G378*12*memoria!$B$47)","v":0}]
[null,null,null,null,null,null,1,{"$f":"F379*memoria!$B$44/(G379*12*memoria!$B$47)","v":0},{"$f":"F379/(G379*12*memoria!$B$47)","v":0}]
[null,null,null,null,null,null,1,{"$f":"F380*memoria!$B$44/(G380*12*memoria!$B$47)","v":0},{"$f":"F380/(G380*12*memoria!$B$47)","v":0}]
[null,null,null,null,null,null,1,{"$f":"F381*memoria!$B$44/(G381*12*memoria!$B$47)","v":0},{"$f":"F381/(G381*12*memoria!$B$47)","v":0}]
[null,null,null,null,null,null,1,{"$f":"F382*memoria!$B$44/(G382*12*memoria!$B$47)","v":0},{"$f":"F382/(G382*12*memoria!$B$47)","v":0}]
[null,null,null,null,null,null,1,{"$f":"F383*memoria!$B$44/(G383*12*memoria!$B$47)","v":0},{"$f":"F383/(G383*12*memoria!$B$47)","v":0}]
[null,null,null,null,null,null,1,{"$f":"F384*memoria!$B$44/(G384*12*memoria!$B$47)","v":0},{"$f":"F384/(G384*12*memoria!$B$47)","v":0}]
[null,null,null,null,null,null,1,{"$f":"F385*memoria!$B$44/(G385*12*memoria!$B$47)","v":0},{"$f":"F385/(G385*12*memoria!$B$47)","v":0}]
[null,null,null,null,null,null,1,{"$f":"F386*memoria!$B$44/(G386*12*memoria!$B$47)","v":0},{"$f":"F386/(G386*12*memoria!$B$47)","v":0}]
[null,null,null,null,null,null,1,{"$f":"F387*memoria!$B$44/(G387*12*memoria!$B$47)","v":0},{"$f":"F387/(G387*12*memoria!$B$47)","v":0}]
[null,null,null,null,null,null,1,{"$f":"F388*memoria!$B$44/(G388*12*memoria!$B$47)","v":0},{"$f":"F388/(G388*12*memoria!$B$47)","v":0}]
[null,null,null,null,null,null,1,{"$f":"F389*memoria!$B$44/(G389*12*memoria!$B$47)","v":0},{"$f":"F389/(G389*12*memoria!$B$47)","v":0}]
[null,null,null,null,null,null,1,{"$f":"F390*memoria!$B$44/(G390*12*memoria!$B$47)","v":0},{"$f":"F390/(G390*12*memoria!$B$47)","v":0}]
[null,null,null,null,null,null,1,{"$f":"F391*memoria!$B$44/(G391*12*memoria!$B$47)","v":0},{"$f":"F391/(G391*12*memoria!$B$47)","v":0}]
[null,null,null,null,null,null,1,{"$f":"F392*memoria!$B$44/(G392*12*memoria!$B$47)","v":0},{"$f":"F392/(G392*12*memoria!$B$47)","v":0}]
[null,null,null,null,null,null,1,{"$f":"F393*memoria!$B$44/(G393*12*memoria!$B$47)","v":0},{"$f":"F393/(G393*12*memoria!$B$47)","v":0}]
[null,null,null,null,null,null,1,{"$f":"F394*memoria!$B$44/(G394*12*memoria!$B$47)","v":0},{"$f":"F394/(G394*12*memoria!$B$47)","v":0}]
[null,null,null,null,null,null,1,{"$f":"F395*memoria!$B$44/(G395*12*memoria!$B$47)","v":0},{"$f":"F395/(G395*12*memoria!$B$47)","v":0}]
[null,null,null,null,null,null,1,{"$f":"F396*memoria!$B$44/(G396*12*memoria!$B$47)","v":0},{"$f":"F396/(G396*12*memoria!$B$47)","v":0}]
[null,null,null,null,null,null,1,{"$f":"F397*memoria!$B$44/(G397*12*memoria!$B$47)","v":0},{"$f":"F397/(G397*12*memoria!$B$47)","v":0}]
[null,null,null,null,null,null,1,{"$f":"F398*memoria!$B$44/(G398*12*memoria!$B$47)","v":0},{"$f":"F398/(G398*12*memoria!$B$47)","v":0}]
[null,null,null,null,null,null,1,{"$f":"F399*memoria!$B$44/(G399*12*memoria!$B$47)","v":0},{"$f":"F399/(G399*12*memoria!$B$47)","v":0}]
[null,null,null,null,null,null,1,{"$f":"F400*memoria!$B$44/(G400*12*memoria!$B$47)","v":0},{"$f":"F400/(G400*12*memoria!$B$47)","v":0}]
[null,null,null,null,null,null,1,{"$f":"F401*memoria!$B$44/(G401*12*memoria!$B$47)","v":0},{"$f":"F401/(G401*12*memoria!$B$47)","v":0}]
[null,null,null,null,null,null,1,{"$f":"F402*memoria!$B$44/(G402*12*memoria!$B$47)","v":0},{"$f":"F402/(G402*12*memoria!$B$47)","v":0}]
[null,null,null,null,null,null,1,{"$f":"F403*memoria!$B$44/(G403*12*memoria!$B$47)","v":0},{"$f":"F403/(G403*12*memoria!$B$47)","v":0}]
[null,null,null,null,null,null,1,{"$f":"F404*memoria!$B$44/(G404*12*memoria!$B$47)","v":0},{"$f":"F404/(G404*12*memoria!$B$47)","v":0}]
[null,null,null,null,null,null,1,{"$f":"F405*memoria!$B$44/(G405*12*memoria!$B$47)","v":0},{"$f":"F405/(G405*12*memoria!$B$47)","v":0}]
[null,null,null,null,null,null,1,{"$f":"F406*memoria!$B$44/(G406*12*memoria!$B$47)","v":0},{"$f":"F406/(G406*12*memoria!$B$47)","v":0}]
[null,null,null,null,null,null,1,{"$f":"F407*memoria!$B$44/(G407*12*memoria!$B$47)","v":0},{"$f":"F407/(G407*12*memoria!$B$47)","v":0}]
[null,null,null,null,null,null,1,{"$f":"F408*memoria!$B$44/(G408*12*memoria!$B$47)","v":0},{"$f":"F408/(G408*12*memoria!$B$47)","v":0}]
[null,null,null,null,null,null,1,{"$f":"F409*memoria!$B$44/(G409*12*memoria!$B$47)","v":0},{"$f":"F409/(G409*12*memoria!$B$47)","v":0}]
[null,null,null,null,null,null,1,{"$f":"F410*memoria!$B$44/(G410*12*memoria!$B$47)","v":0},{"$f":"F410/(G410*12*memoria!$B$47)","v":0}]
[null,null,null,null,null,null,1,{"$f":"F411*memoria!$B$44/(G411*12*memoria!$B$47)","v":0},{"$f":"F411/(G411*12*memoria!$B$47)","v":0}]
[null,null,null,null,null,null,1,{"$f":"F412*memoria!$B$44/(G412*12*memoria!$B$47)","v":0},{"$f":"F412/(G412*12*memoria!$B$47)","v":0}]
[null,null,null,null,null,null,1,{"$f":"F413*memoria!$B$44/(G413*12*memoria!$B$47)","v":0},{"$f":"F413/(G413*12*memoria!$B$47)","v":0}]
[null,null,null,null,null,null,1,{"$f":"F414*memoria!$B$44/(G414*12*memoria!$B$47)","v":0},{"$f":"F414/(G414*12*memoria!$B$47)","v":0}]
[null,null,null,null,null,null,1,{"$f":"F415*memoria!$B$44/(G415*12*memoria!$B$47)","v":0},{"$f":"F415/(G415*12*memoria!$B$47)","v":0}]
[null,null,null,null,null,null,1,{"$f":"F416*memoria!$B$44/(G416*12*memoria!$B$47)","v":0},{"$f":"F416/(G416*12*memoria!$B$47)","v":0}]
[null,null,null,null,null,null,1,{"$f":"F417*memoria!$B$44/(G417*12*memoria!$B$47)","v":0},{"$f":"F417/(G417*12*memoria!$B$47)","v":0}]
[null,null,null,null,null,null,1,{"$f":"F418*memoria!$B$44/(G418*12*memoria!$B$47)","v":0},{"$f":"F418/(G418*12*memoria!$B$47)","v":0}]
[null,null,null,null,null,null,1,{"$f":"F419*memoria!$B$44/(G419*12*memoria!$B$47)","v":0},{"$f":"F419/(G419*12*memoria!$B$47)","v":0}]
[null,null,null,null,null,null,1,{"$f":"F420*memoria!$B$44/(G420*12*memoria!$B$47)","v":0},{"$f":"F420/(G420*12*memoria!$B$47)","v":0}]
[null,null,null,null,null,null,1,{"$f":"F421*memoria!$B$44/(G421*12*memoria!$B$47)","v":0},{"$f":"F421/(G421*12*memoria!$B$47)","v":0}]
[null,null,null,null,null,null,1,{"$f":"F422*memoria!$B$44/(G422*12*memoria!$B$47)","v":0},{"$f":"F422/(G422*12*memoria!$B$47)","v":0}]
[null,null,null,null,null,null,1,{"$f":"F423*memoria!$B$44/(G423*12*memoria!$B$47)","v":0},{"$f":"F423/(G423*12*memoria!$B$47)","v":0}]
[null,null,null,null,null,null,1,{"$f":"F424*memoria!$B$44/(G424*12*memoria!$B$47)","v":0},{"$f":"F424/(G424*12*memoria!$B$47)","v":0}]
[null,null,null,null,null,null,1,{"$f":"F425*memoria!$B$44/(G425*12*memoria!$B$47)","v":0},{"$f":"F425/(G425*12*memoria!$B$47)","v":0}]
[null,null,null,null,null,null,1,{"$f":"F426*memoria!$B$44/(G426*12*memoria!$B$47)","v":0},{"$f":"F426/(G426*12*memoria!$B$47)","v":0}]
[null,null,null,null,null,null,1,{"$f":"F427*memoria!$B$44/(G427*12*memoria!$B$47)","v":0},{"$f":"F427/(G427*12*memoria!$B$47)","v":0}]
[null,null,null,null,null,null,1,{"$f":"F428*memoria!$B$44/(G428*12*memoria!$B$47)","v":0},{"$f":"F428/(G428*12*memoria!$B$47)","v":0}]
[null,null,null,null,null,null,1,{"$f":"F429*memoria!$B$44/(G429*12*memoria!$B$47)","v":0},{"$f":"F429/(G429*12*memoria!$B$47)","v":0}]
[null,null,null,null,null,null,1,{"$f":"F430*memoria!$B$44/(G430*12*memoria!$B$47)","v":0},{"$f":"F430/(G430*12*memoria!$B$47)","v":0}]
[null,null,null,null,null,null,1,{"$f":"F431*memoria!$B$44/(G431*12*memoria!$B$47)","v":0},{"$f":"F431/(G431*12*memoria!$B$47)","v":0}]
[null,null,null,null,null,null,1,{"$f":"F432*memoria!$B$44/(G432*12*memoria!$B$47)","v":0},{"$f":"F432/(G432*12*memoria!$B$47)","v":0}]
[null,null,null,null,null,null,1,{"$f":"F433*memoria!$B$44/(G433*12*memoria!$B$47)","v":0},{"$f":"F433/(G433*12*memoria!$B$47)","v":0}]
[null,null,null,null,null,null,1,{"$f":"F434*memoria!$B$44/(G434*12*memoria!$B$47)","v":0},{"$f":"F434/(G434*12*memoria!$B$47)","v":0}]
[null,null,null,null,null,null,1,{"$f":"F435*memoria!$B$44/(G435*12*memoria!$B$47)","v":0},{"$f":"F435/(G435*12*memoria!$B$47)","v":0}]
[null,null,null,null,null,null,1,{"$f":"F436*memoria!$B$44/(G436*12*memoria!$B$47)","v":0},{"$f":"F436/(G436*12*memoria!$B$47)","v":0}]
[null,null,null,null,null,null,1,{"$f":"F437*memoria!$B$44/(G437*12*memoria!$B$47)","v":0},{"$f":"F437/(G437*12*memoria!$B$47)","v":0}]
[null,null,null,null,null,null,1,{"$f":"F438*memoria!$B$44/(G438*12*memoria!$B$47)","v":0},{"$f":"F438/(G438*12*memoria!$B$47)","v":0}]
[null,null,null,null,null,null,1,{"$f":"F439*memoria!$B$44/(G439*12*memoria!$B$47)","v":0},{"$f":"F439/(G439*12*memoria!$B$47)","v":0}]
[null,null,null,null,null,null,1,{"$f":"F440*memoria!$B$44/(G440*12*memoria!$B$47)","v":0},{"$f":"F440/(G440*12*memoria!$B$47)","v":0}]
[null,null,null,null,null,null,1,{"$f":"F441*memoria!$B$44/(G441*12*memoria!$B$47)","v":0},{"$f":"F441/(G441*12*memoria!$B$47)","v":0}]
[null,null,null,null,null,null,1,{"$f":"F442*memoria!$B$44/(G442*12*memoria!$B$47)","v":0},{"$f":"F442/(G442*12*memoria!$B$47)","v":0}]
[null,null,null,null,null,null,1,{"$f":"F443*memoria!$B$44/(G443*12*memoria!$B$47)","v":0},{"$f":"F443/(G443*12*memoria!$B$47)","v":0}]
[null,null,null,null,null,null,1,{"$f":"F444*memoria!$B$44/(G444*12*memoria!$B$47)","v":0},{"$f":"F444/(G444*12*memoria!$B$47)","v":0}]
[null,null,null,null,null,null,1,{"$f":"F445*memoria!$B$44/(G445*12*memoria!$B$47)","v":0},{"$f":"F445/(G445*12*memoria!$B$47)","v":0}]
[null,null,null,null,null,null,1,{"$f":"F446*memoria!$B$44/(G446*12*memoria!$B$47)","v":0},{"$f":"F446/(G446*12*memoria!$B$47)","v":0}]
[null,null,null,null,null,null,1,{"$f":"F447*memoria!$B$44/(G447*12*memoria!$B$47)","v":0},{"$f":"F447/(G447*12*memoria!$B$47)","v":0}]
[null,null,null,null,null,null,1,{"$f":"F448*memoria!$B$44/(G448*12*memoria!$B$47)","v":0},{"$f":"F448/(G448*12*memoria!$B$47)","v":0}]
[null,null,null,null,null,null,1,{"$f":"F449*memoria!$B$44/(G449*12*memoria!$B$47)","v":0},{"$f":"F449/(G449*12*memoria!$B$47)","v":0}]
[null,null,null,null,null,null,1,{"$f":"F450*memoria!$B$44/(G450*12*memoria!$B$47)","v":0},{"$f":"F450/(G450*12*memoria!$B$47)","v":0}]
[null,null,null,null,null,null,1,{"$f":"F451*memoria!$B$44/(G451*12*memoria!$B$47)","v":0},{"$f":"F451/(G451*12*memoria!$B$47)","v":0}]
[null,null,null,null,null,null,1,{"$f":"F452*memoria!$B$44/(G452*12*memoria!$B$47)","v":0},{"$f":"F452/(G452*12*memoria!$B$47)","v":0}]
[null,null,null,null,null,null,1,{"$f":"F453*memoria!$B$44/(G453*12*memoria!$B$47)","v":0},{"$f":"F453/(G453*12*memoria!$B$47)","v":0}]
[null,null,null,null,null,null,1,{"$f":"F454*memoria!$B$44/(G454*12*memoria!$B$47)","v":0},{"$f":"F454/(G454*12*memoria!$B$47)","v":0}]
[null,null,null,null,null,null,1,{"$f":"F455*memoria!$B$44/(G455*12*memoria!$B$47)","v":0},{"$f":"F455/(G455*12*memoria!$B$47)","v":0}]
[null,null,null,null,null,null,1,{"$f":"F456*memoria!$B$44/(G456*12*memoria!$B$47)","v":0},{"$f":"F456/(G456*12*memoria!$B$47)","v":0}]
[null,null,null,null,null,null,1,{"$f":"F457*memoria!$B$44/(G457*12*memoria!$B$47)","v":0},{"$f":"F457/(G457*12*memoria!$B$47)","v":0}]
[null,null,null,null,null,null,1,{"$f":"F458*memoria!$B$44/(G458*12*memoria!$B$47)","v":0},{"$f":"F458/(G458*12*memoria!$B$47)","v":0}]
[null,null,null,null,null,null,1,{"$f":"F459*memoria!$B$44/(G459*12*memoria!$B$47)","v":0},{"$f":"F459/(G459*12*memoria!$B$47)","v":0}]
[null,null,null,null,null,null,1,{"$f":"F460*memoria!$B$44/(G460*12*memoria!$B$47)","v":0},{"$f":"F460/(G460*12*memoria!$B$47)","v":0}]
[null,null,null,null,null,null,1,{"$f":"F461*memoria!$B$44/(G461*12*memoria!$B$47)","v":0},{"$f":"F461/(G461*12*memoria!$B$47)","v":0}]
[null,null,null,null,null,null,1,{"$f":"F462*memoria!$B$44/(G462*12*memoria!$B$47)","v":0},{"$f":"F462/(G462*12*memoria!$B$47)","v":0}]
[null,null,null,null,null,null,1,{"$f":"F463*memoria!$B$44/(G463*12*memoria!$B$47)","v":0},{"$f":"F463/(G463*12*memoria!$B$47)","v":0}]
[null,null,null,null,null,null,1,{"$f":"F464*memoria!$B$44/(G464*12*memoria!$B$47)","v":0},{"$f":"F464/(G464*12*memoria!$B$47)","v":0}]
[null,null,null,null,null,null,1,{"$f":"F465*memoria!$B$44/(G465*12*memoria!$B$47)","v":0},{"$f":"F465/(G465*12*memoria!$B$47)","v":0}]
[null,null,null,null,null,null,1,{"$f":"F466*memoria!$B$44/(G466*12*memoria!$B$47)","v":0},{"$f":"F466/(G466*12*memoria!$B$47)","v":0}]
[null,null,null,null,null,null,1,{"$f":"F467*memoria!$B$44/(G467*12*memoria!$B$47)","v":0},{"$f":"F467/(G467*12*memoria!$B$47)","v":0}]
[null,null,null,null,null,null,1,{"$f":"F468*memoria!$B$44/(G468*12*memoria!$B$47)","v":0},{"$f":"F468/(G468*12*memoria!$B$47)","v":0}]
[null,null,null,null,null,null,1,{"$f":"F469*memoria!$B$44/(G469*12*memoria!$B$47)","v":0},{"$f":"F469/(G469*12*memoria!$B$47)","v":0}]
[null,null,null,null,null,null,1,{"$f":"F470*memoria!$B$44/(G470*12*memoria!$B$47)","v":0},{"$f":"F470/(G470*12*memoria!$B$47)","v":0}]
[null,null,null,null,null,null,1,{"$f":"F471*memoria!$B$44/(G471*12*memoria!$B$47)","v":0},{"$f":"F471/(G471*12*memoria!$B$47)","v":0}]
[null,null,null,null,null,null,1,{"$f":"F472*memoria!$B$44/(G472*12*memoria!$B$47)","v":0},{"$f":"F472/(G472*12*memoria!$B$47)","v":0}]
[null,null,null,null,null,null,1,{"$f":"F473*memoria!$B$44/(G473*12*memoria!$B$47)","v":0},{"$f":"F473/(G473*12*memoria!$B$47)","v":0}]
[null,null,null,null,null,null,1,{"$f":"F474*memoria!$B$44/(G474*12*memoria!$B$47)","v":0},{"$f":"F474/(G474*12*memoria!$B$47)","v":0}]
[null,null,null,null,null,null,1,{"$f":"F475*memoria!$B$44/(G475*12*memoria!$B$47)","v":0},{"$f":"F475/(G475*12*memoria!$B$47)","v":0}]
[null,null,null,null,null,null,1,{"$f":"F476*memoria!$B$44/(G476*12*memoria!$B$47)","v":0},{"$f":"F476/(G476*12*memoria!$B$47)","v":0}]
[null,null,null,null,null,null,1,{"$f":"F477*memoria!$B$44/(G477*12*memoria!$B$47)","v":0},{"$f":"F477/(G477*12*memoria!$B$47)","v":0}]
[null,null,null,null,null,null,1,{"$f":"F478*memoria!$B$44/(G478*12*memoria!$B$47)","v":0},{"$f":"F478/(G478*12*memoria!$B$47)","v":0}]
[null,null,null,null,null,null,1,{"$f":"F479*memoria!$B$44/(G479*12*memoria!$B$47)","v":0},{"$f":"F479/(G479*12*memoria!$B$47)","v":0}]
[null,null,null,null,null,null,1,{"$f":"F480*memoria!$B$44/(G480*12*memoria!$B$47)","v":0},{"$f":"F480/(G480*12*memoria!$B$47)","v":0}]
[null,null,null,null,null,null,1,{"$f":"F481*memoria!$B$44/(G481*12*memoria!$B$47)","v":0},{"$f":"F481/(G481*12*memoria!$B$47)","v":0}]
[null,null,null,null,null,null,1,{"$f":"F482*memoria!$B$44/(G482*12*memoria!$B$47)","v":0},{"$f":"F482/(G482*12*memoria!$B$47)","v":0}]
[null,null,null,null,null,null,1,{"$f":"F483*memoria!$B$44/(G483*12*memoria!$B$47)","v":0},{"$f":"F483/(G483*12*memoria!$B$47)","v":0}]
[null,null,null,null,null,null,1,{"$f":"F484*memoria!$B$44/(G484*12*memoria!$B$47)","v":0},{"$f":"F484/(G484*12*memoria!$B$47)","v":0}]
[null,null,null,null,null,null,1,{"$f":"F485*memoria!$B$44/(G485*12*memoria!$B$47)","v":0},{"$f":"F485/(G485*12*memoria!$B$47)","v":0}]
[null,null,null,null,null,null,1,{"$f":"F486*memoria!$B$44/(G486*12*memoria!$B$47)","v":0},{"$f":"F486/(G486*12*memoria!$B$47)","v":0}]
[null,null,null,null,null,null,1,{"$f":"F487*memoria!$B$44/(G487*12*memoria!$B$47)","v":0},{"$f":"F487/(G487*12*memoria!$B$47)","v":0}]
[null,null,null,null,null,null,1,{"$f":"F488*memoria!$B$44/(G488*12*memoria!$B$47)","v":0},{"$f":"F488/(G488*12*memoria!$B$47)","v":0}]
[null,null,null,null,null,null,1,{"$f":"F489*memoria!$B$44/(G489*12*memoria!$B$47)","v":0},{"$f":"F489/(G489*12*memoria!$B$47)","v":0}]
[null,null,null,null,null,null,1,{"$f":"F490*memoria!$B$44/(G490*12*memoria!$B$47)","v":0},{"$f":"F490/(G490*12*memoria!$B$47)","v":0}]
[null,null,null,null,null,null,1,{"$f":"F491*memoria!$B$44/(G491*12*memoria!$B$47)","v":0},{"$f":"F491/(G491*12*memoria!$B$47)","v":0}]
[null,null,null,null,null,null,1,{"$f":"F492*memoria!$B$44/(G492*12*memoria!$B$47)","v":0},{"$f":"F492/(G492*12*memoria!$B$47)","v":0}]
[null,null,null,null,null,null,1,{"$f":"F493*memoria!$B$44/(G493*12*memoria!$B$47)","v":0},{"$f":"F493/(G493*12*memoria!$B$47)","v":0}]
[null,null,null,null,null,null,1,{"$f":"F494*memoria!$B$44/(G494*12*memoria!$B$47)","v":0},{"$f":"F494/(G494*12*memoria!$B$47)","v":0}]
[null,null,null,null,null,null,1,{"$f":"F495*memoria!$B$44/(G495*12*memoria!$B$47)","v":0},{"$f":"F495/(G495*12*memoria!$B$47)","v":0}]
[null,null,null,null,null,null,1,{"$f":"F496*memoria!$B$44/(G496*12*memoria!$B$47)","v":0},{"$f":"F496/(G496*12*memoria!$B$47)","v":0}]
[null,null,null,null,null,null,1,{"$f":"F497*memoria!$B$44/(G497*12*memoria!$B$47)","v":0},{"$f":"F497/(G497*12*memoria!$B$47)","v":0}]
[null,null,null,null,null,null,1,{"$f":"F498*memoria!$B$44/(G498*12*memoria!$B$47)","v":0},{"$f":"F498/(G498*12*memoria!$B$47)","v":0}]
[null,null,null,null,null,null,1,{"$f":"F499*memoria!$B$44/(G499*12*memoria!$B$47)","v":0},{"$f":"F499/(G499*12*memoria!$B$47)","v":0}]
[null,null,null,null,null,null,1,{"$f":"F500*memoria!$B$44/(G500*12*memoria!$B$47)","v":0},{"$f":"F500/(G500*12*memoria!$B$47)","v":0}]
[null,null,null,null,null,null,1,{"$f":"F501*memoria!$B$44/(G501*12*memoria!$B$47)","v":0},{"$f":"F501/(G501*12*memoria!$B$47)","v":0}]
[null,null,null,null,null,null,1,{"$f":"F502*memoria!$B$44/(G502*12*memoria!$B$47)","v":0},{"$f":"F502/(G502*12*memoria!$B$47)","v":0}]
[null,null,null,null,null,null,1,{"$f":"F503*memoria!$B$44/(G503*12*memoria!$B$47)","v":0},{"$f":"F503/(G503*12*memoria!$B$47)","v":0}]
[null,null,null,null,null,null,1,{"$f":"F504*memoria!$B$44/(G504*12*memoria!$B$47)","v":0},{"$f":"F504/(G504*12*memoria!$B$47)","v":0}]
[null,null,null,null,null,null,1,{"$f":"F505*memoria!$B$44/(G505*12*memoria!$B$47)","v":0},{"$f":"F505/(G505*12*memoria!$B$47)","v":0}]
[null,null,null,null,null,null,1,{"$f":"F506*memoria!$B$44/(G506*12*memoria!$B$47)","v":0},{"$f":"F506/(G506*12*memoria!$B$47)","v":0}]
[null,null,null,null,null,null,1,{"$f":"F507*memoria!$B$44/(G507*12*memoria!$B$47)","v":0},{"$f":"F507/(G507*12*memoria!$B$47)","v":0}]
[null,null,null,null,null,null,1,{"$f":"F508*memoria!$B$44/(G508*12*memoria!$B$47)","v":0},{"$f":"F508/(G508*12*memoria!$B$47)","v":0}]
[null,null,null,null,null,null,1,{"$f":"F509*memoria!$B$44/(G509*12*memoria!$B$47)","v":0},{"$f":"F509/(G509*12*memoria!$B$47)","v":0}]
[null,null,null,null,null,null,1,{"$f":"F510*memoria!$B$44/(G510*12*memoria!$B$47)","v":0},{"$f":"F510/(G510*12*memoria!$B$47)","v":0}]
[null,null,null,null,null,null,1,{"$f":"F511*memoria!$B$44/(G511*12*memoria!$B$47)","v":0},{"$f":"F511/(G511*12*memoria!$B$47)","v":0}]
[null,null,null,null,null,null,1,{"$f":"F512*memoria!$B$44/(G512*12*memoria!$B$47)","v":0},{"$f":"F512/(G512*12*memoria!$B$47)","v":0}]
[null,null,null,null,null,null,1,{"$f":"F513*memoria!$B$44/(G513*12*memoria!$B$47)","v":0},{"$f":"F513/(G513*12*memoria!$B$47)","v":0}]
[null,null,null,null,null,null,1,{"$f":"F514*memoria!$B$44/(G514*12*memoria!$B$47)","v":0},{"$f":"F514/(G514*12*memoria!$B$47)","v":0}]
[null,null,null,null,null,null,1,{"$f":"F515*memoria!$B$44/(G515*12*memoria!$B$47)","v":0},{"$f":"F515/(G515*12*memoria!$B$47)","v":0}]
[null,null,null,null,null,null,1,{"$f":"F516*memoria!$B$44/(G516*12*memoria!$B$47)","v":0},{"$f":"F516/(G516*12*memoria!$B$47)","v":0}]
[null,null,null,null,null,null,1,{"$f":"F517*memoria!$B$44/(G517*12*memoria!$B$47)","v":0},{"$f":"F517/(G517*12*memoria!$B$47)","v":0}]
[null,null,null,null,null,null,1,{"$f":"F518*memoria!$B$44/(G518*12*memoria!$B$47)","v":0},{"$f":"F518/(G518*12*memoria!$B$47)","v":0}]
[null,null,null,null,null,null,1,{"$f":"F519*memoria!$B$44/(G519*12*memoria!$B$47)","v":0},{"$f":"F519/(G519*12*memoria!$B$47)","v":0}]
[null,null,null,null,null,null,1,{"$f":"F520*memoria!$B$44/(G520*12*memoria!$B$47)","v":0},{"$f":"F520/(G520*12*memoria!$B$47)","v":0}]
[null,null,null,null,null,null,1,{"$f":"F521*memoria!$B$44/(G521*12*memoria!$B$47)","v":0},{"$f":"F521/(G521*12*memoria!$B$47)","v":0}]
[null,null,null,null,null,null,1,{"$f":"F522*memoria!$B$44/(G522*12*memoria!$B$47)","v":0},{"$f":"F522/(G522*12*memoria!$B$47)","v":0}]
[null,null,null,null,null,null,1,{"$f":"F523*memoria!$B$44/(G523*12*memoria!$B$47)","v":0},{"$f":"F523/(G523*12*memoria!$B$47)","v":0}]
[null,null,null,null,null,null,1,{"$f":"F524*memoria!$B$44/(G524*12*memoria!$B$47)","v":0},{"$f":"F524/(G524*12*memoria!$B$47)","v":0}]
[null,null,null,null,null,null,1,{"$f":"F525*memoria!$B$44/(G525*12*memoria!$B$47)","v":0},{"$f":"F525/(G525*12*memoria!$B$47)","v":0}]
[null,null,null,null,null,null,1,{"$f":"F526*memoria!$B$44/(G526*12*memoria!$B$47)","v":0},{"$f":"F526/(G526*12*memoria!$B$47)","v":0}]
[null,null,null,null,null,null,1,{"$f":"F527*memoria!$B$44/(G527*12*memoria!$B$47)","v":0},{"$f":"F527/(G527*12*memoria!$B$47)","v":0}]
[null,null,null,null,null,null,1,{"$f":"F528*memoria!$B$44/(G528*12*memoria!$B$47)","v":0},{"$f":"F528/(G528*12*memoria!$B$47)","v":0}]
[null,null,null,null,null,null,1,{"$f":"F529*memoria!$B$44/(G529*12*memoria!$B$47)","v":0},{"$f":"F529/(G529*12*memoria!$B$47)","v":0}]
[null,null,null,null,null,null,1,{"$f":"F530*memoria!$B$44/(G530*12*memoria!$B$47)","v":0},{"$f":"F530/(G530*12*memoria!$B$47)","v":0}]
[null,null,null,null,null,null,1,{"$f":"F531*memoria!$B$44/(G531*12*memoria!$B$47)","v":0},{"$f":"F531/(G531*12*memoria!$B$47)","v":0}]
[null,null,null,null,null,null,1,{"$f":"F532*memoria!$B$44/(G532*12*memoria!$B$47)","v":0},{"$f":"F532/(G532*12*memoria!$B$47)","v":0}]
[null,null,null,null,null,null,1,{"$f":"F533*memoria!$B$44/(G533*12*memoria!$B$47)","v":0},{"$f":"F533/(G533*12*memoria!$B$47)","v":0}]
[null,null,null,null,null,null,1,{"$f":"F534*memoria!$B$44/(G534*12*memoria!$B$47)","v":0},{"$f":"F534/(G534*12*memoria!$B$47)","v":0}]
[null,null,null,null,null,null,1,{"$f":"F535*memoria!$B$44/(G535*12*memoria!$B$47)","v":0},{"$f":"F535/(G535*12*memoria!$B$47)","v":0}]
[null,null,null,null,null,null,1,{"$f":"F536*memoria!$B$44/(G536*12*memoria!$B$47)","v":0},{"$f":"F536/(G536*12*memoria!$B$47)","v":0}]
[null,null,null,null,null,null,1,{"$f":"F537*memoria!$B$44/(G537*12*memoria!$B$47)","v":0},{"$f":"F537/(G537*12*memoria!$B$47)","v":0}]
[null,null,null,null,null,null,1,{"$f":"F538*memoria!$B$44/(G538*12*memoria!$B$47)","v":0},{"$f":"F538/(G538*12*memoria!$B$47)","v":0}]
[null,null,null,null,null,null,1,{"$f":"F539*memoria!$B$44/(G539*12*memoria!$B$47)","v":0},{"$f":"F539/(G539*12*memoria!$B$47)","v":0}]
[null,null,null,null,null,null,1,{"$f":"F540*memoria!$B$44/(G540*12*memoria!$B$47)","v":0},{"$f":"F540/(G540*12*memoria!$B$47)","v":0}]
[null,null,null,null,null,null,1,{"$f":"F541*memoria!$B$44/(G541*12*memoria!$B$47)","v":0},{"$f":"F541/(G541*12*memoria!$B$47)","v":0}]
[null,null,null,null,null,null,1,{"$f":"F542*memoria!$B$44/(G542*12*memoria!$B$47)","v":0},{"$f":"F542/(G542*12*memoria!$B$47)","v":0}]
[null,null,null,null,null,null,1,{"$f":"F543*memoria!$B$44/(G543*12*memoria!$B$47)","v":0},{"$f":"F543/(G543*12*memoria!$B$47)","v":0}]
[null,null,null,null,null,null,1,{"$f":"F544*memoria!$B$44/(G544*12*memoria!$B$47)","v":0},{"$f":"F544/(G544*12*memoria!$B$47)","v":0}]
[null,null,null,null,null,null,1,{"$f":"F545*memoria!$B$44/(G545*12*memoria!$B$47)","v":0},{"$f":"F545/(G545*12*memoria!$B$47)","v":0}]
[null,null,null,null,null,null,1,{"$f":"F546*memoria!$B$44/(G546*12*memoria!$B$47)","v":0},{"$f":"F546/(G546*12*memoria!$B$47)","v":0}]
[null,null,null,null,null,null,1,{"$f":"F547*memoria!$B$44/(G547*12*memoria!$B$47)","v":0},{"$f":"F547/(G547*12*memoria!$B$47)","v":0}]
[null,null,null,null,null,null,1,{"$f":"F548*memoria!$B$44/(G548*12*memoria!$B$47)","v":0},{"$f":"F548/(G548*12*memoria!$B$47)","v":0}]
[null,null,null,null,null,null,1,{"$f":"F549*memoria!$B$44/(G549*12*memoria!$B$47)","v":0},{"$f":"F549/(G549*12*memoria!$B$47)","v":0}]
[null,null,null,null,null,null,1,{"$f":"F550*memoria!$B$44/(G550*12*memoria!$B$47)","v":0},{"$f":"F550/(G550*12*memoria!$B$47)","v":0}]
[null,null,null,null,null,null,1,{"$f":"F551*memoria!$B$44/(G551*12*memoria!$B$47)","v":0},{"$f":"F551/(G551*12*memoria!$B$47)","v":0}]
[null,null,null,null,null,null,1,{"$f":"F552*memoria!$B$44/(G552*12*memoria!$B$47)","v":0},{"$f":"F552/(G552*12*memoria!$B$47)","v":0}]
[null,null,null,null,null,null,1,{"$f":"F553*memoria!$B$44/(G553*12*memoria!$B$47)","v":0},{"$f":"F553/(G553*12*memoria!$B$47)","v":0}]
[null,null,null,null,null,null,1,{"$f":"F554*memoria!$B$44/(G554*12*memoria!$B$47)","v":0},{"$f":"F554/(G554*12*memoria!$B$47)","v":0}]
[null,null,null,null,null,null,1,{"$f":"F555*memoria!$B$44/(G555*12*memoria!$B$47)","v":0},{"$f":"F555/(G555*12*memoria!$B$47)","v":0}]
[null,null,null,null,null,null,1,{"$f":"F556*memoria!$B$44/(G556*12*memoria!$B$47)","v":0},{"$f":"F556/(G556*12*memoria!$B$47)","v":0}]
[null,null,null,null,null,null,1,{"$f":"F557*memoria!$B$44/(G557*12*memoria!$B$47)","v":0},{"$f":"F557/(G557*12*memoria!$B$47)","v":0}]
[null,null,null,null,null,null,1,{"$f":"F558*memoria!$B$44/(G558*12*memoria!$B$47)","v":0},{"$f":"F558/(G558*12*memoria!$B$47)","v":0}]
[null,null,null,null,null,null,1,{"$f":"F559*memoria!$B$44/(G559*12*memoria!$B$47)","v":0},{"$f":"F559/(G559*12*memoria!$B$47)","v":0}]
[null,null,null,null,null,null,1,{"$f":"F560*memoria!$B$44/(G560*12*memoria!$B$47)","v":0},{"$f":"F560/(G560*12*memoria!$B$47)","v":0}]
[null,null,null,null,null,null,1,{"$f":"F561*memoria!$B$44/(G561*12*memoria!$B$47)","v":0},{"$f":"F561/(G561*12*memoria!$B$47)","v":0}]
[null,null,null,null,null,null,1,{"$f":"F562*memoria!$B$44/(G562*12*memoria!$B$47)","v":0},{"$f":"F562/(G562*12*memoria!$B$47)","v":0}]
[null,null,null,null,null,null,1,{"$f":"F563*memoria!$B$44/(G563*12*memoria!$B$47)","v":0},{"$f":"F563/(G563*12*memoria!$B$47)","v":0}]
[null,null,null,null,null,null,1,{"$f":"F564*memoria!$B$44/(G564*12*memoria!$B$47)","v":0},{"$f":"F564/(G564*12*memoria!$B$47)","v":0}]
[null,null,null,null,null,null,1,{"$f":"F565*memoria!$B$44/(G565*12*memoria!$B$47)","v":0},{"$f":"F565/(G565*12*memoria!$B$47)","v":0}]
[null,null,null,null,null,null,1,{"$f":"F566*memoria!$B$44/(G566*12*memoria!$B$47)","v":0},{"$f":"F566/(G566*12*memoria!$B$47)","v":0}]
[null,null,null,null,null,null,1,{"$f":"F567*memoria!$B$44/(G567*12*memoria!$B$47)","v":0},{"$f":"F567/(G567*12*memoria!$B$47)","v":0}]
[null,null,null,null,null,null,1,{"$f":"F568*memoria!$B$44/(G568*12*memoria!$B$47)","v":0},{"$f":"F568/(G568*12*memoria!$B$47)","v":0}]
[null,null,null,null,null,null,1,{"$f":"F569*memoria!$B$44/(G569*12*memoria!$B$47)","v":0},{"$f":"F569/(G569*12*memoria!$B$47)","v":0}]
[null,null,null,null,null,null,1,{"$f":"F570*memoria!$B$44/(G570*12*memoria!$B$47)","v":0},{"$f":"F570/(G570*12*memoria!$B$47)","v":0}]
[null,null,null,null,null,null,1,{"$f":"F571*memoria!$B$44/(G571*12*memoria!$B$47)","v":0},{"$f":"F571/(G571*12*memoria!$B$47)","v":0}]
[null,null,null,null,null,null,1,{"$f":"F572*memoria!$B$44/(G572*12*memoria!$B$47)","v":0},{"$f":"F572/(G572*12*memoria!$B$47)","v":0}]
[null,null,null,null,null,null,1,{"$f":"F573*memoria!$B$44/(G573*12*memoria!$B$47)","v":0},{"$f":"F573/(G573*12*memoria!$B$47)","v":0}]
[null,null,null,null,null,null,1,{"$f":"F574*memoria!$B$44/(G574*12*memoria!$B$47)","v":0},{"$f":"F574/(G574*12*memoria!$B$47)","v":0}]
[null,null,null,null,null,null,1,{"$f":"F575*memoria!$B$44/(G575*12*memoria!$B$47)","v":0},{"$f":"F575/(G575*12*memoria!$B$47)","v":0}]
[null,null,null,null,null,null,1,{"$f":"F576*memoria!$B$44/(G576*12*memoria!$B$47)","v":0},{"$f":"F576/(G576*12*memoria!$B$47)","v":0}]
[null,null,null,null,null,null,1,{"$f":"F577*memoria!$B$44/(G577*12*memoria!$B$47)","v":0},{"$f":"F577/(G577*12*memoria!$B$47)","v":0}]
[null,null,null,null,null,null,1,{"$f":"F578*memoria!$B$44/(G578*12*memoria!$B$47)","v":0},{"$f":"F578/(G578*12*memoria!$B$47)","v":0}]
[null,null,null,null,null,null,1,{"$f":"F579*memoria!$B$44/(G579*12*memoria!$B$47)","v":0},{"$f":"F579/(G579*12*memoria!$B$47)","v":0}]
[null,null,null,null,null,null,1,{"$f":"F580*memoria!$B$44/(G580*12*memoria!$B$47)","v":0},{"$f":"F580/(G580*12*memoria!$B$47)","v":0}]
[null,null,null,null,null,null,1,{"$f":"F581*memoria!$B$44/(G581*12*memoria!$B$47)","v":0},{"$f":"F581/(G581*12*memoria!$B$47)","v":0}]
[null,null,null,null,null,null,1,{"$f":"F582*memoria!$B$44/(G582*12*memoria!$B$47)","v":0},{"$f":"F582/(G582*12*memoria!$B$47)","v":0}]
[null,null,null,null,null,null,1,{"$f":"F583*memoria!$B$44/(G583*12*memoria!$B$47)","v":0},{"$f":"F583/(G583*12*memoria!$B$47)","v":0}]
[null,null,null,null,null,null,1,{"$f":"F584*memoria!$B$44/(G584*12*memoria!$B$47)","v":0},{"$f":"F584/(G584*12*memoria!$B$47)","v":0}]
[null,null,null,null,null,null,1,{"$f":"F585*memoria!$B$44/(G585*12*memoria!$B$47)","v":0},{"$f":"F585/(G585*12*memoria!$B$47)","v":0}]
[null,null,null,null,null,null,1,{"$f":"F586*memoria!$B$44/(G586*12*memoria!$B$47)","v":0},{"$f":"F586/(G586*12*memoria!$B$47)","v":0}]
[null,null,null,null,null,null,1,{"$f":"F587*memoria!$B$44/(G587*12*memoria!$B$47)","v":0},{"$f":"F587/(G587*12*memoria!$B$47)","v":0}]
[null,null,null,null,null,null,1,{"$f":"F588*memoria!$B$44/(G588*12*memoria!$B$47)","v":0},{"$f":"F588/(G588*12*memoria!$B$47)","v":0}]
[null,null,null,null,null,null,1,{"$f":"F589*memoria!$B$44/(G589*12*memoria!$B$47)","v":0},{"$f":"F589/(G589*12*memoria!$B$47)","v":0}]
[null,null,null,null,null,null,1,{"$f":"F590*memoria!$B$44/(G590*12*memoria!$B$47)","v":0},{"$f":"F590/(G590*12*memoria!$B$47)","v":0}]
[null,null,null,null,null,null,1,{"$f":"F591*memoria!$B$44/(G591*12*memoria!$B$47)","v":0},{"$f":"F591/(G591*12*memoria!$B$47)","v":0}]
[null,null,null,null,null,null,1,{"$f":"F592*memoria!$B$44/(G592*12*memoria!$B$47)","v":0},{"$f":"F592/(G592*12*memoria!$B$47)","v":0}]
[null,null,null,null,null,null,1,{"$f":"F593*memoria!$B$44/(G593*12*memoria!$B$47)","v":0},{"$f":"F593/(G593*12*memoria!$B$47)","v":0}]
[null,null,null,null,null,null,1,{"$f":"F594*memoria!$B$44/(G594*12*memoria!$B$47)","v":0},{"$f":"F594/(G594*12*memoria!$B$47)","v":0}]
[null,null,null,null,null,null,1,{"$f":"F595*memoria!$B$44/(G595*12*memoria!$B$47)","v":0},{"$f":"F595/(G595*12*memoria!$B$47)","v":0}]
[null,null,null,null,null,null,1,{"$f":"F596*memoria!$B$44/(G596*12*memoria!$B$47)","v":0},{"$f":"F596/(G596*12*memoria!$B$47)","v":0}]
[null,null,null,null,null,null,1,{"$f":"F597*memoria!$B$44/(G597*12*memoria!$B$47)","v":0},{"$f":"F597/(G597*12*memoria!$B$47)","v":0}]
[null,null,null,null,null,null,1,{"$f":"F598*memoria!$B$44/(G598*12*memoria!$B$47)","v":0},{"$f":"F598/(G598*12*memoria!$B$47)","v":0}]
[null,null,null,null,null,null,1,{"$f":"F599*memoria!$B$44/(G599*12*memoria!$B$47)","v":0},{"$f":"F599/(G599*12*memoria!$B$47)","v":0}]
[null,null,null,null,null,null,1,{"$f":"F600*memoria!$B$44/(G600*12*memoria!$B$47)","v":0},{"$f":"F600/(G600*12*memoria!$B$47)","v":0}]
[null,null,null,null,null,null,1,{"$f":"F601*memoria!$B$44/(G601*12*memoria!$B$47)","v":0},{"$f":"F601/(G601*12*memoria!$B$47)","v":0}]
[null,null,null,null,null,null,1,{"$f":"F602*memoria!$B$44/(G602*12*memoria!$B$47)","v":0},{"$f":"F602/(G602*12*memoria!$B$47)","v":0}]
[null,null,null,null,null,null,1,{"$f":"F603*memoria!$B$44/(G603*12*memoria!$B$47)","v":0},{"$f":"F603/(G603*12*memoria!$B$47)","v":0}]
[null,null,null,null,null,null,1,{"$f":"F604*memoria!$B$44/(G604*12*memoria!$B$47)","v":0},{"$f":"F604/(G604*12*memoria!$B$47)","v":0}]
[null,null,null,null,null,null,1,{"$f":"F605*memoria!$B$44/(G605*12*memoria!$B$47)","v":0},{"$f":"F605/(G605*12*memoria!$B$47)","v":0}]
[null,null,null,null,null,null,1,{"$f":"F606*memoria!$B$44/(G606*12*memoria!$B$47)","v":0},{"$f":"F606/(G606*12*memoria!$B$47)","v":0}]
[null,null,null,null,null,null,1,{"$f":"F607*memoria!$B$44/(G607*12*memoria!$B$47)","v":0},{"$f":"F607/(G607*12*memoria!$B$47)","v":0}]
[null,null,null,null,null,null,1,{"$f":"F608*memoria!$B$44/(G608*12*memoria!$B$47)","v":0},{"$f":"F608/(G608*12*memoria!$B$47)","v":0}]
[null,null,null,null,null,null,1,{"$f":"F609*memoria!$B$44/(G609*12*memoria!$B$47)","v":0},{"$f":"F609/(G609*12*memoria!$B$47)","v":0}]
[null,null,null,null,null,null,1,{"$f":"F610*memoria!$B$44/(G610*12*memoria!$B$47)","v":0},{"$f":"F610/(G610*12*memoria!$B$47)","v":0}]
[null,null,null,null,null,null,1,{"$f":"F611*memoria!$B$44/(G611*12*memoria!$B$47)","v":0},{"$f":"F611/(G611*12*memoria!$B$47)","v":0}]
[null,null,null,null,null,null,1,{"$f":"F612*memoria!$B$44/(G612*12*memoria!$B$47)","v":0},{"$f":"F612/(G612*12*memoria!$B$47)","v":0}]
[null,null,null,null,null,null,1,{"$f":"F613*memoria!$B$44/(G613*12*memoria!$B$47)","v":0},{"$f":"F613/(G613*12*memoria!$B$47)","v":0}]
[null,null,null,null,null,null,1,{"$f":"F614*memoria!$B$44/(G614*12*memoria!$B$47)","v":0},{"$f":"F614/(G614*12*memoria!$B$47)","v":0}]
[null,null,null,null,null,null,1,{"$f":"F615*memoria!$B$44/(G615*12*memoria!$B$47)","v":0},{"$f":"F615/(G615*12*memoria!$B$47)","v":0}]
[null,null,null,null,null,null,1,{"$f":"F616*memoria!$B$44/(G616*12*memoria!$B$47)","v":0},{"$f":"F616/(G616*12*memoria!$B$47)","v":0}]
[null,null,null,null,null,null,1,{"$f":"F617*memoria!$B$44/(G617*12*memoria!$B$47)","v":0},{"$f":"F617/(G617*12*memoria!$B$47)","v":0}]
[null,null,null,null,null,null,1,{"$f":"F618*memoria!$B$44/(G618*12*memoria!$B$47)","v":0},{"$f":"F618/(G618*12*memoria!$B$47)","v":0}]
[null,null,null,null,null,null,1,{"$f":"F619*memoria!$B$44/(G619*12*memoria!$B$47)","v":0},{"$f":"F619/(G619*12*memoria!$B$47)","v":0}]
[null,null,null,null,null,null,1,{"$f":"F620*memoria!$B$44/(G620*12*memoria!$B$47)","v":0},{"$f":"F620/(G620*12*memoria!$B$47)","v":0}]
[null,null,null,null,null,null,1,{"$f":"F621*memoria!$B$44/(G621*12*memoria!$B$47)","v":0},{"$f":"F621/(G621*12*memoria!$B$47)","v":0}]
[null,null,null,null,null,null,1,{"$f":"F622*memoria!$B$44/(G622*12*memoria!$B$47)","v":0},{"$f":"F622/(G622*12*memoria!$B$47)","v":0}]
[null,null,null,null,null,null,1,{"$f":"F623*memoria!$B$44/(G623*12*memoria!$B$47)","v":0},{"$f":"F623/(G623*12*memoria!$B$47)","v":0}]
[null,null,null,null,null,null,1,{"$f":"F624*memoria!$B$44/(G624*12*memoria!$B$47)","v":0},{"$f":"F624/(G624*12*memoria!$B$47)","v":0}]
[null,null,null,null,null,null,1,{"$f":"F625*memoria!$B$44/(G625*12*memoria!$B$47)","v":0},{"$f":"F625/(G625*12*memoria!$B$47)","v":0}]
[null,null,null,null,null,null,1,{"$f":"F626*memoria!$B$44/(G626*12*memoria!$B$47)","v":0},{"$f":"F626/(G626*12*memoria!$B$47)","v":0}]
[null,null,null,null,null,null,1,{"$f":"F627*memoria!$B$44/(G627*12*memoria!$B$47)","v":0},{"$f":"F627/(G627*12*memoria!$B$47)","v":0}]
[null,null,null,null,null,null,1,{"$f":"F628*memoria!$B$44/(G628*12*memoria!$B$47)","v":0},{"$f":"F628/(G628*12*memoria!$B$47)","v":0}]
[null,null,null,null,null,null,1,{"$f":"F629*memoria!$B$44/(G629*12*memoria!$B$47)","v":0},{"$f":"F629/(G629*12*memoria!$B$47)","v":0}]
[null,null,null,null,null,null,1,{"$f":"F630*memoria!$B$44/(G630*12*memoria!$B$47)","v":0},{"$f":"F630/(G630*12*memoria!$B$47)","v":0}]
[null,null,null,null,null,null,1,{"$f":"F631*memoria!$B$44/(G631*12*memoria!$B$47)","v":0},{"$f":"F631/(G631*12*memoria!$B$47)","v":0}]
[null,null,null,null,null,null,1,{"$f":"F632*memoria!$B$44/(G632*12*memoria!$B$47)","v":0},{"$f":"F632/(G632*12*memoria!$B$47)","v":0}]
[null,null,null,null,null,null,1,{"$f":"F633*memoria!$B$44/(G633*12*memoria!$B$47)","v":0},{"$f":"F633/(G633*12*memoria!$B$47)","v":0}]
[null,null,null,null,null,null,1,{"$f":"F634*memoria!$B$44/(G634*12*memoria!$B$47)","v":0},{"$f":"F634/(G634*12*memoria!$B$47)","v":0}]
[null,null,null,null,null,null,1,{"$f":"F635*memoria!$B$44/(G635*12*memoria!$B$47)","v":0},{"$f":"F635/(G635*12*memoria!$B$47)","v":0}]
[null,null,null,null,null,null,1,{"$f":"F636*memoria!$B$44/(G636*12*memoria!$B$47)","v":0},{"$f":"F636/(G636*12*memoria!$B$47)","v":0}]
[null,null,null,null,null,null,1,{"$f":"F637*memoria!$B$44/(G637*12*memoria!$B$47)","v":0},{"$f":"F637/(G637*12*memoria!$B$47)","v":0}]
[null,null,null,null,null,null,1,{"$f":"F638*memoria!$B$44/(G638*12*memoria!$B$47)","v":0},{"$f":"F638/(G638*12*memoria!$B$47)","v":0}]
[null,null,null,null,null,null,1,{"$f":"F639*memoria!$B$44/(G639*12*memoria!$B$47)","v":0},{"$f":"F639/(G639*12*memoria!$B$47)","v":0}]
[null,null,null,null,null,null,1,{"$f":"F640*memoria!$B$44/(G640*12*memoria!$B$47)","v":0},{"$f":"F640/(G640*12*memoria!$B$47)","v":0}]
[null,null,null,null,null,null,1,{"$f":"F641*memoria!$B$44/(G641*12*memoria!$B$47)","v":0},{"$f":"F641/(G641*12*memoria!$B$47)","v":0}]
[null,null,null,null,null,null,1,{"$f":"F642*memoria!$B$44/(G642*12*memoria!$B$47)","v":0},{"$f":"F642/(G642*12*memoria!$B$47)","v":0}]
[null,null,null,null,null,null,1,{"$f":"F643*memoria!$B$44/(G643*12*memoria!$B$47)","v":0},{"$f":"F643/(G643*12*memoria!$B$47)","v":0}]
[null,null,null,null,null,null,1,{"$f":"F644*memoria!$B$44/(G644*12*memoria!$B$47)","v":0},{"$f":"F644/(G644*12*memoria!$B$47)","v":0}]
[null,null,null,null,null,null,1,{"$f":"F645*memoria!$B$44/(G645*12*memoria!$B$47)","v":0},{"$f":"F645/(G645*12*memoria!$B$47)","v":0}]
[null,null,null,null,null,null,1,{"$f":"F646*memoria!$B$44/(G646*12*memoria!$B$47)","v":0},{"$f":"F646/(G646*12*memoria!$B$47)","v":0}]
[null,null,null,null,null,null,1,{"$f":"F647*memoria!$B$44/(G647*12*memoria!$B$47)","v":0},{"$f":"F647/(G647*12*memoria!$B$47)","v":0}]
[null,null,null,null,null,null,1,{"$f":"F648*memoria!$B$44/(G648*12*memoria!$B$47)","v":0},{"$f":"F648/(G648*12*memoria!$B$47)","v":0}]
[null,null,null,null,null,null,1,{"$f":"F649*memoria!$B$44/(G649*12*memoria!$B$47)","v":0},{"$f":"F649/(G649*12*memoria!$B$47)","v":0}]
[null,null,null,null,null,null,1,{"$f":"F650*memoria!$B$44/(G650*12*memoria!$B$47)","v":0},{"$f":"F650/(G650*12*memoria!$B$47)","v":0}]
[null,null,null,null,null,null,1,{"$f":"F651*memoria!$B$44/(G651*12*memoria!$B$47)","v":0},{"$f":"F651/(G651*12*memoria!$B$47)","v":0}]
[null,null,null,null,null,null,1,{"$f":"F652*memoria!$B$44/(G652*12*memoria!$B$47)","v":0},{"$f":"F652/(G652*12*memoria!$B$47)","v":0}]
[null,null,null,null,null,null,1,{"$f":"F653*memoria!$B$44/(G653*12*memoria!$B$47)","v":0},{"$f":"F653/(G653*12*memoria!$B$47)","v":0}]
[null,null,null,null,null,null,1,{"$f":"F654*memoria!$B$44/(G654*12*memoria!$B$47)","v":0},{"$f":"F654/(G654*12*memoria!$B$47)","v":0}]
[null,null,null,null,null,null,1,{"$f":"F655*memoria!$B$44/(G655*12*memoria!$B$47)","v":0},{"$f":"F655/(G655*12*memoria!$B$47)","v":0}]
[null,null,null,null,null,null,1,{"$f":"F656*memoria!$B$44/(G656*12*memoria!$B$47)","v":0},{"$f":"F656/(G656*12*memoria!$B$47)","v":0}]
[null,null,null,null,null,null,1,{"$f":"F657*memoria!$B$44/(G657*12*memoria!$B$47)","v":0},{"$f":"F657/(G657*12*memoria!$B$47)","v":0}]
[null,null,null,null,null,null,1,{"$f":"F658*memoria!$B$44/(G658*12*memoria!$B$47)","v":0},{"$f":"F658/(G658*12*memoria!$B$47)","v":0}]
[null,null,null,null,null,null,1,{"$f":"F659*memoria!$B$44/(G659*12*memoria!$B$47)","v":0},{"$f":"F659/(G659*12*memoria!$B$47)","v":0}]
[null,null,null,null,null,null,1,{"$f":"F660*memoria!$B$44/(G660*12*memoria!$B$47)","v":0},{"$f":"F660/(G660*12*memoria!$B$47)","v":0}]
[null,null,null,null,null,null,1,{"$f":"F661*memoria!$B$44/(G661*12*memoria!$B$47)","v":0},{"$f":"F661/(G661*12*memoria!$B$47)","v":0}]
[null,null,null,null,null,null,1,{"$f":"F662*memoria!$B$44/(G662*12*memoria!$B$47)","v":0},{"$f":"F662/(G662*12*memoria!$B$47)","v":0}]
[null,null,null,null,null,null,1,{"$f":"F663*memoria!$B$44/(G663*12*memoria!$B$47)","v":0},{"$f":"F663/(G663*12*memoria!$B$47)","v":0}]
[null,null,null,null,null,null,1,{"$f":"F664*memoria!$B$44/(G664*12*memoria!$B$47)","v":0},{"$f":"F664/(G664*12*memoria!$B$47)","v":0}]
[null,null,null,null,null,null,1,{"$f":"F665*memoria!$B$44/(G665*12*memoria!$B$47)","v":0},{"$f":"F665/(G665*12*memoria!$B$47)","v":0}]
[null,null,null,null,null,null,1,{"$f":"F666*memoria!$B$44/(G666*12*memoria!$B$47)","v":0},{"$f":"F666/(G666*12*memoria!$B$47)","v":0}]
[null,null,null,null,null,null,1,{"$f":"F667*memoria!$B$44/(G667*12*memoria!$B$47)","v":0},{"$f":"F667/(G667*12*memoria!$B$47)","v":0}]
[null,null,null,null,null,null,1,{"$f":"F668*memoria!$B$44/(G668*12*memoria!$B$47)","v":0},{"$f":"F668/(G668*12*memoria!$B$47)","v":0}]
[null,null,null,null,null,null,1,{"$f":"F669*memoria!$B$44/(G669*12*memoria!$B$47)","v":0},{"$f":"F669/(G669*12*memoria!$B$47)","v":0}]
[null,null,null,null,null,null,1,{"$f":"F670*memoria!$B$44/(G670*12*memoria!$B$47)","v":0},{"$f":"F670/(G670*12*memoria!$B$47)","v":0}]
[null,null,null,null,null,null,1,{"$f":"F671*memoria!$B$44/(G671*12*memoria!$B$47)","v":0},{"$f":"F671/(G671*12*memoria!$B$47)","v":0}]
[null,null,null,null,null,null,1,{"$f":"F672*memoria!$B$44/(G672*12*memoria!$B$47)","v":0},{"$f":"F672/(G672*12*memoria!$B$47)","v":0}]
[null,null,null,null,null,null,1,{"$f":"F673*memoria!$B$44/(G673*12*memoria!$B$47)","v":0},{"$f":"F673/(G673*12*memoria!$B$47)","v":0}]
[null,null,null,null,null,null,1,{"$f":"F674*memoria!$B$44/(G674*12*memoria!$B$47)","v":0},{"$f":"F674/(G674*12*memoria!$B$47)","v":0}]
[null,null,null,null,null,null,1,{"$f":"F675*memoria!$B$44/(G675*12*memoria!$B$47)","v":0},{"$f":"F675/(G675*12*memoria!$B$47)","v":0}]
[null,null,null,null,null,null,1,{"$f":"F676*memoria!$B$44/(G676*12*memoria!$B$47)","v":0},{"$f":"F676/(G676*12*memoria!$B$47)","v":0}]
[null,null,null,null,null,null,1,{"$f":"F677*memoria!$B$44/(G677*12*memoria!$B$47)","v":0},{"$f":"F677/(G677*12*memoria!$B$47)","v":0}]
[null,null,null,null,null,null,1,{"$f":"F678*memoria!$B$44/(G678*12*memoria!$B$47)","v":0},{"$f":"F678/(G678*12*memoria!$B$47)","v":0}]
[null,null,null,null,null,null,1,{"$f":"F679*memoria!$B$44/(G679*12*memoria!$B$47)","v":0},{"$f":"F679/(G679*12*memoria!$B$47)","v":0}]
[null,null,null,null,null,null,1,{"$f":"F680*memoria!$B$44/(G680*12*memoria!$B$47)","v":0},{"$f":"F680/(G680*12*memoria!$B$47)","v":0}]
[null,null,null,null,null,null,1,{"$f":"F681*memoria!$B$44/(G681*12*memoria!$B$47)","v":0},{"$f":"F681/(G681*12*memoria!$B$47)","v":0}]
[null,null,null,null,null,null,1,{"$f":"F682*memoria!$B$44/(G682*12*memoria!$B$47)","v":0},{"$f":"F682/(G682*12*memoria!$B$47)","v":0}]
[null,null,null,null,null,null,1,{"$f":"F683*memoria!$B$44/(G683*12*memoria!$B$47)","v":0},{"$f":"F683/(G683*12*memoria!$B$47)","v":0}]
[null,null,null,null,null,null,1,{"$f":"F684*memoria!$B$44/(G684*12*memoria!$B$47)","v":0},{"$f":"F684/(G684*12*memoria!$B$47)","v":0}]
[null,null,null,null,null,null,1,{"$f":"F685*memoria!$B$44/(G685*12*memoria!$B$47)","v":0},{"$f":"F685/(G685*12*memoria!$B$47)","v":0}]
[null,null,null,null,null,null,1,{"$f":"F686*memoria!$B$44/(G686*12*memoria!$B$47)","v":0},{"$f":"F686/(G686*12*memoria!$B$47)","v":0}]
[null,null,null,null,null,null,1,{"$f":"F687*memoria!$B$44/(G687*12*memoria!$B$47)","v":0},{"$f":"F687/(G687*12*memoria!$B$47)","v":0}]
[null,null,null,null,null,null,1,{"$f":"F688*memoria!$B$44/(G688*12*memoria!$B$47)","v":0},{"$f":"F688/(G688*12*memoria!$B$47)","v":0}]
[null,null,null,null,null,null,1,{"$f":"F689*memoria!$B$44/(G689*12*memoria!$B$47)","v":0},{"$f":"F689/(G689*12*memoria!$B$47)","v":0}]
[null,null,null,null,null,null,1,{"$f":"F690*memoria!$B$44/(G690*12*memoria!$B$47)","v":0},{"$f":"F690/(G690*12*memoria!$B$47)","v":0}]
[null,null,null,null,null,null,1,{"$f":"F691*memoria!$B$44/(G691*12*memoria!$B$47)","v":0},{"$f":"F691/(G691*12*memoria!$B$47)","v":0}]
[null,null,null,null,null,null,1,{"$f":"F692*memoria!$B$44/(G692*12*memoria!$B$47)","v":0},{"$f":"F692/(G692*12*memoria!$B$47)","v":0}]
[null,null,null,null,null,null,1,{"$f":"F693*memoria!$B$44/(G693*12*memoria!$B$47)","v":0},{"$f":"F693/(G693*12*memoria!$B$47)","v":0}]
[null,null,null,null,null,null,1,{"$f":"F694*memoria!$B$44/(G694*12*memoria!$B$47)","v":0},{"$f":"F694/(G694*12*memoria!$B$47)","v":0}]
[null,null,null,null,null,null,1,{"$f":"F695*memoria!$B$44/(G695*12*memoria!$B$47)","v":0},{"$f":"F695/(G695*12*memoria!$B$47)","v":0}]
[null,null,null,null,null,null,1,{"$f":"F696*memoria!$B$44/(G696*12*memoria!$B$47)","v":0},{"$f":"F696/(G696*12*memoria!$B$47)","v":0}]
[null,null,null,null,null,null,1,{"$f":"F697*memoria!$B$44/(G697*12*memoria!$B$47)","v":0},{"$f":"F697/(G697*12*memoria!$B$47)","v":0}]
[null,null,null,null,null,null,1,{"$f":"F698*memoria!$B$44/(G698*12*memoria!$B$47)","v":0},{"$f":"F698/(G698*12*memoria!$B$47)","v":0}]
[null,null,null,null,null,null,1,{"$f":"F699*memoria!$B$44/(G699*12*memoria!$B$47)","v":0},{"$f":"F699/(G699*12*memoria!$B$47)","v":0}]
[null,null,null,null,null,null,1,{"$f":"F700*memoria!$B$44/(G700*12*memoria!$B$47)","v":0},{"$f":"F700/(G700*12*memoria!$B$47)","v":0}]
[null,null,null,null,null,null,1,{"$f":"F701*memoria!$B$44/(G701*12*memoria!$B$47)","v":0},{"$f":"F701/(G701*12*memoria!$B$47)","v":0}]
[null,null,null,null,null,null,1,{"$f":"F702*memoria!$B$44/(G702*12*memoria!$B$47)","v":0},{"$f":"F702/(G702*12*memoria!$B$47)","v":0}]
[null,null,null,null,null,null,1,{"$f":"F703*memoria!$B$44/(G703*12*memoria!$B$47)","v":0},{"$f":"F703/(G703*12*memoria!$B$47)","v":0}]
[null,null,null,null,null,null,1,{"$f":"F704*memoria!$B$44/(G704*12*memoria!$B$47)","v":0},{"$f":"F704/(G704*12*memoria!$B$47)","v":0}]
[null,null,null,null,null,null,1,{"$f":"F705*memoria!$B$44/(G705*12*memoria!$B$47)","v":0},{"$f":"F705/(G705*12*memoria!$B$47)","v":0}]
[null,null,null,null,null,null,1,{"$f":"F706*memoria!$B$44/(G706*12*memoria!$B$47)","v":0},{"$f":"F706/(G706*12*memoria!$B$47)","v":0}]
[null,null,null,null,null,null,1,{"$f":"F707*memoria!$B$44/(G707*12*memoria!$B$47)","v":0},{"$f":"F707/(G707*12*memoria!$B$47)","v":0}]
[null,null,null,null,null,null,1,{"$f":"F708*memoria!$B$44/(G708*12*memoria!$B$47)","v":0},{"$f":"F708/(G708*12*memoria!$B$47)","v":0}]
[null,null,null,null,null,null,1,{"$f":"F709*memoria!$B$44/(G709*12*memoria!$B$47)","v":0},{"$f":"F709/(G709*12*memoria!$B$47)","v":0}]
[null,null,null,null,null,null,1,{"$f":"F710*memoria!$B$44/(G710*12*memoria!$B$47)","v":0},{"$f":"F710/(G710*12*memoria!$B$47)","v":0}]
[null,null,null,null,null,null,1,{"$f":"F711*memoria!$B$44/(G711*12*memoria!$B$47)","v":0},{"$f":"F711/(G711*12*memoria!$B$47)","v":0}]
[null,null,null,null,null,null,1,{"$f":"F712*memoria!$B$44/(G712*12*memoria!$B$47)","v":0},{"$f":"F712/(G712*12*memoria!$B$47)","v":0}]
[null,null,null,null,null,null,1,{"$f":"F713*memoria!$B$44/(G713*12*memoria!$B$47)","v":0},{"$f":"F713/(G713*12*memoria!$B$47)","v":0}]
[null,null,null,null,null,null,1,{"$f":"F714*memoria!$B$44/(G714*12*memoria!$B$47)","v":0},{"$f":"F714/(G714*12*memoria!$B$47)","v":0}]
[null,null,null,null,null,null,1,{"$f":"F715*memoria!$B$44/(G715*12*memoria!$B$47)","v":0},{"$f":"F715/(G715*12*memoria!$B$47)","v":0}]
[null,null,null,null,null,null,1,{"$f":"F716*memoria!$B$44/(G716*12*memoria!$B$47)","v":0},{"$f":"F716/(G716*12*memoria!$B$47)","v":0}]
[null,null,null,null,null,null,1,{"$f":"F717*memoria!$B$44/(G717*12*memoria!$B$47)","v":0},{"$f":"F717/(G717*12*memoria!$B$47)","v":0}]
[null,null,null,null,null,null,1,{"$f":"F718*memoria!$B$44/(G718*12*memoria!$B$47)","v":0},{"$f":"F718/(G718*12*memoria!$B$47)","v":0}]
[null,null,null,null,null,null,1,{"$f":"F719*memoria!$B$44/(G719*12*memoria!$B$47)","v":0},{"$f":"F719/(G719*12*memoria!$B$47)","v":0}]
[null,null,null,null,null,null,1,{"$f":"F720*memoria!$B$44/(G720*12*memoria!$B$47)","v":0},{"$f":"F720/(G720*12*memoria!$B$47)","v":0}]
[null,null,null,null,null,null,1,{"$f":"F721*memoria!$B$44/(G721*12*memoria!$B$47)","v":0},{"$f":"F721/(G721*12*memoria!$B$47)","v":0}]
[null,null,null,null,null,null,1,{"$f":"F722*memoria!$B$44/(G722*12*memoria!$B$47)","v":0},{"$f":"F722/(G722*12*memoria!$B$47)","v":0}]
[null,null,null,null,null,null,1,{"$f":"F723*memoria!$B$44/(G723*12*memoria!$B$47)","v":0},{"$f":"F723/(G723*12*memoria!$B$47)","v":0}]
[null,null,null,null,null,null,1,{"$f":"F724*memoria!$B$44/(G724*12*memoria!$B$47)","v":0},{"$f":"F724/(G724*12*memoria!$B$47)","v":0}]
[null,null,null,null,null,null,1,{"$f":"F725*memoria!$B$44/(G725*12*memoria!$B$47)","v":0},{"$f":"F725/(G725*12*memoria!$B$47)","v":0}]
[null,null,null,null,null,null,1,{"$f":"F726*memoria!$B$44/(G726*12*memoria!$B$47)","v":0},{"$f":"F726/(G726*12*memoria!$B$47)","v":0}]
[null,null,null,null,null,null,1,{"$f":"F727*memoria!$B$44/(G727*12*memoria!$B$47)","v":0},{"$f":"F727/(G727*12*memoria!$B$47)","v":0}]
[null,null,null,null,null,null,1,{"$f":"F728*memoria!$B$44/(G728*12*memoria!$B$47)","v":0},{"$f":"F728/(G728*12*memoria!$B$47)","v":0}]
[null,null,null,null,null,null,1,{"$f":"F729*memoria!$B$44/(G729*12*memoria!$B$47)","v":0},{"$f":"F729/(G729*12*memoria!$B$47)","v":0}]
[null,null,null,null,null,null,1,{"$f":"F730*memoria!$B$44/(G730*12*memoria!$B$47)","v":0},{"$f":"F730/(G730*12*memoria!$B$47)","v":0}]
[null,null,null,null,null,null,1,{"$f":"F731*memoria!$B$44/(G731*12*memoria!$B$47)","v":0},{"$f":"F731/(G731*12*memoria!$B$47)","v":0}]
[null,null,null,null,null,null,1,{"$f":"F732*memoria!$B$44/(G732*12*memoria!$B$47)","v":0},{"$f":"F732/(G732*12*memoria!$B$47)","v":0}]
[null,null,null,null,null,null,1,{"$f":"F733*memoria!$B$44/(G733*12*memoria!$B$47)","v":0},{"$f":"F733/(G733*12*memoria!$B$47)","v":0}]
[null,null,null,null,null,null,1,{"$f":"F734*memoria!$B$44/(G734*12*memoria!$B$47)","v":0},{"$f":"F734/(G734*12*memoria!$B$47)","v":0}]
[null,null,null,null,null,null,1,{"$f":"F735*memoria!$B$44/(G735*12*memoria!$B$47)","v":0},{"$f":"F735/(G735*12*memoria!$B$47)","v":0}]
[null,null,null,null,null,null,1,{"$f":"F736*memoria!$B$44/(G736*12*memoria!$B$47)","v":0},{"$f":"F736/(G736*12*memoria!$B$47)","v":0}]
[null,null,null,null,null,null,1,{"$f":"F737*memoria!$B$44/(G737*12*memoria!$B$47)","v":0},{"$f":"F737/(G737*12*memoria!$B$47)","v":0}]
[null,null,null,null,null,null,1,{"$f":"F738*memoria!$B$44/(G738*12*memoria!$B$47)","v":0},{"$f":"F738/(G738*12*memoria!$B$47)","v":0}]
[null,null,null,null,null,null,1,{"$f":"F739*memoria!$B$44/(G739*12*memoria!$B$47)","v":0},{"$f":"F739/(G739*12*memoria!$B$47)","v":0}]
[null,null,null,null,null,null,1,{"$f":"F740*memoria!$B$44/(G740*12*memoria!$B$47)","v":0},{"$f":"F740/(G740*12*memoria!$B$47)","v":0}]
[null,null,null,null,null,null,1,{"$f":"F741*memoria!$B$44/(G741*12*memoria!$B$47)","v":0},{"$f":"F741/(G741*12*memoria!$B$47)","v":0}]
[null,null,null,null,null,null,1,{"$f":"F742*memoria!$B$44/(G742*12*memoria!$B$47)","v":0},{"$f":"F742/(G742*12*memoria!$B$47)","v":0}]
[null,null,null,null,null,null,1,{"$f":"F743*memoria!$B$44/(G743*12*memoria!$B$47)","v":0},{"$f":"F743/(G743*12*memoria!$B$47)","v":0}]
[null,null,null,null,null,null,1,{"$f":"F744*memoria!$B$44/(G744*12*memoria!$B$47)","v":0},{"$f":"F744/(G744*12*memoria!$B$47)","v":0}]
[null,null,null,null,null,null,1,{"$f":"F745*memoria!$B$44/(G745*12*memoria!$B$47)","v":0},{"$f":"F745/(G745*12*memoria!$B$47)","v":0}]
[null,null,null,null,null,null,1,{"$f":"F746*memoria!$B$44/(G746*12*memoria!$B$47)","v":0},{"$f":"F746/(G746*12*memoria!$B$47)","v":0}]
[null,null,null,null,null,null,1,{"$f":"F747*memoria!$B$44/(G747*12*memoria!$B$47)","v":0},{"$f":"F747/(G747*12*memoria!$B$47)","v":0}]
[null,null,null,null,null,null,1,{"$f":"F748*memoria!$B$44/(G748*12*memoria!$B$47)","v":0},{"$f":"F748/(G748*12*memoria!$B$47)","v":0}]
[null,null,null,null,null,null,1,{"$f":"F749*memoria!$B$44/(G749*12*memoria!$B$47)","v":0},{"$f":"F749/(G749*12*memoria!$B$47)","v":0}]
[null,null,null,null,null,null,1,{"$f":"F750*memoria!$B$44/(G750*12*memoria!$B$47)","v":0},{"$f":"F750/(G750*12*memoria!$B$47)","v":0}]
[null,null,null,null,null,null,1,{"$f":"F751*memoria!$B$44/(G751*12*memoria!$B$47)","v":0},{"$f":"F751/(G751*12*memoria!$B$47)","v":0}]
[null,null,null,null,null,null,1,{"$f":"F752*memoria!$B$44/(G752*12*memoria!$B$47)","v":0},{"$f":"F752/(G752*12*memoria!$B$47)","v":0}]
[null,null,null,null,null,null,1,{"$f":"F753*memoria!$B$44/(G753*12*memoria!$B$47)","v":0},{"$f":"F753/(G753*12*memoria!$B$47)","v":0}]
[null,null,null,null,null,null,1,{"$f":"F754*memoria!$B$44/(G754*12*memoria!$B$47)","v":0},{"$f":"F754/(G754*12*memoria!$B$47)","v":0}]
[null,null,null,null,null,null,1,{"$f":"F755*memoria!$B$44/(G755*12*memoria!$B$47)","v":0},{"$f":"F755/(G755*12*memoria!$B$47)","v":0}]
[null,null,null,null,null,null,1,{"$f":"F756*memoria!$B$44/(G756*12*memoria!$B$47)","v":0},{"$f":"F756/(G756*12*memoria!$B$47)","v":0}]
[null,null,null,null,null,null,1,{"$f":"F757*memoria!$B$44/(G757*12*memoria!$B$47)","v":0},{"$f":"F757/(G757*12*memoria!$B$47)","v":0}]
[null,null,null,null,null,null,1,{"$f":"F758*memoria!$B$44/(G758*12*memoria!$B$47)","v":0},{"$f":"F758/(G758*12*memoria!$B$47)","v":0}]
[null,null,null,null,null,null,1,{"$f":"F759*memoria!$B$44/(G759*12*memoria!$B$47)","v":0},{"$f":"F759/(G759*12*memoria!$B$47)","v":0}]
[null,null,null,null,null,null,1,{"$f":"F760*memoria!$B$44/(G760*12*memoria!$B$47)","v":0},{"$f":"F760/(G760*12*memoria!$B$47)","v":0}]
[null,null,null,null,null,null,1,{"$f":"F761*memoria!$B$44/(G761*12*memoria!$B$47)","v":0},{"$f":"F761/(G761*12*memoria!$B$47)","v":0}]
[null,null,null,null,null,null,1,{"$f":"F762*memoria!$B$44/(G762*12*memoria!$B$47)","v":0},{"$f":"F762/(G762*12*memoria!$B$47)","v":0}]
[null,null,null,null,null,null,1,{"$f":"F763*memoria!$B$44/(G763*12*memoria!$B$47)","v":0},{"$f":"F763/(G763*12*memoria!$B$47)","v":0}]
[null,null,null,null,null,null,1,{"$f":"F764*memoria!$B$44/(G764*12*memoria!$B$47)","v":0},{"$f":"F764/(G764*12*memoria!$B$47)","v":0}]
[null,null,null,null,null,null,1,{"$f":"F765*memoria!$B$44/(G765*12*memoria!$B$47)","v":0},{"$f":"F765/(G765*12*memoria!$B$47)","v":0}]
[null,null,null,null,null,null,1,{"$f":"F766*memoria!$B$44/(G766*12*memoria!$B$47)","v":0},{"$f":"F766/(G766*12*memoria!$B$47)","v":0}]
[null,null,null,null,null,null,1,{"$f":"F767*memoria!$B$44/(G767*12*memoria!$B$47)","v":0},{"$f":"F767/(G767*12*memoria!$B$47)","v":0}]
[null,null,null,null,null,null,1,{"$f":"F768*memoria!$B$44/(G768*12*memoria!$B$47)","v":0},{"$f":"F768/(G768*12*memoria!$B$47)","v":0}]
[null,null,null,null,null,null,1,{"$f":"F769*memoria!$B$44/(G769*12*memoria!$B$47)","v":0},{"$f":"F769/(G769*12*memoria!$B$47)","v":0}]
[null,null,null,null,null,null,1,{"$f":"F770*memoria!$B$44/(G770*12*memoria!$B$47)","v":0},{"$f":"F770/(G770*12*memoria!$B$47)","v":0}]
[null,null,null,null,null,null,1,{"$f":"F771*memoria!$B$44/(G771*12*memoria!$B$47)","v":0},{"$f":"F771/(G771*12*memoria!$B$47)","v":0}]
[null,null,null,null,null,null,1,{"$f":"F772*memoria!$B$44/(G772*12*memoria!$B$47)","v":0},{"$f":"F772/(G772*12*memoria!$B$47)","v":0}]
[null,null,null,null,null,null,1,{"$f":"F773*memoria!$B$44/(G773*12*memoria!$B$47)","v":0},{"$f":"F773/(G773*12*memoria!$B$47)","v":0}]
[null,null,null,null,null,null,1,{"$f":"F774*memoria!$B$44/(G774*12*memoria!$B$47)","v":0},{"$f":"F774/(G774*12*memoria!$B$47)","v":0}]
[null,null,null,null,null,null,1,{"$f":"F775*memoria!$B$44/(G775*12*memoria!$B$47)","v":0},{"$f":"F775/(G775*12*memoria!$B$47)","v":0}]
[null,null,null,null,null,null,1,{"$f":"F776*memoria!$B$44/(G776*12*memoria!$B$47)","v":0},{"$f":"F776/(G776*12*memoria!$B$47)","v":0}]
[null,null,null,null,null,null,1,{"$f":"F777*memoria!$B$44/(G777*12*memoria!$B$47)","v":0},{"$f":"F777/(G777*12*memoria!$B$47)","v":0}]
[null,null,null,null,null,null,1,{"$f":"F778*memoria!$B$44/(G778*12*memoria!$B$47)","v":0},{"$f":"F778/(G778*12*memoria!$B$47)","v":0}]
[null,null,null,null,null,null,1,{"$f":"F779*memoria!$B$44/(G779*12*memoria!$B$47)","v":0},{"$f":"F779/(G779*12*memoria!$B$47)","v":0}]
[null,null,null,null,null,null,1,{"$f":"F780*memoria!$B$44/(G780*12*memoria!$B$47)","v":0},{"$f":"F780/(G780*12*memoria!$B$47)","v":0}]
[null,null,null,null,null,null,1,{"$f":"F781*memoria!$B$44/(G781*12*memoria!$B$47)","v":0},{"$f":"F781/(G781*12*memoria!$B$47)","v":0}]
[null,null,null,null,null,null,1,{"$f":"F782*memoria!$B$44/(G782*12*memoria!$B$47)","v":0},{"$f":"F782/(G782*12*memoria!$B$47)","v":0}]
[null,null,null,null,null,null,1,{"$f":"F783*memoria!$B$44/(G783*12*memoria!$B$47)","v":0},{"$f":"F783/(G783*12*memoria!$B$47)","v":0}]
[null,null,null,null,null,null,1,{"$f":"F784*memoria!$B$44/(G784*12*memoria!$B$47)","v":0},{"$f":"F784/(G784*12*memoria!$B$47)","v":0}]
[null,null,null,null,null,null,1,{"$f":"F785*memoria!$B$44/(G785*12*memoria!$B$47)","v":0},{"$f":"F785/(G785*12*memoria!$B$47)","v":0}]
[null,null,null,null,null,null,1,{"$f":"F786*memoria!$B$44/(G786*12*memoria!$B$47)","v":0},{"$f":"F786/(G786*12*memoria!$B$47)","v":0}]
[null,null,null,null,null,null,1,{"$f":"F787*memoria!$B$44/(G787*12*memoria!$B$47)","v":0},{"$f":"F787/(G787*12*memoria!$B$47)","v":0}]
[null,null,null,null,null,null,1,{"$f":"F788*memoria!$B$44/(G788*12*memoria!$B$47)","v":0},{"$f":"F788/(G788*12*memoria!$B$47)","v":0}]
[null,null,null,null,null,null,1,{"$f":"F789*memoria!$B$44/(G789*12*memoria!$B$47)","v":0},{"$f":"F789/(G789*12*memoria!$B$47)","v":0}]
[null,null,null,null,null,null,1,{"$f":"F790*memoria!$B$44/(G790*12*memoria!$B$47)","v":0},{"$f":"F790/(G790*12*memoria!$B$47)","v":0}]
[null,null,null,null,null,null,1,{"$f":"F791*memoria!$B$44/(G791*12*memoria!$B$47)","v":0},{"$f":"F791/(G791*12*memoria!$B$47)","v":0}]
[null,null,null,null,null,null,1,{"$f":"F792*memoria!$B$44/(G792*12*memoria!$B$47)","v":0},{"$f":"F792/(G792*12*memoria!$B$47)","v":0}]
[null,null,null,null,null,null,1,{"$f":"F793*memoria!$B$44/(G793*12*memoria!$B$47)","v":0},{"$f":"F793/(G793*12*memoria!$B$47)","v":0}]
[null,null,null,null,null,null,1,{"$f":"F794*memoria!$B$44/(G794*12*memoria!$B$47)","v":0},{"$f":"F794/(G794*12*memoria!$B$47)","v":0}]
[null,null,null,null,null,null,1,{"$f":"F795*memoria!$B$44/(G795*12*memoria!$B$47)","v":0},{"$f":"F795/(G795*12*memoria!$B$47)","v":0}]
[null,null,null,null,null,null,1,{"$f":"F796*memoria!$B$44/(G796*12*memoria!$B$47)","v":0},{"$f":"F796/(G796*12*memoria!$B$47)","v":0}]
[null,null,null,null,null,null,1,{"$f":"F797*memoria!$B$44/(G797*12*memoria!$B$47)","v":0},{"$f":"F797/(G797*12*memoria!$B$47)","v":0}]
[null,null,null,null,null,null,1,{"$f":"F798*memoria!$B$44/(G798*12*memoria!$B$47)","v":0},{"$f":"F798/(G798*12*memoria!$B$47)","v":0}]
[null,null,null,null,null,null,1,{"$f":"F799*memoria!$B$44/(G799*12*memoria!$B$47)","v":0},{"$f":"F799/(G799*12*memoria!$B$47)","v":0}]
[null,null,null,null,null,null,1,{"$f":"F800*memoria!$B$44/(G800*12*memoria!$B$47)","v":0},{"$f":"F800/(G800*12*memoria!$B$47)","v":0}]
[null,null,null,null,null,null,1,{"$f":"F801*memoria!$B$44/(G801*12*memoria!$B$47)","v":0},{"$f":"F801/(G801*12*memoria!$B$47)","v":0}]
[null,null,null,null,null,null,1,{"$f":"F802*memoria!$B$44/(G802*12*memoria!$B$47)","v":0},{"$f":"F802/(G802*12*memoria!$B$47)","v":0}]
[null,null,null,null,null,null,1,{"$f":"F803*memoria!$B$44/(G803*12*memoria!$B$47)","v":0},{"$f":"F803/(G803*12*memoria!$B$47)","v":0}]
[null,null,null,null,null,null,1,{"$f":"F804*memoria!$B$44/(G804*12*memoria!$B$47)","v":0},{"$f":"F804/(G804*12*memoria!$B$47)","v":0}]
[null,null,null,null,null,null,1,{"$f":"F805*memoria!$B$44/(G805*12*memoria!$B$47)","v":0},{"$f":"F805/(G805*12*memoria!$B$47)","v":0}]
[null,null,null,null,null,null,1,{"$f":"F806*memoria!$B$44/(G806*12*memoria!$B$47)","v":0},{"$f":"F806/(G806*12*memoria!$B$47)","v":0}]
[null,null,null,null,null,null,1,{"$f":"F807*memoria!$B$44/(G807*12*memoria!$B$47)","v":0},{"$f":"F807/(G807*12*memoria!$B$47)","v":0}]
[null,null,null,null,null,null,1,{"$f":"F808*memoria!$B$44/(G808*12*memoria!$B$47)","v":0},{"$f":"F808/(G808*12*memoria!$B$47)","v":0}]
[null,null,null,null,null,null,1,{"$f":"F809*memoria!$B$44/(G809*12*memoria!$B$47)","v":0},{"$f":"F809/(G809*12*memoria!$B$47)","v":0}]
[null,null,null,null,null,null,1,{"$f":"F810*memoria!$B$44/(G810*12*memoria!$B$47)","v":0},{"$f":"F810/(G810*12*memoria!$B$47)","v":0}]
[null,null,null,null,null,null,1,{"$f":"F811*memoria!$B$44/(G811*12*memoria!$B$47)","v":0},{"$f":"F811/(G811*12*memoria!$B$47)","v":0}]
[null,null,null,null,null,null,1,{"$f":"F812*memoria!$B$44/(G812*12*memoria!$B$47)","v":0},{"$f":"F812/(G812*12*memoria!$B$47)","v":0}]
[null,null,null,null,null,null,1,{"$f":"F813*memoria!$B$44/(G813*12*memoria!$B$47)","v":0},{"$f":"F813/(G813*12*memoria!$B$47)","v":0}]
[null,null,null,null,null,null,1,{"$f":"F814*memoria!$B$44/(G814*12*memoria!$B$47)","v":0},{"$f":"F814/(G814*12*memoria!$B$47)","v":0}]
[null,null,null,null,null,null,1,{"$f":"F815*memoria!$B$44/(G815*12*memoria!$B$47)","v":0},{"$f":"F815/(G815*12*memoria!$B$47)","v":0}]
[null,null,null,null,null,null,1,{"$f":"F816*memoria!$B$44/(G816*12*memoria!$B$47)","v":0},{"$f":"F816/(G816*12*memoria!$B$47)","v":0}]
[null,null,null,null,null,null,1,{"$f":"F817*memoria!$B$44/(G817*12*memoria!$B$47)","v":0},{"$f":"F817/(G817*12*memoria!$B$47)","v":0}]
[null,null,null,null,null,null,1,{"$f":"F818*memoria!$B$44/(G818*12*memoria!$B$47)","v":0},{"$f":"F818/(G818*12*memoria!$B$47)","v":0}]
[null,null,null,null,null,null,1,{"$f":"F819*memoria!$B$44/(G819*12*memoria!$B$47)","v":0},{"$f":"F819/(G819*12*memoria!$B$47)","v":0}]
[null,null,null,null,null,null,1,{"$f":"F820*memoria!$B$44/(G820*12*memoria!$B$47)","v":0},{"$f":"F820/(G820*12*memoria!$B$47)","v":0}]
[null,null,null,null,null,null,1,{"$f":"F821*memoria!$B$44/(G821*12*memoria!$B$47)","v":0},{"$f":"F821/(G821*12*memoria!$B$47)","v":0}]
[null,null,null,null,null,null,1,{"$f":"F822*memoria!$B$44/(G822*12*memoria!$B$47)","v":0},{"$f":"F822/(G822*12*memoria!$B$47)","v":0}]
[null,null,null,null,null,null,1,{"$f":"F823*memoria!$B$44/(G823*12*memoria!$B$47)","v":0},{"$f":"F823/(G823*12*memoria!$B$47)","v":0}]
[null,null,null,null,null,null,1,{"$f":"F824*memoria!$B$44/(G824*12*memoria!$B$47)","v":0},{"$f":"F824/(G824*12*memoria!$B$47)","v":0}]
[null,null,null,null,null,null,1,{"$f":"F825*memoria!$B$44/(G825*12*memoria!$B$47)","v":0},{"$f":"F825/(G825*12*memoria!$B$47)","v":0}]
[null,null,null,null,null,null,1,{"$f":"F826*memoria!$B$44/(G826*12*memoria!$B$47)","v":0},{"$f":"F826/(G826*12*memoria!$B$47)","v":0}]
[null,null,null,null,null,null,1,{"$f":"F827*memoria!$B$44/(G827*12*memoria!$B$47)","v":0},{"$f":"F827/(G827*12*memoria!$B$47)","v":0}]
[null,null,null,null,null,null,1,{"$f":"F828*memoria!$B$44/(G828*12*memoria!$B$47)","v":0},{"$f":"F828/(G828*12*memoria!$B$47)","v":0}]
[null,null,null,null,null,null,1,{"$f":"F829*memoria!$B$44/(G829*12*memoria!$B$47)","v":0},{"$f":"F829/(G829*12*memoria!$B$47)","v":0}]
[null,null,null,null,null,null,1,{"$f":"F830*memoria!$B$44/(G830*12*memoria!$B$47)","v":0},{"$f":"F830/(G830*12*memoria!$B$47)","v":0}]
[null,null,null,null,null,null,1,{"$f":"F831*memoria!$B$44/(G831*12*memoria!$B$47)","v":0},{"$f":"F831/(G831*12*memoria!$B$47)","v":0}]
[null,null,null,null,null,null,1,{"$f":"F832*memoria!$B$44/(G832*12*memoria!$B$47)","v":0},{"$f":"F832/(G832*12*memoria!$B$47)","v":0}]
[null,null,null,null,null,null,1,{"$f":"F833*memoria!$B$44/(G833*12*memoria!$B$47)","v":0},{"$f":"F833/(G833*12*memoria!$B$47)","v":0}]
[null,null,null,null,null,null,1,{"$f":"F834*memoria!$B$44/(G834*12*memoria!$B$47)","v":0},{"$f":"F834/(G834*12*memoria!$B$47)","v":0}]
[null,null,null,null,null,null,1,{"$f":"F835*memoria!$B$44/(G835*12*memoria!$B$47)","v":0},{"$f":"F835/(G835*12*memoria!$B$47)","v":0}]
[null,null,null,null,null,null,1,{"$f":"F836*memoria!$B$44/(G836*12*memoria!$B$47)","v":0},{"$f":"F836/(G836*12*memoria!$B$47)","v":0}]
[null,null,null,null,null,null,1,{"$f":"F837*memoria!$B$44/(G837*12*memoria!$B$47)","v":0},{"$f":"F837/(G837*12*memoria!$B$47)","v":0}]
[null,null,null,null,null,null,1,{"$f":"F838*memoria!$B$44/(G838*12*memoria!$B$47)","v":0},{"$f":"F838/(G838*12*memoria!$B$47)","v":0}]
[null,null,null,null,null,null,1,{"$f":"F839*memoria!$B$44/(G839*12*memoria!$B$47)","v":0},{"$f":"F839/(G839*12*memoria!$B$47)","v":0}]
[null,null,null,null,null,null,1,{"$f":"F840*memoria!$B$44/(G840*12*memoria!$B$47)","v":0},{"$f":"F840/(G840*12*memoria!$B$47)","v":0}]
[null,null,null,null,null,null,1,{"$f":"F841*memoria!$B$44/(G841*12*memoria!$B$47)","v":0},{"$f":"F841/(G841*12*memoria!$B$47)","v":0}]
[null,null,null,null,null,null,1,{"$f":"F842*memoria!$B$44/(G842*12*memoria!$B$47)","v":0},{"$f":"F842/(G842*12*memoria!$B$47)","v":0}]
[null,null,null,null,null,null,1,{"$f":"F843*memoria!$B$44/(G843*12*memoria!$B$47)","v":0},{"$f":"F843/(G843*12*memoria!$B$47)","v":0}]
[null,null,null,null,null,null,1,{"$f":"F844*memoria!$B$44/(G844*12*memoria!$B$47)","v":0},{"$f":"F844/(G844*12*memoria!$B$47)","v":0}]
[null,null,null,null,null,null,1,{"$f":"F845*memoria!$B$44/(G845*12*memoria!$B$47)","v":0},{"$f":"F845/(G845*12*memoria!$B$47)","v":0}]
[null,null,null,null,null,null,1,{"$f":"F846*memoria!$B$44/(G846*12*memoria!$B$47)","v":0},{"$f":"F846/(G846*12*memoria!$B$47)","v":0}]
[null,null,null,null,null,null,1,{"$f":"F847*memoria!$B$44/(G847*12*memoria!$B$47)","v":0},{"$f":"F847/(G847*12*memoria!$B$47)","v":0}]
[null,null,null,null,null,null,1,{"$f":"F848*memoria!$B$44/(G848*12*memoria!$B$47)","v":0},{"$f":"F848/(G848*12*memoria!$B$47)","v":0}]
[null,null,null,null,null,null,1,{"$f":"F849*memoria!$B$44/(G849*12*memoria!$B$47)","v":0},{"$f":"F849/(G849*12*memoria!$B$47)","v":0}]
[null,null,null,null,null,null,1,{"$f":"F850*memoria!$B$44/(G850*12*memoria!$B$47)","v":0},{"$f":"F850/(G850*12*memoria!$B$47)","v":0}]
[null,null,null,null,null,null,1,{"$f":"F851*memoria!$B$44/(G851*12*memoria!$B$47)","v":0},{"$f":"F851/(G851*12*memoria!$B$47)","v":0}]
[null,null,null,null,null,null,1,{"$f":"F852*memoria!$B$44/(G852*12*memoria!$B$47)","v":0},{"$f":"F852/(G852*12*memoria!$B$47)","v":0}]
[null,null,null,null,null,null,1,{"$f":"F853*memoria!$B$44/(G853*12*memoria!$B$47)","v":0},{"$f":"F853/(G853*12*memoria!$B$47)","v":0}]
[null,null,null,null,null,null,1,{"$f":"F854*memoria!$B$44/(G854*12*memoria!$B$47)","v":0},{"$f":"F854/(G854*12*memoria!$B$47)","v":0}]
[null,null,null,null,null,null,1,{"$f":"F855*memoria!$B$44/(G855*12*memoria!$B$47)","v":0},{"$f":"F855/(G855*12*memoria!$B$47)","v":0}]
[null,null,null,null,null,null,1,{"$f":"F856*memoria!$B$44/(G856*12*memoria!$B$47)","v":0},{"$f":"F856/(G856*12*memoria!$B$47)","v":0}]
[null,null,null,null,null,null,1,{"$f":"F857*memoria!$B$44/(G857*12*memoria!$B$47)","v":0},{"$f":"F857/(G857*12*memoria!$B$47)","v":0}]
[null,null,null,null,null,null,1,{"$f":"F858*memoria!$B$44/(G858*12*memoria!$B$47)","v":0},{"$f":"F858/(G858*12*memoria!$B$47)","v":0}]
[null,null,null,null,null,null,1,{"$f":"F859*memoria!$B$44/(G859*12*memoria!$B$47)","v":0},{"$f":"F859/(G859*12*memoria!$B$47)","v":0}]
[null,null,null,null,null,null,1,{"$f":"F860*memoria!$B$44/(G860*12*memoria!$B$47)","v":0},{"$f":"F860/(G860*12*memoria!$B$47)","v":0}]
[null,null,null,null,null,null,1,{"$f":"F861*memoria!$B$44/(G861*12*memoria!$B$47)","v":0},{"$f":"F861/(G861*12*memoria!$B$47)","v":0}]
[null,null,null,null,null,null,1,{"$f":"F862*memoria!$B$44/(G862*12*memoria!$B$47)","v":0},{"$f":"F862/(G862*12*memoria!$B$47)","v":0}]
[null,null,null,null,null,null,1,{"$f":"F863*memoria!$B$44/(G863*12*memoria!$B$47)","v":0},{"$f":"F863/(G863*12*memoria!$B$47)","v":0}]
[null,null,null,null,null,null,1,{"$f":"F864*memoria!$B$44/(G864*12*memoria!$B$47)","v":0},{"$f":"F864/(G864*12*memoria!$B$47)","v":0}]
[null,null,null,null,null,null,1,{"$f":"F865*memoria!$B$44/(G865*12*memoria!$B$47)","v":0},{"$f":"F865/(G865*12*memoria!$B$47)","v":0}]
[null,null,null,null,null,null,1,{"$f":"F866*memoria!$B$44/(G866*12*memoria!$B$47)","v":0},{"$f":"F866/(G866*12*memoria!$B$47)","v":0}]
[null,null,null,null,null,null,1,{"$f":"F867*memoria!$B$44/(G867*12*memoria!$B$47)","v":0},{"$f":"F867/(G867*12*memoria!$B$47)","v":0}]
[null,null,null,null,null,null,1,{"$f":"F868*memoria!$B$44/(G868*12*memoria!$B$47)","v":0},{"$f":"F868/(G868*12*memoria!$B$47)","v":0}]
[null,null,null,null,null,null,1,{"$f":"F869*memoria!$B$44/(G869*12*memoria!$B$47)","v":0},{"$f":"F869/(G869*12*memoria!$B$47)","v":0}]
[null,null,null,null,null,null,1,{"$f":"F870*memoria!$B$44/(G870*12*memoria!$B$47)","v":0},{"$f":"F870/(G870*12*memoria!$B$47)","v":0}]
[null,null,null,null,null,null,1,{"$f":"F871*memoria!$B$44/(G871*12*memoria!$B$47)","v":0},{"$f":"F871/(G871*12*memoria!$B$47)","v":0}]
[null,null,null,null,null,null,1,{"$f":"F872*memoria!$B$44/(G872*12*memoria!$B$47)","v":0},{"$f":"F872/(G872*12*memoria!$B$47)","v":0}]
[null,null,null,null,null,null,1,{"$f":"F873*memoria!$B$44/(G873*12*memoria!$B$47)","v":0},{"$f":"F873/(G873*12*memoria!$B$47)","v":0}]
[null,null,null,null,null,null,1,{"$f":"F874*memoria!$B$44/(G874*12*memoria!$B$47)","v":0},{"$f":"F874/(G874*12*memoria!$B$47)","v":0}]
[null,null,null,null,null,null,1,{"$f":"F875*memoria!$B$44/(G875*12*memoria!$B$47)","v":0},{"$f":"F875/(G875*12*memoria!$B$47)","v":0}]
[null,null,null,null,null,null,1,{"$f":"F876*memoria!$B$44/(G876*12*memoria!$B$47)","v":0},{"$f":"F876/(G876*12*memoria!$B$47)","v":0}]
[null,null,null,null,null,null,1,{"$f":"F877*memoria!$B$44/(G877*12*memoria!$B$47)","v":0},{"$f":"F877/(G877*12*memoria!$B$47)","v":0}]
[null,null,null,null,null,null,1,{"$f":"F878*memoria!$B$44/(G878*12*memoria!$B$47)","v":0},{"$f":"F878/(G878*12*memoria!$B$47)","v":0}]
[null,null,null,null,null,null,1,{"$f":"F879*memoria!$B$44/(G879*12*memoria!$B$47)","v":0},{"$f":"F879/(G879*12*memoria!$B$47)","v":0}]
[null,null,null,null,null,null,1,{"$f":"F880*memoria!$B$44/(G880*12*memoria!$B$47)","v":0},{"$f":"F880/(G880*12*memoria!$B$47)","v":0}]
[null,null,null,null,null,null,1,{"$f":"F881*memoria!$B$44/(G881*12*memoria!$B$47)","v":0},{"$f":"F881/(G881*12*memoria!$B$47)","v":0}]
[null,null,null,null,null,null,1,{"$f":"F882*memoria!$B$44/(G882*12*memoria!$B$47)","v":0},{"$f":"F882/(G882*12*memoria!$B$47)","v":0}]
[null,null,null,null,null,null,1,{"$f":"F883*memoria!$B$44/(G883*12*memoria!$B$47)","v":0},{"$f":"F883/(G883*12*memoria!$B$47)","v":0}]
[null,null,null,null,null,null,1,{"$f":"F884*memoria!$B$44/(G884*12*memoria!$B$47)","v":0},{"$f":"F884/(G884*12*memoria!$B$47)","v":0}]
[null,null,null,null,null,null,1,{"$f":"F885*memoria!$B$44/(G885*12*memoria!$B$47)","v":0},{"$f":"F885/(G885*12*memoria!$B$47)","v":0}]
[null,null,null,null,null,null,1,{"$f":"F886*memoria!$B$44/(G886*12*memoria!$B$47)","v":0},{"$f":"F886/(G886*12*memoria!$B$47)","v":0}]
[null,null,null,null,null,null,1,{"$f":"F887*memoria!$B$44/(G887*12*memoria!$B$47)","v":0},{"$f":"F887/(G887*12*memoria!$B$47)","v":0}]
[null,null,null,null,null,null,1,{"$f":"F888*memoria!$B$44/(G888*12*memoria!$B$47)","v":0},{"$f":"F888/(G888*12*memoria!$B$47)","v":0}]
[null,null,null,null,null,null,1,{"$f":"F889*memoria!$B$44/(G889*12*memoria!$B$47)","v":0},{"$f":"F889/(G889*12*memoria!$B$47)","v":0}]
[null,null,null,null,null,null,1,{"$f":"F890*memoria!$B$44/(G890*12*memoria!$B$47)","v":0},{"$f":"F890/(G890*12*memoria!$B$47)","v":0}]
[null,null,null,null,null,null,1,{"$f":"F891*memoria!$B$44/(G891*12*memoria!$B$47)","v":0},{"$f":"F891/(G891*12*memoria!$B$47)","v":0}]
[null,null,null,null,null,null,1,{"$f":"F892*memoria!$B$44/(G892*12*memoria!$B$47)","v":0},{"$f":"F892/(G892*12*memoria!$B$47)","v":0}]
[null,null,null,null,null,null,1,{"$f":"F893*memoria!$B$44/(G893*12*memoria!$B$47)","v":0},{"$f":"F893/(G893*12*memoria!$B$47)","v":0}]
[null,null,null,null,null,null,1,{"$f":"F894*memoria!$B$44/(G894*12*memoria!$B$47)","v":0},{"$f":"F894/(G894*12*memoria!$B$47)","v":0}]
[null,null,null,null,null,null,1,{"$f":"F895*memoria!$B$44/(G895*12*memoria!$B$47)","v":0},{"$f":"F895/(G895*12*memoria!$B$47)","v":0}]
[null,null,null,null,null,null,1,{"$f":"F896*memoria!$B$44/(G896*12*memoria!$B$47)","v":0},{"$f":"F896/(G896*12*memoria!$B$47)","v":0}]
[null,null,null,null,null,null,1,{"$f":"F897*memoria!$B$44/(G897*12*memoria!$B$47)","v":0},{"$f":"F897/(G897*12*memoria!$B$47)","v":0}]
[null,null,null,null,null,null,1,{"$f":"F898*memoria!$B$44/(G898*12*memoria!$B$47)","v":0},{"$f":"F898/(G898*12*memoria!$B$47)","v":0}]
[null,null,null,null,null,null,1,{"$f":"F899*memoria!$B$44/(G899*12*memoria!$B$47)","v":0},{"$f":"F899/(G899*12*memoria!$B$47)","v":0}]
[null,null,null,null,null,null,1,{"$f":"F900*memoria!$B$44/(G900*12*memoria!$B$47)","v":0},{"$f":"F900/(G900*12*memoria!$B$47)","v":0}]
[null,null,null,null,null,null,1,{"$f":"F901*memoria!$B$44/(G901*12*memoria!$B$47)","v":0},{"$f":"F901/(G901*12*memoria!$B$47)","v":0}]
[null,null,null,null,null,null,1,{"$f":"F902*memoria!$B$44/(G902*12*memoria!$B$47)","v":0},{"$f":"F902/(G902*12*memoria!$B$47)","v":0}]
[null,null,null,null,null,null,1,{"$f":"F903*memoria!$B$44/(G903*12*memoria!$B$47)","v":0},{"$f":"F903/(G903*12*memoria!$B$47)","v":0}]
[null,null,null,null,null,null,1,{"$f":"F904*memoria!$B$44/(G904*12*memoria!$B$47)","v":0},{"$f":"F904/(G904*12*memoria!$B$47)","v":0}]
[null,null,null,null,null,null,1,{"$f":"F905*memoria!$B$44/(G905*12*memoria!$B$47)","v":0},{"$f":"F905/(G905*12*memoria!$B$47)","v":0}]
[null,null,null,null,null,null,1,{"$f":"F906*memoria!$B$44/(G906*12*memoria!$B$47)","v":0},{"$f":"F906/(G906*12*memoria!$B$47)","v":0}]
[null,null,null,null,null,null,1,{"$f":"F907*memoria!$B$44/(G907*12*memoria!$B$47)","v":0},{"$f":"F907/(G907*12*memoria!$B$47)","v":0}]
[null,null,null,null,null,null,1,{"$f":"F908*memoria!$B$44/(G908*12*memoria!$B$47)","v":0},{"$f":"F908/(G908*12*memoria!$B$47)","v":0}]
[null,null,null,null,null,null,1,{"$f":"F909*memoria!$B$44/(G909*12*memoria!$B$47)","v":0},{"$f":"F909/(G909*12*memoria!$B$47)","v":0}]
[null,null,null,null,null,null,1,{"$f":"F910*memoria!$B$44/(G910*12*memoria!$B$47)","v":0},{"$f":"F910/(G910*12*memoria!$B$47)","v":0}]
[null,null,null,null,null,null,1,{"$f":"F911*memoria!$B$44/(G911*12*memoria!$B$47)","v":0},{"$f":"F911/(G911*12*memoria!$B$47)","v":0}]
[null,null,null,null,null,null,1,{"$f":"F912*memoria!$B$44/(G912*12*memoria!$B$47)","v":0},{"$f":"F912/(G912*12*memoria!$B$47)","v":0}]
[null,null,null,null,null,null,1,{"$f":"F913*memoria!$B$44/(G913*12*memoria!$B$47)","v":0},{"$f":"F913/(G913*12*memoria!$B$47)","v":0}]
[null,null,null,null,null,null,1,{"$f":"F914*memoria!$B$44/(G914*12*memoria!$B$47)","v":0},{"$f":"F914/(G914*12*memoria!$B$47)","v":0}]
[null,null,null,null,null,null,1,{"$f":"F915*memoria!$B$44/(G915*12*memoria!$B$47)","v":0},{"$f":"F915/(G915*12*memoria!$B$47)","v":0}]
[null,null,null,null,null,null,1,{"$f":"F916*memoria!$B$44/(G916*12*memoria!$B$47)","v":0},{"$f":"F916/(G916*12*memoria!$B$47)","v":0}]
[null,null,null,null,null,null,1,{"$f":"F917*memoria!$B$44/(G917*12*memoria!$B$47)","v":0},{"$f":"F917/(G917*12*memoria!$B$47)","v":0}]
[null,null,null,null,null,null,1,{"$f":"F918*memoria!$B$44/(G918*12*memoria!$B$47)","v":0},{"$f":"F918/(G918*12*memoria!$B$47)","v":0}]
[null,null,null,null,null,null,1,{"$f":"F919*memoria!$B$44/(G919*12*memoria!$B$47)","v":0},{"$f":"F919/(G919*12*memoria!$B$47)","v":0}]
[null,null,null,null,null,null,1,{"$f":"F920*memoria!$B$44/(G920*12*memoria!$B$47)","v":0},{"$f":"F920/(G920*12*memoria!$B$47)","v":0}]
[null,null,null,null,null,null,1,{"$f":"F921*memoria!$B$44/(G921*12*memoria!$B$47)","v":0},{"$f":"F921/(G921*12*memoria!$B$47)","v":0}]
[null,null,null,null,null,null,1,{"$f":"F922*memoria!$B$44/(G922*12*memoria!$B$47)","v":0},{"$f":"F922/(G922*12*memoria!$B$47)","v":0}]
[null,null,null,null,null,null,1,{"$f":"F923*memoria!$B$44/(G923*12*memoria!$B$47)","v":0},{"$f":"F923/(G923*12*memoria!$B$47)","v":0}]
[null,null,null,null,null,null,1,{"$f":"F924*memoria!$B$44/(G924*12*memoria!$B$47)","v":0},{"$f":"F924/(G924*12*memoria!$B$47)","v":0}]
[null,null,null,null,null,null,1,{"$f":"F925*memoria!$B$44/(G925*12*memoria!$B$47)","v":0},{"$f":"F925/(G925*12*memoria!$B$47)","v":0}]
[null,null,null,null,null,null,1,{"$f":"F926*memoria!$B$44/(G926*12*memoria!$B$47)","v":0},{"$f":"F926/(G926*12*memoria!$B$47)","v":0}]
[null,null,null,null,null,null,1,{"$f":"F927*memoria!$B$44/(G927*12*memoria!$B$47)","v":0},{"$f":"F927/(G927*12*memoria!$B$47)","v":0}]
[null,null,null,null,null,null,1,{"$f":"F928*memoria!$B$44/(G928*12*memoria!$B$47)","v":0},{"$f":"F928/(G928*12*memoria!$B$47)","v":0}]
[null,null,null,null,null,null,1,{"$f":"F929*memoria!$B$44/(G929*12*memoria!$B$47)","v":0},{"$f":"F929/(G929*12*memoria!$B$47)","v":0}]
[null,null,null,null,null,null,1,{"$f":"F930*memoria!$B$44/(G930*12*memoria!$B$47)","v":0},{"$f":"F930/(G930*12*memoria!$B$47)","v":0}]
[null,null,null,null,null,null,1,{"$f":"F931*memoria!$B$44/(G931*12*memoria!$B$47)","v":0},{"$f":"F931/(G931*12*memoria!$B$47)","v":0}]
[null,null,null,null,null,null,1,{"$f":"F932*memoria!$B$44/(G932*12*memoria!$B$47)","v":0},{"$f":"F932/(G932*12*memoria!$B$47)","v":0}]
[null,null,null,null,null,null,1,{"$f":"F933*memoria!$B$44/(G933*12*memoria!$B$47)","v":0},{"$f":"F933/(G933*12*memoria!$B$47)","v":0}]
[null,null,null,null,null,null,1,{"$f":"F934*memoria!$B$44/(G934*12*memoria!$B$47)","v":0},{"$f":"F934/(G934*12*memoria!$B$47)","v":0}]
[null,null,null,null,null,null,1,{"$f":"F935*memoria!$B$44/(G935*12*memoria!$B$47)","v":0},{"$f":"F935/(G935*12*memoria!$B$47)","v":0}]
[null,null,null,null,null,null,1,{"$f":"F936*memoria!$B$44/(G936*12*memoria!$B$47)","v":0},{"$f":"F936/(G936*12*memoria!$B$47)","v":0}]
[null,null,null,null,null,null,1,{"$f":"F937*memoria!$B$44/(G937*12*memoria!$B$47)","v":0},{"$f":"F937/(G937*12*memoria!$B$47)","v":0}]
[null,null,null,null,null,null,1,{"$f":"F938*memoria!$B$44/(G938*12*memoria!$B$47)","v":0},{"$f":"F938/(G938*12*memoria!$B$47)","v":0}]
[null,null,null,null,null,null,1,{"$f":"F939*memoria!$B$44/(G939*12*memoria!$B$47)","v":0},{"$f":"F939/(G939*12*memoria!$B$47)","v":0}]
[null,null,null,null,null,null,1,{"$f":"F940*memoria!$B$44/(G940*12*memoria!$B$47)","v":0},{"$f":"F940/(G940*12*memoria!$B$47)","v":0}]
[null,null,null,null,null,null,1,{"$f":"F941*memoria!$B$44/(G941*12*memoria!$B$47)","v":0},{"$f":"F941/(G941*12*memoria!$B$47)","v":0}]
[null,null,null,null,null,null,1,{"$f":"F942*memoria!$B$44/(G942*12*memoria!$B$47)","v":0},{"$f":"F942/(G942*12*memoria!$B$47)","v":0}]
[null,null,null,null,null,null,1,{"$f":"F943*memoria!$B$44/(G943*12*memoria!$B$47)","v":0},{"$f":"F943/(G943*12*memoria!$B$47)","v":0}]
[null,null,null,null,null,null,1,{"$f":"F944*memoria!$B$44/(G944*12*memoria!$B$47)","v":0},{"$f":"F944/(G944*12*memoria!$B$47)","v":0}]
[null,null,null,null,null,null,1,{"$f":"F945*memoria!$B$44/(G945*12*memoria!$B$47)","v":0},{"$f":"F945/(G945*12*memoria!$B$47)","v":0}]
[null,null,null,null,null,null,1,{"$f":"F946*memoria!$B$44/(G946*12*memoria!$B$47)","v":0},{"$f":"F946/(G946*12*memoria!$B$47)","v":0}]
[null,null,null,null,null,null,1,{"$f":"F947*memoria!$B$44/(G947*12*memoria!$B$47)","v":0},{"$f":"F947/(G947*12*memoria!$B$47)","v":0}]
[null,null,null,null,null,null,1,{"$f":"F948*memoria!$B$44/(G948*12*memoria!$B$47)","v":0},{"$f":"F948/(G948*12*memoria!$B$47)","v":0}]
[null,null,null,null,null,null,1,{"$f":"F949*memoria!$B$44/(G949*12*memoria!$B$47)","v":0},{"$f":"F949/(G949*12*memoria!$B$47)","v":0}]
[null,null,null,null,null,null,1,{"$f":"F950*memoria!$B$44/(G950*12*memoria!$B$47)","v":0},{"$f":"F950/(G950*12*memoria!$B$47)","v":0}]
[null,null,null,null,null,null,1,{"$f":"F951*memoria!$B$44/(G951*12*memoria!$B$47)","v":0},{"$f":"F951/(G951*12*memoria!$B$47)","v":0}]
[null,null,null,null,null,null,1,{"$f":"F952*memoria!$B$44/(G952*12*memoria!$B$47)","v":0},{"$f":"F952/(G952*12*memoria!$B$47)","v":0}]
[null,null,null,null,null,null,1,{"$f":"F953*memoria!$B$44/(G953*12*memoria!$B$47)","v":0},{"$f":"F953/(G953*12*memoria!$B$47)","v":0}]
[null,null,null,null,null,null,1,{"$f":"F954*memoria!$B$44/(G954*12*memoria!$B$47)","v":0},{"$f":"F954/(G954*12*memoria!$B$47)","v":0}]
[null,null,null,null,null,null,1,{"$f":"F955*memoria!$B$44/(G955*12*memoria!$B$47)","v":0},{"$f":"F955/(G955*12*memoria!$B$47)","v":0}]
[null,null,null,null,null,null,1,{"$f":"F956*memoria!$B$44/(G956*12*memoria!$B$47)","v":0},{"$f":"F956/(G956*12*memoria!$B$47)","v":0}]
[null,null,null,null,null,null,1,{"$f":"F957*memoria!$B$44/(G957*12*memoria!$B$47)","v":0},{"$f":"F957/(G957*12*memoria!$B$47)","v":0}]
[null,null,null,null,null,null,1,{"$f":"F958*memoria!$B$44/(G958*12*memoria!$B$47)","v":0},{"$f":"F958/(G958*12*memoria!$B$47)","v":0}]
[null,null,null,null,null,null,1,{"$f":"F959*memoria!$B$44/(G959*12*memoria!$B$47)","v":0},{"$f":"F959/(G959*12*memoria!$B$47)","v":0}]
[null,null,null,null,null,null,1,{"$f":"F960*memoria!$B$44/(G960*12*memoria!$B$47)","v":0},{"$f":"F960/(G960*12*memoria!$B$47)","v":0}]
[null,null,null,null,null,null,1,{"$f":"F961*memoria!$B$44/(G961*12*memoria!$B$47)","v":0},{"$f":"F961/(G961*12*memoria!$B$47)","v":0}]
[null,null,null,null,null,null,1,{"$f":"F962*memoria!$B$44/(G962*12*memoria!$B$47)","v":0},{"$f":"F962/(G962*12*memoria!$B$47)","v":0}]
[null,null,null,null,null,null,1,{"$f":"F963*memoria!$B$44/(G963*12*memoria!$B$47)","v":0},{"$f":"F963/(G963*12*memoria!$B$47)","v":0}]
[null,null,null,null,null,null,1,{"$f":"F964*memoria!$B$44/(G964*12*memoria!$B$47)","v":0},{"$f":"F964/(G964*12*memoria!$B$47)","v":0}]
[null,null,null,null,null,null,1,{"$f":"F965*memoria!$B$44/(G965*12*memoria!$B$47)","v":0},{"$f":"F965/(G965*12*memoria!$B$47)","v":0}]
[null,null,null,null,null,null,1,{"$f":"F966*memoria!$B$44/(G966*12*memoria!$B$47)","v":0},{"$f":"F966/(G966*12*memoria!$B$47)","v":0}]
[null,null,null,null,null,null,1,{"$f":"F967*memoria!$B$44/(G967*12*memoria!$B$47)","v":0},{"$f":"F967/(G967*12*memoria!$B$47)","v":0}]
[null,null,null,null,null,null,1,{"$f":"F968*memoria!$B$44/(G968*12*memoria!$B$47)","v":0},{"$f":"F968/(G968*12*memoria!$B$47)","v":0}]
[null,null,null,null,null,null,1,{"$f":"F969*memoria!$B$44/(G969*12*memoria!$B$47)","v":0},{"$f":"F969/(G969*12*memoria!$B$47)","v":0}]
[null,null,null,null,null,null,1,{"$f":"F970*memoria!$B$44/(G970*12*memoria!$B$47)","v":0},{"$f":"F970/(G970*12*memoria!$B$47)","v":0}]
[null,null,null,null,null,null,1,{"$f":"F971*memoria!$B$44/(G971*12*memoria!$B$47)","v":0},{"$f":"F971/(G971*12*memoria!$B$47)","v":0}]
[null,null,null,null,null,null,1,{"$f":"F972*memoria!$B$44/(G972*12*memoria!$B$47)","v":0},{"$f":"F972/(G972*12*memoria!$B$47)","v":0}]
[null,null,null,null,null,null,1,{"$f":"F973*memoria!$B$44/(G973*12*memoria!$B$47)","v":0},{"$f":"F973/(G973*12*memoria!$B$47)","v":0}]
[null,null,null,null,null,null,1,{"$f":"F974*memoria!$B$44/(G974*12*memoria!$B$47)","v":0},{"$f":"F974/(G974*12*memoria!$B$47)","v":0}]
[null,null,null,null,null,null,1,{"$f":"F975*memoria!$B$44/(G975*12*memoria!$B$47)","v":0},{"$f":"F975/(G975*12*memoria!$B$47)","v":0}]
[null,null,null,null,null,null,1,{"$f":"F976*memoria!$B$44/(G976*12*memoria!$B$47)","v":0},{"$f":"F976/(G976*12*memoria!$B$47)","v":0}]
[null,null,null,null,null,null,1,{"$f":"F977*memoria!$B$44/(G977*12*memoria!$B$47)","v":0},{"$f":"F977/(G977*12*memoria!$B$47)","v":0}]
[null,null,null,null,null,null,1,{"$f":"F978*memoria!$B$44/(G978*12*memoria!$B$47)","v":0},{"$f":"F978/(G978*12*memoria!$B$47)","v":0}]
[null,null,null,null,null,null,1,{"$f":"F979*memoria!$B$44/(G979*12*memoria!$B$47)","v":0},{"$f":"F979/(G979*12*memoria!$B$47)","v":0}]
[null,null,null,null,null,null,1,{"$f":"F980*memoria!$B$44/(G980*12*memoria!$B$47)","v":0},{"$f":"F980/(G980*12*memoria!$B$47)","v":0}]
[null,null,null,null,null,null,1,{"$f":"F981*memoria!$B$44/(G981*12*memoria!$B$47)","v":0},{"$f":"F981/(G981*12*memoria!$B$47)","v":0}]
[null,null,null,null,null,null,1,{"$f":"F982*memoria!$B$44/(G982*12*memoria!$B$47)","v":0},{"$f":"F982/(G982*12*memoria!$B$47)","v":0}]
[null,null,null,null,null,null,1,{"$f":"F983*memoria!$B$44/(G983*12*memoria!$B$47)","v":0},{"$f":"F983/(G983*12*memoria!$B$47)","v":0}]
[null,null,null,null,null,null,1,{"$f":"F984*memoria!$B$44/(G984*12*memoria!$B$47)","v":0},{"$f":"F984/(G984*12*memoria!$B$47)","v":0}]
[null,null,null,null,null,null,1,{"$f":"F985*memoria!$B$44/(G985*12*memoria!$B$47)","v":0},{"$f":"F985/(G985*12*memoria!$B$47)","v":0}]
[null,null,null,null,null,null,1,{"$f":"F986*memoria!$B$44/(G986*12*memoria!$B$47)","v":0},{"$f":"F986/(G986*12*memoria!$B$47)","v":0}]
[null,null,null,null,null,null,1,{"$f":"F987*memoria!$B$44/(G987*12*memoria!$B$47)","v":0},{"$f":"F987/(G987*12*memoria!$B$47)","v":0}]
[null,null,null,null,null,null,1,{"$f":"F988*memoria!$B$44/(G988*12*memoria!$B$47)","v":0},{"$f":"F988/(G988*12*memoria!$B$47)","v":0}]
[null,null,null,null,null,null,1,{"$f":"F989*memoria!$B$44/(G989*12*memoria!$B$47)","v":0},{"$f":"F989/(G989*12*memoria!$B$47)","v":0}]
[null,null,null,null,null,null,1,{"$f":"F990*memoria!$B$44/(G990*12*memoria!$B$47)","v":0},{"$f":"F990/(G990*12*memoria!$B$47)","v":0}]
[null,null,null,null,null,null,1,{"$f":"F991*memoria!$B$44/(G991*12*memoria!$B$47)","v":0},{"$f":"F991/(G991*12*memoria!$B$47)","v":0}]
[null,null,null,null,null,null,1,{"$f":"F992*memoria!$B$44/(G992*12*memoria!$B$47)","v":0},{"$f":"F992/(G992*12*memoria!$B$47)","v":0}]
[null,null,null,null,null,null,1,{"$f":"F993*memoria!$B$44/(G993*12*memoria!$B$47)","v":0},{"$f":"F993/(G993*12*memoria!$B$47)","v":0}]
[null,null,null,null,null,null,1,{"$f":"F994*memoria!$B$44/(G994*12*memoria!$B$47)","v":0},{"$f":"F994/(G994*12*memoria!$B$47)","v":0}]
[null,null,null,null,null,null,1,{"$f":"F995*memoria!$B$44/(G995*12*memoria!$B$47)","v":0},{"$f":"F995/(G995*12*memoria!$B$47)","v":0}]
[null,null,null,null,null,null,1,{"$f":"F996*memoria!$B$44/(G996*12*memoria!$B$47)","v":0},{"$f":"F996/(G996*12*memoria!$B$47)","v":0}]
[null,null,null,null,null,null,1,{"$f":"F997*memoria!$B$44/(G997*12*memoria!$B$47)","v":0},{"$f":"F997/(G997*12*memoria!$B$47)","v":0}]
[null,null,null,null,null,null,1,{"$f":"F998*memoria!$B$44/(G998*12*memoria!$B$47)","v":0},{"$f":"F998/(G998*12*memoria!$B$47)","v":0}]
[null,null,null,null,null,null,1,{"$f":"F999*memoria!$B$44/(G999*12*memoria!$B$47)","v":0},{"$f":"F999/(G999*12*memoria!$B$47)","v":0}]
[null,null,null,null,null,null,1,{"$f":"F1000*memoria!$B$44/(G1000*12*memoria!$B$47)","v":0},{"$f":"F1000/(G1000*12*memoria!$B$47)","v":0}]
[null,null,null,null,null,null,1,{"$f":"F1001*memoria!$B$44/(G1001*12*memoria!$B$47)","v":0},{"$f":"F1001/(G1001*12*memoria!$B$47)","v":0}]
[null,null,null,null,null,null,1,{"$f":"F1002*memoria!$B$44/(G1002*12*memoria!$B$47)","v":0},{"$f":"F1002/(G1002*12*memoria!$B$47)","v":0}]
[null,null,null,null,null,null,1,{"$f":"F1003*memoria!$B$44/(G1003*12*memoria!$B$47)","v":0},{"$f":"F1003/(G1003*12*memoria!$B$47)","v":0}]
[null,null,null,null,null,null,1,{"$f":"F1004*memoria!$B$44/(G1004*12*memoria!$B$47)","v":0},{"$f":"F1004/(G1004*12*memoria!$B$47)","v":0}]
[null,null,null,null,null,null,1,{"$f":"F1005*memoria!$B$44/(G1005*12*memoria!$B$47)","v":0},{"$f":"F1005/(G1005*12*memoria!$B$47)","v":0}]
[null,null,null,null,null,null,1,{"$f":"F1006*memoria!$B$44/(G1006*12*memoria!$B$47)","v":0},{"$f":"F1006/(G1006*12*memoria!$B$47)","v":0}]
[null,null,null,null,null,null,1,{"$f":"F1007*memoria!$B$44/(G1007*12*memoria!$B$47)","v":0},{"$f":"F1007/(G1007*12*memoria!$B$47)","v":0}]
[null,null,null,null,null,null,1,{"$f":"F1008*memoria!$B$44/(G1008*12*memoria!$B$47)","v":0},{"$f":"F1008/(G1008*12*memoria!$B$47)","v":0}]
[null,null,null,null,null,null,1,{"$f":"F1009*memoria!$B$44/(G1009*12*memoria!$B$47)","v":0},{"$f":"F1009/(G1009*12*memoria!$B$47)","v":0}]
[null,null,null,null,null,null,1,{"$f":"F1010*memoria!$B$44/(G1010*12*memoria!$B$47)","v":0},{"$f":"F1010/(G1010*12*memoria!$B$47)","v":0}]
[null,null,null,null,null,null,1,{"$f":"F1011*memoria!$B$44/(G1011*12*memoria!$B$47)","v":0},{"$f":"F1011/(G1011*12*memoria!$B$47)","v":0}]
[null,null,null,null,null,null,1,{"$f":"F1012*memoria!$B$44/(G1012*12*memoria!$B$47)","v":0},{"$f":"F1012/(G1012*12*memoria!$B$47)","v":0}]
[null,null,null,null,null,null,1,{"$f":"F1013*memoria!$B$44/(G1013*12*memoria!$B$47)","v":0},{"$f":"F1013/(G1013*12*memoria!$B$47)","v":0}]
[null,null,null,null,null,null,1,{"$f":"F1014*memoria!$B$44/(G1014*12*memoria!$B$47)","v":0},{"$f":"F1014/(G1014*12*memoria!$B$47)","v":0}]
[null,null,null,null,null,null,1,{"$f":"F1015*memoria!$B$44/(G1015*12*memoria!$B$47)","v":0},{"$f":"F1015/(G1015*12*memoria!$B$47)","v":0}]
[null,null,null,null,null,null,1,{"$f":"F1016*memoria!$B$44/(G1016*12*memoria!$B$47)","v":0},{"$f":"F1016/(G1016*12*memoria!$B$47)","v":0}]
[null,null,null,null,null,null,1,{"$f":"F1017*memoria!$B$44/(G1017*12*memoria!$B$47)","v":0},{"$f":"F1017/(G1017*12*memoria!$B$47)","v":0}]
[null,null,null,null,null,null,1,{"$f":"F1018*memoria!$B$44/(G1018*12*memoria!$B$47)","v":0},{"$f":"F1018/(G1018*12*memoria!$B$47)","v":0}]
[null,null,null,null,null,null,1,{"$f":"F1019*memoria!$B$44/(G1019*12*memoria!$B$47)","v":0},{"$f":"F1019/(G1019*12*memoria!$B$47)","v":0}]
[null,null,null,null,null,null,1,{"$f":"F1020*memoria!$B$44/(G1020*12*memoria!$B$47)","v":0},{"$f":"F1020/(G1020*12*memoria!$B$47)","v":0}]
[null,null,null,null,null,null,1,{"$f":"F1021*memoria!$B$44/(G1021*12*memoria!$B$47)","v":0},{"$f":"F1021/(G1021*12*memoria!$B$47)","v":0}]
[null,null,null,null,null,null,1,{"$f":"F1022*memoria!$B$44/(G1022*12*memoria!$B$47)","v":0},{"$f":"F1022/(G1022*12*memoria!$B$47)","v":0}]
[null,null,null,null,null,null,1,{"$f":"F1023*memoria!$B$44/(G1023*12*memoria!$B$47)","v":0},{"$f":"F1023/(G1023*12*memoria!$B$47)","v":0}]
[null,null,null,null,null,null,1,{"$f":"F1024*memoria!$B$44/(G1024*12*memoria!$B$47)","v":0},{"$f":"F1024/(G1024*12*memoria!$B$47)","v":0}]
[null,null,null,null,null,null,1,{"$f":"F1025*memoria!$B$44/(G1025*12*memoria!$B$47)","v":0},{"$f":"F1025/(G1025*12*memoria!$B$47)","v":0}]
[null,null,null,null,null,null,1,{"$f":"F1026*memoria!$B$44/(G1026*12*memoria!$B$47)","v":0},{"$f":"F1026/(G1026*12*memoria!$B$47)","v":0}]
[null,null,null,null,null,null,1,{"$f":"F1027*memoria!$B$44/(G1027*12*memoria!$B$47)","v":0},{"$f":"F1027/(G1027*12*memoria!$B$47)","v":0}]
[null,null,null,null,null,null,1,{"$f":"F1028*memoria!$B$44/(G1028*12*memoria!$B$47)","v":0},{"$f":"F1028/(G1028*12*memoria!$B$47)","v":0}]
[null,null,null,null,null,null,1,{"$f":"F1029*memoria!$B$44/(G1029*12*memoria!$B$47)","v":0},{"$f":"F1029/(G1029*12*memoria!$B$47)","v":0}]
[null,null,null,null,null,null,1,{"$f":"F1030*memoria!$B$44/(G1030*12*memoria!$B$47)","v":0},{"$f":"F1030/(G1030*12*memoria!$B$47)","v":0}]
[null,null,null,null,null,null,1,{"$f":"F1031*memoria!$B$44/(G1031*12*memoria!$B$47)","v":0},{"$f":"F1031/(G1031*12*memoria!$B$47)","v":0}]
[null,null,null,null,null,null,1,{"$f":"F1032*memoria!$B$44/(G1032*12*memoria!$B$47)","v":0},{"$f":"F1032/(G1032*12*memoria!$B$47)","v":0}]
[null,null,null,null,null,null,1,{"$f":"F1033*memoria!$B$44/(G1033*12*memoria!$B$47)","v":0},{"$f":"F1033/(G1033*12*memoria!$B$47)","v":0}]
[null,null,null,null,null,null,1,{"$f":"F1034*memoria!$B$44/(G1034*12*memoria!$B$47)","v":0},{"$f":"F1034/(G1034*12*memoria!$B$47)","v":0}]
[null,null,null,null,null,null,1,{"$f":"F1035*memoria!$B$44/(G1035*12*memoria!$B$47)","v":0},{"$f":"F1035/(G1035*12*memoria!$B$47)","v":0}]
[null,null,null,null,null,null,1,{"$f":"F1036*memoria!$B$44/(G1036*12*memoria!$B$47)","v":0},{"$f":"F1036/(G1036*12*memoria!$B$47)","v":0}]
[null,null,null,null,null,null,1,{"$f":"F1037*memoria!$B$44/(G1037*12*memoria!$B$47)","v":0},{"$f":"F1037/(G1037*12*memoria!$B$47)","v":0}]
[null,null,null,null,null,null,1,{"$f":"F1038*memoria!$B$44/(G1038*12*memoria!$B$47)","v":0},{"$f":"F1038/(G1038*12*memoria!$B$47)","v":0}]
[null,null,null,null,null,null,1,{"$f":"F1039*memoria!$B$44/(G1039*12*memoria!$B$47)","v":0},{"$f":"F1039/(G1039*12*memoria!$B$47)","v":0}]
[null,null,null,null,null,null,1,{"$f":"F1040*memoria!$B$44/(G1040*12*memoria!$B$47)","v":0},{"$f":"F1040/(G1040*12*memoria!$B$47)","v":0}]
[null,null,null,null,null,null,1,{"$f":"F1041*memoria!$B$44/(G1041*12*memoria!$B$47)","v":0},{"$f":"F1041/(G1041*12*memoria!$B$47)","v":0}]
[null,null,null,null,null,null,1,{"$f":"F1042*memoria!$B$44/(G1042*12*memoria!$B$47)","v":0},{"$f":"F1042/(G1042*12*memoria!$B$47)","v":0}]
[null,null,null,null,null,null,1,{"$f":"F1043*memoria!$B$44/(G1043*12*memoria!$B$47)","v":0},{"$f":"F1043/(G1043*12*memoria!$B$47)","v":0}]
[null,null,null,null,null,null,1,{"$f":"F1044*memoria!$B$44/(G1044*12*memoria!$B$47)","v":0},{"$f":"F1044/(G1044*12*memoria!$B$47)","v":0}]
[null,null,null,null,null,null,1,{"$f":"F1045*memoria!$B$44/(G1045*12*memoria!$B$47)","v":0},{"$f":"F1045/(G1045*12*memoria!$B$47)","v":0}]
[null,null,null,null,null,null,1,{"$f":"F1046*memoria!$B$44/(G1046*12*memoria!$B$47)","v":0},{"$f":"F1046/(G1046*12*memoria!$B$47)","v":0}]
[null,null,null,null,null,null,1,{"$f":"F1047*memoria!$B$44/(G1047*12*memoria!$B$47)","v":0},{"$f":"F1047/(G1047*12*memoria!$B$47)","v":0}]
[null,null,null,null,null,null,1,{"$f":"F1048*memoria!$B$44/(G1048*12*memoria!$B$47)","v":0},{"$f":"F1048/(G1048*12*memoria!$B$47)","v":0}]
[null,null,null,null,null,null,1,{"$f":"F1049*memoria!$B$44/(G1049*12*memoria!$B$47)","v":0},{"$f":"F1049/(G1049*12*memoria!$B$47)","v":0}]
[null,null,null,null,null,null,1,{"$f":"F1050*memoria!$B$44/(G1050*12*memoria!$B$47)","v":0},{"$f":"F1050/(G1050*12*memoria!$B$47)","v":0}]
[null,null,null,null,null,null,1,{"$f":"F1051*memoria!$B$44/(G1051*12*memoria!$B$47)","v":0},{"$f":"F1051/(G1051*12*memoria!$B$47)","v":0}]
[null,null,null,null,null,null,1,{"$f":"F1052*memoria!$B$44/(G1052*12*memoria!$B$47)","v":0},{"$f":"F1052/(G1052*12*memoria!$B$47)","v":0}]
[null,null,null,null,null,null,1,{"$f":"F1053*memoria!$B$44/(G1053*12*memoria!$B$47)","v":0},{"$f":"F1053/(G1053*12*memoria!$B$47)","v":0}]
[null,null,null,null,null,null,1,{"$f":"F1054*memoria!$B$44/(G1054*12*memoria!$B$47)","v":0},{"$f":"F1054/(G1054*12*memoria!$B$47)","v":0}]
[null,null,null,null,null,null,1,{"$f":"F1055*memoria!$B$44/(G1055*12*memoria!$B$47)","v":0},{"$f":"F1055/(G1055*12*memoria!$B$47)","v":0}]
[null,null,null,null,null,null,1,{"$f":"F1056*memoria!$B$44/(G1056*12*memoria!$B$47)","v":0},{"$f":"F1056/(G1056*12*memoria!$B$47)","v":0}]
[null,null,null,null,null,null,1,{"$f":"F1057*memoria!$B$44/(G1057*12*memoria!$B$47)","v":0},{"$f":"F1057/(G1057*12*memoria!$B$47)","v":0}]
[null,null,null,null,null,null,1,{"$f":"F1058*memoria!$B$44/(G1058*12*memoria!$B$47)","v":0},{"$f":"F1058/(G1058*12*memoria!$B$47)","v":0}]
[null,null,null,null,null,null,1,{"$f":"F1059*memoria!$B$44/(G1059*12*memoria!$B$47)","v":0},{"$f":"F1059/(G1059*12*memoria!$B$47)","v":0}]
[null,null,null,null,null,null,1,{"$f":"F1060*memoria!$B$44/(G1060*12*memoria!$B$47)","v":0},{"$f":"F1060/(G1060*12*memoria!$B$47)","v":0}]
[null,null,null,null,null,null,1,{"$f":"F1061*memoria!$B$44/(G1061*12*memoria!$B$47)","v":0},{"$f":"F1061/(G1061*12*memoria!$B$47)","v":0}]
[null,null,null,null,null,null,1,{"$f":"F1062*memoria!$B$44/(G1062*12*memoria!$B$47)","v":0},{"$f":"F1062/(G1062*12*memoria!$B$47)","v":0}]
[null,null,null,null,null,null,1,{"$f":"F1063*memoria!$B$44/(G1063*12*memoria!$B$47)","v":0},{"$f":"F1063/(G1063*12*memoria!$B$47)","v":0}]
[null,null,null,null,null,null,1,{"$f":"F1064*memoria!$B$44/(G1064*12*memoria!$B$47)","v":0},{"$f":"F1064/(G1064*12*memoria!$B$47)","v":0}]
[null,null,null,null,null,null,1,{"$f":"F1065*memoria!$B$44/(G1065*12*memoria!$B$47)","v":0},{"$f":"F1065/(G1065*12*memoria!$B$47)","v":0}]
[null,null,null,null,null,null,1,{"$f":"F1066*memoria!$B$44/(G1066*12*memoria!$B$47)","v":0},{"$f":"F1066/(G1066*12*memoria!$B$47)","v":0}]
[null,null,null,null,null,null,1,{"$f":"F1067*memoria!$B$44/(G1067*12*memoria!$B$47)","v":0},{"$f":"F1067/(G1067*12*memoria!$B$47)","v":0}]
[null,null,null,null,null,null,1,{"$f":"F1068*memoria!$B$44/(G1068*12*memoria!$B$47)","v":0},{"$f":"F1068/(G1068*12*memoria!$B$47)","v":0}]
[null,null,null,null,null,null,1,{"$f":"F1069*memoria!$B$44/(G1069*12*memoria!$B$47)","v":0},{"$f":"F1069/(G1069*12*memoria!$B$47)","v":0}]
[null,null,null,null,null,null,1,{"$f":"F1070*memoria!$B$44/(G1070*12*memoria!$B$47)","v":0},{"$f":"F1070/(G1070*12*memoria!$B$47)","v":0}]
[null,null,null,null,null,null,1,{"$f":"F1071*memoria!$B$44/(G1071*12*memoria!$B$47)","v":0},{"$f":"F1071/(G1071*12*memoria!$B$47)","v":0}]
[null,null,null,null,null,null,1,{"$f":"F1072*memoria!$B$44/(G1072*12*memoria!$B$47)","v":0},{"$f":"F1072/(G1072*12*memoria!$B$47)","v":0}]
[null,null,null,null,null,null,1,{"$f":"F1073*memoria!$B$44/(G1073*12*memoria!$B$47)","v":0},{"$f":"F1073/(G1073*12*memoria!$B$47)","v":0}]
[null,null,null,null,null,null,1,{"$f":"F1074*memoria!$B$44/(G1074*12*memoria!$B$47)","v":0},{"$f":"F1074/(G1074*12*memoria!$B$47)","v":0}]
[null,null,null,null,null,null,1,{"$f":"F1075*memoria!$B$44/(G1075*12*memoria!$B$47)","v":0},{"$f":"F1075/(G1075*12*memoria!$B$47)","v":0}]
[null,null,null,null,null,null,1,{"$f":"F1076*memoria!$B$44/(G1076*12*memoria!$B$47)","v":0},{"$f":"F1076/(G1076*12*memoria!$B$47)","v":0}]
[null,null,null,null,null,null,1,{"$f":"F1077*memoria!$B$44/(G1077*12*memoria!$B$47)","v":0},{"$f":"F1077/(G1077*12*memoria!$B$47)","v":0}]
[null,null,null,null,null,null,1,{"$f":"F1078*memoria!$B$44/(G1078*12*memoria!$B$47)","v":0},{"$f":"F1078/(G1078*12*memoria!$B$47)","v":0}]
[null,null,null,null,null,null,1,{"$f":"F1079*memoria!$B$44/(G1079*12*memoria!$B$47)","v":0},{"$f":"F1079/(G1079*12*memoria!$B$47)","v":0}]
[null,null,null,null,null,null,1,{"$f":"F1080*memoria!$B$44/(G1080*12*memoria!$B$47)","v":0},{"$f":"F1080/(G1080*12*memoria!$B$47)","v":0}]
[null,null,null,null,null,null,1,{"$f":"F1081*memoria!$B$44/(G1081*12*memoria!$B$47)","v":0},{"$f":"F1081/(G1081*12*memoria!$B$47)","v":0}]
[null,null,null,null,null,null,1,{"$f":"F1082*memoria!$B$44/(G1082*12*memoria!$B$47)","v":0},{"$f":"F1082/(G1082*12*memoria!$B$47)","v":0}]
[null,null,null,null,null,null,1,{"$f":"F1083*memoria!$B$44/(G1083*12*memoria!$B$47)","v":0},{"$f":"F1083/(G1083*12*memoria!$B$47)","v":0}]
[null,null,null,null,null,null,1,{"$f":"F1084*memoria!$B$44/(G1084*12*memoria!$B$47)","v":0},{"$f":"F1084/(G1084*12*memoria!$B$47)","v":0}]
[null,null,null,null,null,null,1,{"$f":"F1085*memoria!$B$44/(G1085*12*memoria!$B$47)","v":0},{"$f":"F1085/(G1085*12*memoria!$B$47)","v":0}]
[null,null,null,null,null,null,1,{"$f":"F1086*memoria!$B$44/(G1086*12*memoria!$B$47)","v":0},{"$f":"F1086/(G1086*12*memoria!$B$47)","v":0}]
[null,null,null,null,null,null,1,{"$f":"F1087*memoria!$B$44/(G1087*12*memoria!$B$47)","v":0},{"$f":"F1087/(G1087*12*memoria!$B$47)","v":0}]
[null,null,null,null,null,null,1,{"$f":"F1088*memoria!$B$44/(G1088*12*memoria!$B$47)","v":0},{"$f":"F1088/(G1088*12*memoria!$B$47)","v":0}]
[null,null,null,null,null,null,1,{"$f":"F1089*memoria!$B$44/(G1089*12*memoria!$B$47)","v":0},{"$f":"F1089/(G1089*12*memoria!$B$47)","v":0}]
[null,null,null,null,null,null,1,{"$f":"F1090*memoria!$B$44/(G1090*12*memoria!$B$47)","v":0},{"$f":"F1090/(G1090*12*memoria!$B$47)","v":0}]
[null,null,null,null,null,null,1,{"$f":"F1091*memoria!$B$44/(G1091*12*memoria!$B$47)","v":0},{"$f":"F1091/(G1091*12*memoria!$B$47)","v":0}]
[null,null,null,null,null,null,1,{"$f":"F1092*memoria!$B$44/(G1092*12*memoria!$B$47)","v":0},{"$f":"F1092/(G1092*12*memoria!$B$47)","v":0}]
[null,null,null,null,null,null,1,{"$f":"F1093*memoria!$B$44/(G1093*12*memoria!$B$47)","v":0},{"$f":"F1093/(G1093*12*memoria!$B$47)","v":0}]
[null,null,null,null,null,null,1,{"$f":"F1094*memoria!$B$44/(G1094*12*memoria!$B$47)","v":0},{"$f":"F1094/(G1094*12*memoria!$B$47)","v":0}]
[null,null,null,null,null,null,1,{"$f":"F1095*memoria!$B$44/(G1095*12*memoria!$B$47)","v":0},{"$f":"F1095/(G1095*12*memoria!$B$47)","v":0}]
[null,null,null,null,null,null,1,{"$f":"F1096*memoria!$B$44/(G1096*12*memoria!$B$47)","v":0},{"$f":"F1096/(G1096*12*memoria!$B$47)","v":0}]
[null,null,null,null,null,null,1,{"$f":"F1097*memoria!$B$44/(G1097*12*memoria!$B$47)","v":0},{"$f":"F1097/(G1097*12*memoria!$B$47)","v":0}]
[null,null,null,null,null,null,1,{"$f":"F1098*memoria!$B$44/(G1098*12*memoria!$B$47)","v":0},{"$f":"F1098/(G1098*12*memoria!$B$47)","v":0}]
[null,null,null,null,null,null,1,{"$f":"F1099*memoria!$B$44/(G1099*12*memoria!$B$47)","v":0},{"$f":"F1099/(G1099*12*memoria!$B$47)","v":0}]
[null,null,null,null,null,null,1,{"$f":"F1100*memoria!$B$44/(G1100*12*memoria!$B$47)","v":0},{"$f":"F1100/(G1100*12*memoria!$B$47)","v":0}]
[null,null,null,null,null,null,1,{"$f":"F1101*memoria!$B$44/(G1101*12*memoria!$B$47)","v":0},{"$f":"F1101/(G1101*12*memoria!$B$47)","v":0}]
[null,null,null,null,null,null,1,{"$f":"F1102*memoria!$B$44/(G1102*12*memoria!$B$47)","v":0},{"$f":"F1102/(G1102*12*memoria!$B$47)","v":0}]
[null,null,null,null,null,null,1,{"$f":"F1103*memoria!$B$44/(G1103*12*memoria!$B$47)","v":0},{"$f":"F1103/(G1103*12*memoria!$B$47)","v":0}]
[null,null,null,null,null,null,1,{"$f":"F1104*memoria!$B$44/(G1104*12*memoria!$B$47)","v":0},{"$f":"F1104/(G1104*12*memoria!$B$47)","v":0}]
[null,null,null,null,null,null,1,{"$f":"F1105*memoria!$B$44/(G1105*12*memoria!$B$47)","v":0},{"$f":"F1105/(G1105*12*memoria!$B$47)","v":0}]
[null,null,null,null,null,null,1,{"$f":"F1106*memoria!$B$44/(G1106*12*memoria!$B$47)","v":0},{"$f":"F1106/(G1106*12*memoria!$B$47)","v":0}]
[null,null,null,null,null,null,1,{"$f":"F1107*memoria!$B$44/(G1107*12*memoria!$B$47)","v":0},{"$f":"F1107/(G1107*12*memoria!$B$47)","v":0}]
[null,null,null,null,null,null,1,{"$f":"F1108*memoria!$B$44/(G1108*12*memoria!$B$47)","v":0},{"$f":"F1108/(G1108*12*memoria!$B$47)","v":0}]
[null,null,null,null,null,null,1,{"$f":"F1109*memoria!$B$44/(G1109*12*memoria!$B$47)","v":0},{"$f":"F1109/(G1109*12*memoria!$B$47)","v":0}]
[null,null,null,null,null,null,1,{"$f":"F1110*memoria!$B$44/(G1110*12*memoria!$B$47)","v":0},{"$f":"F1110/(G1110*12*memoria!$B$47)","v":0}]
[null,null,null,null,null,null,1,{"$f":"F1111*memoria!$B$44/(G1111*12*memoria!$B$47)","v":0},{"$f":"F1111/(G1111*12*memoria!$B$47)","v":0}]
[null,null,null,null,null,null,1,{"$f":"F1112*memoria!$B$44/(G1112*12*memoria!$B$47)","v":0},{"$f":"F1112/(G1112*12*memoria!$B$47)","v":0}]
[null,null,null,null,null,null,1,{"$f":"F1113*memoria!$B$44/(G1113*12*memoria!$B$47)","v":0},{"$f":"F1113/(G1113*12*memoria!$B$47)","v":0}]
[null,null,null,null,null,null,1,{"$f":"F1114*memoria!$B$44/(G1114*12*memoria!$B$47)","v":0},{"$f":"F1114/(G1114*12*memoria!$B$47)","v":0}]
[null,null,null,null,null,null,1,{"$f":"F1115*memoria!$B$44/(G1115*12*memoria!$B$47)","v":0},{"$f":"F1115/(G1115*12*memoria!$B$47)","v":0}]
[null,null,null,null,null,null,1,{"$f":"F1116*memoria!$B$44/(G1116*12*memoria!$B$47)","v":0},{"$f":"F1116/(G1116*12*memoria!$B$47)","v":0}]
[null,null,null,null,null,null,1,{"$f":"F1117*memoria!$B$44/(G1117*12*memoria!$B$47)","v":0},{"$f":"F1117/(G1117*12*memoria!$B$47)","v":0}]
[null,null,null,null,null,null,1,{"$f":"F1118*memoria!$B$44/(G1118*12*memoria!$B$47)","v":0},{"$f":"F1118/(G1118*12*memoria!$B$47)","v":0}]
[null,null,null,null,null,null,1,{"$f":"F1119*memoria!$B$44/(G1119*12*memoria!$B$47)","v":0},{"$f":"F1119/(G1119*12*memoria!$B$47)","v":0}]
[null,null,null,null,null,null,1,{"$f":"F1120*memoria!$B$44/(G1120*12*memoria!$B$47)","v":0},{"$f":"F1120/(G1120*12*memoria!$B$47)","v":0}]
[null,null,null,null,null,null,1,{"$f":"F1121*memoria!$B$44/(G1121*12*memoria!$B$47)","v":0},{"$f":"F1121/(G1121*12*memoria!$B$47)","v":0}]
[null,null,null,null,null,null,1,{"$f":"F1122*memoria!$B$44/(G1122*12*memoria!$B$47)","v":0},{"$f":"F1122/(G1122*12*memoria!$B$47)","v":0}]
[null,null,null,null,null,null,1,{"$f":"F1123*memoria!$B$44/(G1123*12*memoria!$B$47)","v":0},{"$f":"F1123/(G1123*12*memoria!$B$47)","v":0}]
[null,null,null,null,null,null,1,{"$f":"F1124*memoria!$B$44/(G1124*12*memoria!$B$47)","v":0},{"$f":"F1124/(G1124*12*memoria!$B$47)","v":0}]
[null,null,null,null,null,null,1,{"$f":"F1125*memoria!$B$44/(G1125*12*memoria!$B$47)","v":0},{"$f":"F1125/(G1125*12*memoria!$B$47)","v":0}]
[null,null,null,null,null,null,1,{"$f":"F1126*memoria!$B$44/(G1126*12*memoria!$B$47)","v":0},{"$f":"F1126/(G1126*12*memoria!$B$47)","v":0}]
[null,null,null,null,null,null,1,{"$f":"F1127*memoria!$B$44/(G1127*12*memoria!$B$47)","v":0},{"$f":"F1127/(G1127*12*memoria!$B$47)","v":0}]
[null,null,null,null,null,null,1,{"$f":"F1128*memoria!$B$44/(G1128*12*memoria!$B$47)","v":0},{"$f":"F1128/(G1128*12*memoria!$B$47)","v":0}]
[null,null,null,null,null,null,1,{"$f":"F1129*memoria!$B$44/(G1129*12*memoria!$B$47)","v":0},{"$f":"F1129/(G1129*12*memoria!$B$47)","v":0}]
[null,null,null,null,null,null,1,{"$f":"F1130*memoria!$B$44/(G1130*12*memoria!$B$47)","v":0},{"$f":"F1130/(G1130*12*memoria!$B$47)","v":0}]
[null,null,null,null,null,null,1,{"$f":"F1131*memoria!$B$44/(G1131*12*memoria!$B$47)","v":0},{"$f":"F1131/(G1131*12*memoria!$B$47)","v":0}]
[null,null,null,null,null,null,1,{"$f":"F1132*memoria!$B$44/(G1132*12*memoria!$B$47)","v":0},{"$f":"F1132/(G1132*12*memoria!$B$47)","v":0}]
[null,null,null,null,null,null,1,{"$f":"F1133*memoria!$B$44/(G1133*12*memoria!$B$47)","v":0},{"$f":"F1133/(G1133*12*memoria!$B$47)","v":0}]
[null,null,null,null,null,null,1,{"$f":"F1134*memoria!$B$44/(G1134*12*memoria!$B$47)","v":0},{"$f":"F1134/(G1134*12*memoria!$B$47)","v":0}]
[null,null,null,null,null,null,1,{"$f":"F1135*memoria!$B$44/(G1135*12*memoria!$B$47)","v":0},{"$f":"F1135/(G1135*12*memoria!$B$47)","v":0}]
[null,null,null,null,null,null,1,{"$f":"F1136*memoria!$B$44/(G1136*12*memoria!$B$47)","v":0},{"$f":"F1136/(G1136*12*memoria!$B$47)","v":0}]
[null,null,null,null,null,null,1,{"$f":"F1137*memoria!$B$44/(G1137*12*memoria!$B$47)","v":0},{"$f":"F1137/(G1137*12*memoria!$B$47)","v":0}]
[null,null,null,null,null,null,1,{"$f":"F1138*memoria!$B$44/(G1138*12*memoria!$B$47)","v":0},{"$f":"F1138/(G1138*12*memoria!$B$47)","v":0}]
[null,null,null,null,null,null,1,{"$f":"F1139*memoria!$B$44/(G1139*12*memoria!$B$47)","v":0},{"$f":"F1139/(G1139*12*memoria!$B$47)","v":0}]
[null,null,null,null,null,null,1,{"$f":"F1140*memoria!$B$44/(G1140*12*memoria!$B$47)","v":0},{"$f":"F1140/(G1140*12*memoria!$B$47)","v":0}]
[null,null,null,null,null,null,1,{"$f":"F1141*memoria!$B$44/(G1141*12*memoria!$B$47)","v":0},{"$f":"F1141/(G1141*12*memoria!$B$47)","v":0}]
[null,null,null,null,null,null,1,{"$f":"F1142*memoria!$B$44/(G1142*12*memoria!$B$47)","v":0},{"$f":"F1142/(G1142*12*memoria!$B$47)","v":0}]
[null,null,null,null,null,null,1,{"$f":"F1143*memoria!$B$44/(G1143*12*memoria!$B$47)","v":0},{"$f":"F1143/(G1143*12*memoria!$B$47)","v":0}]
[null,null,null,null,null,null,1,{"$f":"F1144*memoria!$B$44/(G1144*12*memoria!$B$47)","v":0},{"$f":"F1144/(G1144*12*memoria!$B$47)","v":0}]
[null,null,null,null,null,null,1,{"$f":"F1145*memoria!$B$44/(G1145*12*memoria!$B$47)","v":0},{"$f":"F1145/(G1145*12*memoria!$B$47)","v":0}]
[null,null,null,null,null,null,1,{"$f":"F1146*memoria!$B$44/(G1146*12*memoria!$B$47)","v":0},{"$f":"F1146/(G1146*12*memoria!$B$47)","v":0}]
[null,null,null,null,null,null,1,{"$f":"F1147*memoria!$B$44/(G1147*12*memoria!$B$47)","v":0},{"$f":"F1147/(G1147*12*memoria!$B$47)","v":0}]
[null,null,null,null,null,null,1,{"$f":"F1148*memoria!$B$44/(G1148*12*memoria!$B$47)","v":0},{"$f":"F1148/(G1148*12*memoria!$B$47)","v":0}]
[null,null,null,null,null,null,1,{"$f":"F1149*memoria!$B$44/(G1149*12*memoria!$B$47)","v":0},{"$f":"F1149/(G1149*12*memoria!$B$47)","v":0}]
[null,null,null,null,null,null,1,{"$f":"F1150*memoria!$B$44/(G1150*12*memoria!$B$47)","v":0},{"$f":"F1150/(G1150*12*memoria!$B$47)","v":0}]
[null,null,null,null,null,null,1,{"$f":"F1151*memoria!$B$44/(G1151*12*memoria!$B$47)","v":0},{"$f":"F1151/(G1151*12*memoria!$B$47)","v":0}]
[null,null,null,null,null,null,1,{"$f":"F1152*memoria!$B$44/(G1152*12*memoria!$B$47)","v":0},{"$f":"F1152/(G1152*12*memoria!$B$47)","v":0}]
[null,null,null,null,null,null,1,{"$f":"F1153*memoria!$B$44/(G1153*12*memoria!$B$47)","v":0},{"$f":"F1153/(G1153*12*memoria!$B$47)","v":0}]
[null,null,null,null,null,null,1,{"$f":"F1154*memoria!$B$44/(G1154*12*memoria!$B$47)","v":0},{"$f":"F1154/(G1154*12*memoria!$B$47)","v":0}]
[null,null,null,null,null,null,1,{"$f":"F1155*memoria!$B$44/(G1155*12*memoria!$B$47)","v":0},{"$f":"F1155/(G1155*12*memoria!$B$47)","v":0}]
[null,null,null,null,null,null,1,{"$f":"F1156*memoria!$B$44/(G1156*12*memoria!$B$47)","v":0},{"$f":"F1156/(G1156*12*memoria!$B$47)","v":0}]
[null,null,null,null,null,null,1,{"$f":"F1157*memoria!$B$44/(G1157*12*memoria!$B$47)","v":0},{"$f":"F1157/(G1157*12*memoria!$B$47)","v":0}]
[null,null,null,null,null,null,1,{"$f":"F1158*memoria!$B$44/(G1158*12*memoria!$B$47)","v":0},{"$f":"F1158/(G1158*12*memoria!$B$47)","v":0}]
[null,null,null,null,null,null,1,{"$f":"F1159*memoria!$B$44/(G1159*12*memoria!$B$47)","v":0},{"$f":"F1159/(G1159*12*memoria!$B$47)","v":0}]
[null,null,null,null,null,null,1,{"$f":"F1160*memoria!$B$44/(G1160*12*memoria!$B$47)","v":0},{"$f":"F1160/(G1160*12*memoria!$B$47)","v":0}]
[null,null,null,null,null,null,1,{"$f":"F1161*memoria!$B$44/(G1161*12*memoria!$B$47)","v":0},{"$f":"F1161/(G1161*12*memoria!$B$47)","v":0}]
[null,null,null,null,null,null,1,{"$f":"F1162*memoria!$B$44/(G1162*12*memoria!$B$47)","v":0},{"$f":"F1162/(G1162*12*memoria!$B$47)","v":0}]
[null,null,null,null,null,null,1,{"$f":"F1163*memoria!$B$44/(G1163*12*memoria!$B$47)","v":0},{"$f":"F1163/(G1163*12*memoria!$B$47)","v":0}]
[null,null,null,null,null,null,1,{"$f":"F1164*memoria!$B$44/(G1164*12*memoria!$B$47)","v":0},{"$f":"F1164/(G1164*12*memoria!$B$47)","v":0}]
[null,null,null,null,null,null,1,{"$f":"F1165*memoria!$B$44/(G1165*12*memoria!$B$47)","v":0},{"$f":"F1165/(G1165*12*memoria!$B$47)","v":0}]
[null,null,null,null,null,null,1,{"$f":"F1166*memoria!$B$44/(G1166*12*memoria!$B$47)","v":0},{"$f":"F1166/(G1166*12*memoria!$B$47)","v":0}]
[null,null,null,null,null,null,1,{"$f":"F1167*memoria!$B$44/(G1167*12*memoria!$B$47)","v":0},{"$f":"F1167/(G1167*12*memoria!$B$47)","v":0}]
[null,null,null,null,null,null,1,{"$f":"F1168*memoria!$B$44/(G1168*12*memoria!$B$47)","v":0},{"$f":"F1168/(G1168*12*memoria!$B$47)","v":0}]
[null,null,null,null,null,null,1,{"$f":"F1169*memoria!$B$44/(G1169*12*memoria!$B$47)","v":0},{"$f":"F1169/(G1169*12*memoria!$B$47)","v":0}]
[null,null,null,null,null,null,1,{"$f":"F1170*memoria!$B$44/(G1170*12*memoria!$B$47)","v":0},{"$f":"F1170/(G1170*12*memoria!$B$47)","v":0}]
[null,null,null,null,null,null,1,{"$f":"F1171*memoria!$B$44/(G1171*12*memoria!$B$47)","v":0},{"$f":"F1171/(G1171*12*memoria!$B$47)","v":0}]
[null,null,null,null,null,null,1,{"$f":"F1172*memoria!$B$44/(G1172*12*memoria!$B$47)","v":0},{"$f":"F1172/(G1172*12*memoria!$B$47)","v":0}]
[null,null,null,null,null,null,1,{"$f":"F1173*memoria!$B$44/(G1173*12*memoria!$B$47)","v":0},{"$f":"F1173/(G1173*12*memoria!$B$47)","v":0}]
[null,null,null,null,null,null,1,{"$f":"F1174*memoria!$B$44/(G1174*12*memoria!$B$47)","v":0},{"$f":"F1174/(G1174*12*memoria!$B$47)","v":0}]
[null,null,null,null,null,null,1,{"$f":"F1175*memoria!$B$44/(G1175*12*memoria!$B$47)","v":0},{"$f":"F1175/(G1175*12*memoria!$B$47)","v":0}]
[null,null,null,null,null,null,1,{"$f":"F1176*memoria!$B$44/(G1176*12*memoria!$B$47)","v":0},{"$f":"F1176/(G1176*12*memoria!$B$47)","v":0}]
[null,null,null,null,null,null,1,{"$f":"F1177*memoria!$B$44/(G1177*12*memoria!$B$47)","v":0},{"$f":"F1177/(G1177*12*memoria!$B$47)","v":0}]
[null,null,null,null,null,null,1,{"$f":"F1178*memoria!$B$44/(G1178*12*memoria!$B$47)","v":0},{"$f":"F1178/(G1178*12*memoria!$B$47)","v":0}]
[null,null,null,null,null,null,1,{"$f":"F1179*memoria!$B$44/(G1179*12*memoria!$B$47)","v":0},{"$f":"F1179/(G1179*12*memoria!$B$47)","v":0}]
[null,null,null,null,null,null,1,{"$f":"F1180*memoria!$B$44/(G1180*12*memoria!$B$47)","v":0},{"$f":"F1180/(G1180*12*memoria!$B$47)","v":0}]
[null,null,null,null,null,null,1,{"$f":"F1181*memoria!$B$44/(G1181*12*memoria!$B$47)","v":0},{"$f":"F1181/(G1181*12*memoria!$B$47)","v":0}]
[null,null,null,null,null,null,1,{"$f":"F1182*memoria!$B$44/(G1182*12*memoria!$B$47)","v":0},{"$f":"F1182/(G1182*12*memoria!$B$47)","v":0}]
[null,null,null,null,null,null,1,{"$f":"F1183*memoria!$B$44/(G1183*12*memoria!$B$47)","v":0},{"$f":"F1183/(G1183*12*memoria!$B$47)","v":0}]
[null,null,null,null,null,null,1,{"$f":"F1184*memoria!$B$44/(G1184*12*memoria!$B$47)","v":0},{"$f":"F1184/(G1184*12*memoria!$B$47)","v":0}]
[null,null,null,null,null,null,1,{"$f":"F1185*memoria!$B$44/(G1185*12*memoria!$B$47)","v":0},{"$f":"F1185/(G1185*12*memoria!$B$47)","v":0}]
[null,null,null,null,null,null,1,{"$f":"F1186*memoria!$B$44/(G1186*12*memoria!$B$47)","v":0},{"$f":"F1186/(G1186*12*memoria!$B$47)","v":0}]
[null,null,null,null,null,null,1,{"$f":"F1187*memoria!$B$44/(G1187*12*memoria!$B$47)","v":0},{"$f":"F1187/(G1187*12*memoria!$B$47)","v":0}]
[null,null,null,null,null,null,1,{"$f":"F1188*memoria!$B$44/(G1188*12*memoria!$B$47)","v":0},{"$f":"F1188/(G1188*12*memoria!$B$47)","v":0}]
[null,null,null,null,null,null,1,{"$f":"F1189*memoria!$B$44/(G1189*12*memoria!$B$47)","v":0},{"$f":"F1189/(G1189*12*memoria!$B$47)","v":0}]
[null,null,null,null,null,null,1,{"$f":"F1190*memoria!$B$44/(G1190*12*memoria!$B$47)","v":0},{"$f":"F1190/(G1190*12*memoria!$B$47)","v":0}]
[null,null,null,null,null,null,1,{"$f":"F1191*memoria!$B$44/(G1191*12*memoria!$B$47)","v":0},{"$f":"F1191/(G1191*12*memoria!$B$47)","v":0}]
[null,null,null,null,null,null,1,{"$f":"F1192*memoria!$B$44/(G1192*12*memoria!$B$47)","v":0},{"$f":"F1192/(G1192*12*memoria!$B$47)","v":0}]
[null,null,null,null,null,null,1,{"$f":"F1193*memoria!$B$44/(G1193*12*memoria!$B$47)","v":0},{"$f":"F1193/(G1193*12*memoria!$B$47)","v":0}]
[null,null,null,null,null,null,1,{"$f":"F1194*memoria!$B$44/(G1194*12*memoria!$B$47)","v":0},{"$f":"F1194/(G1194*12*memoria!$B$47)","v":0}]
[null,null,null,null,null,null,1,{"$f":"F1195*memoria!$B$44/(G1195*12*memoria!$B$47)","v":0},{"$f":"F1195/(G1195*12*memoria!$B$47)","v":0}]
[null,null,null,null,null,null,1,{"$f":"F1196*memoria!$B$44/(G1196*12*memoria!$B$47)","v":0},{"$f":"F1196/(G1196*12*memoria!$B$47)","v":0}]
[null,null,null,null,null,null,1,{"$f":"F1197*memoria!$B$44/(G1197*12*memoria!$B$47)","v":0},{"$f":"F1197/(G1197*12*memoria!$B$47)","v":0}]
[null,null,null,null,null,null,1,{"$f":"F1198*memoria!$B$44/(G1198*12*memoria!$B$47)","v":0},{"$f":"F1198/(G1198*12*memoria!$B$47)","v":0}]
[null,null,null,null,null,null,1,{"$f":"F1199*memoria!$B$44/(G1199*12*memoria!$B$47)","v":0},{"$f":"F1199/(G1199*12*memoria!$B$47)","v":0}]
[null,null,null,null,null,null,1,{"$f":"F1200*memoria!$B$44/(G1200*12*memoria!$B$47)","v":0},{"$f":"F1200/(G1200*12*memoria!$B$47)","v":0}]
[null,null,null,null,null,null,1,{"$f":"F1201*memoria!$B$44/(G1201*12*memoria!$B$47)","v":0},{"$f":"F1201/(G1201*12*memoria!$B$47)","v":0}]
[null,null,null,null,null,null,1,{"$f":"F1202*memoria!$B$44/(G1202*12*memoria!$B$47)","v":0},{"$f":"F1202/(G1202*12*memoria!$B$47)","v":0}]
[null,null,null,null,null,null,1,{"$f":"F1203*memoria!$B$44/(G1203*12*memoria!$B$47)","v":0},{"$f":"F1203/(G1203*12*memoria!$B$47)","v":0}]
[null,null,null,null,null,null,1,{"$f":"F1204*memoria!$B$44/(G1204*12*memoria!$B$47)","v":0},{"$f":"F1204/(G1204*12*memoria!$B$47)","v":0}]
[null,null,null,null,null,null,1,{"$f":"F1205*memoria!$B$44/(G1205*12*memoria!$B$47)","v":0},{"$f":"F1205/(G1205*12*memoria!$B$47)","v":0}]
[null,null,null,null,null,null,1,{"$f":"F1206*memoria!$B$44/(G1206*12*memoria!$B$47)","v":0},{"$f":"F1206/(G1206*12*memoria!$B$47)","v":0}]
[null,null,null,null,null,null,1,{"$f":"F1207*memoria!$B$44/(G1207*12*memoria!$B$47)","v":0},{"$f":"F1207/(G1207*12*memoria!$B$47)","v":0}]
[null,null,null,null,null,null,1,{"$f":"F1208*memoria!$B$44/(G1208*12*memoria!$B$47)","v":0},{"$f":"F1208/(G1208*12*memoria!$B$47)","v":0}]
[null,null,null,null,null,null,1,{"$f":"F1209*memoria!$B$44/(G1209*12*memoria!$B$47)","v":0},{"$f":"F1209/(G1209*12*memoria!$B$47)","v":0}]
[null,null,null,null,null,null,1,{"$f":"F1210*memoria!$B$44/(G1210*12*memoria!$B$47)","v":0},{"$f":"F1210/(G1210*12*memoria!$B$47)","v":0}]
[null,null,null,null,null,null,1,{"$f":"F1211*memoria!$B$44/(G1211*12*memoria!$B$47)","v":0},{"$f":"F1211/(G1211*12*memoria!$B$47)","v":0}]
[null,null,null,null,null,null,1,{"$f":"F1212*memoria!$B$44/(G1212*12*memoria!$B$47)","v":0},{"$f":"F1212/(G1212*12*memoria!$B$47)","v":0}]
[null,null,null,null,null,null,1,{"$f":"F1213*memoria!$B$44/(G1213*12*memoria!$B$47)","v":0},{"$f":"F1213/(G1213*12*memoria!$B$47)","v":0}]
[null,null,null,null,null,null,1,{"$f":"F1214*memoria!$B$44/(G1214*12*memoria!$B$47)","v":0},{"$f":"F1214/(G1214*12*memoria!$B$47)","v":0}]
[null,null,null,null,null,null,1,{"$f":"F1215*memoria!$B$44/(G1215*12*memoria!$B$47)","v":0},{"$f":"F1215/(G1215*12*memoria!$B$47)","v":0}]
[null,null,null,null,null,null,1,{"$f":"F1216*memoria!$B$44/(G1216*12*memoria!$B$47)","v":0},{"$f":"F1216/(G1216*12*memoria!$B$47)","v":0}]
[null,null,null,null,null,null,1,{"$f":"F1217*memoria!$B$44/(G1217*12*memoria!$B$47)","v":0},{"$f":"F1217/(G1217*12*memoria!$B$47)","v":0}]
[null,null,null,null,null,null,1,{"$f":"F1218*memoria!$B$44/(G1218*12*memoria!$B$47)","v":0},{"$f":"F1218/(G1218*12*memoria!$B$47)","v":0}]
[null,null,null,null,null,null,1,{"$f":"F1219*memoria!$B$44/(G1219*12*memoria!$B$47)","v":0},{"$f":"F1219/(G1219*12*memoria!$B$47)","v":0}]
[null,null,null,null,null,null,1,{"$f":"F1220*memoria!$B$44/(G1220*12*memoria!$B$47)","v":0},{"$f":"F1220/(G1220*12*memoria!$B$47)","v":0}]
[null,null,null,null,null,null,1,{"$f":"F1221*memoria!$B$44/(G1221*12*memoria!$B$47)","v":0},{"$f":"F1221/(G1221*12*memoria!$B$47)","v":0}]
[null,null,null,null,null,null,1,{"$f":"F1222*memoria!$B$44/(G1222*12*memoria!$B$47)","v":0},{"$f":"F1222/(G1222*12*memoria!$B$47)","v":0}]
[null,null,null,null,null,null,1,{"$f":"F1223*memoria!$B$44/(G1223*12*memoria!$B$47)","v":0},{"$f":"F1223/(G1223*12*memoria!$B$47)","v":0}]
[null,null,null,null,null,null,1,{"$f":"F1224*memoria!$B$44/(G1224*12*memoria!$B$47)","v":0},{"$f":"F1224/(G1224*12*memoria!$B$47)","v":0}]
[null,null,null,null,null,null,1,{"$f":"F1225*memoria!$B$44/(G1225*12*memoria!$B$47)","v":0},{"$f":"F1225/(G1225*12*memoria!$B$47)","v":0}]
[null,null,null,null,null,null,1,{"$f":"F1226*memoria!$B$44/(G1226*12*memoria!$B$47)","v":0},{"$f":"F1226/(G1226*12*memoria!$B$47)","v":0}]
[null,null,null,null,null,null,1,{"$f":"F1227*memoria!$B$44/(G1227*12*memoria!$B$47)","v":0},{"$f":"F1227/(G1227*12*memoria!$B$47)","v":0}]
[null,null,null,null,null,null,1,{"$f":"F1228*memoria!$B$44/(G1228*12*memoria!$B$47)","v":0},{"$f":"F1228/(G1228*12*memoria!$B$47)","v":0}]
[null,null,null,null,null,null,1,{"$f":"F1229*memoria!$B$44/(G1229*12*memoria!$B$47)","v":0},{"$f":"F1229/(G1229*12*memoria!$B$47)","v":0}]
[null,null,null,null,null,null,1,{"$f":"F1230*memoria!$B$44/(G1230*12*memoria!$B$47)","v":0},{"$f":"F1230/(G1230*12*memoria!$B$47)","v":0}]
[null,null,null,null,null,null,1,{"$f":"F1231*memoria!$B$44/(G1231*12*memoria!$B$47)","v":0},{"$f":"F1231/(G1231*12*memoria!$B$47)","v":0}]
[null,null,null,null,null,null,1,{"$f":"F1232*memoria!$B$44/(G1232*12*memoria!$B$47)","v":0},{"$f":"F1232/(G1232*12*memoria!$B$47)","v":0}]
[null,null,null,null,null,null,1,{"$f":"F1233*memoria!$B$44/(G1233*12*memoria!$B$47)","v":0},{"$f":"F1233/(G1233*12*memoria!$B$47)","v":0}]
[null,null,null,null,null,null,1,{"$f":"F1234*memoria!$B$44/(G1234*12*memoria!$B$47)","v":0},{"$f":"F1234/(G1234*12*memoria!$B$47)","v":0}]
[null,null,null,null,null,null,1,{"$f":"F1235*memoria!$B$44/(G1235*12*memoria!$B$47)","v":0},{"$f":"F1235/(G1235*12*memoria!$B$47)","v":0}]
[null,null,null,null,null,null,1,{"$f":"F1236*memoria!$B$44/(G1236*12*memoria!$B$47)","v":0},{"$f":"F1236/(G1236*12*memoria!$B$47)","v":0}]
[null,null,null,null,null,null,1,{"$f":"F1237*memoria!$B$44/(G1237*12*memoria!$B$47)","v":0},{"$f":"F1237/(G1237*12*memoria!$B$47)","v":0}]
[null,null,null,null,null,null,1,{"$f":"F1238*memoria!$B$44/(G1238*12*memoria!$B$47)","v":0},{"$f":"F1238/(G1238*12*memoria!$B$47)","v":0}]
[null,null,null,null,null,null,1,{"$f":"F1239*memoria!$B$44/(G1239*12*memoria!$B$47)","v":0},{"$f":"F1239/(G1239*12*memoria!$B$47)","v":0}]
[null,null,null,null,null,null,1,{"$f":"F1240*memoria!$B$44/(G1240*12*memoria!$B$47)","v":0},{"$f":"F1240/(G1240*12*memoria!$B$47)","v":0}]
[null,null,null,null,null,null,1,{"$f":"F1241*memoria!$B$44/(G1241*12*memoria!$B$47)","v":0},{"$f":"F1241/(G1241*12*memoria!$B$47)","v":0}]
[null,null,null,null,null,null,1,{"$f":"F1242*memoria!$B$44/(G1242*12*memoria!$B$47)","v":0},{"$f":"F1242/(G1242*12*memoria!$B$47)","v":0}]
[null,null,null,null,null,null,1,{"$f":"F1243*memoria!$B$44/(G1243*12*memoria!$B$47)","v":0},{"$f":"F1243/(G1243*12*memoria!$B$47)","v":0}]
[null,null,null,null,null,null,1,{"$f":"F1244*memoria!$B$44/(G1244*12*memoria!$B$47)","v":0},{"$f":"F1244/(G1244*12*memoria!$B$47)","v":0}]
[null,null,null,null,null,null,1,{"$f":"F1245*memoria!$B$44/(G1245*12*memoria!$B$47)","v":0},{"$f":"F1245/(G1245*12*memoria!$B$47)","v":0}]
[null,null,null,null,null,null,1,{"$f":"F1246*memoria!$B$44/(G1246*12*memoria!$B$47)","v":0},{"$f":"F1246/(G1246*12*memoria!$B$47)","v":0}]
[null,null,null,null,null,null,1,{"$f":"F1247*memoria!$B$44/(G1247*12*memoria!$B$47)","v":0},{"$f":"F1247/(G1247*12*memoria!$B$47)","v":0}]
[null,null,null,null,null,null,1,{"$f":"F1248*memoria!$B$44/(G1248*12*memoria!$B$47)","v":0},{"$f":"F1248/(G1248*12*memoria!$B$47)","v":0}]
[null,null,null,null,null,null,1,{"$f":"F1249*memoria!$B$44/(G1249*12*memoria!$B$47)","v":0},{"$f":"F1249/(G1249*12*memoria!$B$47)","v":0}]
[null,null,null,null,null,null,1,{"$f":"F1250*memoria!$B$44/(G1250*12*memoria!$B$47)","v":0},{"$f":"F1250/(G1250*12*memoria!$B$47)","v":0}]
[null,null,null,null,null,null,1,{"$f":"F1251*memoria!$B$44/(G1251*12*memoria!$B$47)","v":0},{"$f":"F1251/(G1251*12*memoria!$B$47)","v":0}]
[null,null,null,null,null,null,1,{"$f":"F1252*memoria!$B$44/(G1252*12*memoria!$B$47)","v":0},{"$f":"F1252/(G1252*12*memoria!$B$47)","v":0}]
[null,null,null,null,null,null,1,{"$f":"F1253*memoria!$B$44/(G1253*12*memoria!$B$47)","v":0},{"$f":"F1253/(G1253*12*memoria!$B$47)","v":0}]
[null,null,null,null,null,null,1,{"$f":"F1254*memoria!$B$44/(G1254*12*memoria!$B$47)","v":0},{"$f":"F1254/(G1254*12*memoria!$B$47)","v":0}]
[null,null,null,null,null,null,1,{"$f":"F1255*memoria!$B$44/(G1255*12*memoria!$B$47)","v":0},{"$f":"F1255/(G1255*12*memoria!$B$47)","v":0}]
[null,null,null,null,null,null,1,{"$f":"F1256*memoria!$B$44/(G1256*12*memoria!$B$47)","v":0},{"$f":"F1256/(G1256*12*memoria!$B$47)","v":0}]
[null,null,null,null,null,null,1,{"$f":"F1257*memoria!$B$44/(G1257*12*memoria!$B$47)","v":0},{"$f":"F1257/(G1257*12*memoria!$B$47)","v":0}]
[null,null,null,null,null,null,1,{"$f":"F1258*memoria!$B$44/(G1258*12*memoria!$B$47)","v":0},{"$f":"F1258/(G1258*12*memoria!$B$47)","v":0}]
[null,null,null,null,null,null,1,{"$f":"F1259*memoria!$B$44/(G1259*12*memoria!$B$47)","v":0},{"$f":"F1259/(G1259*12*memoria!$B$47)","v":0}]
[null,null,null,null,null,null,1,{"$f":"F1260*memoria!$B$44/(G1260*12*memoria!$B$47)","v":0},{"$f":"F1260/(G1260*12*memoria!$B$47)","v":0}]
[null,null,null,null,null,null,1,{"$f":"F1261*memoria!$B$44/(G1261*12*memoria!$B$47)","v":0},{"$f":"F1261/(G1261*12*memoria!$B$47)","v":0}]
[null,null,null,null,null,null,1,{"$f":"F1262*memoria!$B$44/(G1262*12*memoria!$B$47)","v":0},{"$f":"F1262/(G1262*12*memoria!$B$47)","v":0}]
[null,null,null,null,null,null,1,{"$f":"F1263*memoria!$B$44/(G1263*12*memoria!$B$47)","v":0},{"$f":"F1263/(G1263*12*memoria!$B$47)","v":0}]
[null,null,null,null,null,null,1,{"$f":"F1264*memoria!$B$44/(G1264*12*memoria!$B$47)","v":0},{"$f":"F1264/(G1264*12*memoria!$B$47)","v":0}]
[null,null,null,null,null,null,1,{"$f":"F1265*memoria!$B$44/(G1265*12*memoria!$B$47)","v":0},{"$f":"F1265/(G1265*12*memoria!$B$47)","v":0}]
[null,null,null,null,null,null,1,{"$f":"F1266*memoria!$B$44/(G1266*12*memoria!$B$47)","v":0},{"$f":"F1266/(G1266*12*memoria!$B$47)","v":0}]
[null,null,null,null,null,null,1,{"$f":"F1267*memoria!$B$44/(G1267*12*memoria!$B$47)","v":0},{"$f":"F1267/(G1267*12*memoria!$B$47)","v":0}]
[null,null,null,null,null,null,1,{"$f":"F1268*memoria!$B$44/(G1268*12*memoria!$B$47)","v":0},{"$f":"F1268/(G1268*12*memoria!$B$47)","v":0}]
[null,null,null,null,null,null,1,{"$f":"F1269*memoria!$B$44/(G1269*12*memoria!$B$47)","v":0},{"$f":"F1269/(G1269*12*memoria!$B$47)","v":0}]
[null,null,null,null,null,null,1,{"$f":"F1270*memoria!$B$44/(G1270*12*memoria!$B$47)","v":0},{"$f":"F1270/(G1270*12*memoria!$B$47)","v":0}]
[null,null,null,null,null,null,1,{"$f":"F1271*memoria!$B$44/(G1271*12*memoria!$B$47)","v":0},{"$f":"F1271/(G1271*12*memoria!$B$47)","v":0}]
[null,null,null,null,null,null,1,{"$f":"F1272*memoria!$B$44/(G1272*12*memoria!$B$47)","v":0},{"$f":"F1272/(G1272*12*memoria!$B$47)","v":0}]
[null,null,null,null,null,null,1,{"$f":"F1273*memoria!$B$44/(G1273*12*memoria!$B$47)","v":0},{"$f":"F1273/(G1273*12*memoria!$B$47)","v":0}]
[null,null,null,null,null,null,1,{"$f":"F1274*memoria!$B$44/(G1274*12*memoria!$B$47)","v":0},{"$f":"F1274/(G1274*12*memoria!$B$47)","v":0}]
[null,null,null,null,null,null,1,{"$f":"F1275*memoria!$B$44/(G1275*12*memoria!$B$47)","v":0},{"$f":"F1275/(G1275*12*memoria!$B$47)","v":0}]
[null,null,null,null,null,null,1,{"$f":"F1276*memoria!$B$44/(G1276*12*memoria!$B$47)","v":0},{"$f":"F1276/(G1276*12*memoria!$B$47)","v":0}]
[null,null,null,null,null,null,1,{"$f":"F1277*memoria!$B$44/(G1277*12*memoria!$B$47)","v":0},{"$f":"F1277/(G1277*12*memoria!$B$47)","v":0}]
[null,null,null,null,null,null,1,{"$f":"F1278*memoria!$B$44/(G1278*12*memoria!$B$47)","v":0},{"$f":"F1278/(G1278*12*memoria!$B$47)","v":0}]
[null,null,null,null,null,null,1,{"$f":"F1279*memoria!$B$44/(G1279*12*memoria!$B$47)","v":0},{"$f":"F1279/(G1279*12*memoria!$B$47)","v":0}]
[null,null,null,null,null,null,1,{"$f":"F1280*memoria!$B$44/(G1280*12*memoria!$B$47)","v":0},{"$f":"F1280/(G1280*12*memoria!$B$47)","v":0}]
[null,null,null,null,null,null,1,{"$f":"F1281*memoria!$B$44/(G1281*12*memoria!$B$47)","v":0},{"$f":"F1281/(G1281*12*memoria!$B$47)","v":0}]
[null,null,null,null,null,null,1,{"$f":"F1282*memoria!$B$44/(G1282*12*memoria!$B$47)","v":0},{"$f":"F1282/(G1282*12*memoria!$B$47)","v":0}]
[null,null,null,null,null,null,1,{"$f":"F1283*memoria!$B$44/(G1283*12*memoria!$B$47)","v":0},{"$f":"F1283/(G1283*12*memoria!$B$47)","v":0}]
[null,null,null,null,null,null,1,{"$f":"F1284*memoria!$B$44/(G1284*12*memoria!$B$47)","v":0},{"$f":"F1284/(G1284*12*memoria!$B$47)","v":0}]
[null,null,null,null,null,null,1,{"$f":"F1285*memoria!$B$44/(G1285*12*memoria!$B$47)","v":0},{"$f":"F1285/(G1285*12*memoria!$B$47)","v":0}]
[null,null,null,null,null,null,1,{"$f":"F1286*memoria!$B$44/(G1286*12*memoria!$B$47)","v":0},{"$f":"F1286/(G1286*12*memoria!$B$47)","v":0}]
[null,null,null,null,null,null,1,{"$f":"F1287*memoria!$B$44/(G1287*12*memoria!$B$47)","v":0},{"$f":"F1287/(G1287*12*memoria!$B$47)","v":0}]
[null,null,null,null,null,null,1,{"$f":"F1288*memoria!$B$44/(G1288*12*memoria!$B$47)","v":0},{"$f":"F1288/(G1288*12*memoria!$B$47)","v":0}]
[null,null,null,null,null,null,1,{"$f":"F1289*memoria!$B$44/(G1289*12*memoria!$B$47)","v":0},{"$f":"F1289/(G1289*12*memoria!$B$47)","v":0}]
[null,null,null,null,null,null,1,{"$f":"F1290*memoria!$B$44/(G1290*12*memoria!$B$47)","v":0},{"$f":"F1290/(G1290*12*memoria!$B$47)","v":0}]
[null,null,null,null,null,null,1,{"$f":"F1291*memoria!$B$44/(G1291*12*memoria!$B$47)","v":0},{"$f":"F1291/(G1291*12*memoria!$B$47)","v":0}]
[null,null,null,null,null,null,1,{"$f":"F1292*memoria!$B$44/(G1292*12*memoria!$B$47)","v":0},{"$f":"F1292/(G1292*12*memoria!$B$47)","v":0}]
[null,null,null,null,null,null,1,{"$f":"F1293*memoria!$B$44/(G1293*12*memoria!$B$47)","v":0},{"$f":"F1293/(G1293*12*memoria!$B$47)","v":0}]
[null,null,null,null,null,null,1,{"$f":"F1294*memoria!$B$44/(G1294*12*memoria!$B$47)","v":0},{"$f":"F1294/(G1294*12*memoria!$B$47)","v":0}]
[null,null,null,null,null,null,1,{"$f":"F1295*memoria!$B$44/(G1295*12*memoria!$B$47)","v":0},{"$f":"F1295/(G1295*12*memoria!$B$47)","v":0}]
[null,null,null,null,null,null,1,{"$f":"F1296*memoria!$B$44/(G1296*12*memoria!$B$47)","v":0},{"$f":"F1296/(G1296*12*memoria!$B$47)","v":0}]
[null,null,null,null,null,null,1,{"$f":"F1297*memoria!$B$44/(G1297*12*memoria!$B$47)","v":0},{"$f":"F1297/(G1297*12*memoria!$B$47)","v":0}]
[null,null,null,null,null,null,1,{"$f":"F1298*memoria!$B$44/(G1298*12*memoria!$B$47)","v":0},{"$f":"F1298/(G1298*12*memoria!$B$47)","v":0}]
[null,null,null,null,null,null,1,{"$f":"F1299*memoria!$B$44/(G1299*12*memoria!$B$47)","v":0},{"$f":"F1299/(G1299*12*memoria!$B$47)","v":0}]
[null,null,null,null,null,null,1,{"$f":"F1300*memoria!$B$44/(G1300*12*memoria!$B$47)","v":0},{"$f":"F1300/(G1300*12*memoria!$B$47)","v":0}]
[null,null,null,null,null,null,1,{"$f":"F1301*memoria!$B$44/(G1301*12*memoria!$B$47)","v":0},{"$f":"F1301/(G1301*12*memoria!$B$47)","v":0}]
[null,null,null,null,null,null,1,{"$f":"F1302*memoria!$B$44/(G1302*12*memoria!$B$47)","v":0},{"$f":"F1302/(G1302*12*memoria!$B$47)","v":0}]
[null,null,null,null,null,null,1,{"$f":"F1303*memoria!$B$44/(G1303*12*memoria!$B$47)","v":0},{"$f":"F1303/(G1303*12*memoria!$B$47)","v":0}]
[null,null,null,null,null,null,1,{"$f":"F1304*memoria!$B$44/(G1304*12*memoria!$B$47)","v":0},{"$f":"F1304/(G1304*12*memoria!$B$47)","v":0}]
[null,null,null,null,null,null,1,{"$f":"F1305*memoria!$B$44/(G1305*12*memoria!$B$47)","v":0},{"$f":"F1305/(G1305*12*memoria!$B$47)","v":0}]
[null,null,null,null,null,null,1,{"$f":"F1306*memoria!$B$44/(G1306*12*memoria!$B$47)","v":0},{"$f":"F1306/(G1306*12*memoria!$B$47)","v":0}]
[null,null,null,null,null,null,1,{"$f":"F1307*memoria!$B$44/(G1307*12*memoria!$B$47)","v":0},{"$f":"F1307/(G1307*12*memoria!$B$47)","v":0}]
[null,null,null,null,null,null,1,{"$f":"F1308*memoria!$B$44/(G1308*12*memoria!$B$47)","v":0},{"$f":"F1308/(G1308*12*memoria!$B$47)","v":0}]
[null,null,null,null,null,null,1,{"$f":"F1309*memoria!$B$44/(G1309*12*memoria!$B$47)","v":0},{"$f":"F1309/(G1309*12*memoria!$B$47)","v":0}]
[null,null,null,null,null,null,1,{"$f":"F1310*memoria!$B$44/(G1310*12*memoria!$B$47)","v":0},{"$f":"F1310/(G1310*12*memoria!$B$47)","v":0}]
[null,null,null,null,null,null,1,{"$f":"F1311*memoria!$B$44/(G1311*12*memoria!$B$47)","v":0},{"$f":"F1311/(G1311*12*memoria!$B$47)","v":0}]
[null,null,null,null,null,null,1,{"$f":"F1312*memoria!$B$44/(G1312*12*memoria!$B$47)","v":0},{"$f":"F1312/(G1312*12*memoria!$B$47)","v":0}]
[null,null,null,null,null,null,1,{"$f":"F1313*memoria!$B$44/(G1313*12*memoria!$B$47)","v":0},{"$f":"F1313/(G1313*12*memoria!$B$47)","v":0}]
[null,null,null,null,null,null,1,{"$f":"F1314*memoria!$B$44/(G1314*12*memoria!$B$47)","v":0},{"$f":"F1314/(G1314*12*memoria!$B$47)","v":0}]
[null,null,null,null,null,null,1,{"$f":"F1315*memoria!$B$44/(G1315*12*memoria!$B$47)","v":0},{"$f":"F1315/(G1315*12*memoria!$B$47)","v":0}]
[null,null,null,null,null,null,1,{"$f":"F1316*memoria!$B$44/(G1316*12*memoria!$B$47)","v":0},{"$f":"F1316/(G1316*12*memoria!$B$47)","v":0}]
[null,null,null,null,null,null,1,{"$f":"F1317*memoria!$B$44/(G1317*12*memoria!$B$47)","v":0},{"$f":"F1317/(G1317*12*memoria!$B$47)","v":0}]
[null,null,null,null,null,null,1,{"$f":"F1318*memoria!$B$44/(G1318*12*memoria!$B$47)","v":0},{"$f":"F1318/(G1318*12*memoria!$B$47)","v":0}]
[null,null,null,null,null,null,1,{"$f":"F1319*memoria!$B$44/(G1319*12*memoria!$B$47)","v":0},{"$f":"F1319/(G1319*12*memoria!$B$47)","v":0}]
[null,null,null,null,null,null,1,{"$f":"F1320*memoria!$B$44/(G1320*12*memoria!$B$47)","v":0},{"$f":"F1320/(G1320*12*memoria!$B$47)","v":0}]
[null,null,null,null,null,null,1,{"$f":"F1321*memoria!$B$44/(G1321*12*memoria!$B$47)","v":0},{"$f":"F1321/(G1321*12*memoria!$B$47)","v":0}]
[null,null,null,null,null,null,1,{"$f":"F1322*memoria!$B$44/(G1322*12*memoria!$B$47)","v":0},{"$f":"F1322/(G1322*12*memoria!$B$47)","v":0}]
[null,null,null,null,null,null,1,{"$f":"F1323*memoria!$B$44/(G1323*12*memoria!$B$47)","v":0},{"$f":"F1323/(G1323*12*memoria!$B$47)","v":0}]
[null,null,null,null,null,null,1,{"$f":"F1324*memoria!$B$44/(G1324*12*memoria!$B$47)","v":0},{"$f":"F1324/(G1324*12*memoria!$B$47)","v":0}]
[null,null,null,null,null,null,1,{"$f":"F1325*memoria!$B$44/(G1325*12*memoria!$B$47)","v":0},{"$f":"F1325/(G1325*12*memoria!$B$47)","v":0}]
[null,null,null,null,null,null,1,{"$f":"F1326*memoria!$B$44/(G1326*12*memoria!$B$47)","v":0},{"$f":"F1326/(G1326*12*memoria!$B$47)","v":0}]
[null,null,null,null,null,null,1,{"$f":"F1327*memoria!$B$44/(G1327*12*memoria!$B$47)","v":0},{"$f":"F1327/(G1327*12*memoria!$B$47)","v":0}]
[null,null,null,null,null,null,1,{"$f":"F1328*memoria!$B$44/(G1328*12*memoria!$B$47)","v":0},{"$f":"F1328/(G1328*12*memoria!$B$47)","v":0}]
[null,null,null,null,null,null,1,{"$f":"F1329*memoria!$B$44/(G1329*12*memoria!$B$47)","v":0},{"$f":"F1329/(G1329*12*memoria!$B$47)","v":0}]
[null,null,null,null,null,null,1,{"$f":"F1330*memoria!$B$44/(G1330*12*memoria!$B$47)","v":0},{"$f":"F1330/(G1330*12*memoria!$B$47)","v":0}]
[null,null,null,null,null,null,1,{"$f":"F1331*memoria!$B$44/(G1331*12*memoria!$B$47)","v":0},{"$f":"F1331/(G1331*12*memoria!$B$47)","v":0}]
[null,null,null,null,null,null,1,{"$f":"F1332*memoria!$B$44/(G1332*12*memoria!$B$47)","v":0},{"$f":"F1332/(G1332*12*memoria!$B$47)","v":0}]
[null,null,null,null,null,null,1,{"$f":"F1333*memoria!$B$44/(G1333*12*memoria!$B$47)","v":0},{"$f":"F1333/(G1333*12*memoria!$B$47)","v":0}]
[null,null,null,null,null,null,1,{"$f":"F1334*memoria!$B$44/(G1334*12*memoria!$B$47)","v":0},{"$f":"F1334/(G1334*12*memoria!$B$47)","v":0}]
[null,null,null,null,null,null,1,{"$f":"F1335*memoria!$B$44/(G1335*12*memoria!$B$47)","v":0},{"$f":"F1335/(G1335*12*memoria!$B$47)","v":0}]
[null,null,null,null,null,null,1,{"$f":"F1336*memoria!$B$44/(G1336*12*memoria!$B$47)","v":0},{"$f":"F1336/(G1336*12*memoria!$B$47)","v":0}]
[null,null,null,null,null,null,1,{"$f":"F1337*memoria!$B$44/(G1337*12*memoria!$B$47)","v":0},{"$f":"F1337/(G1337*12*memoria!$B$47)","v":0}]
[null,null,null,null,null,null,1,{"$f":"F1338*memoria!$B$44/(G1338*12*memoria!$B$47)","v":0},{"$f":"F1338/(G1338*12*memoria!$B$47)","v":0}]
[null,null,null,null,null,null,1,{"$f":"F1339*memoria!$B$44/(G1339*12*memoria!$B$47)","v":0},{"$f":"F1339/(G1339*12*memoria!$B$47)","v":0}]
[null,null,null,null,null,null,1,{"$f":"F1340*memoria!$B$44/(G1340*12*memoria!$B$47)","v":0},{"$f":"F1340/(G1340*12*memoria!$B$47)","v":0}]
[null,null,null,null,null,null,1,{"$f":"F1341*memoria!$B$44/(G1341*12*memoria!$B$47)","v":0},{"$f":"F1341/(G1341*12*memoria!$B$47)","v":0}]
[null,null,null,null,null,null,1,{"$f":"F1342*memoria!$B$44/(G1342*12*memoria!$B$47)","v":0},{"$f":"F1342/(G1342*12*memoria!$B$47)","v":0}]
[null,null,null,null,null,null,1,{"$f":"F1343*memoria!$B$44/(G1343*12*memoria!$B$47)","v":0},{"$f":"F1343/(G1343*12*memoria!$B$47)","v":0}]
[null,null,null,null,null,null,1,{"$f":"F1344*memoria!$B$44/(G1344*12*memoria!$B$47)","v":0},{"$f":"F1344/(G1344*12*memoria!$B$47)","v":0}]
[null,null,null,null,null,null,1,{"$f":"F1345*memoria!$B$44/(G1345*12*memoria!$B$47)","v":0},{"$f":"F1345/(G1345*12*memoria!$B$47)","v":0}]
[null,null,null,null,null,null,1,{"$f":"F1346*memoria!$B$44/(G1346*12*memoria!$B$47)","v":0},{"$f":"F1346/(G1346*12*memoria!$B$47)","v":0}]
[null,null,null,null,null,null,1,{"$f":"F1347*memoria!$B$44/(G1347*12*memoria!$B$47)","v":0},{"$f":"F1347/(G1347*12*memoria!$B$47)","v":0}]
[null,null,null,null,null,null,1,{"$f":"F1348*memoria!$B$44/(G1348*12*memoria!$B$47)","v":0},{"$f":"F1348/(G1348*12*memoria!$B$47)","v":0}]
[null,null,null,null,null,null,1,{"$f":"F1349*memoria!$B$44/(G1349*12*memoria!$B$47)","v":0},{"$f":"F1349/(G1349*12*memoria!$B$47)","v":0}]
[null,null,null,null,null,null,1,{"$f":"F1350*memoria!$B$44/(G1350*12*memoria!$B$47)","v":0},{"$f":"F1350/(G1350*12*memoria!$B$47)","v":0}]
[null,null,null,null,null,null,1,{"$f":"F1351*memoria!$B$44/(G1351*12*memoria!$B$47)","v":0},{"$f":"F1351/(G1351*12*memoria!$B$47)","v":0}]
[null,null,null,null,null,null,1,{"$f":"F1352*memoria!$B$44/(G1352*12*memoria!$B$47)","v":0},{"$f":"F1352/(G1352*12*memoria!$B$47)","v":0}]
[null,null,null,null,null,null,1,{"$f":"F1353*memoria!$B$44/(G1353*12*memoria!$B$47)","v":0},{"$f":"F1353/(G1353*12*memoria!$B$47)","v":0}]
[null,null,null,null,null,null,1,{"$f":"F1354*memoria!$B$44/(G1354*12*memoria!$B$47)","v":0},{"$f":"F1354/(G1354*12*memoria!$B$47)","v":0}]
[null,null,null,null,null,null,1,{"$f":"F1355*memoria!$B$44/(G1355*12*memoria!$B$47)","v":0},{"$f":"F1355/(G1355*12*memoria!$B$47)","v":0}]
[null,null,null,null,null,null,1,{"$f":"F1356*memoria!$B$44/(G1356*12*memoria!$B$47)","v":0},{"$f":"F1356/(G1356*12*memoria!$B$47)","v":0}]
[null,null,null,null,null,null,1,{"$f":"F1357*memoria!$B$44/(G1357*12*memoria!$B$47)","v":0},{"$f":"F1357/(G1357*12*memoria!$B$47)","v":0}]
[null,null,null,null,null,null,1,{"$f":"F1358*memoria!$B$44/(G1358*12*memoria!$B$47)","v":0},{"$f":"F1358/(G1358*12*memoria!$B$47)","v":0}]
[null,null,null,null,null,null,1,{"$f":"F1359*memoria!$B$44/(G1359*12*memoria!$B$47)","v":0},{"$f":"F1359/(G1359*12*memoria!$B$47)","v":0}]
[null,null,null,null,null,null,1,{"$f":"F1360*memoria!$B$44/(G1360*12*memoria!$B$47)","v":0},{"$f":"F1360/(G1360*12*memoria!$B$47)","v":0}]
[null,null,null,null,null,null,1,{"$f":"F1361*memoria!$B$44/(G1361*12*memoria!$B$47)","v":0},{"$f":"F1361/(G1361*12*memoria!$B$47)","v":0}]
[null,null,null,null,null,null,1,{"$f":"F1362*memoria!$B$44/(G1362*12*memoria!$B$47)","v":0},{"$f":"F1362/(G1362*12*memoria!$B$47)","v":0}]
[null,null,null,null,null,null,1,{"$f":"F1363*memoria!$B$44/(G1363*12*memoria!$B$47)","v":0},{"$f":"F1363/(G1363*12*memoria!$B$47)","v":0}]
[null,null,null,null,null,null,1,{"$f":"F1364*memoria!$B$44/(G1364*12*memoria!$B$47)","v":0},{"$f":"F1364/(G1364*12*memoria!$B$47)","v":0}]
[null,null,null,null,null,null,1,{"$f":"F1365*memoria!$B$44/(G1365*12*memoria!$B$47)","v":0},{"$f":"F1365/(G1365*12*memoria!$B$47)","v":0}]
[null,null,null,null,null,null,1,{"$f":"F1366*memoria!$B$44/(G1366*12*memoria!$B$47)","v":0},{"$f":"F1366/(G1366*12*memoria!$B$47)","v":0}]
[null,null,null,null,null,null,1,{"$f":"F1367*memoria!$B$44/(G1367*12*memoria!$B$47)","v":0},{"$f":"F1367/(G1367*12*memoria!$B$47)","v":0}]
[null,null,null,null,null,null,1,{"$f":"F1368*memoria!$B$44/(G1368*12*memoria!$B$47)","v":0},{"$f":"F1368/(G1368*12*memoria!$B$47)","v":0}]
[null,null,null,null,null,null,1,{"$f":"F1369*memoria!$B$44/(G1369*12*memoria!$B$47)","v":0},{"$f":"F1369/(G1369*12*memoria!$B$47)","v":0}]
[null,null,null,null,null,null,1,{"$f":"F1370*memoria!$B$44/(G1370*12*memoria!$B$47)","v":0},{"$f":"F1370/(G1370*12*memoria!$B$47)","v":0}]
[null,null,null,null,null,null,1,{"$f":"F1371*memoria!$B$44/(G1371*12*memoria!$B$47)","v":0},{"$f":"F1371/(G1371*12*memoria!$B$47)","v":0}]
[null,null,null,null,null,null,1,{"$f":"F1372*memoria!$B$44/(G1372*12*memoria!$B$47)","v":0},{"$f":"F1372/(G1372*12*memoria!$B$47)","v":0}]
[null,null,null,null,null,null,1,{"$f":"F1373*memoria!$B$44/(G1373*12*memoria!$B$47)","v":0},{"$f":"F1373/(G1373*12*memoria!$B$47)","v":0}]
[null,null,null,null,null,null,1,{"$f":"F1374*memoria!$B$44/(G1374*12*memoria!$B$47)","v":0},{"$f":"F1374/(G1374*12*memoria!$B$47)","v":0}]
[null,null,null,null,null,null,1,{"$f":"F1375*memoria!$B$44/(G1375*12*memoria!$B$47)","v":0},{"$f":"F1375/(G1375*12*memoria!$B$47)","v":0}]
[null,null,null,null,null,null,1,{"$f":"F1376*memoria!$B$44/(G1376*12*memoria!$B$47)","v":0},{"$f":"F1376/(G1376*12*memoria!$B$47)","v":0}]
[null,null,null,null,null,null,1,{"$f":"F1377*memoria!$B$44/(G1377*12*memoria!$B$47)","v":0},{"$f":"F1377/(G1377*12*memoria!$B$47)","v":0}]
[null,null,null,null,null,null,1,{"$f":"F1378*memoria!$B$44/(G1378*12*memoria!$B$47)","v":0},{"$f":"F1378/(G1378*12*memoria!$B$47)","v":0}]
[null,null,null,null,null,null,1,{"$f":"F1379*memoria!$B$44/(G1379*12*memoria!$B$47)","v":0},{"$f":"F1379/(G1379*12*memoria!$B$47)","v":0}]
[null,null,null,null,null,null,1,{"$f":"F1380*memoria!$B$44/(G1380*12*memoria!$B$47)","v":0},{"$f":"F1380/(G1380*12*memoria!$B$47)","v":0}]
[null,null,null,null,null,null,1,{"$f":"F1381*memoria!$B$44/(G1381*12*memoria!$B$47)","v":0},{"$f":"F1381/(G1381*12*memoria!$B$47)","v":0}]
[null,null,null,null,null,null,1,{"$f":"F1382*memoria!$B$44/(G1382*12*memoria!$B$47)","v":0},{"$f":"F1382/(G1382*12*memoria!$B$47)","v":0}]
[null,null,null,null,null,null,1,{"$f":"F1383*memoria!$B$44/(G1383*12*memoria!$B$47)","v":0},{"$f":"F1383/(G1383*12*memoria!$B$47)","v":0}]
[null,null,null,null,null,null,1,{"$f":"F1384*memoria!$B$44/(G1384*12*memoria!$B$47)","v":0},{"$f":"F1384/(G1384*12*memoria!$B$47)","v":0}]
[null,null,null,null,null,null,1,{"$f":"F1385*memoria!$B$44/(G1385*12*memoria!$B$47)","v":0},{"$f":"F1385/(G1385*12*memoria!$B$47)","v":0}]
[null,null,null,null,null,null,1,{"$f":"F1386*memoria!$B$44/(G1386*12*memoria!$B$47)","v":0},{"$f":"F1386/(G1386*12*memoria!$B$47)","v":0}]
[null,null,null,null,null,null,1,{"$f":"F1387*memoria!$B$44/(G1387*12*memoria!$B$47)","v":0},{"$f":"F1387/(G1387*12*memoria!$B$47)","v":0}]
[null,null,null,null,null,null,1,{"$f":"F1388*memoria!$B$44/(G1388*12*memoria!$B$47)","v":0},{"$f":"F1388/(G1388*12*memoria!$B$47)","v":0}]
[null,null,null,null,null,null,1,{"$f":"F1389*memoria!$B$44/(G1389*12*memoria!$B$47)","v":0},{"$f":"F1389/(G1389*12*memoria!$B$47)","v":0}]
[null,null,null,null,null,null,1,{"$f":"F1390*memoria!$B$44/(G1390*12*memoria!$B$47)","v":0},{"$f":"F1390/(G1390*12*memoria!$B$47)","v":0}]
[null,null,null,null,null,null,1,{"$f":"F1391*memoria!$B$44/(G1391*12*memoria!$B$47)","v":0},{"$f":"F1391/(G1391*12*memoria!$B$47)","v":0}]
[null,null,null,null,null,null,1,{"$f":"F1392*memoria!$B$44/(G1392*12*memoria!$B$47)","v":0},{"$f":"F1392/(G1392*12*memoria!$B$47)","v":0}]
[null,null,null,null,null,null,1,{"$f":"F1393*memoria!$B$44/(G1393*12*memoria!$B$47)","v":0},{"$f":"F1393/(G1393*12*memoria!$B$47)","v":0}]
[null,null,null,null,null,null,1,{"$f":"F1394*memoria!$B$44/(G1394*12*memoria!$B$47)","v":0},{"$f":"F1394/(G1394*12*memoria!$B$47)","v":0}]
[null,null,null,null,null,null,1,{"$f":"F1395*memoria!$B$44/(G1395*12*memoria!$B$47)","v":0},{"$f":"F1395/(G1395*12*memoria!$B$47)","v":0}]
[null,null,null,null,null,null,1,{"$f":"F1396*memoria!$B$44/(G1396*12*memoria!$B$47)","v":0},{"$f":"F1396/(G1396*12*memoria!$B$47)","v":0}]
[null,null,null,null,null,null,1,{"$f":"F1397*memoria!$B$44/(G1397*12*memoria!$B$47)","v":0},{"$f":"F1397/(G1397*12*memoria!$B$47)","v":0}]
[null,null,null,null,null,null,1,{"$f":"F1398*memoria!$B$44/(G1398*12*memoria!$B$47)","v":0},{"$f":"F1398/(G1398*12*memoria!$B$47)","v":0}]
[null,null,null,null,null,null,1,{"$f":"F1399*memoria!$B$44/(G1399*12*memoria!$B$47)","v":0},{"$f":"F1399/(G1399*12*memoria!$B$47)","v":0}]
[null,null,null,null,null,null,1,{"$f":"F1400*memoria!$B$44/(G1400*12*memoria!$B$47)","v":0},{"$f":"F1400/(G1400*12*memoria!$B$47)","v":0}]
[null,null,null,null,null,null,1,{"$f":"F1401*memoria!$B$44/(G1401*12*memoria!$B$47)","v":0},{"$f":"F1401/(G1401*12*memoria!$B$47)","v":0}]
[null,null,null,null,null,null,1,{"$f":"F1402*memoria!$B$44/(G1402*12*memoria!$B$47)","v":0},{"$f":"F1402/(G1402*12*memoria!$B$47)","v":0}]
[null,null,null,null,null,null,1,{"$f":"F1403*memoria!$B$44/(G1403*12*memoria!$B$47)","v":0},{"$f":"F1403/(G1403*12*memoria!$B$47)","v":0}]
[null,null,null,null,null,null,1,{"$f":"F1404*memoria!$B$44/(G1404*12*memoria!$B$47)","v":0},{"$f":"F1404/(G1404*12*memoria!$B$47)","v":0}]
[null,null,null,null,null,null,1,{"$f":"F1405*memoria!$B$44/(G1405*12*memoria!$B$47)","v":0},{"$f":"F1405/(G1405*12*memoria!$B$47)","v":0}]
[null,null,null,null,null,null,1,{"$f":"F1406*memoria!$B$44/(G1406*12*memoria!$B$47)","v":0},{"$f":"F1406/(G1406*12*memoria!$B$47)","v":0}]
[null,null,null,null,null,null,1,{"$f":"F1407*memoria!$B$44/(G1407*12*memoria!$B$47)","v":0},{"$f":"F1407/(G1407*12*memoria!$B$47)","v":0}]
[null,null,null,null,null,null,1,{"$f":"F1408*memoria!$B$44/(G1408*12*memoria!$B$47)","v":0},{"$f":"F1408/(G1408*12*memoria!$B$47)","v":0}]
[null,null,null,null,null,null,1,{"$f":"F1409*memoria!$B$44/(G1409*12*memoria!$B$47)","v":0},{"$f":"F1409/(G1409*12*memoria!$B$47)","v":0}]
[null,null,null,null,null,null,1,{"$f":"F1410*memoria!$B$44/(G1410*12*memoria!$B$47)","v":0},{"$f":"F1410/(G1410*12*memoria!$B$47)","v":0}]
[null,null,null,null,null,null,1,{"$f":"F1411*memoria!$B$44/(G1411*12*memoria!$B$47)","v":0},{"$f":"F1411/(G1411*12*memoria!$B$47)","v":0}]
[null,null,null,null,null,null,1,{"$f":"F1412*memoria!$B$44/(G1412*12*memoria!$B$47)","v":0},{"$f":"F1412/(G1412*12*memoria!$B$47)","v":0}]
[null,null,null,null,null,null,1,{"$f":"F1413*memoria!$B$44/(G1413*12*memoria!$B$47)","v":0},{"$f":"F1413/(G1413*12*memoria!$B$47)","v":0}]
[null,null,null,null,null,null,1,{"$f":"F1414*memoria!$B$44/(G1414*12*memoria!$B$47)","v":0},{"$f":"F1414/(G1414*12*memoria!$B$47)","v":0}]
[null,null,null,null,null,null,1,{"$f":"F1415*memoria!$B$44/(G1415*12*memoria!$B$47)","v":0},{"$f":"F1415/(G1415*12*memoria!$B$47)","v":0}]
[null,null,null,null,null,null,1,{"$f":"F1416*memoria!$B$44/(G1416*12*memoria!$B$47)","v":0},{"$f":"F1416/(G1416*12*memoria!$B$47)","v":0}]
[null,null,null,null,null,null,1,{"$f":"F1417*memoria!$B$44/(G1417*12*memoria!$B$47)","v":0},{"$f":"F1417/(G1417*12*memoria!$B$47)","v":0}]
[null,null,null,null,null,null,1,{"$f":"F1418*memoria!$B$44/(G1418*12*memoria!$B$47)","v":0},{"$f":"F1418/(G1418*12*memoria!$B$47)","v":0}]
[null,null,null,null,null,null,1,{"$f":"F1419*memoria!$B$44/(G1419*12*memoria!$B$47)","v":0},{"$f":"F1419/(G1419*12*memoria!$B$47)","v":0}]
[null,null,null,null,null,null,1,{"$f":"F1420*memoria!$B$44/(G1420*12*memoria!$B$47)","v":0},{"$f":"F1420/(G1420*12*memoria!$B$47)","v":0}]
[null,null,null,null,null,null,1,{"$f":"F1421*memoria!$B$44/(G1421*12*memoria!$B$47)","v":0},{"$f":"F1421/(G1421*12*memoria!$B$47)","v":0}]
[null,null,null,null,null,null,1,{"$f":"F1422*memoria!$B$44/(G1422*12*memoria!$B$47)","v":0},{"$f":"F1422/(G1422*12*memoria!$B$47)","v":0}]
[null,null,null,null,null,null,1,{"$f":"F1423*memoria!$B$44/(G1423*12*memoria!$B$47)","v":0},{"$f":"F1423/(G1423*12*memoria!$B$47)","v":0}]
[null,null,null,null,null,null,1,{"$f":"F1424*memoria!$B$44/(G1424*12*memoria!$B$47)","v":0},{"$f":"F1424/(G1424*12*memoria!$B$47)","v":0}]
[null,null,null,null,null,null,1,{"$f":"F1425*memoria!$B$44/(G1425*12*memoria!$B$47)","v":0},{"$f":"F1425/(G1425*12*memoria!$B$47)","v":0}]
[null,null,null,null,null,null,1,{"$f":"F1426*memoria!$B$44/(G1426*12*memoria!$B$47)","v":0},{"$f":"F1426/(G1426*12*memoria!$B$47)","v":0}]
[null,null,null,null,null,null,1,{"$f":"F1427*memoria!$B$44/(G1427*12*memoria!$B$47)","v":0},{"$f":"F1427/(G1427*12*memoria!$B$47)","v":0}]
[null,null,null,null,null,null,1,{"$f":"F1428*memoria!$B$44/(G1428*12*memoria!$B$47)","v":0},{"$f":"F1428/(G1428*12*memoria!$B$47)","v":0}]
[null,null,null,null,null,null,1,{"$f":"F1429*memoria!$B$44/(G1429*12*memoria!$B$47)","v":0},{"$f":"F1429/(G1429*12*memoria!$B$47)","v":0}]
[null,null,null,null,null,null,1,{"$f":"F1430*memoria!$B$44/(G1430*12*memoria!$B$47)","v":0},{"$f":"F1430/(G1430*12*memoria!$B$47)","v":0}]
[null,null,null,null,null,null,1,{"$f":"F1431*memoria!$B$44/(G1431*12*memoria!$B$47)","v":0},{"$f":"F1431/(G1431*12*memoria!$B$47)","v":0}]
[null,null,null,null,null,null,1,{"$f":"F1432*memoria!$B$44/(G1432*12*memoria!$B$47)","v":0},{"$f":"F1432/(G1432*12*memoria!$B$47)","v":0}]
[null,null,null,null,null,null,1,{"$f":"F1433*memoria!$B$44/(G1433*12*memoria!$B$47)","v":0},{"$f":"F1433/(G1433*12*memoria!$B$47)","v":0}]
[null,null,null,null,null,null,1,{"$f":"F1434*memoria!$B$44/(G1434*12*memoria!$B$47)","v":0},{"$f":"F1434/(G1434*12*memoria!$B$47)","v":0}]
[null,null,null,null,null,null,1,{"$f":"F1435*memoria!$B$44/(G1435*12*memoria!$B$47)","v":0},{"$f":"F1435/(G1435*12*memoria!$B$47)","v":0}]
[null,null,null,null,null,null,1,{"$f":"F1436*memoria!$B$44/(G1436*12*memoria!$B$47)","v":0},{"$f":"F1436/(G1436*12*memoria!$B$47)","v":0}]
[null,null,null,null,null,null,1,{"$f":"F1437*memoria!$B$44/(G1437*12*memoria!$B$47)","v":0},{"$f":"F1437/(G1437*12*memoria!$B$47)","v":0}]
[null,null,null,null,null,null,1,{"$f":"F1438*memoria!$B$44/(G1438*12*memoria!$B$47)","v":0},{"$f":"F1438/(G1438*12*memoria!$B$47)","v":0}]
[null,null,null,null,null,null,1,{"$f":"F1439*memoria!$B$44/(G1439*12*memoria!$B$47)","v":0},{"$f":"F1439/(G1439*12*memoria!$B$47)","v":0}]
[null,null,null,null,null,null,1,{"$f":"F1440*memoria!$B$44/(G1440*12*memoria!$B$47)","v":0},{"$f":"F1440/(G1440*12*memoria!$B$47)","v":0}]
[null,null,null,null,null,null,1,{"$f":"F1441*memoria!$B$44/(G1441*12*memoria!$B$47)","v":0},{"$f":"F1441/(G1441*12*memoria!$B$47)","v":0}]
[null,null,null,null,null,null,1,{"$f":"F1442*memoria!$B$44/(G1442*12*memoria!$B$47)","v":0},{"$f":"F1442/(G1442*12*memoria!$B$47)","v":0}]
[null,null,null,null,null,null,1,{"$f":"F1443*memoria!$B$44/(G1443*12*memoria!$B$47)","v":0},{"$f":"F1443/(G1443*12*memoria!$B$47)","v":0}]
[null,null,null,null,null,null,1,{"$f":"F1444*memoria!$B$44/(G1444*12*memoria!$B$47)","v":0},{"$f":"F1444/(G1444*12*memoria!$B$47)","v":0}]
[null,null,null,null,null,null,1,{"$f":"F1445*memoria!$B$44/(G1445*12*memoria!$B$47)","v":0},{"$f":"F1445/(G1445*12*memoria!$B$47)","v":0}]
[null,null,null,null,null,null,1,{"$f":"F1446*memoria!$B$44/(G1446*12*memoria!$B$47)","v":0},{"$f":"F1446/(G1446*12*memoria!$B$47)","v":0}]
[null,null,null,null,null,null,1,{"$f":"F1447*memoria!$B$44/(G1447*12*memoria!$B$47)","v":0},{"$f":"F1447/(G1447*12*memoria!$B$47)","v":0}]
[null,null,null,null,null,null,1,{"$f":"F1448*memoria!$B$44/(G1448*12*memoria!$B$47)","v":0},{"$f":"F1448/(G1448*12*memoria!$B$47)","v":0}]
[null,null,null,null,null,null,1,{"$f":"F1449*memoria!$B$44/(G1449*12*memoria!$B$47)","v":0},{"$f":"F1449/(G1449*12*memoria!$B$47)","v":0}]
[null,null,null,null,null,null,1,{"$f":"F1450*memoria!$B$44/(G1450*12*memoria!$B$47)","v":0},{"$f":"F1450/(G1450*12*memoria!$B$47)","v":0}]
[null,null,null,null,null,null,1,{"$f":"F1451*memoria!$B$44/(G1451*12*memoria!$B$47)","v":0},{"$f":"F1451/(G1451*12*memoria!$B$47)","v":0}]
[null,null,null,null,null,null,1,{"$f":"F1452*memoria!$B$44/(G1452*12*memoria!$B$47)","v":0},{"$f":"F1452/(G1452*12*memoria!$B$47)","v":0}]
[null,null,null,null,null,null,1,{"$f":"F1453*memoria!$B$44/(G1453*12*memoria!$B$47)","v":0},{"$f":"F1453/(G1453*12*memoria!$B$47)","v":0}]
[null,null,null,null,null,null,1,{"$f":"F1454*memoria!$B$44/(G1454*12*memoria!$B$47)","v":0},{"$f":"F1454/(G1454*12*memoria!$B$47)","v":0}]
[null,null,null,null,null,null,1,{"$f":"F1455*memoria!$B$44/(G1455*12*memoria!$B$47)","v":0},{"$f":"F1455/(G1455*12*memoria!$B$47)","v":0}]
[null,null,null,null,null,null,1,{"$f":"F1456*memoria!$B$44/(G1456*12*memoria!$B$47)","v":0},{"$f":"F1456/(G1456*12*memoria!$B$47)","v":0}]
[null,null,null,null,null,null,1,{"$f":"F1457*memoria!$B$44/(G1457*12*memoria!$B$47)","v":0},{"$f":"F1457/(G1457*12*memoria!$B$47)","v":0}]
[null,null,null,null,null,null,1,{"$f":"F1458*memoria!$B$44/(G1458*12*memoria!$B$47)","v":0},{"$f":"F1458/(G1458*12*memoria!$B$47)","v":0}]
[null,null,null,null,null,null,1,{"$f":"F1459*memoria!$B$44/(G1459*12*memoria!$B$47)","v":0},{"$f":"F1459/(G1459*12*memoria!$B$47)","v":0}]
[null,null,null,null,null,null,1,{"$f":"F1460*memoria!$B$44/(G1460*12*memoria!$B$47)","v":0},{"$f":"F1460/(G1460*12*memoria!$B$47)","v":0}]
[null,null,null,null,null,null,1,{"$f":"F1461*memoria!$B$44/(G1461*12*memoria!$B$47)","v":0},{"$f":"F1461/(G1461*12*memoria!$B$47)","v":0}]
[null,null,null,null,null,null,1,{"$f":"F1462*memoria!$B$44/(G1462*12*memoria!$B$47)","v":0},{"$f":"F1462/(G1462*12*memoria!$B$47)","v":0}]
[null,null,null,null,null,null,1,{"$f":"F1463*memoria!$B$44/(G1463*12*memoria!$B$47)","v":0},{"$f":"F1463/(G1463*12*memoria!$B$47)","v":0}]
[null,null,null,null,null,null,1,{"$f":"F1464*memoria!$B$44/(G1464*12*memoria!$B$47)","v":0},{"$f":"F1464/(G1464*12*memoria!$B$47)","v":0}]
[null,null,null,null,null,null,1,{"$f":"F1465*memoria!$B$44/(G1465*12*memoria!$B$47)","v":0},{"$f":"F1465/(G1465*12*memoria!$B$47)","v":0}]
[null,null,null,null,null,null,1,{"$f":"F1466*memoria!$B$44/(G1466*12*memoria!$B$47)","v":0},{"$f":"F1466/(G1466*12*memoria!$B$47)","v":0}]
[null,null,null,null,null,null,1,{"$f":"F1467*memoria!$B$44/(G1467*12*memoria!$B$47)","v":0},{"$f":"F1467/(G1467*12*memoria!$B$47)","v":0}]
[null,null,null,null,null,null,1,{"$f":"F1468*memoria!$B$44/(G1468*12*memoria!$B$47)","v":0},{"$f":"F1468/(G1468*12*memoria!$B$47)","v":0}]
[null,null,null,null,null,null,1,{"$f":"F1469*memoria!$B$44/(G1469*12*memoria!$B$47)","v":0},{"$f":"F1469/(G1469*12*memoria!$B$47)","v":0}]
[null,null,null,null,null,null,1,{"$f":"F1470*memoria!$B$44/(G1470*12*memoria!$B$47)","v":0},{"$f":"F1470/(G1470*12*memoria!$B$47)","v":0}]
[null,null,null,null,null,null,1,{"$f":"F1471*memoria!$B$44/(G1471*12*memoria!$B$47)","v":0},{"$f":"F1471/(G1471*12*memoria!$B$47)","v":0}]
[null,null,null,null,null,null,1,{"$f":"F1472*memoria!$B$44/(G1472*12*memoria!$B$47)","v":0},{"$f":"F1472/(G1472*12*memoria!$B$47)","v":0}]
[null,null,null,null,null,null,1,{"$f":"F1473*memoria!$B$44/(G1473*12*memoria!$B$47)","v":0},{"$f":"F1473/(G1473*12*memoria!$B$47)","v":0}]
[null,null,null,null,null,null,1,{"$f":"F1474*memoria!$B$44/(G1474*12*memoria!$B$47)","v":0},{"$f":"F1474/(G1474*12*memoria!$B$47)","v":0}]
[null,null,null,null,null,null,1,{"$f":"F1475*memoria!$B$44/(G1475*12*memoria!$B$47)","v":0},{"$f":"F1475/(G1475*12*memoria!$B$47)","v":0}]
[null,null,null,null,null,null,1,{"$f":"F1476*memoria!$B$44/(G1476*12*memoria!$B$47)","v":0},{"$f":"F1476/(G1476*12*memoria!$B$47)","v":0}]
[null,null,null,null,null,null,1,{"$f":"F1477*memoria!$B$44/(G1477*12*memoria!$B$47)","v":0},{"$f":"F1477/(G1477*12*memoria!$B$47)","v":0}]
[null,null,null,null,null,null,1,{"$f":"F1478*memoria!$B$44/(G1478*12*memoria!$B$47)","v":0},{"$f":"F1478/(G1478*12*memoria!$B$47)","v":0}]
[null,null,null,null,null,null,1,{"$f":"F1479*memoria!$B$44/(G1479*12*memoria!$B$47)","v":0},{"$f":"F1479/(G1479*12*memoria!$B$47)","v":0}]
[null,null,null,null,null,null,1,{"$f":"F1480*memoria!$B$44/(G1480*12*memoria!$B$47)","v":0},{"$f":"F1480/(G1480*12*memoria!$B$47)","v":0}]
[null,null,null,null,null,null,1,{"$f":"F1481*memoria!$B$44/(G1481*12*memoria!$B$47)","v":0},{"$f":"F1481/(G1481*12*memoria!$B$47)","v":0}]
[null,null,null,null,null,null,1,{"$f":"F1482*memoria!$B$44/(G1482*12*memoria!$B$47)","v":0},{"$f":"F1482/(G1482*12*memoria!$B$47)","v":0}]
[null,null,null,null,null,null,1,{"$f":"F1483*memoria!$B$44/(G1483*12*memoria!$B$47)","v":0},{"$f":"F1483/(G1483*12*memoria!$B$47)","v":0}]
[null,null,null,null,null,null,1,{"$f":"F1484*memoria!$B$44/(G1484*12*memoria!$B$47)","v":0},{"$f":"F1484/(G1484*12*memoria!$B$47)","v":0}]
[null,null,null,null,null,null,1,{"$f":"F1485*memoria!$B$44/(G1485*12*memoria!$B$47)","v":0},{"$f":"F1485/(G1485*12*memoria!$B$47)","v":0}]
[null,null,null,null,null,null,1,{"$f":"F1486*memoria!$B$44/(G1486*12*memoria!$B$47)","v":0},{"$f":"F1486/(G1486*12*memoria!$B$47)","v":0}]
[null,null,null,null,null,null,1,{"$f":"F1487*memoria!$B$44/(G1487*12*memoria!$B$47)","v":0},{"$f":"F1487/(G1487*12*memoria!$B$47)","v":0}]
[null,null,null,null,null,null,1,{"$f":"F1488*memoria!$B$44/(G1488*12*memoria!$B$47)","v":0},{"$f":"F1488/(G1488*12*memoria!$B$47)","v":0}]
[null,null,null,null,null,null,1,{"$f":"F1489*memoria!$B$44/(G1489*12*memoria!$B$47)","v":0},{"$f":"F1489/(G1489*12*memoria!$B$47)","v":0}]
[null,null,null,null,null,null,1,{"$f":"F1490*memoria!$B$44/(G1490*12*memoria!$B$47)","v":0},{"$f":"F1490/(G1490*12*memoria!$B$47)","v":0}]
[null,null,null,null,null,null,1,{"$f":"F1491*memoria!$B$44/(G1491*12*memoria!$B$47)","v":0},{"$f":"F1491/(G1491*12*memoria!$B$47)","v":0}]
[null,null,null,null,null,null,1,{"$f":"F1492*memoria!$B$44/(G1492*12*memoria!$B$47)","v":0},{"$f":"F1492/(G1492*12*memoria!$B$47)","v":0}]
[null,null,null,null,null,null,1,{"$f":"F1493*memoria!$B$44/(G1493*12*memoria!$B$47)","v":0},{"$f":"F1493/(G1493*12*memoria!$B$47)","v":0}]
[null,null,null,null,null,null,1,{"$f":"F1494*memoria!$B$44/(G1494*12*memoria!$B$47)","v":0},{"$f":"F1494/(G1494*12*memoria!$B$47)","v":0}]
[null,null,null,null,null,null,1,{"$f":"F1495*memoria!$B$44/(G1495*12*memoria!$B$47)","v":0},{"$f":"F1495/(G1495*12*memoria!$B$47)","v":0}]
[null,null,null,null,null,null,1,{"$f":"F1496*memoria!$B$44/(G1496*12*memoria!$B$47)","v":0},{"$f":"F1496/(G1496*12*memoria!$B$47)","v":0}]
[null,null,null,null,null,null,1,{"$f":"F1497*memoria!$B$44/(G1497*12*memoria!$B$47)","v":0},{"$f":"F1497/(G1497*12*memoria!$B$47)","v":0}]
[null,null,null,null,null,null,1,{"$f":"F1498*memoria!$B$44/(G1498*12*memoria!$B$47)","v":0},{"$f":"F1498/(G1498*12*memoria!$B$47)","v":0}]
[null,null,null,null,null,null,1,{"$f":"F1499*memoria!$B$44/(G1499*12*memoria!$B$47)","v":0},{"$f":"F1499/(G1499*12*memoria!$B$47)","v":0}]
[null,null,null,null,null,null,1,{"$f":"F1500*memoria!$B$44/(G1500*12*memoria!$B$47)","v":0},{"$f":"F1500/(G1500*12*memoria!$B$47)","v":0}]
[null,null,null,null,null,null,1,{"$f":"F1501*memoria!$B$44/(G1501*12*memoria!$B$47)","v":0},{"$f":"F1501/(G1501*12*memoria!$B$47)","v":0}]
[null,null,null,null,null,null,1,{"$f":"F1502*memoria!$B$44/(G1502*12*memoria!$B$47)","v":0},{"$f":"F1502/(G1502*12*memoria!$B$47)","v":0}]
[null,null,null,null,null,null,1,{"$f":"F1503*memoria!$B$44/(G1503*12*memoria!$B$47)","v":0},{"$f":"F1503/(G1503*12*memoria!$B$47)","v":0}]
[null,null,null,null,null,null,1,{"$f":"F1504*memoria!$B$44/(G1504*12*memoria!$B$47)","v":0},{"$f":"F1504/(G1504*12*memoria!$B$47)","v":0}]
[null,null,null,null,null,null,1,{"$f":"F1505*memoria!$B$44/(G1505*12*memoria!$B$47)","v":0},{"$f":"F1505/(G1505*12*memoria!$B$47)","v":0}]
[null,null,null,null,null,null,1,{"$f":"F1506*memoria!$B$44/(G1506*12*memoria!$B$47)","v":0},{"$f":"F1506/(G1506*12*memoria!$B$47)","v":0}]
[null,null,null,null,null,null,1,{"$f":"F1507*memoria!$B$44/(G1507*12*memoria!$B$47)","v":0},{"$f":"F1507/(G1507*12*memoria!$B$47)","v":0}]
[null,null,null,null,null,null,1,{"$f":"F1508*memoria!$B$44/(G1508*12*memoria!$B$47)","v":0},{"$f":"F1508/(G1508*12*memoria!$B$47)","v":0}]
[null,null,null,null,null,null,1,{"$f":"F1509*memoria!$B$44/(G1509*12*memoria!$B$47)","v":0},{"$f":"F1509/(G1509*12*memoria!$B$47)","v":0}]
[null,null,null,null,null,null,1,{"$f":"F1510*memoria!$B$44/(G1510*12*memoria!$B$47)","v":0},{"$f":"F1510/(G1510*12*memoria!$B$47)","v":0}]
[null,null,null,null,null,null,1,{"$f":"F1511*memoria!$B$44/(G1511*12*memoria!$B$47)","v":0},{"$f":"F1511/(G1511*12*memoria!$B$47)","v":0}]
[null,null,null,null,null,null,1,{"$f":"F1512*memoria!$B$44/(G1512*12*memoria!$B$47)","v":0},{"$f":"F1512/(G1512*12*memoria!$B$47)","v":0}]
[null,null,null,null,null,null,1,{"$f":"F1513*memoria!$B$44/(G1513*12*memoria!$B$47)","v":0},{"$f":"F1513/(G1513*12*memoria!$B$47)","v":0}]
[null,null,null,null,null,null,1,{"$f":"F1514*memoria!$B$44/(G1514*12*memoria!$B$47)","v":0},{"$f":"F1514/(G1514*12*memoria!$B$47)","v":0}]
[null,null,null,null,null,null,1,{"$f":"F1515*memoria!$B$44/(G1515*12*memoria!$B$47)","v":0},{"$f":"F1515/(G1515*12*memoria!$B$47)","v":0}]
[null,null,null,null,null,null,1,{"$f":"F1516*memoria!$B$44/(G1516*12*memoria!$B$47)","v":0},{"$f":"F1516/(G1516*12*memoria!$B$47)","v":0}]
[null,null,null,null,null,null,1,{"$f":"F1517*memoria!$B$44/(G1517*12*memoria!$B$47)","v":0},{"$f":"F1517/(G1517*12*memoria!$B$47)","v":0}]
[null,null,null,null,null,null,1,{"$f":"F1518*memoria!$B$44/(G1518*12*memoria!$B$47)","v":0},{"$f":"F1518/(G1518*12*memoria!$B$47)","v":0}]
[null,null,null,null,null,null,1,{"$f":"F1519*memoria!$B$44/(G1519*12*memoria!$B$47)","v":0},{"$f":"F1519/(G1519*12*memoria!$B$47)","v":0}]
[null,null,null,null,null,null,1,{"$f":"F1520*memoria!$B$44/(G1520*12*memoria!$B$47)","v":0},{"$f":"F1520/(G1520*12*memoria!$B$47)","v":0}]
[null,null,null,null,null,null,1,{"$f":"F1521*memoria!$B$44/(G1521*12*memoria!$B$47)","v":0},{"$f":"F1521/(G1521*12*memoria!$B$47)","v":0}]
[null,null,null,null,null,null,1,{"$f":"F1522*memoria!$B$44/(G1522*12*memoria!$B$47)","v":0},{"$f":"F1522/(G1522*12*memoria!$B$47)","v":0}]
[null,null,null,null,null,null,1,{"$f":"F1523*memoria!$B$44/(G1523*12*memoria!$B$47)","v":0},{"$f":"F1523/(G1523*12*memoria!$B$47)","v":0}]
[null,null,null,null,null,null,1,{"$f":"F1524*memoria!$B$44/(G1524*12*memoria!$B$47)","v":0},{"$f":"F1524/(G1524*12*memoria!$B$47)","v":0}]
[null,null,null,null,null,null,1,{"$f":"F1525*memoria!$B$44/(G1525*12*memoria!$B$47)","v":0},{"$f":"F1525/(G1525*12*memoria!$B$47)","v":0}]
[null,null,null,null,null,null,1,{"$f":"F1526*memoria!$B$44/(G1526*12*memoria!$B$47)","v":0},{"$f":"F1526/(G1526*12*memoria!$B$47)","v":0}]
[null,null,null,null,null,null,1,{"$f":"F1527*memoria!$B$44/(G1527*12*memoria!$B$47)","v":0},{"$f":"F1527/(G1527*12*memoria!$B$47)","v":0}]
[null,null,null,null,null,null,1,{"$f":"F1528*memoria!$B$44/(G1528*12*memoria!$B$47)","v":0},{"$f":"F1528/(G1528*12*memoria!$B$47)","v":0}]
[null,null,null,null,null,null,1,{"$f":"F1529*memoria!$B$44/(G1529*12*memoria!$B$47)","v":0},{"$f":"F1529/(G1529*12*memoria!$B$47)","v":0}]
[null,null,null,null,null,null,1,{"$f":"F1530*memoria!$B$44/(G1530*12*memoria!$B$47)","v":0},{"$f":"F1530/(G1530*12*memoria!$B$47)","v":0}]
[null,null,null,null,null,null,1,{"$f":"F1531*memoria!$B$44/(G1531*12*memoria!$B$47)","v":0},{"$f":"F1531/(G1531*12*memoria!$B$47)","v":0}]
[null,null,null,null,null,null,1,{"$f":"F1532*memoria!$B$44/(G1532*12*memoria!$B$47)","v":0},{"$f":"F1532/(G1532*12*memoria!$B$47)","v":0}]
[null,null,null,null,null,null,1,{"$f":"F1533*memoria!$B$44/(G1533*12*memoria!$B$47)","v":0},{"$f":"F1533/(G1533*12*memoria!$B$47)","v":0}]
[null,null,null,null,null,null,1,{"$f":"F1534*memoria!$B$44/(G1534*12*memoria!$B$47)","v":0},{"$f":"F1534/(G1534*12*memoria!$B$47)","v":0}]
[null,null,null,null,null,null,1,{"$f":"F1535*memoria!$B$44/(G1535*12*memoria!$B$47)","v":0},{"$f":"F1535/(G1535*12*memoria!$B$47)","v":0}]
[null,null,null,null,null,null,1,{"$f":"F1536*memoria!$B$44/(G1536*12*memoria!$B$47)","v":0},{"$f":"F1536/(G1536*12*memoria!$B$47)","v":0}]
[null,null,null,null,null,null,1,{"$f":"F1537*memoria!$B$44/(G1537*12*memoria!$B$47)","v":0},{"$f":"F1537/(G1537*12*memoria!$B$47)","v":0}]
[null,null,null,null,null,null,1,{"$f":"F1538*memoria!$B$44/(G1538*12*memoria!$B$47)","v":0},{"$f":"F1538/(G1538*12*memoria!$B$47)","v":0}]
[null,null,null,null,null,null,1,{"$f":"F1539*memoria!$B$44/(G1539*12*memoria!$B$47)","v":0},{"$f":"F1539/(G1539*12*memoria!$B$47)","v":0}]
[null,null,null,null,null,null,1,{"$f":"F1540*memoria!$B$44/(G1540*12*memoria!$B$47)","v":0},{"$f":"F1540/(G1540*12*memoria!$B$47)","v":0}]
[null,null,null,null,null,null,1,{"$f":"F1541*memoria!$B$44/(G1541*12*memoria!$B$47)","v":0},{"$f":"F1541/(G1541*12*memoria!$B$47)","v":0}]
[null,null,null,null,null,null,1,{"$f":"F1542*memoria!$B$44/(G1542*12*memoria!$B$47)","v":0},{"$f":"F1542/(G1542*12*memoria!$B$47)","v":0}]
[null,null,null,null,null,null,1,{"$f":"F1543*memoria!$B$44/(G1543*12*memoria!$B$47)","v":0},{"$f":"F1543/(G1543*12*memoria!$B$47)","v":0}]
[null,null,null,null,null,null,1,{"$f":"F1544*memoria!$B$44/(G1544*12*memoria!$B$47)","v":0},{"$f":"F1544/(G1544*12*memoria!$B$47)","v":0}]
[null,null,null,null,null,null,1,{"$f":"F1545*memoria!$B$44/(G1545*12*memoria!$B$47)","v":0},{"$f":"F1545/(G1545*12*memoria!$B$47)","v":0}]
[null,null,null,null,null,null,1,{"$f":"F1546*memoria!$B$44/(G1546*12*memoria!$B$47)","v":0},{"$f":"F1546/(G1546*12*memoria!$B$47)","v":0}]
[null,null,null,null,null,null,1,{"$f":"F1547*memoria!$B$44/(G1547*12*memoria!$B$47)","v":0},{"$f":"F1547/(G1547*12*memoria!$B$47)","v":0}]
[null,null,null,null,null,null,1,{"$f":"F1548*memoria!$B$44/(G1548*12*memoria!$B$47)","v":0},{"$f":"F1548/(G1548*12*memoria!$B$47)","v":0}]
[null,null,null,null,null,null,1,{"$f":"F1549*memoria!$B$44/(G1549*12*memoria!$B$47)","v":0},{"$f":"F1549/(G1549*12*memoria!$B$47)","v":0}]
[null,null,null,null,null,null,1,{"$f":"F1550*memoria!$B$44/(G1550*12*memoria!$B$47)","v":0},{"$f":"F1550/(G1550*12*memoria!$B$47)","v":0}]
[null,null,null,null,null,null,1,{"$f":"F1551*memoria!$B$44/(G1551*12*memoria!$B$47)","v":0},{"$f":"F1551/(G1551*12*memoria!$B$47)","v":0}]
[null,null,null,null,null,null,1,{"$f":"F1552*memoria!$B$44/(G1552*12*memoria!$B$47)","v":0},{"$f":"F1552/(G1552*12*memoria!$B$47)","v":0}]
[null,null,null,null,null,null,1,{"$f":"F1553*memoria!$B$44/(G1553*12*memoria!$B$47)","v":0},{"$f":"F1553/(G1553*12*memoria!$B$47)","v":0}]
[null,null,null,null,null,null,1,{"$f":"F1554*memoria!$B$44/(G1554*12*memoria!$B$47)","v":0},{"$f":"F1554/(G1554*12*memoria!$B$47)","v":0}]
[null,null,null,null,null,null,1,{"$f":"F1555*memoria!$B$44/(G1555*12*memoria!$B$47)","v":0},{"$f":"F1555/(G1555*12*memoria!$B$47)","v":0}]
[null,null,null,null,null,null,1,{"$f":"F1556*memoria!$B$44/(G1556*12*memoria!$B$47)","v":0},{"$f":"F1556/(G1556*12*memoria!$B$47)","v":0}]
[null,null,null,null,null,null,1,{"$f":"F1557*memoria!$B$44/(G1557*12*memoria!$B$47)","v":0},{"$f":"F1557/(G1557*12*memoria!$B$47)","v":0}]
[null,null,null,null,null,null,1,{"$f":"F1558*memoria!$B$44/(G1558*12*memoria!$B$47)","v":0},{"$f":"F1558/(G1558*12*memoria!$B$47)","v":0}]
[null,null,null,null,null,null,1,{"$f":"F1559*memoria!$B$44/(G1559*12*memoria!$B$47)","v":0},{"$f":"F1559/(G1559*12*memoria!$B$47)","v":0}]
[null,null,null,null,null,null,1,{"$f":"F1560*memoria!$B$44/(G1560*12*memoria!$B$47)","v":0},{"$f":"F1560/(G1560*12*memoria!$B$47)","v":0}]
[null,null,null,null,null,null,1,{"$f":"F1561*memoria!$B$44/(G1561*12*memoria!$B$47)","v":0},{"$f":"F1561/(G1561*12*memoria!$B$47)","v":0}]
[null,null,null,null,null,null,1,{"$f":"F1562*memoria!$B$44/(G1562*12*memoria!$B$47)","v":0},{"$f":"F1562/(G1562*12*memoria!$B$47)","v":0}]
[null,null,null,null,null,null,1,{"$f":"F1563*memoria!$B$44/(G1563*12*memoria!$B$47)","v":0},{"$f":"F1563/(G1563*12*memoria!$B$47)","v":0}]
[null,null,null,null,null,null,1,{"$f":"F1564*memoria!$B$44/(G1564*12*memoria!$B$47)","v":0},{"$f":"F1564/(G1564*12*memoria!$B$47)","v":0}]
[null,null,null,null,null,null,1,{"$f":"F1565*memoria!$B$44/(G1565*12*memoria!$B$47)","v":0},{"$f":"F1565/(G1565*12*memoria!$B$47)","v":0}]
[null,null,null,null,null,null,1,{"$f":"F1566*memoria!$B$44/(G1566*12*memoria!$B$47)","v":0},{"$f":"F1566/(G1566*12*memoria!$B$47)","v":0}]
[null,null,null,null,null,null,1,{"$f":"F1567*memoria!$B$44/(G1567*12*memoria!$B$47)","v":0},{"$f":"F1567/(G1567*12*memoria!$B$47)","v":0}]
[null,null,null,null,null,null,1,{"$f":"F1568*memoria!$B$44/(G1568*12*memoria!$B$47)","v":0},{"$f":"F1568/(G1568*12*memoria!$B$47)","v":0}]
[null,null,null,null,null,null,1,{"$f":"F1569*memoria!$B$44/(G1569*12*memoria!$B$47)","v":0},{"$f":"F1569/(G1569*12*memoria!$B$47)","v":0}]
[null,null,null,null,null,null,1,{"$f":"F1570*memoria!$B$44/(G1570*12*memoria!$B$47)","v":0},{"$f":"F1570/(G1570*12*memoria!$B$47)","v":0}]
[null,null,null,null,null,null,1,{"$f":"F1571*memoria!$B$44/(G1571*12*memoria!$B$47)","v":0},{"$f":"F1571/(G1571*12*memoria!$B$47)","v":0}]
[null,null,null,null,null,null,1,{"$f":"F1572*memoria!$B$44/(G1572*12*memoria!$B$47)","v":0},{"$f":"F1572/(G1572*12*memoria!$B$47)","v":0}]
[null,null,null,null,null,null,1,{"$f":"F1573*memoria!$B$44/(G1573*12*memoria!$B$47)","v":0},{"$f":"F1573/(G1573*12*memoria!$B$47)","v":0}]
[null,null,null,null,null,null,1,{"$f":"F1574*memoria!$B$44/(G1574*12*memoria!$B$47)","v":0},{"$f":"F1574/(G1574*12*memoria!$B$47)","v":0}]
[null,null,null,null,null,null,1,{"$f":"F1575*memoria!$B$44/(G1575*12*memoria!$B$47)","v":0},{"$f":"F1575/(G1575*12*memoria!$B$47)","v":0}]
[null,null,null,null,null,null,1,{"$f":"F1576*memoria!$B$44/(G1576*12*memoria!$B$47)","v":0},{"$f":"F1576/(G1576*12*memoria!$B$47)","v":0}]
[null,null,null,null,null,null,1,{"$f":"F1577*memoria!$B$44/(G1577*12*memoria!$B$47)","v":0},{"$f":"F1577/(G1577*12*memoria!$B$47)","v":0}]
[null,null,null,null,null,null,1,{"$f":"F1578*memoria!$B$44/(G1578*12*memoria!$B$47)","v":0},{"$f":"F1578/(G1578*12*memoria!$B$47)","v":0}]
[null,null,null,null,null,null,1,{"$f":"F1579*memoria!$B$44/(G1579*12*memoria!$B$47)","v":0},{"$f":"F1579/(G1579*12*memoria!$B$47)","v":0}]
[null,null,null,null,null,null,1,{"$f":"F1580*memoria!$B$44/(G1580*12*memoria!$B$47)","v":0},{"$f":"F1580/(G1580*12*memoria!$B$47)","v":0}]
[null,null,null,null,null,null,1,{"$f":"F1581*memoria!$B$44/(G1581*12*memoria!$B$47)","v":0},{"$f":"F1581/(G1581*12*memoria!$B$47)","v":0}]
[null,null,null,null,null,null,1,{"$f":"F1582*memoria!$B$44/(G1582*12*memoria!$B$47)","v":0},{"$f":"F1582/(G1582*12*memoria!$B$47)","v":0}]
[null,null,null,null,null,null,1,{"$f":"F1583*memoria!$B$44/(G1583*12*memoria!$B$47)","v":0},{"$f":"F1583/(G1583*12*memoria!$B$47)","v":0}]
[null,null,null,null,null,null,1,{"$f":"F1584*memoria!$B$44/(G1584*12*memoria!$B$47)","v":0},{"$f":"F1584/(G1584*12*memoria!$B$47)","v":0}]
[null,null,null,null,null,null,1,{"$f":"F1585*memoria!$B$44/(G1585*12*memoria!$B$47)","v":0},{"$f":"F1585/(G1585*12*memoria!$B$47)","v":0}]
[null,null,null,null,null,null,1,{"$f":"F1586*memoria!$B$44/(G1586*12*memoria!$B$47)","v":0},{"$f":"F1586/(G1586*12*memoria!$B$47)","v":0}]
[null,null,null,null,null,null,1,{"$f":"F1587*memoria!$B$44/(G1587*12*memoria!$B$47)","v":0},{"$f":"F1587/(G1587*12*memoria!$B$47)","v":0}]
[null,null,null,null,null,null,1,{"$f":"F1588*memoria!$B$44/(G1588*12*memoria!$B$47)","v":0},{"$f":"F1588/(G1588*12*memoria!$B$47)","v":0}]
[null,null,null,null,null,null,1,{"$f":"F1589*memoria!$B$44/(G1589*12*memoria!$B$47)","v":0},{"$f":"F1589/(G1589*12*memoria!$B$47)","v":0}]
[null,null,null,null,null,null,1,{"$f":"F1590*memoria!$B$44/(G1590*12*memoria!$B$47)","v":0},{"$f":"F1590/(G1590*12*memoria!$B$47)","v":0}]
[null,null,null,null,null,null,1,{"$f":"F1591*memoria!$B$44/(G1591*12*memoria!$B$47)","v":0},{"$f":"F1591/(G1591*12*memoria!$B$47)","v":0}]
[null,null,null,null,null,null,1,{"$f":"F1592*memoria!$B$44/(G1592*12*memoria!$B$47)","v":0},{"$f":"F1592/(G1592*12*memoria!$B$47)","v":0}]
[null,null,null,null,null,null,1,{"$f":"F1593*memoria!$B$44/(G1593*12*memoria!$B$47)","v":0},{"$f":"F1593/(G1593*12*memoria!$B$47)","v":0}]
[null,null,null,null,null,null,1,{"$f":"F1594*memoria!$B$44/(G1594*12*memoria!$B$47)","v":0},{"$f":"F1594/(G1594*12*memoria!$B$47)","v":0}]
[null,null,null,null,null,null,1,{"$f":"F1595*memoria!$B$44/(G1595*12*memoria!$B$47)","v":0},{"$f":"F1595/(G1595*12*memoria!$B$47)","v":0}]
[null,null,null,null,null,null,1,{"$f":"F1596*memoria!$B$44/(G1596*12*memoria!$B$47)","v":0},{"$f":"F1596/(G1596*12*memoria!$B$47)","v":0}]
[null,null,null,null,null,null,1,{"$f":"F1597*memoria!$B$44/(G1597*12*memoria!$B$47)","v":0},{"$f":"F1597/(G1597*12*memoria!$B$47)","v":0}]
[null,null,null,null,null,null,1,{"$f":"F1598*memoria!$B$44/(G1598*12*memoria!$B$47)","v":0},{"$f":"F1598/(G1598*12*memoria!$B$47)","v":0}]
[null,null,null,null,null,null,1,{"$f":"F1599*memoria!$B$44/(G1599*12*memoria!$B$47)","v":0},{"$f":"F1599/(G1599*12*memoria!$B$47)","v":0}]
[null,null,null,null,null,null,1,{"$f":"F1600*memoria!$B$44/(G1600*12*memoria!$B$47)","v":0},{"$f":"F1600/(G1600*12*memoria!$B$47)","v":0}]
[null,null,null,null,null,null,1,{"$f":"F1601*memoria!$B$44/(G1601*12*memoria!$B$47)","v":0},{"$f":"F1601/(G1601*12*memoria!$B$47)","v":0}]
[null,null,null,null,null,null,1,{"$f":"F1602*memoria!$B$44/(G1602*12*memoria!$B$47)","v":0},{"$f":"F1602/(G1602*12*memoria!$B$47)","v":0}]
[null,null,null,null,null,null,1,{"$f":"F1603*memoria!$B$44/(G1603*12*memoria!$B$47)","v":0},{"$f":"F1603/(G1603*12*memoria!$B$47)","v":0}]
[null,null,null,null,null,null,1,{"$f":"F1604*memoria!$B$44/(G1604*12*memoria!$B$47)","v":0},{"$f":"F1604/(G1604*12*memoria!$B$47)","v":0}]
[null,null,null,null,null,null,1,{"$f":"F1605*memoria!$B$44/(G1605*12*memoria!$B$47)","v":0},{"$f":"F1605/(G1605*12*memoria!$B$47)","v":0}]
[null,null,null,null,null,null,1,{"$f":"F1606*memoria!$B$44/(G1606*12*memoria!$B$47)","v":0},{"$f":"F1606/(G1606*12*memoria!$B$47)","v":0}]
[null,null,null,null,null,null,1,{"$f":"F1607*memoria!$B$44/(G1607*12*memoria!$B$47)","v":0},{"$f":"F1607/(G1607*12*memoria!$B$47)","v":0}]
[null,null,null,null,null,null,1,{"$f":"F1608*memoria!$B$44/(G1608*12*memoria!$B$47)","v":0},{"$f":"F1608/(G1608*12*memoria!$B$47)","v":0}]
[null,null,null,null,null,null,1,{"$f":"F1609*memoria!$B$44/(G1609*12*memoria!$B$47)","v":0},{"$f":"F1609/(G1609*12*memoria!$B$47)","v":0}]
[null,null,null,null,null,null,1,{"$f":"F1610*memoria!$B$44/(G1610*12*memoria!$B$47)","v":0},{"$f":"F1610/(G1610*12*memoria!$B$47)","v":0}]
[null,null,null,null,null,null,1,{"$f":"F1611*memoria!$B$44/(G1611*12*memoria!$B$47)","v":0},{"$f":"F1611/(G1611*12*memoria!$B$47)","v":0}]
[null,null,null,null,null,null,1,{"$f":"F1612*memoria!$B$44/(G1612*12*memoria!$B$47)","v":0},{"$f":"F1612/(G1612*12*memoria!$B$47)","v":0}]
[null,null,null,null,null,null,1,{"$f":"F1613*memoria!$B$44/(G1613*12*memoria!$B$47)","v":0},{"$f":"F1613/(G1613*12*memoria!$B$47)","v":0}]
[null,null,null,null,null,null,1,{"$f":"F1614*memoria!$B$44/(G1614*12*memoria!$B$47)","v":0},{"$f":"F1614/(G1614*12*memoria!$B$47)","v":0}]
[null,null,null,null,null,null,1,{"$f":"F1615*memoria!$B$44/(G1615*12*memoria!$B$47)","v":0},{"$f":"F1615/(G1615*12*memoria!$B$47)","v":0}]
[null,null,null,null,null,null,1,{"$f":"F1616*memoria!$B$44/(G1616*12*memoria!$B$47)","v":0},{"$f":"F1616/(G1616*12*memoria!$B$47)","v":0}]
[null,null,null,null,null,null,1,{"$f":"F1617*memoria!$B$44/(G1617*12*memoria!$B$47)","v":0},{"$f":"F1617/(G1617*12*memoria!$B$47)","v":0}]
[null,null,null,null,null,null,1,{"$f":"F1618*memoria!$B$44/(G1618*12*memoria!$B$47)","v":0},{"$f":"F1618/(G1618*12*memoria!$B$47)","v":0}]
[null,null,null,null,null,null,1,{"$f":"F1619*memoria!$B$44/(G1619*12*memoria!$B$47)","v":0},{"$f":"F1619/(G1619*12*memoria!$B$47)","v":0}]
[null,null,null,null,null,null,1,{"$f":"F1620*memoria!$B$44/(G1620*12*memoria!$B$47)","v":0},{"$f":"F1620/(G1620*12*memoria!$B$47)","v":0}]
[null,null,null,null,null,null,1,{"$f":"F1621*memoria!$B$44/(G1621*12*memoria!$B$47)","v":0},{"$f":"F1621/(G1621*12*memoria!$B$47)","v":0}]
[null,null,null,null,null,null,1,{"$f":"F1622*memoria!$B$44/(G1622*12*memoria!$B$47)","v":0},{"$f":"F1622/(G1622*12*memoria!$B$47)","v":0}]
[null,null,null,null,null,null,1,{"$f":"F1623*memoria!$B$44/(G1623*12*memoria!$B$47)","v":0},{"$f":"F1623/(G1623*12*memoria!$B$47)","v":0}]
[null,null,null,null,null,null,1,{"$f":"F1624*memoria!$B$44/(G1624*12*memoria!$B$47)","v":0},{"$f":"F1624/(G1624*12*memoria!$B$47)","v":0}]
[null,null,null,null,null,null,1,{"$f":"F1625*memoria!$B$44/(G1625*12*memoria!$B$47)","v":0},{"$f":"F1625/(G1625*12*memoria!$B$47)","v":0}]
[null,null,null,null,null,null,1,{"$f":"F1626*memoria!$B$44/(G1626*12*memoria!$B$47)","v":0},{"$f":"F1626/(G1626*12*memoria!$B$47)","v":0}]
[null,null,null,null,null,null,1,{"$f":"F1627*memoria!$B$44/(G1627*12*memoria!$B$47)","v":0},{"$f":"F1627/(G1627*12*memoria!$B$47)","v":0}]
[null,null,null,null,null,null,1,{"$f":"F1628*memoria!$B$44/(G1628*12*memoria!$B$47)","v":0},{"$f":"F1628/(G1628*12*memoria!$B$47)","v":0}]
[null,null,null,null,null,null,1,{"$f":"F1629*memoria!$B$44/(G1629*12*memoria!$B$47)","v":0},{"$f":"F1629/(G1629*12*memoria!$B$47)","v":0}]
[null,null,null,null,null,null,1,{"$f":"F1630*memoria!$B$44/(G1630*12*memoria!$B$47)","v":0},{"$f":"F1630/(G1630*12*memoria!$B$47)","v":0}]
[null,null,null,null,null,null,1,{"$f":"F1631*memoria!$B$44/(G1631*12*memoria!$B$47)","v":0},{"$f":"F1631/(G1631*12*memoria!$B$47)","v":0}]
[null,null,null,null,null,null,1,{"$f":"F1632*memoria!$B$44/(G1632*12*memoria!$B$47)","v":0},{"$f":"F1632/(G1632*12*memoria!$B$47)","v":0}]
[null,null,null,null,null,null,1,{"$f":"F1633*memoria!$B$44/(G1633*12*memoria!$B$47)","v":0},{"$f":"F1633/(G1633*12*memoria!$B$47)","v":0}]
[null,null,null,null,null,null,1,{"$f":"F1634*memoria!$B$44/(G1634*12*memoria!$B$47)","v":0},{"$f":"F1634/(G1634*12*memoria!$B$47)","v":0}]
[null,null,null,null,null,null,1,{"$f":"F1635*memoria!$B$44/(G1635*12*memoria!$B$47)","v":0},{"$f":"F1635/(G1635*12*memoria!$B$47)","v":0}]
[null,null,null,null,null,null,1,{"$f":"F1636*memoria!$B$44/(G1636*12*memoria!$B$47)","v":0},{"$f":"F1636/(G1636*12*memoria!$B$47)","v":0}]
[null,null,null,null,null,null,1,{"$f":"F1637*memoria!$B$44/(G1637*12*memoria!$B$47)","v":0},{"$f":"F1637/(G1637*12*memoria!$B$47)","v":0}]
[null,null,null,null,null,null,1,{"$f":"F1638*memoria!$B$44/(G1638*12*memoria!$B$47)","v":0},{"$f":"F1638/(G1638*12*memoria!$B$47)","v":0}]
[null,null,null,null,null,null,1,{"$f":"F1639*memoria!$B$44/(G1639*12*memoria!$B$47)","v":0},{"$f":"F1639/(G1639*12*memoria!$B$47)","v":0}]
[null,null,null,null,null,null,1,{"$f":"F1640*memoria!$B$44/(G1640*12*memoria!$B$47)","v":0},{"$f":"F1640/(G1640*12*memoria!$B$47)","v":0}]
[null,null,null,null,null,null,1,{"$f":"F1641*memoria!$B$44/(G1641*12*memoria!$B$47)","v":0},{"$f":"F1641/(G1641*12*memoria!$B$47)","v":0}]
[null,null,null,null,null,null,1,{"$f":"F1642*memoria!$B$44/(G1642*12*memoria!$B$47)","v":0},{"$f":"F1642/(G1642*12*memoria!$B$47)","v":0}]
[null,null,null,null,null,null,1,{"$f":"F1643*memoria!$B$44/(G1643*12*memoria!$B$47)","v":0},{"$f":"F1643/(G1643*12*memoria!$B$47)","v":0}]
[null,null,null,null,null,null,1,{"$f":"F1644*memoria!$B$44/(G1644*12*memoria!$B$47)","v":0},{"$f":"F1644/(G1644*12*memoria!$B$47)","v":0}]
[null,null,null,null,null,null,1,{"$f":"F1645*memoria!$B$44/(G1645*12*memoria!$B$47)","v":0},{"$f":"F1645/(G1645*12*memoria!$B$47)","v":0}]
[null,null,null,null,null,null,1,{"$f":"F1646*memoria!$B$44/(G1646*12*memoria!$B$47)","v":0},{"$f":"F1646/(G1646*12*memoria!$B$47)","v":0}]
[null,null,null,null,null,null,1,{"$f":"F1647*memoria!$B$44/(G1647*12*memoria!$B$47)","v":0},{"$f":"F1647/(G1647*12*memoria!$B$47)","v":0}]
[null,null,null,null,null,null,1,{"$f":"F1648*memoria!$B$44/(G1648*12*memoria!$B$47)","v":0},{"$f":"F1648/(G1648*12*memoria!$B$47)","v":0}]
[null,null,null,null,null,null,1,{"$f":"F1649*memoria!$B$44/(G1649*12*memoria!$B$47)","v":0},{"$f":"F1649/(G1649*12*memoria!$B$47)","v":0}]
[null,null,null,null,null,null,1,{"$f":"F1650*memoria!$B$44/(G1650*12*memoria!$B$47)","v":0},{"$f":"F1650/(G1650*12*memoria!$B$47)","v":0}]
[null,null,null,null,null,null,1,{"$f":"F1651*memoria!$B$44/(G1651*12*memoria!$B$47)","v":0},{"$f":"F1651/(G1651*12*memoria!$B$47)","v":0}]
[null,null,null,null,null,null,1,{"$f":"F1652*memoria!$B$44/(G1652*12*memoria!$B$47)","v":0},{"$f":"F1652/(G1652*12*memoria!$B$47)","v":0}]
[null,null,null,null,null,null,1,{"$f":"F1653*memoria!$B$44/(G1653*12*memoria!$B$47)","v":0},{"$f":"F1653/(G1653*12*memoria!$B$47)","v":0}]
[null,null,null,null,null,null,1,{"$f":"F1654*memoria!$B$44/(G1654*12*memoria!$B$47)","v":0},{"$f":"F1654/(G1654*12*memoria!$B$47)","v":0}]
[null,null,null,null,null,null,1,{"$f":"F1655*memoria!$B$44/(G1655*12*memoria!$B$47)","v":0},{"$f":"F1655/(G1655*12*memoria!$B$47)","v":0}]
[null,null,null,null,null,null,1,{"$f":"F1656*memoria!$B$44/(G1656*12*memoria!$B$47)","v":0},{"$f":"F1656/(G1656*12*memoria!$B$47)","v":0}]
[null,null,null,null,null,null,1,{"$f":"F1657*memoria!$B$44/(G1657*12*memoria!$B$47)","v":0},{"$f":"F1657/(G1657*12*memoria!$B$47)","v":0}]
[null,null,null,null,null,null,1,{"$f":"F1658*memoria!$B$44/(G1658*12*memoria!$B$47)","v":0},{"$f":"F1658/(G1658*12*memoria!$B$47)","v":0}]
[null,null,null,null,null,null,1,{"$f":"F1659*memoria!$B$44/(G1659*12*memoria!$B$47)","v":0},{"$f":"F1659/(G1659*12*memoria!$B$47)","v":0}]
[null,null,null,null,null,null,1,{"$f":"F1660*memoria!$B$44/(G1660*12*memoria!$B$47)","v":0},{"$f":"F1660/(G1660*12*memoria!$B$47)","v":0}]
[null,null,null,null,null,null,1,{"$f":"F1661*memoria!$B$44/(G1661*12*memoria!$B$47)","v":0},{"$f":"F1661/(G1661*12*memoria!$B$47)","v":0}]
[null,null,null,null,null,null,1,{"$f":"F1662*memoria!$B$44/(G1662*12*memoria!$B$47)","v":0},{"$f":"F1662/(G1662*12*memoria!$B$47)","v":0}]
[null,null,null,null,null,null,1,{"$f":"F1663*memoria!$B$44/(G1663*12*memoria!$B$47)","v":0},{"$f":"F1663/(G1663*12*memoria!$B$47)","v":0}]
[null,null,null,null,null,null,1,{"$f":"F1664*memoria!$B$44/(G1664*12*memoria!$B$47)","v":0},{"$f":"F1664/(G1664*12*memoria!$B$47)","v":0}]
[null,null,null,null,null,null,1,{"$f":"F1665*memoria!$B$44/(G1665*12*memoria!$B$47)","v":0},{"$f":"F1665/(G1665*12*memoria!$B$47)","v":0}]
[null,null,null,null,null,null,1,{"$f":"F1666*memoria!$B$44/(G1666*12*memoria!$B$47)","v":0},{"$f":"F1666/(G1666*12*memoria!$B$47)","v":0}]
[null,null,null,null,null,null,1,{"$f":"F1667*memoria!$B$44/(G1667*12*memoria!$B$47)","v":0},{"$f":"F1667/(G1667*12*memoria!$B$47)","v":0}]
[null,null,null,null,null,null,1,{"$f":"F1668*memoria!$B$44/(G1668*12*memoria!$B$47)","v":0},{"$f":"F1668/(G1668*12*memoria!$B$47)","v":0}]
[null,null,null,null,null,null,1,{"$f":"F1669*memoria!$B$44/(G1669*12*memoria!$B$47)","v":0},{"$f":"F1669/(G1669*12*memoria!$B$47)","v":0}]
[null,null,null,null,null,null,1,{"$f":"F1670*memoria!$B$44/(G1670*12*memoria!$B$47)","v":0},{"$f":"F1670/(G1670*12*memoria!$B$47)","v":0}]
[null,null,null,null,null,null,1,{"$f":"F1671*memoria!$B$44/(G1671*12*memoria!$B$47)","v":0},{"$f":"F1671/(G1671*12*memoria!$B$47)","v":0}]
[null,null,null,null,null,null,1,{"$f":"F1672*memoria!$B$44/(G1672*12*memoria!$B$47)","v":0},{"$f":"F1672/(G1672*12*memoria!$B$47)","v":0}]
[null,null,null,null,null,null,1,{"$f":"F1673*memoria!$B$44/(G1673*12*memoria!$B$47)","v":0},{"$f":"F1673/(G1673*12*memoria!$B$47)","v":0}]
[null,null,null,null,null,null,1,{"$f":"F1674*memoria!$B$44/(G1674*12*memoria!$B$47)","v":0},{"$f":"F1674/(G1674*12*memoria!$B$47)","v":0}]
[null,null,null,null,null,null,1,{"$f":"F1675*memoria!$B$44/(G1675*12*memoria!$B$47)","v":0},{"$f":"F1675/(G1675*12*memoria!$B$47)","v":0}]
[null,null,null,null,null,null,1,{"$f":"F1676*memoria!$B$44/(G1676*12*memoria!$B$47)","v":0},{"$f":"F1676/(G1676*12*memoria!$B$47)","v":0}]
[null,null,null,null,null,null,1,{"$f":"F1677*memoria!$B$44/(G1677*12*memoria!$B$47)","v":0},{"$f":"F1677/(G1677*12*memoria!$B$47)","v":0}]
[null,null,null,null,null,null,1,{"$f":"F1678*memoria!$B$44/(G1678*12*memoria!$B$47)","v":0},{"$f":"F1678/(G1678*12*memoria!$B$47)","v":0}]
[null,null,null,null,null,null,1,{"$f":"F1679*memoria!$B$44/(G1679*12*memoria!$B$47)","v":0},{"$f":"F1679/(G1679*12*memoria!$B$47)","v":0}]
[null,null,null,null,null,null,1,{"$f":"F1680*memoria!$B$44/(G1680*12*memoria!$B$47)","v":0},{"$f":"F1680/(G1680*12*memoria!$B$47)","v":0}]
[null,null,null,null,null,null,1,{"$f":"F1681*memoria!$B$44/(G1681*12*memoria!$B$47)","v":0},{"$f":"F1681/(G1681*12*memoria!$B$47)","v":0}]
[null,null,null,null,null,null,1,{"$f":"F1682*memoria!$B$44/(G1682*12*memoria!$B$47)","v":0},{"$f":"F1682/(G1682*12*memoria!$B$47)","v":0}]
[null,null,null,null,null,null,1,{"$f":"F1683*memoria!$B$44/(G1683*12*memoria!$B$47)","v":0},{"$f":"F1683/(G1683*12*memoria!$B$47)","v":0}]
[null,null,null,null,null,null,1,{"$f":"F1684*memoria!$B$44/(G1684*12*memoria!$B$47)","v":0},{"$f":"F1684/(G1684*12*memoria!$B$47)","v":0}]
[null,null,null,null,null,null,1,{"$f":"F1685*memoria!$B$44/(G1685*12*memoria!$B$47)","v":0},{"$f":"F1685/(G1685*12*memoria!$B$47)","v":0}]
[null,null,null,null,null,null,1,{"$f":"F1686*memoria!$B$44/(G1686*12*memoria!$B$47)","v":0},{"$f":"F1686/(G1686*12*memoria!$B$47)","v":0}]
[null,null,null,null,null,null,1,{"$f":"F1687*memoria!$B$44/(G1687*12*memoria!$B$47)","v":0},{"$f":"F1687/(G1687*12*memoria!$B$47)","v":0}]
[null,null,null,null,null,null,1,{"$f":"F1688*memoria!$B$44/(G1688*12*memoria!$B$47)","v":0},{"$f":"F1688/(G1688*12*memoria!$B$47)","v":0}]
[null,null,null,null,null,null,1,{"$f":"F1689*memoria!$B$44/(G1689*12*memoria!$B$47)","v":0},{"$f":"F1689/(G1689*12*memoria!$B$47)","v":0}]
[null,null,null,null,null,null,1,{"$f":"F1690*memoria!$B$44/(G1690*12*memoria!$B$47)","v":0},{"$f":"F1690/(G1690*12*memoria!$B$47)","v":0}]
[null,null,null,null,null,null,1,{"$f":"F1691*memoria!$B$44/(G1691*12*memoria!$B$47)","v":0},{"$f":"F1691/(G1691*12*memoria!$B$47)","v":0}]
[null,null,null,null,null,null,1,{"$f":"F1692*memoria!$B$44/(G1692*12*memoria!$B$47)","v":0},{"$f":"F1692/(G1692*12*memoria!$B$47)","v":0}]
[null,null,null,null,null,null,1,{"$f":"F1693*memoria!$B$44/(G1693*12*memoria!$B$47)","v":0},{"$f":"F1693/(G1693*12*memoria!$B$47)","v":0}]
[null,null,null,null,null,null,1,{"$f":"F1694*memoria!$B$44/(G1694*12*memoria!$B$47)","v":0},{"$f":"F1694/(G1694*12*memoria!$B$47)","v":0}]
[null,null,null,null,null,null,1,{"$f":"F1695*memoria!$B$44/(G1695*12*memoria!$B$47)","v":0},{"$f":"F1695/(G1695*12*memoria!$B$47)","v":0}]
[null,null,null,null,null,null,1,{"$f":"F1696*memoria!$B$44/(G1696*12*memoria!$B$47)","v":0},{"$f":"F1696/(G1696*12*memoria!$B$47)","v":0}]
[null,null,null,null,null,null,1,{"$f":"F1697*memoria!$B$44/(G1697*12*memoria!$B$47)","v":0},{"$f":"F1697/(G1697*12*memoria!$B$47)","v":0}]
[null,null,null,null,null,null,1,{"$f":"F1698*memoria!$B$44/(G1698*12*memoria!$B$47)","v":0},{"$f":"F1698/(G1698*12*memoria!$B$47)","v":0}]
[null,null,null,null,null,null,1,{"$f":"F1699*memoria!$B$44/(G1699*12*memoria!$B$47)","v":0},{"$f":"F1699/(G1699*12*memoria!$B$47)","v":0}]
[null,null,null,null,null,null,1,{"$f":"F1700*memoria!$B$44/(G1700*12*memoria!$B$47)","v":0},{"$f":"F1700/(G1700*12*memoria!$B$47)","v":0}]
[null,null,null,null,null,null,1,{"$f":"F1701*memoria!$B$44/(G1701*12*memoria!$B$47)","v":0},{"$f":"F1701/(G1701*12*memoria!$B$47)","v":0}]
[null,null,null,null,null,null,1,{"$f":"F1702*memoria!$B$44/(G1702*12*memoria!$B$47)","v":0},{"$f":"F1702/(G1702*12*memoria!$B$47)","v":0}]
[null,null,null,null,null,null,1,{"$f":"F1703*memoria!$B$44/(G1703*12*memoria!$B$47)","v":0},{"$f":"F1703/(G1703*12*memoria!$B$47)","v":0}]
[null,null,null,null,null,null,1,{"$f":"F1704*memoria!$B$44/(G1704*12*memoria!$B$47)","v":0},{"$f":"F1704/(G1704*12*memoria!$B$47)","v":0}]
[null,null,null,null,null,null,1,{"$f":"F1705*memoria!$B$44/(G1705*12*memoria!$B$47)","v":0},{"$f":"F1705/(G1705*12*memoria!$B$47)","v":0}]
[null,null,null,null,null,null,1,{"$f":"F1706*memoria!$B$44/(G1706*12*memoria!$B$47)","v":0},{"$f":"F1706/(G1706*12*memoria!$B$47)","v":0}]
[null,null,null,null,null,null,1,{"$f":"F1707*memoria!$B$44/(G1707*12*memoria!$B$47)","v":0},{"$f":"F1707/(G1707*12*memoria!$B$47)","v":0}]
[null,null,null,null,null,null,1,{"$f":"F1708*memoria!$B$44/(G1708*12*memoria!$B$47)","v":0},{"$f":"F1708/(G1708*12*memoria!$B$47)","v":0}]
[null,null,null,null,null,null,1,{"$f":"F1709*memoria!$B$44/(G1709*12*memoria!$B$47)","v":0},{"$f":"F1709/(G1709*12*memoria!$B$47)","v":0}]
[null,null,null,null,null,null,1,{"$f":"F1710*memoria!$B$44/(G1710*12*memoria!$B$47)","v":0},{"$f":"F1710/(G1710*12*memoria!$B$47)","v":0}]
[null,null,null,null,null,null,1,{"$f":"F1711*memoria!$B$44/(G1711*12*memoria!$B$47)","v":0},{"$f":"F1711/(G1711*12*memoria!$B$47)","v":0}]
[null,null,null,null,null,null,1,{"$f":"F1712*memoria!$B$44/(G1712*12*memoria!$B$47)","v":0},{"$f":"F1712/(G1712*12*memoria!$B$47)","v":0}]
[null,null,null,null,null,null,1,{"$f":"F1713*memoria!$B$44/(G1713*12*memoria!$B$47)","v":0},{"$f":"F1713/(G1713*12*memoria!$B$47)","v":0}]
[null,null,null,null,null,null,1,{"$f":"F1714*memoria!$B$44/(G1714*12*memoria!$B$47)","v":0},{"$f":"F1714/(G1714*12*memoria!$B$47)","v":0}]
[null,null,null,null,null,null,1,{"$f":"F1715*memoria!$B$44/(G1715*12*memoria!$B$47)","v":0},{"$f":"F1715/(G1715*12*memoria!$B$47)","v":0}]
[null,null,null,null,null,null,1,{"$f":"F1716*memoria!$B$44/(G1716*12*memoria!$B$47)","v":0},{"$f":"F1716/(G1716*12*memoria!$B$47)","v":0}]
[null,null,null,null,null,null,1,{"$f":"F1717*memoria!$B$44/(G1717*12*memoria!$B$47)","v":0},{"$f":"F1717/(G1717*12*memoria!$B$47)","v":0}]
[null,null,null,null,null,null,1,{"$f":"F1718*memoria!$B$44/(G1718*12*memoria!$B$47)","v":0},{"$f":"F1718/(G1718*12*memoria!$B$47)","v":0}]
[null,null,null,null,null,null,1,{"$f":"F1719*memoria!$B$44/(G1719*12*memoria!$B$47)","v":0},{"$f":"F1719/(G1719*12*memoria!$B$47)","v":0}]
[null,null,null,null,null,null,1,{"$f":"F1720*memoria!$B$44/(G1720*12*memoria!$B$47)","v":0},{"$f":"F1720/(G1720*12*memoria!$B$47)","v":0}]
[null,null,null,null,null,null,1,{"$f":"F1721*memoria!$B$44/(G1721*12*memoria!$B$47)","v":0},{"$f":"F1721/(G1721*12*memoria!$B$47)","v":0}]
[null,null,null,null,null,null,1,{"$f":"F1722*memoria!$B$44/(G1722*12*memoria!$B$47)","v":0},{"$f":"F1722/(G1722*12*memoria!$B$47)","v":0}]
[null,null,null,null,null,null,1,{"$f":"F1723*memoria!$B$44/(G1723*12*memoria!$B$47)","v":0},{"$f":"F1723/(G1723*12*memoria!$B$47)","v":0}]
[null,null,null,null,null,null,1,{"$f":"F1724*memoria!$B$44/(G1724*12*memoria!$B$47)","v":0},{"$f":"F1724/(G1724*12*memoria!$B$47)","v":0}]
[null,null,null,null,null,null,1,{"$f":"F1725*memoria!$B$44/(G1725*12*memoria!$B$47)","v":0},{"$f":"F1725/(G1725*12*memoria!$B$47)","v":0}]
[null,null,null,null,null,null,1,{"$f":"F1726*memoria!$B$44/(G1726*12*memoria!$B$47)","v":0},{"$f":"F1726/(G1726*12*memoria!$B$47)","v":0}]
[null,null,null,null,null,null,1,{"$f":"F1727*memoria!$B$44/(G1727*12*memoria!$B$47)","v":0},{"$f":"F1727/(G1727*12*memoria!$B$47)","v":0}]
[null,null,null,null,null,null,1,{"$f":"F1728*memoria!$B$44/(G1728*12*memoria!$B$47)","v":0},{"$f":"F1728/(G1728*12*memoria!$B$47)","v":0}]
[null,null,null,null,null,null,1,{"$f":"F1729*memoria!$B$44/(G1729*12*memoria!$B$47)","v":0},{"$f":"F1729/(G1729*12*memoria!$B$47)","v":0}]
[null,null,null,null,null,null,1,{"$f":"F1730*memoria!$B$44/(G1730*12*memoria!$B$47)","v":0},{"$f":"F1730/(G1730*12*memoria!$B$47)","v":0}]
[null,null,null,null,null,null,1,{"$f":"F1731*memoria!$B$44/(G1731*12*memoria!$B$47)","v":0},{"$f":"F1731/(G1731*12*memoria!$B$47)","v":0}]
[null,null,null,null,null,null,1,{"$f":"F1732*memoria!$B$44/(G1732*12*memoria!$B$47)","v":0},{"$f":"F1732/(G1732*12*memoria!$B$47)","v":0}]
[null,null,null,null,null,null,1,{"$f":"F1733*memoria!$B$44/(G1733*12*memoria!$B$47)","v":0},{"$f":"F1733/(G1733*12*memoria!$B$47)","v":0}]
[null,null,null,null,null,null,1,{"$f":"F1734*memoria!$B$44/(G1734*12*memoria!$B$47)","v":0},{"$f":"F1734/(G1734*12*memoria!$B$47)","v":0}]
[null,null,null,null,null,null,1,{"$f":"F1735*memoria!$B$44/(G1735*12*memoria!$B$47)","v":0},{"$f":"F1735/(G1735*12*memoria!$B$47)","v":0}]
[null,null,null,null,null,null,1,{"$f":"F1736*memoria!$B$44/(G1736*12*memoria!$B$47)","v":0},{"$f":"F1736/(G1736*12*memoria!$B$47)","v":0}]
[null,null,null,null,null,null,1,{"$f":"F1737*memoria!$B$44/(G1737*12*memoria!$B$47)","v":0},{"$f":"F1737/(G1737*12*memoria!$B$47)","v":0}]
[null,null,null,null,null,null,1,{"$f":"F1738*memoria!$B$44/(G1738*12*memoria!$B$47)","v":0},{"$f":"F1738/(G1738*12*memoria!$B$47)","v":0}]
[null,null,null,null,null,null,1,{"$f":"F1739*memoria!$B$44/(G1739*12*memoria!$B$47)","v":0},{"$f":"F1739/(G1739*12*memoria!$B$47)","v":0}]
[null,null,null,null,null,null,1,{"$f":"F1740*memoria!$B$44/(G1740*12*memoria!$B$47)","v":0},{"$f":"F1740/(G1740*12*memoria!$B$47)","v":0}]
[null,null,null,null,null,null,1,{"$f":"F1741*memoria!$B$44/(G1741*12*memoria!$B$47)","v":0},{"$f":"F1741/(G1741*12*memoria!$B$47)","v":0}]
[null,null,null,null,null,null,1,{"$f":"F1742*memoria!$B$44/(G1742*12*memoria!$B$47)","v":0},{"$f":"F1742/(G1742*12*memoria!$B$47)","v":0}]
[null,null,null,null,null,null,1,{"$f":"F1743*memoria!$B$44/(G1743*12*memoria!$B$47)","v":0},{"$f":"F1743/(G1743*12*memoria!$B$47)","v":0}]
[null,null,null,null,null,null,1,{"$f":"F1744*memoria!$B$44/(G1744*12*memoria!$B$47)","v":0},{"$f":"F1744/(G1744*12*memoria!$B$47)","v":0}]
[null,null,null,null,null,null,1,{"$f":"F1745*memoria!$B$44/(G1745*12*memoria!$B$47)","v":0},{"$f":"F1745/(G1745*12*memoria!$B$47)","v":0}]
[null,null,null,null,null,null,1,{"$f":"F1746*memoria!$B$44/(G1746*12*memoria!$B$47)","v":0},{"$f":"F1746/(G1746*12*memoria!$B$47)","v":0}]
[null,null,null,null,null,null,1,{"$f":"F1747*memoria!$B$44/(G1747*12*memoria!$B$47)","v":0},{"$f":"F1747/(G1747*12*memoria!$B$47)","v":0}]
[null,null,null,null,null,null,1,{"$f":"F1748*memoria!$B$44/(G1748*12*memoria!$B$47)","v":0},{"$f":"F1748/(G1748*12*memoria!$B$47)","v":0}]
[null,null,null,null,null,null,1,{"$f":"F1749*memoria!$B$44/(G1749*12*memoria!$B$47)","v":0},{"$f":"F1749/(G1749*12*memoria!$B$47)","v":0}]
[null,null,null,null,null,null,1,{"$f":"F1750*memoria!$B$44/(G1750*12*memoria!$B$47)","v":0},{"$f":"F1750/(G1750*12*memoria!$B$47)","v":0}]
[null,null,null,null,null,null,1,{"$f":"F1751*memoria!$B$44/(G1751*12*memoria!$B$47)","v":0},{"$f":"F1751/(G1751*12*memoria!$B$47)","v":0}]
[null,null,null,null,null,null,1,{"$f":"F1752*memoria!$B$44/(G1752*12*memoria!$B$47)","v":0},{"$f":"F1752/(G1752*12*memoria!$B$47)","v":0}]
[null,null,null,null,null,null,1,{"$f":"F1753*memoria!$B$44/(G1753*12*memoria!$B$47)","v":0},{"$f":"F1753/(G1753*12*memoria!$B$47)","v":0}]
[null,null,null,null,null,null,1,{"$f":"F1754*memoria!$B$44/(G1754*12*memoria!$B$47)","v":0},{"$f":"F1754/(G1754*12*memoria!$B$47)","v":0}]
[null,null,null,null,null,null,1,{"$f":"F1755*memoria!$B$44/(G1755*12*memoria!$B$47)","v":0},{"$f":"F1755/(G1755*12*memoria!$B$47)","v":0}]
[null,null,null,null,null,null,1,{"$f":"F1756*memoria!$B$44/(G1756*12*memoria!$B$47)","v":0},{"$f":"F1756/(G1756*12*memoria!$B$47)","v":0}]
[null,null,null,null,null,null,1,{"$f":"F1757*memoria!$B$44/(G1757*12*memoria!$B$47)","v":0},{"$f":"F1757/(G1757*12*memoria!$B$47)","v":0}]
[null,null,null,null,null,null,1,{"$f":"F1758*memoria!$B$44/(G1758*12*memoria!$B$47)","v":0},{"$f":"F1758/(G1758*12*memoria!$B$47)","v":0}]
[null,null,null,null,null,null,1,{"$f":"F1759*memoria!$B$44/(G1759*12*memoria!$B$47)","v":0},{"$f":"F1759/(G1759*12*memoria!$B$47)","v":0}]
[null,null,null,null,null,null,1,{"$f":"F1760*memoria!$B$44/(G1760*12*memoria!$B$47)","v":0},{"$f":"F1760/(G1760*12*memoria!$B$47)","v":0}]
[null,null,null,null,null,null,1,{"$f":"F1761*memoria!$B$44/(G1761*12*memoria!$B$47)","v":0},{"$f":"F1761/(G1761*12*memoria!$B$47)","v":0}]
[null,null,null,null,null,null,1,{"$f":"F1762*memoria!$B$44/(G1762*12*memoria!$B$47)","v":0},{"$f":"F1762/(G1762*12*memoria!$B$47)","v":0}]
[null,null,null,null,null,null,1,{"$f":"F1763*memoria!$B$44/(G1763*12*memoria!$B$47)","v":0},{"$f":"F1763/(G1763*12*memoria!$B$47)","v":0}]
[null,null,null,null,null,null,1,{"$f":"F1764*memoria!$B$44/(G1764*12*memoria!$B$47)","v":0},{"$f":"F1764/(G1764*12*memoria!$B$47)","v":0}]
[null,null,null,null,null,null,1,{"$f":"F1765*memoria!$B$44/(G1765*12*memoria!$B$47)","v":0},{"$f":"F1765/(G1765*12*memoria!$B$47)","v":0}]
[null,null,null,null,null,null,1,{"$f":"F1766*memoria!$B$44/(G1766*12*memoria!$B$47)","v":0},{"$f":"F1766/(G1766*12*memoria!$B$47)","v":0}]
[null,null,null,null,null,null,1,{"$f":"F1767*memoria!$B$44/(G1767*12*memoria!$B$47)","v":0},{"$f":"F1767/(G1767*12*memoria!$B$47)","v":0}]
[null,null,null,null,null,null,1,{"$f":"F1768*memoria!$B$44/(G1768*12*memoria!$B$47)","v":0},{"$f":"F1768/(G1768*12*memoria!$B$47)","v":0}]
[null,null,null,null,null,null,1,{"$f":"F1769*memoria!$B$44/(G1769*12*memoria!$B$47)","v":0},{"$f":"F1769/(G1769*12*memoria!$B$47)","v":0}]
[null,null,null,null,null,null,1,{"$f":"F1770*memoria!$B$44/(G1770*12*memoria!$B$47)","v":0},{"$f":"F1770/(G1770*12*memoria!$B$47)","v":0}]
[null,null,null,null,null,null,1,{"$f":"F1771*memoria!$B$44/(G1771*12*memoria!$B$47)","v":0},{"$f":"F1771/(G1771*12*memoria!$B$47)","v":0}]
[null,null,null,null,null,null,1,{"$f":"F1772*memoria!$B$44/(G1772*12*memoria!$B$47)","v":0},{"$f":"F1772/(G1772*12*memoria!$B$47)","v":0}]
[null,null,null,null,null,null,1,{"$f":"F1773*memoria!$B$44/(G1773*12*memoria!$B$47)","v":0},{"$f":"F1773/(G1773*12*memoria!$B$47)","v":0}]
[null,null,null,null,null,null,1,{"$f":"F1774*memoria!$B$44/(G1774*12*memoria!$B$47)","v":0},{"$f":"F1774/(G1774*12*memoria!$B$47)","v":0}]
[null,null,null,null,null,null,1,{"$f":"F1775*memoria!$B$44/(G1775*12*memoria!$B$47)","v":0},{"$f":"F1775/(G1775*12*memoria!$B$47)","v":0}]
[null,null,null,null,null,null,1,{"$f":"F1776*memoria!$B$44/(G1776*12*memoria!$B$47)","v":0},{"$f":"F1776/(G1776*12*memoria!$B$47)","v":0}]
[null,null,null,null,null,null,1,{"$f":"F1777*memoria!$B$44/(G1777*12*memoria!$B$47)","v":0},{"$f":"F1777/(G1777*12*memoria!$B$47)","v":0}]
[null,null,null,null,null,null,1,{"$f":"F1778*memoria!$B$44/(G1778*12*memoria!$B$47)","v":0},{"$f":"F1778/(G1778*12*memoria!$B$47)","v":0}]
[null,null,null,null,null,null,1,{"$f":"F1779*memoria!$B$44/(G1779*12*memoria!$B$47)","v":0},{"$f":"F1779/(G1779*12*memoria!$B$47)","v":0}]
[null,null,null,null,null,null,1,{"$f":"F1780*memoria!$B$44/(G1780*12*memoria!$B$47)","v":0},{"$f":"F1780/(G1780*12*memoria!$B$47)","v":0}]
[null,null,null,null,null,null,1,{"$f":"F1781*memoria!$B$44/(G1781*12*memoria!$B$47)","v":0},{"$f":"F1781/(G1781*12*memoria!$B$47)","v":0}]
[null,null,null,null,null,null,1,{"$f":"F1782*memoria!$B$44/(G1782*12*memoria!$B$47)","v":0},{"$f":"F1782/(G1782*12*memoria!$B$47)","v":0}]
[null,null,null,null,null,null,1,{"$f":"F1783*memoria!$B$44/(G1783*12*memoria!$B$47)","v":0},{"$f":"F1783/(G1783*12*memoria!$B$47)","v":0}]
[null,null,null,null,null,null,1,{"$f":"F1784*memoria!$B$44/(G1784*12*memoria!$B$47)","v":0},{"$f":"F1784/(G1784*12*memoria!$B$47)","v":0}]
[null,null,null,null,null,null,1,{"$f":"F1785*memoria!$B$44/(G1785*12*memoria!$B$47)","v":0},{"$f":"F1785/(G1785*12*memoria!$B$47)","v":0}]
[null,null,null,null,null,null,1,{"$f":"F1786*memoria!$B$44/(G1786*12*memoria!$B$47)","v":0},{"$f":"F1786/(G1786*12*memoria!$B$47)","v":0}]
[null,null,null,null,null,null,1,{"$f":"F1787*memoria!$B$44/(G1787*12*memoria!$B$47)","v":0},{"$f":"F1787/(G1787*12*memoria!$B$47)","v":0}]
[null,null,null,null,null,null,1,{"$f":"F1788*memoria!$B$44/(G1788*12*memoria!$B$47)","v":0},{"$f":"F1788/(G1788*12*memoria!$B$47)","v":0}]
[null,null,null,null,null,null,1,{"$f":"F1789*memoria!$B$44/(G1789*12*memoria!$B$47)","v":0},{"$f":"F1789/(G1789*12*memoria!$B$47)","v":0}]
[null,null,null,null,null,null,1,{"$f":"F1790*memoria!$B$44/(G1790*12*memoria!$B$47)","v":0},{"$f":"F1790/(G1790*12*memoria!$B$47)","v":0}]
[null,null,null,null,null,null,1,{"$f":"F1791*memoria!$B$44/(G1791*12*memoria!$B$47)","v":0},{"$f":"F1791/(G1791*12*memoria!$B$47)","v":0}]
[null,null,null,null,null,null,1,{"$f":"F1792*memoria!$B$44/(G1792*12*memoria!$B$47)","v":0},{"$f":"F1792/(G1792*12*memoria!$B$47)","v":0}]
[null,null,null,null,null,null,1,{"$f":"F1793*memoria!$B$44/(G1793*12*memoria!$B$47)","v":0},{"$f":"F1793/(G1793*12*memoria!$B$47)","v":0}]
[null,null,null,null,null,null,1,{"$f":"F1794*memoria!$B$44/(G1794*12*memoria!$B$47)","v":0},{"$f":"F1794/(G1794*12*memoria!$B$47)","v":0}]
[null,null,null,null,null,null,1,{"$f":"F1795*memoria!$B$44/(G1795*12*memoria!$B$47)","v":0},{"$f":"F1795/(G1795*12*memoria!$B$47)","v":0}]
[null,null,null,null,null,null,1,{"$f":"F1796*memoria!$B$44/(G1796*12*memoria!$B$47)","v":0},{"$f":"F1796/(G1796*12*memoria!$B$47)","v":0}]
[null,null,null,null,null,null,1,{"$f":"F1797*memoria!$B$44/(G1797*12*memoria!$B$47)","v":0},{"$f":"F1797/(G1797*12*memoria!$B$47)","v":0}]
[null,null,null,null,null,null,1,{"$f":"F1798*memoria!$B$44/(G1798*12*memoria!$B$47)","v":0},{"$f":"F1798/(G1798*12*memoria!$B$47)","v":0}]
[null,null,null,null,null,null,1,{"$f":"F1799*memoria!$B$44/(G1799*12*memoria!$B$47)","v":0},{"$f":"F1799/(G1799*12*memoria!$B$47)","v":0}]
[null,null,null,null,null,null,1,{"$f":"F1800*memoria!$B$44/(G1800*12*memoria!$B$47)","v":0},{"$f":"F1800/(G1800*12*memoria!$B$47)","v":0}]
[null,null,null,null,null,null,1,{"$f":"F1801*memoria!$B$44/(G1801*12*memoria!$B$47)","v":0},{"$f":"F1801/(G1801*12*memoria!$B$47)","v":0}]
[null,null,null,null,null,null,1,{"$f":"F1802*memoria!$B$44/(G1802*12*memoria!$B$47)","v":0},{"$f":"F1802/(G1802*12*memoria!$B$47)","v":0}]
[null,null,null,null,null,null,1,{"$f":"F1803*memoria!$B$44/(G1803*12*memoria!$B$47)","v":0},{"$f":"F1803/(G1803*12*memoria!$B$47)","v":0}]
[null,null,null,null,null,null,1,{"$f":"F1804*memoria!$B$44/(G1804*12*memoria!$B$47)","v":0},{"$f":"F1804/(G1804*12*memoria!$B$47)","v":0}]
[null,null,null,null,null,null,1,{"$f":"F1805*memoria!$B$44/(G1805*12*memoria!$B$47)","v":0},{"$f":"F1805/(G1805*12*memoria!$B$47)","v":0}]
[null,null,null,null,null,null,1,{"$f":"F1806*memoria!$B$44/(G1806*12*memoria!$B$47)","v":0},{"$f":"F1806/(G1806*12*memoria!$B$47)","v":0}]
[null,null,null,null,null,null,1,{"$f":"F1807*memoria!$B$44/(G1807*12*memoria!$B$47)","v":0},{"$f":"F1807/(G1807*12*memoria!$B$47)","v":0}]
[null,null,null,null,null,null,1,{"$f":"F1808*memoria!$B$44/(G1808*12*memoria!$B$47)","v":0},{"$f":"F1808/(G1808*12*memoria!$B$47)","v":0}]
[null,null,null,null,null,null,1,{"$f":"F1809*memoria!$B$44/(G1809*12*memoria!$B$47)","v":0},{"$f":"F1809/(G1809*12*memoria!$B$47)","v":0}]
[null,null,null,null,null,null,1,{"$f":"F1810*memoria!$B$44/(G1810*12*memoria!$B$47)","v":0},{"$f":"F1810/(G1810*12*memoria!$B$47)","v":0}]
[null,null,null,null,null,null,1,{"$f":"F1811*memoria!$B$44/(G1811*12*memoria!$B$47)","v":0},{"$f":"F1811/(G1811*12*memoria!$B$47)","v":0}]
[null,null,null,null,null,null,1,{"$f":"F1812*memoria!$B$44/(G1812*12*memoria!$B$47)","v":0},{"$f":"F1812/(G1812*12*memoria!$B$47)","v":0}]
[null,null,null,null,null,null,1,{"$f":"F1813*memoria!$B$44/(G1813*12*memoria!$B$47)","v":0},{"$f":"F1813/(G1813*12*memoria!$B$47)","v":0}]
[null,null,null,null,null,null,1,{"$f":"F1814*memoria!$B$44/(G1814*12*memoria!$B$47)","v":0},{"$f":"F1814/(G1814*12*memoria!$B$47)","v":0}]
[null,null,null,null,null,null,1,{"$f":"F1815*memoria!$B$44/(G1815*12*memoria!$B$47)","v":0},{"$f":"F1815/(G1815*12*memoria!$B$47)","v":0}]
[null,null,null,null,null,null,1,{"$f":"F1816*memoria!$B$44/(G1816*12*memoria!$B$47)","v":0},{"$f":"F1816/(G1816*12*memoria!$B$47)","v":0}]
[null,null,null,null,null,null,1,{"$f":"F1817*memoria!$B$44/(G1817*12*memoria!$B$47)","v":0},{"$f":"F1817/(G1817*12*memoria!$B$47)","v":0}]
[null,null,null,null,null,null,1,{"$f":"F1818*memoria!$B$44/(G1818*12*memoria!$B$47)","v":0},{"$f":"F1818/(G1818*12*memoria!$B$47)","v":0}]
[null,null,null,null,null,null,1,{"$f":"F1819*memoria!$B$44/(G1819*12*memoria!$B$47)","v":0},{"$f":"F1819/(G1819*12*memoria!$B$47)","v":0}]
[null,null,null,null,null,null,1,{"$f":"F1820*memoria!$B$44/(G1820*12*memoria!$B$47)","v":0},{"$f":"F1820/(G1820*12*memoria!$B$47)","v":0}]
[null,null,null,null,null,null,1,{"$f":"F1821*memoria!$B$44/(G1821*12*memoria!$B$47)","v":0},{"$f":"F1821/(G1821*12*memoria!$B$47)","v":0}]
[null,null,null,null,null,null,1,{"$f":"F1822*memoria!$B$44/(G1822*12*memoria!$B$47)","v":0},{"$f":"F1822/(G1822*12*memoria!$B$47)","v":0}]
[null,null,null,null,null,null,1,{"$f":"F1823*memoria!$B$44/(G1823*12*memoria!$B$47)","v":0},{"$f":"F1823/(G1823*12*memoria!$B$47)","v":0}]
[null,null,null,null,null,null,1,{"$f":"F1824*memoria!$B$44/(G1824*12*memoria!$B$47)","v":0},{"$f":"F1824/(G1824*12*memoria!$B$47)","v":0}]
[null,null,null,null,null,null,1,{"$f":"F1825*memoria!$B$44/(G1825*12*memoria!$B$47)","v":0},{"$f":"F1825/(G1825*12*memoria!$B$47)","v":0}]
[null,null,null,null,null,null,1,{"$f":"F1826*memoria!$B$44/(G1826*12*memoria!$B$47)","v":0},{"$f":"F1826/(G1826*12*memoria!$B$47)","v":0}]
[null,null,null,null,null,null,1,{"$f":"F1827*memoria!$B$44/(G1827*12*memoria!$B$47)","v":0},{"$f":"F1827/(G1827*12*memoria!$B$47)","v":0}]
[null,null,null,null,null,null,1,{"$f":"F1828*memoria!$B$44/(G1828*12*memoria!$B$47)","v":0},{"$f":"F1828/(G1828*12*memoria!$B$47)","v":0}]
[null,null,null,null,null,null,1,{"$f":"F1829*memoria!$B$44/(G1829*12*memoria!$B$47)","v":0},{"$f":"F1829/(G1829*12*memoria!$B$47)","v":0}]
[null,null,null,null,null,null,1,{"$f":"F1830*memoria!$B$44/(G1830*12*memoria!$B$47)","v":0},{"$f":"F1830/(G1830*12*memoria!$B$47)","v":0}]
[null,null,null,null,null,null,1,{"$f":"F1831*memoria!$B$44/(G1831*12*memoria!$B$47)","v":0},{"$f":"F1831/(G1831*12*memoria!$B$47)","v":0}]
[null,null,null,null,null,null,1,{"$f":"F1832*memoria!$B$44/(G1832*12*memoria!$B$47)","v":0},{"$f":"F1832/(G1832*12*memoria!$B$47)","v":0}]
[null,null,null,null,null,null,1,{"$f":"F1833*memoria!$B$44/(G1833*12*memoria!$B$47)","v":0},{"$f":"F1833/(G1833*12*memoria!$B$47)","v":0}]
[null,null,null,null,null,null,1,{"$f":"F1834*memoria!$B$44/(G1834*12*memoria!$B$47)","v":0},{"$f":"F1834/(G1834*12*memoria!$B$47)","v":0}]
[null,null,null,null,null,null,1,{"$f":"F1835*memoria!$B$44/(G1835*12*memoria!$B$47)","v":0},{"$f":"F1835/(G1835*12*memoria!$B$47)","v":0}]
[null,null,null,null,null,null,1,{"$f":"F1836*memoria!$B$44/(G1836*12*memoria!$B$47)","v":0},{"$f":"F1836/(G1836*12*memoria!$B$47)","v":0}]
[null,null,null,null,null,null,1,{"$f":"F1837*memoria!$B$44/(G1837*12*memoria!$B$47)","v":0},{"$f":"F1837/(G1837*12*memoria!$B$47)","v":0}]
[null,null,null,null,null,null,1,{"$f":"F1838*memoria!$B$44/(G1838*12*memoria!$B$47)","v":0},{"$f":"F1838/(G1838*12*memoria!$B$47)","v":0}]
[null,null,null,null,null,null,1,{"$f":"F1839*memoria!$B$44/(G1839*12*memoria!$B$47)","v":0},{"$f":"F1839/(G1839*12*memoria!$B$47)","v":0}]
[null,null,null,null,null,null,1,{"$f":"F1840*memoria!$B$44/(G1840*12*memoria!$B$47)","v":0},{"$f":"F1840/(G1840*12*memoria!$B$47)","v":0}]
[null,null,null,null,null,null,1,{"$f":"F1841*memoria!$B$44/(G1841*12*memoria!$B$47)","v":0},{"$f":"F1841/(G1841*12*memoria!$B$47)","v":0}]
[null,null,null,null,null,null,1,{"$f":"F1842*memoria!$B$44/(G1842*12*memoria!$B$47)","v":0},{"$f":"F1842/(G1842*12*memoria!$B$47)","v":0}]
[null,null,null,null,null,null,1,{"$f":"F1843*memoria!$B$44/(G1843*12*memoria!$B$47)","v":0},{"$f":"F1843/(G1843*12*memoria!$B$47)","v":0}]
[null,null,null,null,null,null,1,{"$f":"F1844*memoria!$B$44/(G1844*12*memoria!$B$47)","v":0},{"$f":"F1844/(G1844*12*memoria!$B$47)","v":0}]
[null,null,null,null,null,null,1,{"$f":"F1845*memoria!$B$44/(G1845*12*memoria!$B$47)","v":0},{"$f":"F1845/(G1845*12*memoria!$B$47)","v":0}]
[null,null,null,null,null,null,1,{"$f":"F1846*memoria!$B$44/(G1846*12*memoria!$B$47)","v":0},{"$f":"F1846/(G1846*12*memoria!$B$47)","v":0}]
[null,null,null,null,null,null,1,{"$f":"F1847*memoria!$B$44/(G1847*12*memoria!$B$47)","v":0},{"$f":"F1847/(G1847*12*memoria!$B$47)","v":0}]
[null,null,null,null,null,null,1,{"$f":"F1848*memoria!$B$44/(G1848*12*memoria!$B$47)","v":0},{"$f":"F1848/(G1848*12*memoria!$B$47)","v":0}]
[null,null,null,null,null,null,1,{"$f":"F1849*memoria!$B$44/(G1849*12*memoria!$B$47)","v":0},{"$f":"F1849/(G1849*12*memoria!$B$47)","v":0}]
[null,null,null,null,null,null,1,{"$f":"F1850*memoria!$B$44/(G1850*12*memoria!$B$47)","v":0},{"$f":"F1850/(G1850*12*memoria!$B$47)","v":0}]
[null,null,null,null,null,null,1,{"$f":"F1851*memoria!$B$44/(G1851*12*memoria!$B$47)","v":0},{"$f":"F1851/(G1851*12*memoria!$B$47)","v":0}]
[null,null,null,null,null,null,1,{"$f":"F1852*memoria!$B$44/(G1852*12*memoria!$B$47)","v":0},{"$f":"F1852/(G1852*12*memoria!$B$47)","v":0}]
[null,null,null,null,null,null,1,{"$f":"F1853*memoria!$B$44/(G1853*12*memoria!$B$47)","v":0},{"$f":"F1853/(G1853*12*memoria!$B$47)","v":0}]
[null,null,null,null,null,null,1,{"$f":"F1854*memoria!$B$44/(G1854*12*memoria!$B$47)","v":0},{"$f":"F1854/(G1854*12*memoria!$B$47)","v":0}]
[null,null,null,null,null,null,1,{"$f":"F1855*memoria!$B$44/(G1855*12*memoria!$B$47)","v":0},{"$f":"F1855/(G1855*12*memoria!$B$47)","v":0}]
[null,null,null,null,null,null,1,{"$f":"F1856*memoria!$B$44/(G1856*12*memoria!$B$47)","v":0},{"$f":"F1856/(G1856*12*memoria!$B$47)","v":0}]
[null,null,null,null,null,null,1,{"$f":"F1857*memoria!$B$44/(G1857*12*memoria!$B$47)","v":0},{"$f":"F1857/(G1857*12*memoria!$B$47)","v":0}]
[null,null,null,null,null,null,1,{"$f":"F1858*memoria!$B$44/(G1858*12*memoria!$B$47)","v":0},{"$f":"F1858/(G1858*12*memoria!$B$47)","v":0}]
[null,null,null,null,null,null,1,{"$f":"F1859*memoria!$B$44/(G1859*12*memoria!$B$47)","v":0},{"$f":"F1859/(G1859*12*memoria!$B$47)","v":0}]
[null,null,null,null,null,null,1,{"$f":"F1860*memoria!$B$44/(G1860*12*memoria!$B$47)","v":0},{"$f":"F1860/(G1860*12*memoria!$B$47)","v":0}]
[null,null,null,null,null,null,1,{"$f":"F1861*memoria!$B$44/(G1861*12*memoria!$B$47)","v":0},{"$f":"F1861/(G1861*12*memoria!$B$47)","v":0}]
[null,null,null,null,null,null,1,{"$f":"F1862*memoria!$B$44/(G1862*12*memoria!$B$47)","v":0},{"$f":"F1862/(G1862*12*memoria!$B$47)","v":0}]
[null,null,null,null,null,null,1,{"$f":"F1863*memoria!$B$44/(G1863*12*memoria!$B$47)","v":0},{"$f":"F1863/(G1863*12*memoria!$B$47)","v":0}]
[null,null,null,null,null,null,1,{"$f":"F1864*memoria!$B$44/(G1864*12*memoria!$B$47)","v":0},{"$f":"F1864/(G1864*12*memoria!$B$47)","v":0}]
[null,null,null,null,null,null,1,{"$f":"F1865*memoria!$B$44/(G1865*12*memoria!$B$47)","v":0},{"$f":"F1865/(G1865*12*memoria!$B$47)","v":0}]
[null,null,null,null,null,null,1,{"$f":"F1866*memoria!$B$44/(G1866*12*memoria!$B$47)","v":0},{"$f":"F1866/(G1866*12*memoria!$B$47)","v":0}]
[null,null,null,null,null,null,1,{"$f":"F1867*memoria!$B$44/(G1867*12*memoria!$B$47)","v":0},{"$f":"F1867/(G1867*12*memoria!$B$47)","v":0}]
[null,null,null,null,null,null,1,{"$f":"F1868*memoria!$B$44/(G1868*12*memoria!$B$47)","v":0},{"$f":"F1868/(G1868*12*memoria!$B$47)","v":0}]
[null,null,null,null,null,null,1,{"$f":"F1869*memoria!$B$44/(G1869*12*memoria!$B$47)","v":0},{"$f":"F1869/(G1869*12*memoria!$B$47)","v":0}]
[null,null,null,null,null,null,1,{"$f":"F1870*memoria!$B$44/(G1870*12*memoria!$B$47)","v":0},{"$f":"F1870/(G1870*12*memoria!$B$47)","v":0}]
[null,null,null,null,null,null,1,{"$f":"F1871*memoria!$B$44/(G1871*12*memoria!$B$47)","v":0},{"$f":"F1871/(G1871*12*memoria!$B$47)","v":0}]
[null,null,null,null,null,null,1,{"$f":"F1872*memoria!$B$44/(G1872*12*memoria!$B$47)","v":0},{"$f":"F1872/(G1872*12*memoria!$B$47)","v":0}]
[null,null,null,null,null,null,1,{"$f":"F1873*memoria!$B$44/(G1873*12*memoria!$B$47)","v":0},{"$f":"F1873/(G1873*12*memoria!$B$47)","v":0}]
[null,null,null,null,null,null,1,{"$f":"F1874*memoria!$B$44/(G1874*12*memoria!$B$47)","v":0},{"$f":"F1874/(G1874*12*memoria!$B$47)","v":0}]
[null,null,null,null,null,null,1,{"$f":"F1875*memoria!$B$44/(G1875*12*memoria!$B$47)","v":0},{"$f":"F1875/(G1875*12*memoria!$B$47)","v":0}]
[null,null,null,null,null,null,1,{"$f":"F1876*memoria!$B$44/(G1876*12*memoria!$B$47)","v":0},{"$f":"F1876/(G1876*12*memoria!$B$47)","v":0}]
[null,null,null,null,null,null,1,{"$f":"F1877*memoria!$B$44/(G1877*12*memoria!$B$47)","v":0},{"$f":"F1877/(G1877*12*memoria!$B$47)","v":0}]
[null,null,null,null,null,null,1,{"$f":"F1878*memoria!$B$44/(G1878*12*memoria!$B$47)","v":0},{"$f":"F1878/(G1878*12*memoria!$B$47)","v":0}]
[null,null,null,null,null,null,1,{"$f":"F1879*memoria!$B$44/(G1879*12*memoria!$B$47)","v":0},{"$f":"F1879/(G1879*12*memoria!$B$47)","v":0}]
[null,null,null,null,null,null,1,{"$f":"F1880*memoria!$B$44/(G1880*12*memoria!$B$47)","v":0},{"$f":"F1880/(G1880*12*memoria!$B$47)","v":0}]
[null,null,null,null,null,null,1,{"$f":"F1881*memoria!$B$44/(G1881*12*memoria!$B$47)","v":0},{"$f":"F1881/(G1881*12*memoria!$B$47)","v":0}]
[null,null,null,null,null,null,1,{"$f":"F1882*memoria!$B$44/(G1882*12*memoria!$B$47)","v":0},{"$f":"F1882/(G1882*12*memoria!$B$47)","v":0}]
[null,null,null,null,null,null,1,{"$f":"F1883*memoria!$B$44/(G1883*12*memoria!$B$47)","v":0},{"$f":"F1883/(G1883*12*memoria!$B$47)","v":0}]
[null,null,null,null,null,null,1,{"$f":"F1884*memoria!$B$44/(G1884*12*memoria!$B$47)","v":0},{"$f":"F1884/(G1884*12*memoria!$B$47)","v":0}]
[null,null,null,null,null,null,1,{"$f":"F1885*memoria!$B$44/(G1885*12*memoria!$B$47)","v":0},{"$f":"F1885/(G1885*12*memoria!$B$47)","v":0}]
[null,null,null,null,null,null,1,{"$f":"F1886*memoria!$B$44/(G1886*12*memoria!$B$47)","v":0},{"$f":"F1886/(G1886*12*memoria!$B$47)","v":0}]
[null,null,null,null,null,null,1,{"$f":"F1887*memoria!$B$44/(G1887*12*memoria!$B$47)","v":0},{"$f":"F1887/(G1887*12*memoria!$B$47)","v":0}]
[null,null,null,null,null,null,1,{"$f":"F1888*memoria!$B$44/(G1888*12*memoria!$B$47)","v":0},{"$f":"F1888/(G1888*12*memoria!$B$47)","v":0}]
[null,null,null,null,null,null,1,{"$f":"F1889*memoria!$B$44/(G1889*12*memoria!$B$47)","v":0},{"$f":"F1889/(G1889*12*memoria!$B$47)","v":0}]
[null,null,null,null,null,null,1,{"$f":"F1890*memoria!$B$44/(G1890*12*memoria!$B$47)","v":0},{"$f":"F1890/(G1890*12*memoria!$B$47)","v":0}]
[null,null,null,null,null,null,1,{"$f":"F1891*memoria!$B$44/(G1891*12*memoria!$B$47)","v":0},{"$f":"F1891/(G1891*12*memoria!$B$47)","v":0}]
[null,null,null,null,null,null,1,{"$f":"F1892*memoria!$B$44/(G1892*12*memoria!$B$47)","v":0},{"$f":"F1892/(G1892*12*memoria!$B$47)","v":0}]
[null,null,null,null,null,null,1,{"$f":"F1893*memoria!$B$44/(G1893*12*memoria!$B$47)","v":0},{"$f":"F1893/(G1893*12*memoria!$B$47)","v":0}]
[null,null,null,null,null,null,1,{"$f":"F1894*memoria!$B$44/(G1894*12*memoria!$B$47)","v":0},{"$f":"F1894/(G1894*12*memoria!$B$47)","v":0}]
[null,null,null,null,null,null,1,{"$f":"F1895*memoria!$B$44/(G1895*12*memoria!$B$47)","v":0},{"$f":"F1895/(G1895*12*memoria!$B$47)","v":0}]
[null,null,null,null,null,null,1,{"$f":"F1896*memoria!$B$44/(G1896*12*memoria!$B$47)","v":0},{"$f":"F1896/(G1896*12*memoria!$B$47)","v":0}]
[null,null,null,null,null,null,1,{"$f":"F1897*memoria!$B$44/(G1897*12*memoria!$B$47)","v":0},{"$f":"F1897/(G1897*12*memoria!$B$47)","v":0}]
[null,null,null,null,null,null,1,{"$f":"F1898*memoria!$B$44/(G1898*12*memoria!$B$47)","v":0},{"$f":"F1898/(G1898*12*memoria!$B$47)","v":0}]
[null,null,null,null,null,null,1,{"$f":"F1899*memoria!$B$44/(G1899*12*memoria!$B$47)","v":0},{"$f":"F1899/(G1899*12*memoria!$B$47)","v":0}]
[null,null,null,null,null,null,1,{"$f":"F1900*memoria!$B$44/(G1900*12*memoria!$B$47)","v":0},{"$f":"F1900/(G1900*12*memoria!$B$47)","v":0}]
[null,null,null,null,null,null,1,{"$f":"F1901*memoria!$B$44/(G1901*12*memoria!$B$47)","v":0},{"$f":"F1901/(G1901*12*memoria!$B$47)","v":0}]
[null,null,null,null,null,null,1,{"$f":"F1902*memoria!$B$44/(G1902*12*memoria!$B$47)","v":0},{"$f":"F1902/(G1902*12*memoria!$B$47)","v":0}]
[null,null,null,null,null,null,1,{"$f":"F1903*memoria!$B$44/(G1903*12*memoria!$B$47)","v":0},{"$f":"F1903/(G1903*12*memoria!$B$47)","v":0}]
[null,null,null,null,null,null,1,{"$f":"F1904*memoria!$B$44/(G1904*12*memoria!$B$47)","v":0},{"$f":"F1904/(G1904*12*memoria!$B$47)","v":0}]
[null,null,null,null,null,null,1,{"$f":"F1905*memoria!$B$44/(G1905*12*memoria!$B$47)","v":0},{"$f":"F1905/(G1905*12*memoria!$B$47)","v":0}]
[null,null,null,null,null,null,1,{"$f":"F1906*memoria!$B$44/(G1906*12*memoria!$B$47)","v":0},{"$f":"F1906/(G1906*12*memoria!$B$47)","v":0}]
[null,null,null,null,null,null,1,{"$f":"F1907*memoria!$B$44/(G1907*12*memoria!$B$47)","v":0},{"$f":"F1907/(G1907*12*memoria!$B$47)","v":0}]
[null,null,null,null,null,null,1,{"$f":"F1908*memoria!$B$44/(G1908*12*memoria!$B$47)","v":0},{"$f":"F1908/(G1908*12*memoria!$B$47)","v":0}]
[null,null,null,null,null,null,1,{"$f":"F1909*memoria!$B$44/(G1909*12*memoria!$B$47)","v":0},{"$f":"F1909/(G1909*12*memoria!$B$47)","v":0}]
[null,null,null,null,null,null,1,{"$f":"F1910*memoria!$B$44/(G1910*12*memoria!$B$47)","v":0},{"$f":"F1910/(G1910*12*memoria!$B$47)","v":0}]
[null,null,null,null,null,null,1,{"$f":"F1911*memoria!$B$44/(G1911*12*memoria!$B$47)","v":0},{"$f":"F1911/(G1911*12*memoria!$B$47)","v":0}]
[null,null,null,null,null,null,1,{"$f":"F1912*memoria!$B$44/(G1912*12*memoria!$B$47)","v":0},{"$f":"F1912/(G1912*12*memoria!$B$47)","v":0}]
[null,null,null,null,null,null,1,{"$f":"F1913*memoria!$B$44/(G1913*12*memoria!$B$47)","v":0},{"$f":"F1913/(G1913*12*memoria!$B$47)","v":0}]
[null,null,null,null,null,null,1,{"$f":"F1914*memoria!$B$44/(G1914*12*memoria!$B$47)","v":0},{"$f":"F1914/(G1914*12*memoria!$B$47)","v":0}]
[null,null,null,null,null,null,1,{"$f":"F1915*memoria!$B$44/(G1915*12*memoria!$B$47)","v":0},{"$f":"F1915/(G1915*12*memoria!$B$47)","v":0}]
[null,null,null,null,null,null,1,{"$f":"F1916*memoria!$B$44/(G1916*12*memoria!$B$47)","v":0},{"$f":"F1916/(G1916*12*memoria!$B$47)","v":0}]
[null,null,null,null,null,null,1,{"$f":"F1917*memoria!$B$44/(G1917*12*memoria!$B$47)","v":0},{"$f":"F1917/(G1917*12*memoria!$B$47)","v":0}]
[null,null,null,null,null,null,1,{"$f":"F1918*memoria!$B$44/(G1918*12*memoria!$B$47)","v":0},{"$f":"F1918/(G1918*12*memoria!$B$47)","v":0}]
[null,null,null,null,null,null,1,{"$f":"F1919*memoria!$B$44/(G1919*12*memoria!$B$47)","v":0},{"$f":"F1919/(G1919*12*memoria!$B$47)","v":0}]
[null,null,null,null,null,null,1,{"$f":"F1920*memoria!$B$44/(G1920*12*memoria!$B$47)","v":0},{"$f":"F1920/(G1920*12*memoria!$B$47)","v":0}]
[null,null,null,null,null,null,1,{"$f":"F1921*memoria!$B$44/(G1921*12*memoria!$B$47)","v":0},{"$f":"F1921/(G1921*12*memoria!$B$47)","v":0}]
[null,null,null,null,null,null,1,{"$f":"F1922*memoria!$B$44/(G1922*12*memoria!$B$47)","v":0},{"$f":"F1922/(G1922*12*memoria!$B$47)","v":0}]
[null,null,null,null,null,null,1,{"$f":"F1923*memoria!$B$44/(G1923*12*memoria!$B$47)","v":0},{"$f":"F1923/(G1923*12*memoria!$B$47)","v":0}]
[null,null,null,null,null,null,1,{"$f":"F1924*memoria!$B$44/(G1924*12*memoria!$B$47)","v":0},{"$f":"F1924/(G1924*12*memoria!$B$47)","v":0}]
[null,null,null,null,null,null,1,{"$f":"F1925*memoria!$B$44/(G1925*12*memoria!$B$47)","v":0},{"$f":"F1925/(G1925*12*memoria!$B$47)","v":0}]
[null,null,null,null,null,null,1,{"$f":"F1926*memoria!$B$44/(G1926*12*memoria!$B$47)","v":0},{"$f":"F1926/(G1926*12*memoria!$B$47)","v":0}]
[null,null,null,null,null,null,1,{"$f":"F1927*memoria!$B$44/(G1927*12*memoria!$B$47)","v":0},{"$f":"F1927/(G1927*12*memoria!$B$47)","v":0}]
[null,null,null,null,null,null,1,{"$f":"F1928*memoria!$B$44/(G1928*12*memoria!$B$47)","v":0},{"$f":"F1928/(G1928*12*memoria!$B$47)","v":0}]
[null,null,null,null,null,null,1,{"$f":"F1929*memoria!$B$44/(G1929*12*memoria!$B$47)","v":0},{"$f":"F1929/(G1929*12*memoria!$B$47)","v":0}]
[null,null,null,null,null,null,1,{"$f":"F1930*memoria!$B$44/(G1930*12*memoria!$B$47)","v":0},{"$f":"F1930/(G1930*12*memoria!$B$47)","v":0}]
[null,null,null,null,null,null,1,{"$f":"F1931*memoria!$B$44/(G1931*12*memoria!$B$47)","v":0},{"$f":"F1931/(G1931*12*memoria!$B$47)","v":0}]
[null,null,null,null,null,null,1,{"$f":"F1932*memoria!$B$44/(G1932*12*memoria!$B$47)","v":0},{"$f":"F1932/(G1932*12*memoria!$B$47)","v":0}]
[null,null,null,null,null,null,1,{"$f":"F1933*memoria!$B$44/(G1933*12*memoria!$B$47)","v":0},{"$f":"F1933/(G1933*12*memoria!$B$47)","v":0}]
[null,null,null,null,null,null,1,{"$f":"F1934*memoria!$B$44/(G1934*12*memoria!$B$47)","v":0},{"$f":"F1934/(G1934*12*memoria!$B$47)","v":0}]
[null,null,null,null,null,null,1,{"$f":"F1935*memoria!$B$44/(G1935*12*memoria!$B$47)","v":0},{"$f":"F1935/(G1935*12*memoria!$B$47)","v":0}]
[null,null,null,null,null,null,1,{"$f":"F1936*memoria!$B$44/(G1936*12*memoria!$B$47)","v":0},{"$f":"F1936/(G1936*12*memoria!$B$47)","v":0}]
[null,null,null,null,null,null,1,{"$f":"F1937*memoria!$B$44/(G1937*12*memoria!$B$47)","v":0},{"$f":"F1937/(G1937*12*memoria!$B$47)","v":0}]
[null,null,null,null,null,null,1,{"$f":"F1938*memoria!$B$44/(G1938*12*memoria!$B$47)","v":0},{"$f":"F1938/(G1938*12*memoria!$B$47)","v":0}]
[null,null,null,null,null,null,1,{"$f":"F1939*memoria!$B$44/(G1939*12*memoria!$B$47)","v":0},{"$f":"F1939/(G1939*12*memoria!$B$47)","v":0}]
[null,null,null,null,null,null,1,{"$f":"F1940*memoria!$B$44/(G1940*12*memoria!$B$47)","v":0},{"$f":"F1940/(G1940*12*memoria!$B$47)","v":0}]
[null,null,null,null,null,null,1,{"$f":"F1941*memoria!$B$44/(G1941*12*memoria!$B$47)","v":0},{"$f":"F1941/(G1941*12*memoria!$B$47)","v":0}]
[null,null,null,null,null,null,1,{"$f":"F1942*memoria!$B$44/(G1942*12*memoria!$B$47)","v":0},{"$f":"F1942/(G1942*12*memoria!$B$47)","v":0}]
[null,null,null,null,null,null,1,{"$f":"F1943*memoria!$B$44/(G1943*12*memoria!$B$47)","v":0},{"$f":"F1943/(G1943*12*memoria!$B$47)","v":0}]
[null,null,null,null,null,null,1,{"$f":"F1944*memoria!$B$44/(G1944*12*memoria!$B$47)","v":0},{"$f":"F1944/(G1944*12*memoria!$B$47)","v":0}]
[null,null,null,null,null,null,1,{"$f":"F1945*memoria!$B$44/(G1945*12*memoria!$B$47)","v":0},{"$f":"F1945/(G1945*12*memoria!$B$47)","v":0}]
[null,null,null,null,null,null,1,{"$f":"F1946*memoria!$B$44/(G1946*12*memoria!$B$47)","v":0},{"$f":"F1946/(G1946*12*memoria!$B$47)","v":0}]
[null,null,null,null,null,null,1,{"$f":"F1947*memoria!$B$44/(G1947*12*memoria!$B$47)","v":0},{"$f":"F1947/(G1947*12*memoria!$B$47)","v":0}]
[null,null,null,null,null,null,1,{"$f":"F1948*memoria!$B$44/(G1948*12*memoria!$B$47)","v":0},{"$f":"F1948/(G1948*12*memoria!$B$47)","v":0}]
[null,null,null,null,null,null,1,{"$f":"F1949*memoria!$B$44/(G1949*12*memoria!$B$47)","v":0},{"$f":"F1949/(G1949*12*memoria!$B$47)","v":0}]
[null,null,null,null,null,null,1,{"$f":"F1950*memoria!$B$44/(G1950*12*memoria!$B$47)","v":0},{"$f":"F1950/(G1950*12*memoria!$B$47)","v":0}]
[null,null,null,null,null,null,1,{"$f":"F1951*memoria!$B$44/(G1951*12*memoria!$B$47)","v":0},{"$f":"F1951/(G1951*12*memoria!$B$47)","v":0}]
[null,null,null,null,null,null,1,{"$f":"F1952*memoria!$B$44/(G1952*12*memoria!$B$47)","v":0},{"$f":"F1952/(G1952*12*memoria!$B$47)","v":0}]
[null,null,null,null,null,null,1,{"$f":"F1953*memoria!$B$44/(G1953*12*memoria!$B$47)","v":0},{"$f":"F1953/(G1953*12*memoria!$B$47)","v":0}]
[null,null,null,null,null,null,1,{"$f":"F1954*memoria!$B$44/(G1954*12*memoria!$B$47)","v":0},{"$f":"F1954/(G1954*12*memoria!$B$47)","v":0}]
[null,null,null,null,null,null,1,{"$f":"F1955*memoria!$B$44/(G1955*12*memoria!$B$47)","v":0},{"$f":"F1955/(G1955*12*memoria!$B$47)","v":0}]
[null,null,null,null,null,null,1,{"$f":"F1956*memoria!$B$44/(G1956*12*memoria!$B$47)","v":0},{"$f":"F1956/(G1956*12*memoria!$B$47)","v":0}]
[null,null,null,null,null,null,1,{"$f":"F1957*memoria!$B$44/(G1957*12*memoria!$B$47)","v":0},{"$f":"F1957/(G1957*12*memoria!$B$47)","v":0}]
[null,null,null,null,null,null,1,{"$f":"F1958*memoria!$B$44/(G1958*12*memoria!$B$47)","v":0},{"$f":"F1958/(G1958*12*memoria!$B$47)","v":0}]
[null,null,null,null,null,null,1,{"$f":"F1959*memoria!$B$44/(G1959*12*memoria!$B$47)","v":0},{"$f":"F1959/(G1959*12*memoria!$B$47)","v":0}]
[null,null,null,null,null,null,1,{"$f":"F1960*memoria!$B$44/(G1960*12*memoria!$B$47)","v":0},{"$f":"F1960/(G1960*12*memoria!$B$47)","v":0}]
[null,null,null,null,null,null,1,{"$f":"F1961*memoria!$B$44/(G1961*12*memoria!$B$47)","v":0},{"$f":"F1961/(G1961*12*memoria!$B$47)","v":0}]
[null,null,null,null,null,null,1,{"$f":"F1962*memoria!$B$44/(G1962*12*memoria!$B$47)","v":0},{"$f":"F1962/(G1962*12*memoria!$B$47)","v":0}]
[null,null,null,null,null,null,1,{"$f":"F1963*memoria!$B$44/(G1963*12*memoria!$B$47)","v":0},{"$f":"F1963/(G1963*12*memoria!$B$47)","v":0}]
[null,null,null,null,null,null,1,{"$f":"F1964*memoria!$B$44/(G1964*12*memoria!$B$47)","v":0},{"$f":"F1964/(G1964*12*memoria!$B$47)","v":0}]
[null,null,null,null,null,null,1,{"$f":"F1965*memoria!$B$44/(G1965*12*memoria!$B$47)","v":0},{"$f":"F1965/(G1965*12*memoria!$B$47)","v":0}]
[null,null,null,null,null,null,1,{"$f":"F1966*memoria!$B$44/(G1966*12*memoria!$B$47)","v":0},{"$f":"F1966/(G1966*12*memoria!$B$47)","v":0}]
[null,null,null,null,null,null,1,{"$f":"F1967*memoria!$B$44/(G1967*12*memoria!$B$47)","v":0},{"$f":"F1967/(G1967*12*memoria!$B$47)","v":0}]
[null,null,null,null,null,null,1,{"$f":"F1968*memoria!$B$44/(G1968*12*memoria!$B$47)","v":0},{"$f":"F1968/(G1968*12*memoria!$B$47)","v":0}]
[null,null,null,null,null,null,1,{"$f":"F1969*memoria!$B$44/(G1969*12*memoria!$B$47)","v":0},{"$f":"F1969/(G1969*12*memoria!$B$47)","v":0}]
[null,null,null,null,null,null,1,{"$f":"F1970*memoria!$B$44/(G1970*12*memoria!$B$47)","v":0},{"$f":"F1970/(G1970*12*memoria!$B$47)","v":0}]
[null,null,null,null,null,null,1,{"$f":"F1971*memoria!$B$44/(G1971*12*memoria!$B$47)","v":0},{"$f":"F1971/(G1971*12*memoria!$B$47)","v":0}]
[null,null,null,null,null,null,1,{"$f":"F1972*memoria!$B$44/(G1972*12*memoria!$B$47)","v":0},{"$f":"F1972/(G1972*12*memoria!$B$47)","v":0}]
[null,null,null,null,null,null,1,{"$f":"F1973*memoria!$B$44/(G1973*12*memoria!$B$47)","v":0},{"$f":"F1973/(G1973*12*memoria!$B$47)","v":0}]
[null,null,null,null,null,null,1,{"$f":"F1974*memoria!$B$44/(G1974*12*memoria!$B$47)","v":0},{"$f":"F1974/(G1974*12*memoria!$B$47)","v":0}]
[null,null,null,null,null,null,1,{"$f":"F1975*memoria!$B$44/(G1975*12*memoria!$B$47)","v":0},{"$f":"F1975/(G1975*12*memoria!$B$47)","v":0}]
[null,null,null,null,null,null,1,{"$f":"F1976*memoria!$B$44/(G1976*12*memoria!$B$47)","v":0},{"$f":"F1976/(G1976*12*memoria!$B$47)","v":0}]
[null,null,null,null,null,null,1,{"$f":"F1977*memoria!$B$44/(G1977*12*memoria!$B$47)","v":0},{"$f":"F1977/(G1977*12*memoria!$B$47)","v":0}]
[null,null,null,null,null,null,1,{"$f":"F1978*memoria!$B$44/(G1978*12*memoria!$B$47)","v":0},{"$f":"F1978/(G1978*12*memoria!$B$47)","v":0}]
[null,null,null,null,null,null,1,{"$f":"F1979*memoria!$B$44/(G1979*12*memoria!$B$47)","v":0},{"$f":"F1979/(G1979*12*memoria!$B$47)","v":0}]
[null,null,null,null,null,null,1,{"$f":"F1980*memoria!$B$44/(G1980*12*memoria!$B$47)","v":0},{"$f":"F1980/(G1980*12*memoria!$B$47)","v":0}]
[null,null,null,null,null,null,1,{"$f":"F1981*memoria!$B$44/(G1981*12*memoria!$B$47)","v":0},{"$f":"F1981/(G1981*12*memoria!$B$47)","v":0}]
[null,null,null,null,null,null,1,{"$f":"F1982*memoria!$B$44/(G1982*12*memoria!$B$47)","v":0},{"$f":"F1982/(G1982*12*memoria!$B$47)","v":0}]
[null,null,null,null,null,null,1,{"$f":"F1983*memoria!$B$44/(G1983*12*memoria!$B$47)","v":0},{"$f":"F1983/(G1983*12*memoria!$B$47)","v":0}]
[null,null,null,null,null,null,1,{"$f":"F1984*memoria!$B$44/(G1984*12*memoria!$B$47)","v":0},{"$f":"F1984/(G1984*12*memoria!$B$47)","v":0}]
[null,null,null,null,null,null,1,{"$f":"F1985*memoria!$B$44/(G1985*12*memoria!$B$47)","v":0},{"$f":"F1985/(G1985*12*memoria!$B$47)","v":0}]
[null,null,null,null,null,null,1,{"$f":"F1986*memoria!$B$44/(G1986*12*memoria!$B$47)","v":0},{"$f":"F1986/(G1986*12*memoria!$B$47)","v":0}]
[null,null,null,null,null,null,1,{"$f":"F1987*memoria!$B$44/(G1987*12*memoria!$B$47)","v":0},{"$f":"F1987/(G1987*12*memoria!$B$47)","v":0}]
[null,null,null,null,null,null,1,{"$f":"F1988*memoria!$B$44/(G1988*12*memoria!$B$47)","v":0},{"$f":"F1988/(G1988*12*memoria!$B$47)","v":0}]
[null,null,null,null,null,null,1,{"$f":"F1989*memoria!$B$44/(G1989*12*memoria!$B$47)","v":0},{"$f":"F1989/(G1989*12*memoria!$B$47)","v":0}]
[null,null,null,null,null,null,1,{"$f":"F1990*memoria!$B$44/(G1990*12*memoria!$B$47)","v":0},{"$f":"F1990/(G1990*12*memoria!$B$47)","v":0}]
[null,null,null,null,null,null,1,{"$f":"F1991*memoria!$B$44/(G1991*12*memoria!$B$47)","v":0},{"$f":"F1991/(G1991*12*memoria!$B$47)","v":0}]
[null,null,null,null,null,null,1,{"$f":"F1992*memoria!$B$44/(G1992*12*memoria!$B$47)","v":0},{"$f":"F1992/(G1992*12*memoria!$B$47)","v":0}]
[null,null,null,null,null,null,1,{"$f":"F1993*memoria!$B$44/(G1993*12*memoria!$B$47)","v":0},{"$f":"F1993/(G1993*12*memoria!$B$47)","v":0}]
[null,null,null,null,null,null,1,{"$f":"F1994*memoria!$B$44/(G1994*12*memoria!$B$47)","v":0},{"$f":"F1994/(G1994*12*memoria!$B$47)","v":0}]
[null,null,null,null,null,null,1,{"$f":"F1995*memoria!$B$44/(G1995*12*memoria!$B$47)","v":0},{"$f":"F1995/(G1995*12*memoria!$B$47)","v":0}]
[null,null,null,null,null,null,1,{"$f":"F1996*memoria!$B$44/(G1996*12*memoria!$B$47)","v":0},{"$f":"F1996/(G1996*12*memoria!$B$47)","v":0}]
[null,null,null,null,null,null,1,{"$f":"F1997*memoria!$B$44/(G1997*12*memoria!$B$47)","v":0},{"$f":"F1997/(G1997*12*memoria!$B$47)","v":0}]
[null,null,null,null,null,null,1,{"$f":"F1998*memoria!$B$44/(G1998*12*memoria!$B$47)","v":0},{"$f":"F1998/(G1998*12*memoria!$B$47)","v":0}]
[null,null,null,null,null,null,1,{"$f":"F1999*memoria!$B$44/(G1999*12*memoria!$B$47)","v":0},{"$f":"F1999/(G1999*12*memoria!$B$47)","v":0}]
[null,null,null,null,null,null,1,{"$f":"F2000*memoria!$B$44/(G2000*12*memoria!$B$47)","v":0},{"$f":"F2000/(G2000*12*memoria!$B$47)","v":0}]
[null,null,null,null,null,null,1,{"$f":"F2004*memoria!$B$44/(G2004*12*memoria!$B$47)","v":0},{"$f":"F2004/(G2004*12*memoria!$B$47)","v":0}]
[null,null,null,null,null,null,1,{"$f":"F2014*memoria!$B$44/(G2014*12*memoria!$B$47)","v":0},{"$f":"F2014/(G2014*12*memoria!$B$47)","v":0}]
[null,null,null,null,null,null,1,{"$f":"F2031*memoria!$B$44/(G2031*12*memoria!$B$47)","v":0},{"$f":"F2031/(G2031*12*memoria!$B$47)","v":0}]
[null,null,null,null,null,null,1,{"$f":"F2042*memoria!$B$44/(G2042*12*memoria!$B$47)","v":0},{"$f":"F2042/(G2042*12*memoria!$B$47)","v":0}]
[null,null,null,null,null,null,1,{"$f":"F2048*memoria!$B$44/(G2048*12*memoria!$B$47)","v":0},{"$f":"F2048/(G2048*12*memoria!$B$47)","v":0}]
[null,null,null,null,null,null,1,{"$f":"F2065*memoria!$B$44/(G2065*12*memoria!$B$47)","v":0},{"$f":"F2065/(G2065*12*memoria!$B$47)","v":0}]
[null,null,null,null,null,null,1,{"$f":"F2075*memoria!$B$44/(G2075*12*memoria!$B$47)","v":0},{"$f":"F2075/(G2075*12*memoria!$B$47)","v":0}]
[null,null,null,null,null,null,1,{"$f":"F2079*memoria!$B$44/(G2079*12*memoria!$B$47)","v":0},{"$f":"F2079/(G2079*12*memoria!$B$47)","v":0}]
[null,null,null,null,null,null,1,{"$f":"F2092*memoria!$B$44/(G2092*12*memoria!$B$47)","v":0},{"$f":"F2092/(G2092*12*memoria!$B$47)","v":0}]
[null,null,null,null,null,null,1,{"$f":"F2109*memoria!$B$44/(G2109*12*memoria!$B$47)","v":0},{"$f":"F2109/(G2109*12*memoria!$B$47)","v":0}]
[null,null,null,null,null,null,1,{"$f":"F2120*memoria!$B$44/(G2120*12*memoria!$B$47)","v":0},{"$f":"F2120/(G2120*12*memoria!$B$47)","v":0}]
[null,null,null,null,null,null,1,{"$f":"F2126*memoria!$B$44/(G2126*12*memoria!$B$47)","v":0},{"$f":"F2126/(G2126*12*memoria!$B$47)","v":0}]
[null,null,null,null,null,null,1,{"$f":"F2143*memoria!$B$44/(G2143*12*memoria!$B$47)","v":0},{"$f":"F2143/(G2143*12*memoria!$B$47)","v":0}]
[null,null,null,null,null,null,1,{"$f":"F2149*memoria!$B$44/(G2149*12*memoria!$B$47)","v":0},{"$f":"F2149/(G2149*12*memoria!$B$47)","v":0}]
[null,null,null,null,null,null,1,{"$f":"F2161*memoria!$B$44/(G2161*12*memoria!$B$47)","v":0},{"$f":"F2161/(G2161*12*memoria!$B$47)","v":0}]
[null,null,null,null,null,null,1,{"$f":"F2177*memoria!$B$44/(G2177*12*memoria!$B$47)","v":0},{"$f":"F2177/(G2177*12*memoria!$B$47)","v":0}]
[null,null,null,null,null,null,1,{"$f":"F2187*memoria!$B$44/(G2187*12*memoria!$B$47)","v":0},{"$f":"F2187/(G2187*12*memoria!$B$47)","v":0}]
[null,null,null,null,null,null,1,{"$f":"F2202*memoria!$B$44/(G2202*12*memoria!$B$47)","v":0},{"$f":"F2202/(G2202*12*memoria!$B$47)","v":0}]
[null,null,null,null,null,null,1,{"$f":"F2211*memoria!$B$44/(G2211*12*memoria!$B$47)","v":0},{"$f":"F2211/(G2211*12*memoria!$B$47)","v":0}]
[null,null,null,null,null,null,1,{"$f":"F2221*memoria!$B$44/(G2221*12*memoria!$B$47)","v":0},{"$f":"F2221/(G2221*12*memoria!$B$47)","v":0}]
[null,null,null,null,null,null,1,{"$f":"F2227*memoria!$B$44/(G2227*12*memoria!$B$47)","v":0},{"$f":"F2227/(G2227*12*memoria!$B$47)","v":0}]
[null,null,null,null,null,null,1,{"$f":"F2243*memoria!$B$44/(G2243*12*memoria!$B$47)","v":0},{"$f":"F2243/(G2243*12*memoria!$B$47)","v":0}]
[null,null,null,null,null,null,1,{"$f":"F2255*memoria!$B$44/(G2255*12*memoria!$B$47)","v":0},{"$f":"F2255/(G2255*12*memoria!$B$47)","v":0}]
[null,null,null,null,null,null,1,{"$f":"F2261*memoria!$B$44/(G2261*12*memoria!$B$47)","v":0},{"$f":"F2261/(G2261*12*memoria!$B$47)","v":0}]
[null,null,null,null,null,null,1,{"$f":"F2271*memoria!$B$44/(G2271*12*memoria!$B$47)","v":0},{"$f":"F2271/(G2271*12*memoria!$B$47)","v":0}]
[null,null,null,null,null,null,1,{"$f":"F2292*memoria!$B$44/(G2292*12*memoria!$B$47)","v":0},{"$f":"F2292/(G2292*12*memoria!$B$47)","v":0}]
[null,null,null,null,null,null,1,{"$f":"F2295*memoria!$B$44/(G2295*12*memoria!$B$47)","v":0},{"$f":"F2295/(G2295*12*memoria!$B$47)","v":0}]
[null,null,null,null,null,null,1,{"$f":"F2305*memoria!$B$44/(G2305*12*memoria!$B$47)","v":0},{"$f":"F2305/(G2305*12*memoria!$B$47)","v":0}]
[null,null,null,null,null,null,1,{"$f":"F2321*memoria!$B$44/(G2321*12*memoria!$B$47)","v":0},{"$f":"F2321/(G2321*12*memoria!$B$47)","v":0}]
[null,null,null,null,null,null,1,{"$f":"F2333*memoria!$B$44/(G2333*12*memoria!$B$47)","v":0},{"$f":"F2333/(G2333*12*memoria!$B$47)","v":0}]
[null,null,null,null,null,null,1,{"$f":"F2339*memoria!$B$44/(G2339*12*memoria!$B$47)","v":0},{"$f":"F2339/(G2339*12*memoria!$B$47)","v":0}]
[null,null,null,null,null,null,1,{"$f":"F2356*memoria!$B$44/(G2356*12*memoria!$B$47)","v":0},{"$f":"F2356/(G2356*12*memoria!$B$47)","v":0}]
[null,null,null,null,null,null,1,{"$f":"F2362*memoria!$B$44/(G2362*12*memoria!$B$47)","v":0},{"$f":"F2362/(G2362*12*memoria!$B$47)","v":0}]
[null,null,null,null,null,null,1,{"$f":"F2373*memoria!$B$44/(G2373*12*memoria!$B$47)","v":0},{"$f":"F2373/(G2373*12*memoria!$B$47)","v":0}]
[null,null,null,null,null,null,1,{"$f":"F2390*memoria!$B$44/(G2390*12*memoria!$B$47)","v":0},{"$f":"F2390/(G2390*12*memoria!$B$47)","v":0}]
[null,null,null,null,null,null,1,{"$f":"F2403*memoria!$B$44/(G2403*12*memoria!$B$47)","v":0},{"$f":"F2403/(G2403*12*memoria!$B$47)","v":0}]
[null,null,null,null,null,null,1,{"$f":"F2407*memoria!$B$44/(G2407*12*memoria!$B$47)","v":0},{"$f":"F2407/(G2407*12*memoria!$B$47)","v":0}]
[null,null,null,null,null,null,1,{"$f":"F2428*memoria!$B$44/(G2428*12*memoria!$B$47)","v":0},{"$f":"F2428/(G2428*12*memoria!$B$47)","v":0}]
[null,null,null,null,null,null,1,{"$f":"F2434*memoria!$B$44/(G2434*12*memoria!$B$47)","v":0},{"$f":"F2434/(G2434*12*memoria!$B$47)","v":0}]
[null,null,null,null,null,null,1,{"$f":"F2440*memoria!$B$44/(G2440*12*memoria!$B$47)","v":0},{"$f":"F2440/(G2440*12*memoria!$B$47)","v":0}]
[null,null,null,null,null,null,1,{"$f":"F2462*memoria!$B$44/(G2462*12*memoria!$B$47)","v":0},{"$f":"F2462/(G2462*12*memoria!$B$47)","v":0}]
[null,null,null,null,null,null,1,{"$f":"F2468*memoria!$B$44/(G2468*12*memoria!$B$47)","v":0},{"$f":"F2468/(G2468*12*memoria!$B$47)","v":0}]
[null,null,null,null,null,null,1,{"$f":"F2478*memoria!$B$44/(G2478*12*memoria!$B$47)","v":0},{"$f":"F2478/(G2478*12*memoria!$B$47)","v":0}]
[null,null,null,null,null,null,1,{"$f":"F2493*memoria!$B$44/(G2493*12*memoria!$B$47)","v":0},{"$f":"F2493/(G2493*12*memoria!$B$47)","v":0}]
[null,null,null,null,null,null,1,{"$f":"F2502*memoria!$B$44/(G2502*12*memoria!$B$47)","v":0},{"$f":"F2502/(G2502*12*memoria!$B$47)","v":0}]
[null,null,null,null,null,null,1,{"$f":"F2512*memoria!$B$44/(G2512*12*memoria!$B$47)","v":0},{"$f":"F2512/(G2512*12*memoria!$B$47)","v":0}]
[null,null,null,null,null,null,1,{"$f":"F2522*memoria!$B$44/(G2522*12*memoria!$B$47)","v":0},{"$f":"F2522/(G2522*12*memoria!$B$47)","v":0}]
[null,null,null,null,null,null,1,{"$f":"F2536*memoria!$B$44/(G2536*12*memoria!$B$47)","v":0},{"$f":"F2536/(G2536*12*memoria!$B$47)","v":0}]
[null,null,null,null,null,null,1,{"$f":"F2546*memoria!$B$44/(G2546*12*memoria!$B$47)","v":0},{"$f":"F2546/(G2546*12*memoria!$B$47)","v":0}]
[null,null,null,null,null,null,1,{"$f":"F2563*memoria!$B$44/(G2563*12*memoria!$B$47)","v":0},{"$f":"F2563/(G2563*12*memoria!$B$47)","v":0}]
[null,null,null,null,null,null,1,{"$f":"F2575*memoria!$B$44/(G2575*12*memoria!$B$47)","v":0},{"$f":"F2575/(G2575*12*memoria!$B$47)","v":0}]
[null,null,null,null,null,null,1,{"$f":"F2580*memoria!$B$44/(G2580*12*memoria!$B$47)","v":0},{"$f":"F2580/(G2580*12*memoria!$B$47)","v":0}]
[null,null,null,null,null,null,1,{"$f":"F2597*memoria!$B$44/(G2597*12*memoria!$B$47)","v":0},{"$f":"F2597/(G2597*12*memoria!$B$47)","v":0}]
[null,null,null,null,null,null,1,{"$f":"F2604*memoria!$B$44/(G2604*12*memoria!$B$47)","v":0},{"$f":"F2604/(G2604*12*memoria!$B$47)","v":0}]
[null,null,null,null,null,null,1,{"$f":"F2614*memoria!$B$44/(G2614*12*memoria!$B$47)","v":0},{"$f":"F2614/(G2614*12*memoria!$B$47)","v":0}]
[null,null,null,null,null,null,1,{"$f":"F2624*memoria!$B$44/(G2624*12*memoria!$B$47)","v":0},{"$f":"F2624/(G2624*12*memoria!$B$47)","v":0}]
[null,null,null,null,null,null,1,{"$f":"F2641*memoria!$B$44/(G2641*12*memoria!$B$47)","v":0},{"$f":"F2641/(G2641*12*memoria!$B$47)","v":0}]
[null,null,null,null,null,null,1,{"$f":"F2653*memoria!$B$44/(G2653*12*memoria!$B$47)","v":0},{"$f":"F2653/(G2653*12*memoria!$B$47)","v":0}]
[null,null,null,null,null,null,1,{"$f":"F2658*memoria!$B$44/(G2658*12*memoria!$B$47)","v":0},{"$f":"F2658/(G2658*12*memoria!$B$47)","v":0}]
[null,null,null,null,null,null,1,{"$f":"F2675*memoria!$B$44/(G2675*12*memoria!$B$47)","v":0},{"$f":"F2675/(G2675*12*memoria!$B$47)","v":0}]
[null,null,null,null,null,null,1,{"$f":"F2682*memoria!$B$44/(G2682*12*memoria!$B$47)","v":0},{"$f":"F2682/(G2682*12*memoria!$B$47)","v":0}]
[null,null,null,null,null,null,1,{"$f":"F2692*memoria!$B$44/(G2692*12*memoria!$B$47)","v":0},{"$f":"F2692/(G2692*12*memoria!$B$47)","v":0}]
[null,null,null,null,null,null,1,{"$f":"F2709*memoria!$B$44/(G2709*12*memoria!$B$47)","v":0},{"$f":"F2709/(G2709*12*memoria!$B$47)","v":0}]
[null,null,null,null,null,null,1,{"$f":"F2719*memoria!$B$44/(G2719*12*memoria!$B$47)","v":0},{"$f":"F2719/(G2719*12*memoria!$B$47)","v":0}]
[null,null,null,null,null,null,1,{"$f":"F2723*memoria!$B$44/(G2723*12*memoria!$B$47)","v":0},{"$f":"F2723/(G2723*12*memoria!$B$47)","v":0}]
[null,null,null,null,null,null,1,{"$f":"F2743*memoria!$B$44/(G2743*12*memoria!$B$47)","v":0},{"$f":"F2743/(G2743*12*memoria!$B$47)","v":0}]
[null,null,null,null,null,null,1,{"$f":"F2753*memoria!$B$44/(G2753*12*memoria!$B$47)","v":0},{"$f":"F2753/(G2753*12*memoria!$B$47)","v":0}]
[null,null,null,null,null,null,1,{"$f":"F2759*memoria!$B$44/(G2759*12*memoria!$B$47)","v":0},{"$f":"F2759/(G2759*12*memoria!$B$47)","v":0}]
[null,null,null,null,null,null,1,{"$f":"F2772*memoria!$B$44/(G2772*12*memoria!$B$47)","v":0},{"$f":"F2772/(G2772*12*memoria!$B$47)","v":0}]
[null,null,null,null,null,null,1,{"$f":"F2787*memoria!$B$44/(G2787*12*memoria!$B$47)","v":0},{"$f":"F2787/(G2787*12*memoria!$B$47)","v":0}]
[null,null,null,null,null,null,1,{"$f":"F2793*memoria!$B$44/(G2793*12*memoria!$B$47)","v":0},{"$f":"F2793/(G2793*12*memoria!$B$47)","v":0}]
[null,null,null,null,null,null,1,{"$f":"F2805*memoria!$B$44/(G2805*12*memoria!$B$47)","v":0},{"$f":"F2805/(G2805*12*memoria!$B$47)","v":0}]
[null,null,null,null,null,null,1,{"$f":"F2821*memoria!$B$44/(G2821*12*memoria!$B$47)","v":0},{"$f":"F2821/(G2821*12*memoria!$B$47)","v":0}]
[null,null,null,null,null,null,1,{"$f":"F2827*memoria!$B$44/(G2827*12*memoria!$B$47)","v":0},{"$f":"F2827/(G2827*12*memoria!$B$47)","v":0}]
[null,null,null,null,null,null,1,{"$f":"F2837*memoria!$B$44/(G2837*12*memoria!$B$47)","v":0},{"$f":"F2837/(G2837*12*memoria!$B$47)","v":0}]
[null,null,null,null,null,null,1,{"$f":"F2854*memoria!$B$44/(G2854*12*memoria!$B$47)","v":0},{"$f":"F2854/(G2854*12*memoria!$B$47)","v":0}]
[null,null,null,null,null,null,1,{"$f":"F2865*memoria!$B$44/(G2865*12*memoria!$B$47)","v":0},{"$f":"F2865/(G2865*12*memoria!$B$47)","v":0}]
[null,null,null,null,null,null,1,{"$f":"F2871*memoria!$B$44/(G2871*12*memoria!$B$47)","v":0},{"$f":"F2871/(G2871*12*memoria!$B$47)","v":0}]
[null,null,null,null,null,null,1,{"$f":"F2883*memoria!$B$44/(G2883*12*memoria!$B$47)","v":0},{"$f":"F2883/(G2883*12*memoria!$B$47)","v":0}]
[null,null,null,null,null,null,1,{"$f":"F2899*memoria!$B$44/(G2899*12*memoria!$B$47)","v":0},{"$f":"F2899/(G2899*12*memoria!$B$47)","v":0}]
[null,null,null,null,null,null,1,{"$f":"F2905*memoria!$B$44/(G2905*12*memoria!$B$47)","v":0},{"$f":"F2905/(G2905*12*memoria!$B$47)","v":0}]
[null,null,null,null,null,null,1,{"$f":"F2922*memoria!$B$44/(G2922*12*memoria!$B$47)","v":0},{"$f":"F2922/(G2922*12*memoria!$B$47)","v":0}]
[null,null,null,null,null,null,1,{"$f":"F2936*memoria!$B$44/(G2936*12*memoria!$B$47)","v":0},{"$f":"F2936/(G2936*12*memoria!$B$47)","v":0}]
[null,null,null,null,null,null,1,{"$f":"F2939*memoria!$B$44/(G2939*12*memoria!$B$47)","v":0},{"$f":"F2939/(G2939*12*memoria!$B$47)","v":0}]
[null,null,null,null,null,null,1,{"$f":"F2949*memoria!$B$44/(G2949*12*memoria!$B$47)","v":0},{"$f":"F2949/(G2949*12*memoria!$B$47)","v":0}]
[null,null,null,null,null,null,1,{"$f":"F2966*memoria!$B$44/(G2966*12*memoria!$B$47)","v":0},{"$f":"F2966/(G2966*12*memoria!$B$47)","v":0}]
[null,null,null,null,null,null,1,{"$f":"F2973*memoria!$B$44/(G2973*12*memoria!$B$47)","v":0},{"$f":"F2973/(G2973*12*memoria!$B$47)","v":0}]
[null,null,null,null,null,null,1,{"$f":"F2983*memoria!$B$44/(G2983*12*memoria!$B$47)","v":0},{"$f":"F2983/(G2983*12*memoria!$B$47)","v":0}]
[null,null,null,null,null,null,1,{"$f":"F3000*memoria!$B$44/(G3000*12*memoria!$B$47)","v":0},{"$f":"F3000/(G3000*12*memoria!$B$47)","v":0}]
[null,null,null,null,null,null,1,{"$f":"F3014*memoria!$B$44/(G3014*12*memoria!$B$47)","v":0},{"$f":"F3014/(G3014*12*memoria!$B$47)","v":0}]
[null,null,null,null,null,null,1,{"$f":"F3017*memoria!$B$44/(G3017*12*memoria!$B$47)","v":0},{"$f":"F3017/(G3017*12*memoria!$B$47)","v":0}]
[null,null,null,null,null,null,1,{"$f":"F3034*memoria!$B$44/(G3034*12*memoria!$B$47)","v":0},{"$f":"F3034/(G3034*12*memoria!$B$47)","v":0}]
[null,null,null,null,null,null,1,{"$f":"F3044*memoria!$B$44/(G3044*12*memoria!$B$47)","v":0},{"$f":"F3044/(G3044*12*memoria!$B$47)","v":0}]
[null,null,null,null,null,null,1,{"$f":"F3055*memoria!$B$44/(G3055*12*memoria!$B$47)","v":0},{"$f":"F3055/(G3055*12*memoria!$B$47)","v":0}]
[null,null,null,null,null,null,1,{"$f":"F3068*memoria!$B$44/(G3068*12*memoria!$B$47)","v":0},{"$f":"F3068/(G3068*12*memoria!$B$47)","v":0}]
[null,null,null,null,null,null,1,{"$f":"F3078*memoria!$B$44/(G3078*12*memoria!$B$47)","v":0},{"$f":"F3078/(G3078*12*memoria!$B$47)","v":0}]
[null,null,null,null,null,null,1,{"$f":"F3084*memoria!$B$44/(G3084*12*memoria!$B$47)","v":0},{"$f":"F3084/(G3084*12*memoria!$B$47)","v":0}]
[null,null,null,null,null,null,1,{"$f":"F3095*memoria!$B$44/(G3095*12*memoria!$B$47)","v":0},{"$f":"F3095/(G3095*12*memoria!$B$47)","v":0}]
[null,null,null,null,null,null,1,{"$f":"F3112*memoria!$B$44/(G3112*12*memoria!$B$47)","v":0},{"$f":"F3112/(G3112*12*memoria!$B$47)","v":0}]
[null,null,null,null,null,null,1,{"$f":"F3118*memoria!$B$44/(G3118*12*memoria!$B$47)","v":0},{"$f":"F3118/(G3118*12*memoria!$B$47)","v":0}]
[null,null,null,null,null,null,1,{"$f":"F3137*memoria!$B$44/(G3137*12*memoria!$B$47)","v":0},{"$f":"F3137/(G3137*12*memoria!$B$47)","v":0}]
[null,null,null,null,null,null,1,{"$f":"F3146*memoria!$B$44/(G3146*12*memoria!$B$47)","v":0},{"$f":"F3146/(G3146*12*memoria!$B$47)","v":0}]
[null,null,null,null,null,null,1,{"$f":"F3152*memoria!$B$44/(G3152*12*memoria!$B$47)","v":0},{"$f":"F3152/(G3152*12*memoria!$B$47)","v":0}]
[null,null,null,null,null,null,1,{"$f":"F3166*memoria!$B$44/(G3166*12*memoria!$B$47)","v":0},{"$f":"F3166/(G3166*12*memoria!$B$47)","v":0}]
[null,null,null,null,null,null,1,{"$f":"F3180*memoria!$B$44/(G3180*12*memoria!$B$47)","v":0},{"$f":"F3180/(G3180*12*memoria!$B$47)","v":0}]
[null,null,null,null,null,null,1,{"$f":"F3190*memoria!$B$44/(G3190*12*memoria!$B$47)","v":0},{"$f":"F3190/(G3190*12*memoria!$B$47)","v":0}]
[null,null,null,null,null,null,1,{"$f":"F3196*memoria!$B$44/(G3196*12*memoria!$B$47)","v":0},{"$f":"F3196/(G3196*12*memoria!$B$47)","v":0}]
[null,null,null,null,null,null,1,{"$f":"F3215*memoria!$B$44/(G3215*12*memoria!$B$47)","v":0},{"$f":"F3215/(G3215*12*memoria!$B$47)","v":0}]
[null,null,null,null,null,null,1,{"$f":"F3224*memoria!$B$44/(G3224*12*memoria!$B$47)","v":0},{"$f":"F3224/(G3224*12*memoria!$B$47)","v":0}]
[null,null,null,null,null,null,1,{"$f":"F3230*memoria!$B$44/(G3230*12*memoria!$B$47)","v":0},{"$f":"F3230/(G3230*12*memoria!$B$47)","v":0}]
[null,null,null,null,null,null,1,{"$f":"F3251*memoria!$B$44/(G3251*12*memoria!$B$47)","v":0},{"$f":"F3251/(G3251*12*memoria!$B$47)","v":0}]
[null,null,null,null,null,null,1,{"$f":"F3256*memoria!$B$44/(G3256*12*memoria!$B$47)","v":0},{"$f":"F3256/(G3256*12*memoria!$B$47)","v":0}]
[null,null,null,null,null,null,1,{"$f":"F3264*memoria!$B$44/(G3264*12*memoria!$B$47)","v":0},{"$f":"F3264/(G3264*12*memoria!$B$47)","v":0}]
[null,null,null,null,null,null,1,{"$f":"F3285*memoria!$B$44/(G3285*12*memoria!$B$47)","v":0},{"$f":"F3285/(G3285*12*memoria!$B$47)","v":0}]
[null,null,null,null,null,null,1,{"$f":"F3297*memoria!$B$44/(G3297*12*memoria!$B$47)","v":0},{"$f":"F3297/(G3297*12*memoria!$B$47)","v":0}]
[null,null,null,null,null,null,1,{"$f":"F3298*memoria!$B$44/(G3298*12*memoria!$B$47)","v":0},{"$f":"F3298/(G3298*12*memoria!$B$47)","v":0}]
[null,null,null,null,null,null,1,{"$f":"F3319*memoria!$B$44/(G3319*12*memoria!$B$47)","v":0},{"$f":"F3319/(G3319*12*memoria!$B$47)","v":0}]
[null,null,null,null,null,null,1,{"$f":"F3325*memoria!$B$44/(G3325*12*memoria!$B$47)","v":0},{"$f":"F3325/(G3325*12*memoria!$B$47)","v":0}]
[null,null,null,null,null,null,1,{"$f":"F3338*memoria!$B$44/(G3338*12*memoria!$B$47)","v":0},{"$f":"F3338/(G3338*12*memoria!$B$47)","v":0}]
[null,null,null,null,null,null,1,{"$f":"F3353*memoria!$B$44/(G3353*12*memoria!$B$47)","v":0},{"$f":"F3353/(G3353*12*memoria!$B$47)","v":0}]
[null,null,null,null,null,null,1,{"$f":"F3359*memoria!$B$44/(G3359*12*memoria!$B$47)","v":0},{"$f":"F3359/(G3359*12*memoria!$B$47)","v":0}]
[null,null,null,null,null,null,1,{"$f":"F3367*memoria!$B$44/(G3367*12*memoria!$B$47)","v":0},{"$f":"F3367/(G3367*12*memoria!$B$47)","v":0}]
[null,null,null,null,null,null,1,{"$f":"F3387*memoria!$B$44/(G3387*12*memoria!$B$47)","v":0},{"$f":"F3387/(G3387*12*memoria!$B$47)","v":0}]
[null,null,null,null,null,null,1,{"$f":"F3393*memoria!$B$44/(G3393*12*memoria!$B$47)","v":0},{"$f":"F3393/(G3393*12*memoria!$B$47)","v":0}]
[null,null,null,null,null,null,1,{"$f":"F3403*memoria!$B$44/(G3403*12*memoria!$B$47)","v":0},{"$f":"F3403/(G3403*12*memoria!$B$47)","v":0}]
[null,null,null,null,null,null,1,{"$f":"F3416*memoria!$B$44/(G3416*12*memoria!$B$47)","v":0},{"$f":"F3416/(G3416*12*memoria!$B$47)","v":0}]
[null,null,null,null,null,null,1,{"$f":"F3431*memoria!$B$44/(G3431*12*memoria!$B$47)","v":0},{"$f":"F3431/(G3431*12*memoria!$B$47)","v":0}]
[null,null,null,null,null,null,1,{"$f":"F3437*memoria!$B$44/(G3437*12*memoria!$B$47)","v":0},{"$f":"F3437/(G3437*12*memoria!$B$47)","v":0}]
[null,null,null,null,null,null,1,{"$f":"F3454*memoria!$B$44/(G3454*12*memoria!$B$47)","v":0},{"$f":"F3454/(G3454*12*memoria!$B$47)","v":0}]
[null,null,null,null,null,null,1,{"$f":"F3457*memoria!$B$44/(G3457*12*memoria!$B$47)","v":0},{"$f":"F3457/(G3457*12*memoria!$B$47)","v":0}]
[null,null,null,null,null,null,1,{"$f":"F3471*memoria!$B$44/(G3471*12*memoria!$B$47)","v":0},{"$f":"F3471/(G3471*12*memoria!$B$47)","v":0}]
[null,null,null,null,null,null,1,{"$f":"F3481*memoria!$B$44/(G3481*12*memoria!$B$47)","v":0},{"$f":"F3481/(G3481*12*memoria!$B$47)","v":0}]
[null,null,null,null,null,null,1,{"$f":"F3498*memoria!$B$44/(G3498*12*memoria!$B$47)","v":0},{"$f":"F3498/(G3498*12*memoria!$B$47)","v":0}]
[null,null,null,null,null,null,1,{"$f":"F3505*memoria!$B$44/(G3505*12*memoria!$B$47)","v":0},{"$f":"F3505/(G3505*12*memoria!$B$47)","v":0}]
[null,null,null,null,null,null,1,{"$f":"F3515*memoria!$B$44/(G3515*12*memoria!$B$47)","v":0},{"$f":"F3515/(G3515*12*memoria!$B$47)","v":0}]
[null,null,null,null,null,null,1,{"$f":"F3532*memoria!$B$44/(G3532*12*memoria!$B$47)","v":0},{"$f":"F3532/(G3532*12*memoria!$B$47)","v":0}]
[null,null,null,null,null,null,1,{"$f":"F3535*memoria!$B$44/(G3535*12*memoria!$B$47)","v":0},{"$f":"F3535/(G3535*12*memoria!$B$47)","v":0}]
[null,null,null,null,null,null,1,{"$f":"F3549*memoria!$B$44/(G3549*12*memoria!$B$47)","v":0},{"$f":"F3549/(G3549*12*memoria!$B$47)","v":0}]
[null,null,null,null,null,null,1,{"$f":"F3566*memoria!$B$44/(G3566*12*memoria!$B$47)","v":0},{"$f":"F3566/(G3566*12*memoria!$B$47)","v":0}]
[null,null,null,null,null,null,1,{"$f":"F3568*memoria!$B$44/(G3568*12*memoria!$B$47)","v":0},{"$f":"F3568/(G3568*12*memoria!$B$47)","v":0}]
[null,null,null,null,null,null,1,{"$f":"F3583*memoria!$B$44/(G3583*12*memoria!$B$47)","v":0},{"$f":"F3583/(G3583*12*memoria!$B$47)","v":0}]
[null,null,null,null,null,null,1,{"$f":"F3600*memoria!$B$44/(G3600*12*memoria!$B$47)","v":0},{"$f":"F3600/(G3600*12*memoria!$B$47)","v":0}]
[null,null,null,null,null,null,1,{"$f":"F3610*memoria!$B$44/(G3610*12*memoria!$B$47)","v":0},{"$f":"F3610/(G3610*12*memoria!$B$47)","v":0}]
[null,null,null,null,null,null,1,{"$f":"F3617*memoria!$B$44/(G3617*12*memoria!$B$47)","v":0},{"$f":"F3617/(G3617*12*memoria!$B$47)","v":0}]
[null,null,null,null,null,null,1,{"$f":"F3627*memoria!$B$44/(G3627*12*memoria!$B$47)","v":0},{"$f":"F3627/(G3627*12*memoria!$B$47)","v":0}]
[null,null,null,null,null,null,1,{"$f":"F3644*memoria!$B$44/(G3644*12*memoria!$B$47)","v":0},{"$f":"F3644/(G3644*12*memoria!$B$47)","v":0}]
[null,null,null,null,null,null,1,{"$f":"F3658*memoria!$B$44/(G3658*12*memoria!$B$47)","v":0},{"$f":"F3658/(G3658*12*memoria!$B$47)","v":0}]
[null,null,null,null,null,null,1,{"$f":"F3661*memoria!$B$44/(G3661*12*memoria!$B$47)","v":0},{"$f":"F3661/(G3661*12*memoria!$B$47)","v":0}]
[null,null,null,null,null,null,1,{"$f":"F3678*memoria!$B$44/(G3678*12*memoria!$B$47)","v":0},{"$f":"F3678/(G3678*12*memoria!$B$47)","v":0}]
[null,null,null,null,null,null,1,{"$f":"F3684*memoria!$B$44/(G3684*12*memoria!$B$47)","v":0},{"$f":"F3684/(G3684*12*memoria!$B$47)","v":0}]
[null,null,null,null,null,null,1,{"$f":"F3699*memoria!$B$44/(G3699*12*memoria!$B$47)","v":0},{"$f":"F3699/(G3699*12*memoria!$B$47)","v":0}]
[null,null,null,null,null,null,1,{"$f":"F3712*memoria!$B$44/(G3712*12*memoria!$B$47)","v":0},{"$f":"F3712/(G3712*12*memoria!$B$47)","v":0}]
[null,null,null,null,null,null,1,{"$f":"F3722*memoria!$B$44/(G3722*12*memoria!$B$47)","v":0},{"$f":"F3722/(G3722*12*memoria!$B$47)","v":0}]
[null,null,null,null,null,null,1,{"$f":"F3728*memoria!$B$44/(G3728*12*memoria!$B$47)","v":0},{"$f":"F3728/(G3728*12*memoria!$B$47)","v":0}]
[null,null,null,null,null,null,1,{"$f":"F3748*memoria!$B$44/(G3748*12*memoria!$B$47)","v":0},{"$f":"F3748/(G3748*12*memoria!$B$47)","v":0}]
[null,null,null,null,null,null,1,{"$f":"F3756*memoria!$B$44/(G3756*12*memoria!$B$47)","v":0},{"$f":"F3756/(G3756*12*memoria!$B$47)","v":0}]
[null,null,null,null,null,null,1,{"$f":"F3762*memoria!$B$44/(G3762*12*memoria!$B$47)","v":0},{"$f":"F3762/(G3762*12*memoria!$B$47)","v":0}]
[null,null,null,null,null,null,1,{"$f":"F3777*memoria!$B$44/(G3777*12*memoria!$B$47)","v":0},{"$f":"F3777/(G3777*12*memoria!$B$47)","v":0}]
[null,null,null,null,null,null,1,{"$f":"F3790*memoria!$B$44/(G3790*12*memoria!$B$47)","v":0},{"$f":"F3790/(G3790*12*memoria!$B$47)","v":0}]
[null,null,null,null,null,null,1,{"$f":"F3796*memoria!$B$44/(G3796*12*memoria!$B$47)","v":0},{"$f":"F3796/(G3796*12*memoria!$B$47)","v":0}]
[null,null,null,null,null,null,1,{"$f":"F3806*memoria!$B$44/(G3806*12*memoria!$B$47)","v":0},{"$f":"F3806/(G3806*12*memoria!$B$47)","v":0}]
[null,null,null,null,null,null,1,{"$f":"F3818*memoria!$B$44/(G3818*12*memoria!$B$47)","v":0},{"$f":"F3818/(G3818*12*memoria!$B$47)","v":0}]
[null,null,null,null,null,null,1,{"$f":"F3830*memoria!$B$44/(G3830*12*memoria!$B$47)","v":0},{"$f":"F3830/(G3830*12*memoria!$B$47)","v":0}]
[null,null,null,null,null,null,1,{"$f":"F3840*memoria!$B$44/(G3840*12*memoria!$B$47)","v":0},{"$f":"F3840/(G3840*12*memoria!$B$47)","v":0}]
[null,null,null,null,null,null,1,{"$f":"F3859*memoria!$B$44/(G3859*12*memoria!$B$47)","v":0},{"$f":"F3859/(G3859*12*memoria!$B$47)","v":0}]
[null,null,null,null,null,null,1,{"$f":"F3868*memoria!$B$44/(G3868*12*memoria!$B$47)","v":0},{"$f":"F3868/(G3868*12*memoria!$B$47)","v":0}]
[null,null,null,null,null,null,1,{"$f":"F3874*memoria!$B$44/(G3874*12*memoria!$B$47)","v":0},{"$f":"F3874/(G3874*12*memoria!$B$47)","v":0}]
[null,null,null,null,null,null,1,{"$f":"F3891*memoria!$B$44/(G3891*12*memoria!$B$47)","v":0},{"$f":"F3891/(G3891*12*memoria!$B$47)","v":0}]
[null,null,null,null,null,null,1,{"$f":"F3900*memoria!$B$44/(G3900*12*memoria!$B$47)","v":0},{"$f":"F3900/(G3900*12*memoria!$B$47)","v":0}]
[null,null,null,null,null,null,1,{"$f":"F3908*memoria!$B$44/(G3908*12*memoria!$B$47)","v":0},{"$f":"F3908/(G3908*12*memoria!$B$47)","v":0}]
[null,null,null,null,null,null,1,{"$f":"F3925*memoria!$B$44/(G3925*12*memoria!$B$47)","v":0},{"$f":"F3925/(G3925*12*memoria!$B$47)","v":0}]
[null,null,null,null,null,null,1,{"$f":"F3935*memoria!$B$44/(G3935*12*memoria!$B$47)","v":0},{"$f":"F3935/(G3935*12*memoria!$B$47)","v":0}]
[null,null,null,null,null,null,1,{"$f":"F3949*memoria!$B$44/(G3949*12*memoria!$B$47)","v":0},{"$f":"F3949/(G3949*12*memoria!$B$47)","v":0}]
[null,null,null,null,null,null,1,{"$f":"F3952*memoria!$B$44/(G3952*12*memoria!$B$47)","v":0},{"$f":"F3952/(G3952*12*memoria!$B$47)","v":0}]
[null,null,null,null,null,null,1,{"$f":"F3969*memoria!$B$44/(G3969*12*memoria!$B$47)","v":0},{"$f":"F3969/(G3969*12*memoria!$B$47)","v":0}]
[null,null,null,null,null,null,1,{"$f":"F3978*memoria!$B$44/(G3978*12*memoria!$B$47)","v":0},{"$f":"F3978/(G3978*12*memoria!$B$47)","v":0}]
[null,null,null,null,null,null,1,{"$f":"F3986*memoria!$B$44/(G3986*12*memoria!$B$47)","v":0},{"$f":"F3986/(G3986*12*memoria!$B$47)","v":0}]
[null,null,null,null,null,null,1,{"$f":"F4003*memoria!$B$44/(G4003*12*memoria!$B$47)","v":0},{"$f":"F4003/(G4003*12*memoria!$B$47)","v":0}]
[null,null,null,null,null,null,1,{"$f":"F4009*memoria!$B$44/(G4009*12*memoria!$B$47)","v":0},{"$f":"F4009/(G4009*12*memoria!$B$47)","v":0}]
[null,null,null,null,null,null,1,{"$f":"F4019*memoria!$B$44/(G4019*12*memoria!$B$47)","v":0},{"$f":"F4019/(G4019*12*memoria!$B$47)","v":0}]
[null,null,null,null,null,null,1,{"$f":"F4037*memoria!$B$44/(G4037*12*memoria!$B$47)","v":0},{"$f":"F4037/(G4037*12*memoria!$B$47)","v":0}]
[null,null,null,null,null,null,1,{"$f":"F4047*memoria!$B$44/(G4047*12*memoria!$B$47)","v":0},{"$f":"F4047/(G4047*12*memoria!$B$47)","v":0}]
[null,null,null,null,null,null,1,{"$f":"F4060*memoria!$B$44/(G4060*12*memoria!$B$47)","v":0},{"$f":"F4060/(G4060*12*memoria!$B$47)","v":0}]
[null,null,null,null,null,null,1,{"$f":"F4071*memoria!$B$44/(G4071*12*memoria!$B$47)","v":0},{"$f":"F4071/(G4071*12*memoria!$B$47)","v":0}]
[null,null,null,null,null,null,1,{"$f":"F4081*memoria!$B$44/(G4081*12*memoria!$B$47)","v":0},{"$f":"F4081/(G4081*12*memoria!$B$47)","v":0}]
[null,null,null,null,null,null,1,{"$f":"F4087*memoria!$B$44/(G4087*12*memoria!$B$47)","v":0},{"$f":"F4087/(G4087*12*memoria!$B$47)","v":0}]
[null,null,null,null,null,null,1,{"$f":"F4101*memoria!$B$44/(G4101*12*memoria!$B$47)","v":0},{"$f":"F4101/(G4101*12*memoria!$B$47)","v":0}]
[null,null,null,null,null,null,1,{"$f":"F4115*memoria!$B$44/(G4115*12*memoria!$B$47)","v":0},{"$f":"F4115/(G4115*12*memoria!$B$47)","v":0}]
[null,null,null,null,null,null,1,{"$f":"F4121*memoria!$B$44/(G4121*12*memoria!$B$47)","v":0},{"$f":"F4121/(G4121*12*memoria!$B$47)","v":0}]
[null,null,null,null,null,null,1,{"$f":"F4142*memoria!$B$44/(G4142*12*memoria!$B$47)","v":0},{"$f":"F4142/(G4142*12*memoria!$B$47)","v":0}]
[null,null,null,null,null,null,1,{"$f":"F4149*memoria!$B$44/(G4149*12*memoria!$B$47)","v":0},{"$f":"F4149/(G4149*12*memoria!$B$47)","v":0}]
[null,null,null,null,null,null,1,{"$f":"F4155*memoria!$B$44/(G4155*12*memoria!$B$47)","v":0},{"$f":"F4155/(G4155*12*memoria!$B$47)","v":0}]
[null,null,null,null,null,null,1,{"$f":"F4176*memoria!$B$44/(G4176*12*memoria!$B$47)","v":0},{"$f":"F4176/(G4176*12*memoria!$B$47)","v":0}]
[null,null,null,null,null,null,1,{"$f":"F4179*memoria!$B$44/(G4179*12*memoria!$B$47)","v":0},{"$f":"F4179/(G4179*12*memoria!$B$47)","v":0}]
[null,null,null,null,null,null,1,{"$f":"F4193*memoria!$B$44/(G4193*12*memoria!$B$47)","v":0},{"$f":"F4193/(G4193*12*memoria!$B$47)","v":0}]
[null,null,null,null,null,null,1,{"$f":"F4210*memoria!$B$44/(G4210*12*memoria!$B$47)","v":0},{"$f":"F4210/(G4210*12*memoria!$B$47)","v":0}]
[null,null,null,null,null,null,1,{"$f":"F4216*memoria!$B$44/(G4216*12*memoria!$B$47)","v":0},{"$f":"F4216/(G4216*12*memoria!$B$47)","v":0}]
[null,null,null,null,null,null,1,{"$f":"F4232*memoria!$B$44/(G4232*12*memoria!$B$47)","v":0},{"$f":"F4232/(G4232*12*memoria!$B$47)","v":0}]
[null,null,null,null,null,null,1,{"$f":"F4244*memoria!$B$44/(G4244*12*memoria!$B$47)","v":0},{"$f":"F4244/(G4244*12*memoria!$B$47)","v":0}]
[null,null,null,null,null,null,1,{"$f":"F4254*memoria!$B$44/(G4254*12*memoria!$B$47)","v":0},{"$f":"F4254/(G4254*12*memoria!$B$47)","v":0}]
[null,null,null,null,null,null,1,{"$f":"F4261*memoria!$B$44/(G4261*12*memoria!$B$47)","v":0},{"$f":"F4261/(G4261*12*memoria!$B$47)","v":0}]
[null,null,null,null,null,null,1,{"$f":"F4278*memoria!$B$44/(G4278*12*memoria!$B$47)","v":0},{"$f":"F4278/(G4278*12*memoria!$B$47)","v":0}]
[null,null,null,null,null,null,1,{"$f":"F4288*memoria!$B$44/(G4288*12*memoria!$B$47)","v":0},{"$f":"F4288/(G4288*12*memoria!$B$47)","v":0}]
[null,null,null,null,null,null,1,{"$f":"F4294*memoria!$B$44/(G4294*12*memoria!$B$47)","v":0},{"$f":"F4294/(G4294*12*memoria!$B$47)","v":0}]
[null,null,null,null,null,null,1,{"$f":"F4310*memoria!$B$44/(G4310*12*memoria!$B$47)","v":0},{"$f":"F4310/(G4310*12*memoria!$B$47)","v":0}]
[null,null,null,null,null,null,1,{"$f":"F4322*memoria!$B$44/(G4322*12*memoria!$B$47)","v":0},{"$f":"F4322/(G4322*12*memoria!$B$47)","v":0}]
[null,null,null,null,null,null,1,{"$f":"F4328*memoria!$B$44/(G4328*12*memoria!$B$47)","v":0},{"$f":"F4328/(G4328*12*memoria!$B$47)","v":0}]
[null,null,null,null,null,null,1,{"$f":"F4343*memoria!$B$44/(G4343*12*memoria!$B$47)","v":0},{"$f":"F4343/(G4343*12*memoria!$B$47)","v":0}]
[null,null,null,null,null,null,1,{"$f":"F4356*memoria!$B$44/(G4356*12*memoria!$B$47)","v":0},{"$f":"F4356/(G4356*12*memoria!$B$47)","v":0}]
[null,null,null,null,null,null,1,{"$f":"F4362*memoria!$B$44/(G4362*12*memoria!$B$47)","v":0},{"$f":"F4362/(G4362*12*memoria!$B$47)","v":0}]
[null,null,null,null,null,null,1,{"$f":"F4372*memoria!$B$44/(G4372*12*memoria!$B$47)","v":0},{"$f":"F4372/(G4372*12*memoria!$B$47)","v":0}]
[null,null,null,null,null,null,1,{"$f":"F4380*memoria!$B$44/(G4380*12*memoria!$B$47)","v":0},{"$f":"F4380/(G4380*12*memoria!$B$47)","v":0}]
[null,null,null,null,null,null,1,{"$f":"F4396*memoria!$B$44/(G4396*12*memoria!$B$47)","v":0},{"$f":"F4396/(G4396*12*memoria!$B$47)","v":0}]
[null,null,null,null,null,null,1,{"$f":"F4406*memoria!$B$44/(G4406*12*memoria!$B$47)","v":0},{"$f":"F4406/(G4406*12*memoria!$B$47)","v":0}]
[null,null,null,null,null,null,1,{"$f":"F4423*memoria!$B$44/(G4423*12*memoria!$B$47)","v":0},{"$f":"F4423/(G4423*12*memoria!$B$47)","v":0}]
[null,null,null,null,null,null,1,{"$f":"F4433*memoria!$B$44/(G4433*12*memoria!$B$47)","v":0},{"$f":"F4433/(G4433*12*memoria!$B$47)","v":0}]
[null,null,null,null,null,null,1,{"$f":"F4440*memoria!$B$44/(G4440*12*memoria!$B$47)","v":0},{"$f":"F4440/(G4440*12*memoria!$B$47)","v":0}]
[null,null,null,null,null,null,1,{"$f":"F4457*memoria!$B$44/(G4457*12*memoria!$B$47)","v":0},{"$f":"F4457/(G4457*12*memoria!$B$47)","v":0}]
[null,null,null,null,null,null,1,{"$f":"F4462*memoria!$B$44/(G4462*12*memoria!$B$47)","v":0},{"$f":"F4462/(G4462*12*memoria!$B$47)","v":0}]
[null,null,null,null,null,null,1,{"$f":"F4474*memoria!$B$44/(G4474*12*memoria!$B$47)","v":0},{"$f":"F4474/(G4474*12*memoria!$B$47)","v":0}]
[null,null,null,null,null,null,1,{"$f":"F4484*memoria!$B$44/(G4484*12*memoria!$B$47)","v":0},{"$f":"F4484/(G4484*12*memoria!$B$47)","v":0}]
[null,null,null,null,null,null,1,{"$f":"F4501*memoria!$B$44/(G4501*12*memoria!$B$47)","v":0},{"$f":"F4501/(G4501*12*memoria!$B$47)","v":0}]
[null,null,null,null,null,null,1,{"$f":"F4511*memoria!$B$44/(G4511*12*memoria!$B$47)","v":0},{"$f":"F4511/(G4511*12*memoria!$B$47)","v":0}]
[null,null,null,null,null,null,1,{"$f":"F4518*memoria!$B$44/(G4518*12*memoria!$B$47)","v":0},{"$f":"F4518/(G4518*12*memoria!$B$47)","v":0}]
[null,null,null,null,null,null,1,{"$f":"F4535*memoria!$B$44/(G4535*12*memoria!$B$47)","v":0},{"$f":"F4535/(G4535*12*memoria!$B$47)","v":0}]
[null,null,null,null,null,null,1,{"$f":"F4540*memoria!$B$44/(G4540*12*memoria!$B$47)","v":0},{"$f":"F4540/(G4540*12*memoria!$B$47)","v":0}]
[null,null,null,null,null,null,1,{"$f":"F4552*memoria!$B$44/(G4552*12*memoria!$B$47)","v":0},{"$f":"F4552/(G4552*12*memoria!$B$47)","v":0}]
[null,null,null,null,null,null,1,{"$f":"F4569*memoria!$B$44/(G4569*12*memoria!$B$47)","v":0},{"$f":"F4569/(G4569*12*memoria!$B$47)","v":0}]
[null,null,null,null,null,null,1,{"$f":"F4579*memoria!$B$44/(G4579*12*memoria!$B$47)","v":0},{"$f":"F4579/(G4579*12*memoria!$B$47)","v":0}]
[null,null,null,null,null,null,1,{"$f":"F4593*memoria!$B$44/(G4593*12*memoria!$B$47)","v":0},{"$f":"F4593/(G4593*12*memoria!$B$47)","v":0}]
[null,null,null,null,null,null,1,{"$f":"F4603*memoria!$B$44/(G4603*12*memoria!$B$47)","v":0},{"$f":"F4603/(G4603*12*memoria!$B$47)","v":0}]
[null,null,null,null,null,null,1,{"$f":"F4613*memoria!$B$44/(G4613*12*memoria!$B$47)","v":0},{"$f":"F4613/(G4613*12*memoria!$B$47)","v":0}]
[null,null,null,null,null,null,1,{"$f":"F4622*memoria!$B$44/(G4622*12*memoria!$B$47)","v":0},{"$f":"F4622/(G4622*12*memoria!$B$47)","v":0}]
[null,null,null,null,null,null,1,{"$f":"F4637*memoria!$B$44/(G4637*12*memoria!$B$47)","v":0},{"$f":"F4637/(G4637*12*memoria!$B$47)","v":0}]
[null,null,null,null,null,null,1,{"$f":"F4647*memoria!$B$44/(G4647*12*memoria!$B$47)","v":0},{"$f":"F4647/(G4647*12*memoria!$B$47)","v":0}]
[null,null,null,null,null,null,1,{"$f":"F4653*memoria!$B$44/(G4653*12*memoria!$B$47)","v":0},{"$f":"F4653/(G4653*12*memoria!$B$47)","v":0}]
[null,null,null,null,null,null,1,{"$f":"F4663*memoria!$B$44/(G4663*12*memoria!$B$47)","v":0},{"$f":"F4663/(G4663*12*memoria!$B$47)","v":0}]
[null,null,null,null,null,null,1,{"$f":"F4681*memoria!$B$44/(G4681*12*memoria!$B$47)","v":0},{"$f":"F4681/(G4681*12*memoria!$B$47)","v":0}]
[null,null,null,null,null,null,1,{"$f":"F4687*memoria!$B$44/(G4687*12*memoria!$B$47)","v":0},{"$f":"F4687/(G4687*12*memoria!$B$47)","v":0}]
[null,null,null,null,null,null,1,{"$f":"F4697*memoria!$B$44/(G4697*12*memoria!$B$47)","v":0},{"$f":"F4697/(G4697*12*memoria!$B$47)","v":0}]
[null,null,null,null,null,null,1,{"$f":"F4712*memoria!$B$44/(G4712*12*memoria!$B$47)","v":0},{"$f":"F4712/(G4712*12*memoria!$B$47)","v":0}]
[null,null,null,null,null,null,1,{"$f":"F4725*memoria!$B$44/(G4725*12*memoria!$B$47)","v":0},{"$f":"F4725/(G4725*12*memoria!$B$47)","v":0}]
[null,null,null,null,null,null,1,{"$f":"F4731*memoria!$B$44/(G4731*12*memoria!$B$47)","v":0},{"$f":"F4731/(G4731*12*memoria!$B$47)","v":0}]
[null,null,null,null,null,null,1,{"$f":"F4741*memoria!$B$44/(G4741*12*memoria!$B$47)","v":0},{"$f":"F4741/(G4741*12*memoria!$B$47)","v":0}]
[null,null,null,null,null,null,1,{"$f":"F4759*memoria!$B$44/(G4759*12*memoria!$B$47)","v":0},{"$f":"F4759/(G4759*12*memoria!$B$47)","v":0}]
[null,null,null,null,null,null,1,{"$f":"F4765*memoria!$B$44/(G4765*12*memoria!$B$47)","v":0},{"$f":"F4765/(G4765*12*memoria!$B$47)","v":0}]
[null,null,null,null,null,null,1,{"$f":"F4782*memoria!$B$44/(G4782*12*memoria!$B$47)","v":0},{"$f":"F4782/(G4782*12*memoria!$B$47)","v":0}]
[null,null,null,null,null,null,1,{"$f":"F4794*memoria!$B$44/(G4794*12*memoria!$B$47)","v":0},{"$f":"F4794/(G4794*12*memoria!$B$47)","v":0}]
[null,null,null,null,null,null,1,{"$f":"F4799*memoria!$B$44/(G4799*12*memoria!$B$47)","v":0},{"$f":"F4799/(G4799*12*memoria!$B$47)","v":0}]
[null,null,null,null,null,null,1,{"$f":"F4809*memoria!$B$44/(G4809*12*memoria!$B$47)","v":0},{"$f":"F4809/(G4809*12*memoria!$B$47)","v":0}]
[null,null,null,null,null,null,1,{"$f":"F4823*memoria!$B$44/(G4823*12*memoria!$B$47)","v":0},{"$f":"F4823/(G4823*12*memoria!$B$47)","v":0}]
[null,null,null,null,null,null,1,{"$f":"F4833*memoria!$B$44/(G4833*12*memoria!$B$47)","v":0},{"$f":"F4833/(G4833*12*memoria!$B$47)","v":0}]
[null,null,null,null,null,null,1,{"$f":"F4843*memoria!$B$44/(G4843*12*memoria!$B$47)","v":0},{"$f":"F4843/(G4843*12*memoria!$B$47)","v":0}]
[null,null,null,null,null,null,1,{"$f":"F4860*memoria!$B$44/(G4860*12*memoria!$B$47)","v":0},{"$f":"F4860/(G4860*12*memoria!$B$47)","v":0}]
[null,null,null,null,null,null,1,{"$f":"F4876*memoria!$B$44/(G4876*12*memoria!$B$47)","v":0},{"$f":"F4876/(G4876*12*memoria!$B$47)","v":0}]
[null,null,null,null,null,null,1,{"$f":"F4877*memoria!$B$44/(G4877*12*memoria!$B$47)","v":0},{"$f":"F4877/(G4877*12*memoria!$B$47)","v":0}]
[null,null,null,null,null,null,1,{"$f":"F4894*memoria!$B$44/(G4894*12*memoria!$B$47)","v":0},{"$f":"F4894/(G4894*12*memoria!$B$47)","v":0}]
[null,null,null,null,null,null,1,{"$f":"F4904*memoria!$B$44/(G4904*12*memoria!$B$47)","v":0},{"$f":"F4904/(G4904*12*memoria!$B$47)","v":0}]
[null,null,null,null,null,null,1,{"$f":"F4913*memoria!$B$44/(G4913*12*memoria!$B$47)","v":0},{"$f":"F4913/(G4913*12*memoria!$B$47)","v":0}]
[null,null,null,null,null,null,1,{"$f":"F4928*memoria!$B$44/(G4928*12*memoria!$B$47)","v":0},{"$f":"F4928/(G4928*12*memoria!$B$47)","v":0}]
[null,null,null,null,null,null,1,{"$f":"F4938*memoria!$B$44/(G4938*12*memoria!$B$47)","v":0},{"$f":"F4938/(G4938*12*memoria!$B$47)","v":0}]
[null,null,null,null,null,null,1,{"$f":"F4954*memoria!$B$44/(G4954*12*memoria!$B$47)","v":0},{"$f":"F4954/(G4954*12*memoria!$B$47)","v":0}]
[null,null,null,null,null,null,1,{"$f":"F4966*memoria!$B$44/(G4966*12*memoria!$B$47)","v":0},{"$f":"F4966/(G4966*12*memoria!$B$47)","v":0}]
[null,null,null,null,null,null,1,{"$f":"F4972*memoria!$B$44/(G4972*12*memoria!$B$47)","v":0},{"$f":"F4972/(G4972*12*memoria!$B$47)","v":0}]
[null,null,null,null,null,null,1,{"$f":"F4978*memoria!$B$44/(G4978*12*memoria!$B$47)","v":0},{"$f":"F4978/(G4978*12*memoria!$B$47)","v":0}]
[null,null,null,null,null,null,1,{"$f":"F4995*memoria!$B$44/(G4995*12*memoria!$B$47)","v":0},{"$f":"F4995/(G4995*12*memoria!$B$47)","v":0}]
[null,null,null,null,null,null,1,{"$f":"F5006*memoria!$B$44/(G5006*12*memoria!$B$47)","v":0},{"$f":"F5006/(G5006*12*memoria!$B$47)","v":0}]
[null,null,null,null,null,null,1,{"$f":"F5012*memoria!$B$44/(G5012*12*memoria!$B$47)","v":0},{"$f":"F5012/(G5012*12*memoria!$B$47)","v":0}]
[null,null,null,null,null,null,1,{"$f":"F5024*memoria!$B$44/(G5024*12*memoria!$B$47)","v":0},{"$f":"F5024/(G5024*12*memoria!$B$47)","v":0}]
[null,null,null,null,null,null,1,{"$f":"F5040*memoria!$B$44/(G5040*12*memoria!$B$47)","v":0},{"$f":"F5040/(G5040*12*memoria!$B$47)","v":0}]
[null,null,null,null,null,null,1,{"$f":"F5050*memoria!$B$44/(G5050*12*memoria!$B$47)","v":0},{"$f":"F5050/(G5050*12*memoria!$B$47)","v":0}]
[null,null,null,null,null,null,1,{"$f":"F5067*memoria!$B$44/(G5067*12*memoria!$B$47)","v":0},{"$f":"F5067/(G5067*12*memoria!$B$47)","v":0}]
[null,null,null,null,null,null,1,{"$f":"F5073*memoria!$B$44/(G5073*12*memoria!$B$47)","v":0},{"$f":"F5073/(G5073*12*memoria!$B$47)","v":0}]
[null,null,null,null,null,null,1,{"$f":"F5084*memoria!$B$44/(G5084*12*memoria!$B$47)","v":0},{"$f":"F5084/(G5084*12*memoria!$B$47)","v":0}]
[null,null,null,null,null,null,1,{"$f":"F5101*memoria!$B$44/(G5101*12*memoria!$B$47)","v":0},{"$f":"F5101/(G5101*12*memoria!$B$47)","v":0}]
[null,null,null,null,null,null,1,{"$f":"F5106*memoria!$B$44/(G5106*12*memoria!$B$47)","v":0},{"$f":"F5106/(G5106*12*memoria!$B$47)","v":0}]
[null,null,null,null,null,null,1,{"$f":"F5118*memoria!$B$44/(G5118*12*memoria!$B$47)","v":0},{"$f":"F5118/(G5118*12*memoria!$B$47)","v":0}]
[null,null,null,null,null,null,1,{"$f":"F5135*memoria!$B$44/(G5135*12*memoria!$B$47)","v":0},{"$f":"F5135/(G5135*12*memoria!$B$47)","v":0}]
[null,null,null,null,null,null,1,{"$f":"F5145*memoria!$B$44/(G5145*12*memoria!$B$47)","v":0},{"$f":"F5145/(G5145*12*memoria!$B$47)","v":0}]
[null,null,null,null,null,null,1,{"$f":"F5155*memoria!$B$44/(G5155*12*memoria!$B$47)","v":0},{"$f":"F5155/(G5155*12*memoria!$B$47)","v":0}]
[null,null,null,null,null,null,1,{"$f":"F5169*memoria!$B$44/(G5169*12*memoria!$B$47)","v":0},{"$f":"F5169/(G5169*12*memoria!$B$47)","v":0}]
[null,null,null,null,null,null,1,{"$f":"F5179*memoria!$B$44/(G5179*12*memoria!$B$47)","v":0},{"$f":"F5179/(G5179*12*memoria!$B$47)","v":0}]
[null,null,null,null,null,null,1,{"$f":"F5185*memoria!$B$44/(G5185*12*memoria!$B$47)","v":0},{"$f":"F5185/(G5185*12*memoria!$B$47)","v":0}]
[null,null,null,null,null,null,1,{"$f":"F5196*memoria!$B$44/(G5196*12*memoria!$B$47)","v":0},{"$f":"F5196/(G5196*12*memoria!$B$47)","v":0}]
[null,null,null,null,null,null,1,{"$f":"F5213*memoria!$B$44/(G5213*12*memoria!$B$47)","v":0},{"$f":"F5213/(G5213*12*memoria!$B$47)","v":0}]
[null,null,null,null,null,null,1,{"$f":"F5219*memoria!$B$44/(G5219*12*memoria!$B$47)","v":0},{"$f":"F5219/(G5219*12*memoria!$B$47)","v":0}]
[null,null,null,null,null,null,1,{"$f":"F5237*memoria!$B$44/(G5237*12*memoria!$B$47)","v":0},{"$f":"F5237/(G5237*12*memoria!$B$47)","v":0}]
[null,null,null,null,null,null,1,{"$f":"F5247*memoria!$B$44/(G5247*12*memoria!$B$47)","v":0},{"$f":"F5247/(G5247*12*memoria!$B$47)","v":0}]
[null,null,null,null,null,null,1,{"$f":"F5257*memoria!$B$44/(G5257*12*memoria!$B$47)","v":0},{"$f":"F5257/(G5257*12*memoria!$B$47)","v":0}]
[null,null,null,null,null,null,1,{"$f":"F5263*memoria!$B$44/(G5263*12*memoria!$B$47)","v":0},{"$f":"F5263/(G5263*12*memoria!$B$47)","v":0}]
[null,null,null,null,null,null,1,{"$f":"F5274*memoria!$B$44/(G5274*12*memoria!$B$47)","v":0},{"$f":"F5274/(G5274*12*memoria!$B$47)","v":0}]
[null,null,null,null,null,null,1,{"$f":"F5291*memoria!$B$44/(G5291*12*memoria!$B$47)","v":0},{"$f":"F5291/(G5291*12*memoria!$B$47)","v":0}]
[null,null,null,null,null,null,1,{"$f":"F5297*memoria!$B$44/(G5297*12*memoria!$B$47)","v":0},{"$f":"F5297/(G5297*12*memoria!$B$47)","v":0}]
[null,null,null,null,null,null,1,{"$f":"F5315*memoria!$B$44/(G5315*12*memoria!$B$47)","v":0},{"$f":"F5315/(G5315*12*memoria!$B$47)","v":0}]
[null,null,null,null,null,null,1,{"$f":"F5325*memoria!$B$44/(G5325*12*memoria!$B$47)","v":0},{"$f":"F5325/(G5325*12*memoria!$B$47)","v":0}]
[null,null,null,null,null,null,1,{"$f":"F5331*memoria!$B$44/(G5331*12*memoria!$B$47)","v":0},{"$f":"F5331/(G5331*12*memoria!$B$47)","v":0}]
[null,null,null,null,null,null,1,{"$f":"F5341*memoria!$B$44/(G5341*12*memoria!$B$47)","v":0},{"$f":"F5341/(G5341*12*memoria!$B$47)","v":0}]
[null,null,null,null,null,null,1,{"$f":"F5356*memoria!$B$44/(G5356*12*memoria!$B$47)","v":0},{"$f":"F5356/(G5356*12*memoria!$B$47)","v":0}]
[null,null,null,null,null,null,1,{"$f":"F5365*memoria!$B$44/(G5365*12*memoria!$B$47)","v":0},{"$f":"F5365/(G5365*12*memoria!$B$47)","v":0}]
[null,null,null,null,null,null,1,{"$f":"F5375*memoria!$B$44/(G5375*12*memoria!$B$47)","v":0},{"$f":"F5375/(G5375*12*memoria!$B$47)","v":0}]
[null,null,null,null,null,null,1,{"$f":"F5392*memoria!$B$44/(G5392*12*memoria!$B$47)","v":0},{"$f":"F5392/(G5392*12*memoria!$B$47)","v":0}]
[null,null,null,null,null,null,1,{"$f":"F5405*memoria!$B$44/(G5405*12*memoria!$B$47)","v":0},{"$f":"F5405/(G5405*12*memoria!$B$47)","v":0}]
[null,null,null,null,null,null,1,{"$f":"F5409*memoria!$B$44/(G5409*12*memoria!$B$47)","v":0},{"$f":"F5409/(G5409*12*memoria!$B$47)","v":0}]
[null,null,null,null,null,null,1,{"$f":"F5426*memoria!$B$44/(G5426*12*memoria!$B$47)","v":0},{"$f":"F5426/(G5426*12*memoria!$B$47)","v":0}]
[null,null,null,null,null,null,1,{"$f":"F5438*memoria!$B$44/(G5438*12*memoria!$B$47)","v":0},{"$f":"F5438/(G5438*12*memoria!$B$47)","v":0}]
[null,null,null,null,null,null,1,{"$f":"F5443*memoria!$B$44/(G5443*12*memoria!$B$47)","v":0},{"$f":"F5443/(G5443*12*memoria!$B$47)","v":0}]
[null,null,null,null,null,null,1,{"$f":"F5460*memoria!$B$44/(G5460*12*memoria!$B$47)","v":0},{"$f":"F5460/(G5460*12*memoria!$B$47)","v":0}]
[null,null,null,null,null,null,1,{"$f":"F5470*memoria!$B$44/(G5470*12*memoria!$B$47)","v":0},{"$f":"F5470/(G5470*12*memoria!$B$47)","v":0}]
[null,null,null,null,null,null,1,{"$f":"F5475*memoria!$B$44/(G5475*12*memoria!$B$47)","v":0},{"$f":"F5475/(G5475*12*memoria!$B$47)","v":0}]
[null,null,null,null,null,null,1,{"$f":"F5487*memoria!$B$44/(G5487*12*memoria!$B$47)","v":0},{"$f":"F5487/(G5487*12*memoria!$B$47)","v":0}]
[null,null,null,null,null,null,1,{"$f":"F5504*memoria!$B$44/(G5504*12*memoria!$B$47)","v":0},{"$f":"F5504/(G5504*12*memoria!$B$47)","v":0}]
[null,null,null,null,null,null,1,{"$f":"F5516*memoria!$B$44/(G5516*12*memoria!$B$47)","v":0},{"$f":"F5516/(G5516*12*memoria!$B$47)","v":0}]
[null,null,null,null,null,null,1,{"$f":"F5521*memoria!$B$44/(G5521*12*memoria!$B$47)","v":0},{"$f":"F5521/(G5521*12*memoria!$B$47)","v":0}]
[null,null,null,null,null,null,1,{"$f":"F5538*memoria!$B$44/(G5538*12*memoria!$B$47)","v":0},{"$f":"F5538/(G5538*12*memoria!$B$47)","v":0}]
[null,null,null,null,null,null,1,{"$f":"F5544*memoria!$B$44/(G5544*12*memoria!$B$47)","v":0},{"$f":"F5544/(G5544*12*memoria!$B$47)","v":0}]
[null,null,null,null,null,null,1,{"$f":"F5557*memoria!$B$44/(G5557*12*memoria!$B$47)","v":0},{"$f":"F5557/(G5557*12*memoria!$B$47)","v":0}]
[null,null,null,null,null,null,1,{"$f":"F5572*memoria!$B$44/(G5572*12*memoria!$B$47)","v":0},{"$f":"F5572/(G5572*12*memoria!$B$47)","v":0}]
[null,null,null,null,null,null,1,{"$f":"F5582*memoria!$B$44/(G5582*12*memoria!$B$47)","v":0},{"$f":"F5582/(G5582*12*memoria!$B$47)","v":0}]
[null,null,null,null,null,null,1,{"$f":"F5598*memoria!$B$44/(G5598*12*memoria!$B$47)","v":0},{"$f":"F5598/(G5598*12*memoria!$B$47)","v":0}]
[null,null,null,null,null,null,1,{"$f":"F5606*memoria!$B$44/(G5606*12*memoria!$B$47)","v":0},{"$f":"F5606/(G5606*12*memoria!$B$47)","v":0}]
[null,null,null,null,null,null,1,{"$f":"F5616*memoria!$B$44/(G5616*12*memoria!$B$47)","v":0},{"$f":"F5616/(G5616*12*memoria!$B$47)","v":0}]
[null,null,null,null,null,null,1,{"$f":"F5622*memoria!$B$44/(G5622*12*memoria!$B$47)","v":0},{"$f":"F5622/(G5622*12*memoria!$B$47)","v":0}]
[null,null,null,null,null,null,1,{"$f":"F5635*memoria!$B$44/(G5635*12*memoria!$B$47)","v":0},{"$f":"F5635/(G5635*12*memoria!$B$47)","v":0}]
[null,null,null,null,null,null,1,{"$f":"F5650*memoria!$B$44/(G5650*12*memoria!$B$47)","v":0},{"$f":"F5650/(G5650*12*memoria!$B$47)","v":0}]
[null,null,null,null,null,null,1,{"$f":"F5656*memoria!$B$44/(G5656*12*memoria!$B$47)","v":0},{"$f":"F5656/(G5656*12*memoria!$B$47)","v":0}]
[null,null,null,null,null,null,1,{"$f":"F5666*memoria!$B$44/(G5666*12*memoria!$B$47)","v":0},{"$f":"F5666/(G5666*12*memoria!$B$47)","v":0}]
[null,null,null,null,null,null,1,{"$f":"F5688*memoria!$B$44/(G5688*12*memoria!$B$47)","v":0},{"$f":"F5688/(G5688*12*memoria!$B$47)","v":0}]
[null,null,null,null,null,null,1,{"$f":"F5690*memoria!$B$44/(G5690*12*memoria!$B$47)","v":0},{"$f":"F5690/(G5690*12*memoria!$B$47)","v":0}]
[null,null,null,null,null,null,1,{"$f":"F5700*memoria!$B$44/(G5700*12*memoria!$B$47)","v":0},{"$f":"F5700/(G5700*12*memoria!$B$47)","v":0}]
[null,null,null,null,null,null,1,{"$f":"F5717*memoria!$B$44/(G5717*12*memoria!$B$47)","v":0},{"$f":"F5717/(G5717*12*memoria!$B$47)","v":0}]
[null,null,null,null,null,null,1,{"$f":"F5728*memoria!$B$44/(G5728*12*memoria!$B$47)","v":0},{"$f":"F5728/(G5728*12*memoria!$B$47)","v":0}]
[null,null,null,null,null,null,1,{"$f":"F5734*memoria!$B$44/(G5734*12*memoria!$B$47)","v":0},{"$f":"F5734/(G5734*12*memoria!$B$47)","v":0}]
[null,null,null,null,null,null,1,{"$f":"F5751*memoria!$B$44/(G5751*12*memoria!$B$47)","v":0},{"$f":"F5751/(G5751*12*memoria!$B$47)","v":0}]
[null,null,null,null,null,null,1,{"$f":"F5758*memoria!$B$44/(G5758*12*memoria!$B$47)","v":0},{"$f":"F5758/(G5758*12*memoria!$B$47)","v":0}]
[null,null,null,null,null,null,1,{"$f":"F5768*memoria!$B$44/(G5768*12*memoria!$B$47)","v":0},{"$f":"F5768/(G5768*12*memoria!$B$47)","v":0}]
[null,null,null,null,null,null,1,{"$f":"F5785*memoria!$B$44/(G5785*12*memoria!$B$47)","v":0},{"$f":"F5785/(G5785*12*memoria!$B$47)","v":0}]
[null,null,null,null,null,null,1,{"$f":"F5799*memoria!$B$44/(G5799*12*memoria!$B$47)","v":0},{"$f":"F5799/(G5799*12*memoria!$B$47)","v":0}]
[null,null,null,null,null,null,1,{"$f":"F5802*memoria!$B$44/(G5802*12*memoria!$B$47)","v":0},{"$f":"F5802/(G5802*12*memoria!$B$47)","v":0}]
[null,null,null,null,null,null,1,{"$f":"F5823*memoria!$B$44/(G5823*12*memoria!$B$47)","v":0},{"$f":"F5823/(G5823*12*memoria!$B$47)","v":0}]
[null,null,null,null,null,null,1,{"$f":"F5829*memoria!$B$44/(G5829*12*memoria!$B$47)","v":0},{"$f":"F5829/(G5829*12*memoria!$B$47)","v":0}]
[null,null,null,null,null,null,1,{"$f":"F5836*memoria!$B$44/(G5836*12*memoria!$B$47)","v":0},{"$f":"F5836/(G5836*12*memoria!$B$47)","v":0}]
[null,null,null,null,null,null,1,{"$f":"F5857*memoria!$B$44/(G5857*12*memoria!$B$47)","v":0},{"$f":"F5857/(G5857*12*memoria!$B$47)","v":0}]
[null,null,null,null,null,null,1,{"$f":"F5863*memoria!$B$44/(G5863*12*memoria!$B$47)","v":0},{"$f":"F5863/(G5863*12*memoria!$B$47)","v":0}]
[null,null,null,null,null,null,1,{"$f":"F5873*memoria!$B$44/(G5873*12*memoria!$B$47)","v":0},{"$f":"F5873/(G5873*12*memoria!$B$47)","v":0}]
[null,null,null,null,null,null,1,{"$f":"F5889*memoria!$B$44/(G5889*12*memoria!$B$47)","v":0},{"$f":"F5889/(G5889*12*memoria!$B$47)","v":0}]
[null,null,null,null,null,null,1,{"$f":"F5897*memoria!$B$44/(G5897*12*memoria!$B$47)","v":0},{"$f":"F5897/(G5897*12*memoria!$B$47)","v":0}]
[null,null,null,null,null,null,1,{"$f":"F5907*memoria!$B$44/(G5907*12*memoria!$B$47)","v":0},{"$f":"F5907/(G5907*12*memoria!$B$47)","v":0}]
[null,null,null,null,null,null,1,{"$f":"F5918*memoria!$B$44/(G5918*12*memoria!$B$47)","v":0},{"$f":"F5918/(G5918*12*memoria!$B$47)","v":0}]
[null,null,null,null,null,null,1,{"$f":"F5931*memoria!$B$44/(G5931*12*memoria!$B$47)","v":0},{"$f":"F5931/(G5931*12*memoria!$B$47)","v":0}]
[null,null,null,null,null,null,1,{"$f":"F5941*memoria!$B$44/(G5941*12*memoria!$B$47)","v":0},{"$f":"F5941/(G5941*12*memoria!$B$47)","v":0}]
[null,null,null,null,null,null,1,{"$f":"F5958*memoria!$B$44/(G5958*12*memoria!$B$47)","v":0},{"$f":"F5958/(G5958*12*memoria!$B$47)","v":0}]
[null,null,null,null,null,null,1,{"$f":"F5959*memoria!$B$44/(G5959*12*memoria!$B$47)","v":0},{"$f":"F5959/(G5959*12*memoria!$B$47)","v":0}]
[null,null,null,null,null,null,1,{"$f":"F5975*memoria!$B$44/(G5975*12*memoria!$B$47)","v":0},{"$f":"F5975/(G5975*12*memoria!$B$47)","v":0}]
[null,null,null,null,null,null,1,{"$f":"F5992*memoria!$B$44/(G5992*12*memoria!$B$47)","v":0},{"$f":"F5992/(G5992*12*memoria!$B$47)","v":0}]
[null,null,null,null,null,null,1,{"$f":"F6000*memoria!$B$44/(G6000*12*memoria!$B$47)","v":0},{"$f":"F6000/(G6000*12*memoria!$B$47)","v":0}]
[null,null,null,null,null,null,1,{"$f":"F6009*memoria!$B$44/(G6009*12*memoria!$B$47)","v":0},{"$f":"F6009/(G6009*12*memoria!$B$47)","v":0}]
[null,null,null,null,null,null,1,{"$f":"F6026*memoria!$B$44/(G6026*12*memoria!$B$47)","v":0},{"$f":"F6026/(G6026*12*memoria!$B$47)","v":0}]
[null,null,null,null,null,null,1,{"$f":"F6036*memoria!$B$44/(G6036*12*memoria!$B$47)","v":0},{"$f":"F6036/(G6036*12*memoria!$B$47)","v":0}]
[null,null,null,null,null,null,1,{"$f":"F6049*memoria!$B$44/(G6049*12*memoria!$B$47)","v":0},{"$f":"F6049/(G6049*12*memoria!$B$47)","v":0}]
[null,null,null,null,null,null,1,{"$f":"F6053*memoria!$B$44/(G6053*12*memoria!$B$47)","v":0},{"$f":"F6053/(G6053*12*memoria!$B$47)","v":0}]
[null,null,null,null,null,null,1,{"$f":"F6070*memoria!$B$44/(G6070*12*memoria!$B$47)","v":0},{"$f":"F6070/(G6070*12*memoria!$B$47)","v":0}]
[null,null,null,null,null,null,1,{"$f":"F6076*memoria!$B$44/(G6076*12*memoria!$B$47)","v":0},{"$f":"F6076/(G6076*12*memoria!$B$47)","v":0}]
[null,null,null,null,null,null,1,{"$f":"F6090*memoria!$B$44/(G6090*12*memoria!$B$47)","v":0},{"$f":"F6090/(G6090*12*memoria!$B$47)","v":0}]
[null,null,null,null,null,null,1,{"$f":"F6104*memoria!$B$44/(G6104*12*memoria!$B$47)","v":0},{"$f":"F6104/(G6104*12*memoria!$B$47)","v":0}]
[null,null,null,null,null,null,1,{"$f":"F6114*memoria!$B$44/(G6114*12*memoria!$B$47)","v":0},{"$f":"F6114/(G6114*12*memoria!$B$47)","v":0}]
[null,null,null,null,null,null,1,{"$f":"F6119*memoria!$B$44/(G6119*12*memoria!$B$47)","v":0},{"$f":"F6119/(G6119*12*memoria!$B$47)","v":0}]
[null,null,null,null,null,null,1,{"$f":"F6138*memoria!$B$44/(G6138*12*memoria!$B$47)","v":0},{"$f":"F6138/(G6138*12*memoria!$B$47)","v":0}]
[null,null,null,null,null,null,1,{"$f":"F6148*memoria!$B$44/(G6148*12*memoria!$B$47)","v":0},{"$f":"F6148/(G6148*12*memoria!$B$47)","v":0}]
[null,null,null,null,null,null,1,{"$f":"F6154*memoria!$B$44/(G6154*12*memoria!$B$47)","v":0},{"$f":"F6154/(G6154*12*memoria!$B$47)","v":0}]
[null,null,null,null,null,null,1,{"$f":"F6168*memoria!$B$44/(G6168*12*memoria!$B$47)","v":0},{"$f":"F6168/(G6168*12*memoria!$B$47)","v":0}]
[null,null,null,null,null,null,1,{"$f":"F6182*memoria!$B$44/(G6182*12*memoria!$B$47)","v":0},{"$f":"F6182/(G6182*12*memoria!$B$47)","v":0}]
[null,null,null,null,null,null,1,{"$f":"F6188*memoria!$B$44/(G6188*12*memoria!$B$47)","v":0},{"$f":"F6188/(G6188*12*memoria!$B$47)","v":0}]
[null,null,null,null,null,null,1,{"$f":"F6201*memoria!$B$44/(G6201*12*memoria!$B$47)","v":0},{"$f":"F6201/(G6201*12*memoria!$B$47)","v":0}]
[null,null,null,null,null,null,1,{"$f":"F6216*memoria!$B$44/(G6216*12*memoria!$B$47)","v":0},{"$f":"F6216/(G6216*12*memoria!$B$47)","v":0}]
[null,null,null,null,null,null,1,{"$f":"F6222*memoria!$B$44/(G6222*12*memoria!$B$47)","v":0},{"$f":"F6222/(G6222*12*memoria!$B$47)","v":0}]
[null,null,null,null,null,null,1,{"$f":"F6232*memoria!$B$44/(G6232*12*memoria!$B$47)","v":0},{"$f":"F6232/(G6232*12*memoria!$B$47)","v":0}]
[null,null,null,null,null,null,1,{"$f":"F6250*memoria!$B$44/(G6250*12*memoria!$B$47)","v":0},{"$f":"F6250/(G6250*12*memoria!$B$47)","v":0}]
[null,null,null,null,null,null,1,{"$f":"F6260*memoria!$B$44/(G6260*12*memoria!$B$47)","v":0},{"$f":"F6260/(G6260*12*memoria!$B$47)","v":0}]
[null,null,null,null,null,null,1,{"$f":"F6266*memoria!$B$44/(G6266*12*memoria!$B$47)","v":0},{"$f":"F6266/(G6266*12*memoria!$B$47)","v":0}]
[null,null,null,null,null,null,1,{"$f":"F6279*memoria!$B$44/(G6279*12*memoria!$B$47)","v":0},{"$f":"F6279/(G6279*12*memoria!$B$47)","v":0}]
[null,null,null,null,null,null,1,{"$f":"F6294*memoria!$B$44/(G6294*12*memoria!$B$47)","v":0},{"$f":"F6294/(G6294*12*memoria!$B$47)","v":0}]
[null,null,null,null,null,null,1,{"$f":"F6300*memoria!$B$44/(G6300*12*memoria!$B$47)","v":0},{"$f":"F6300/(G6300*12*memoria!$B$47)","v":0}]
[null,null,null,null,null,null,1,{"$f":"F6317*memoria!$B$44/(G6317*12*memoria!$B$47)","v":0},{"$f":"F6317/(G6317*12*memoria!$B$47)","v":0}]
[null,null,null,null,null,null,1,{"$f":"F6320*memoria!$B$44/(G6320*12*memoria!$B$47)","v":0},{"$f":"F6320/(G6320*12*memoria!$B$47)","v":0}]
[null,null,null,null,null,null,1,{"$f":"F6334*memoria!$B$44/(G6334*12*memoria!$B$47)","v":0},{"$f":"F6334/(G6334*12*memoria!$B$47)","v":0}]
[null,null,null,null,null,null,1,{"$f":"F6344*memoria!$B$44/(G6344*12*memoria!$B$47)","v":0},{"$f":"F6344/(G6344*12*memoria!$B$47)","v":0}]
[null,null,null,null,null,null,1,{"$f":"F6361*memoria!$B$44/(G6361*12*memoria!$B$47)","v":0},{"$f":"F6361/(G6361*12*memoria!$B$47)","v":0}]
[null,null,null,null,null,null,1,{"$f":"F6369*memoria!$B$44/(G6369*12*memoria!$B$47)","v":0},{"$f":"F6369/(G6369*12*memoria!$B$47)","v":0}]
[null,null,null,null,null,null,1,{"$f":"F6378*memoria!$B$44/(G6378*12*memoria!$B$47)","v":0},{"$f":"F6378/(G6378*12*memoria!$B$47)","v":0}]
[null,null,null,null,null,null,1,{"$f":"F6395*memoria!$B$44/(G6395*12*memoria!$B$47)","v":0},{"$f":"F6395/(G6395*12*memoria!$B$47)","v":0}]
[null,null,null,null,null,null,1,{"$f":"F6410*memoria!$B$44/(G6410*12*memoria!$B$47)","v":0},{"$f":"F6410/(G6410*12*memoria!$B$47)","v":0}]
[null,null,null,null,null,null,1,{"$f":"F6412*memoria!$B$44/(G6412*12*memoria!$B$47)","v":0},{"$f":"F6412/(G6412*12*memoria!$B$47)","v":0}]
[null,null,null,null,null,null,1,{"$f":"F6429*memoria!$B$44/(G6429*12*memoria!$B$47)","v":0},{"$f":"F6429/(G6429*12*memoria!$B$47)","v":0}]
[null,null,null,null,null,null,1,{"$f":"F6439*memoria!$B$44/(G6439*12*memoria!$B$47)","v":0},{"$f":"F6439/(G6439*12*memoria!$B$47)","v":0}]
[null,null,null,null,null,null,1,{"$f":"F6451*memoria!$B$44/(G6451*12*memoria!$B$47)","v":0},{"$f":"F6451/(G6451*12*memoria!$B$47)","v":0}]
[null,null,null,null,null,null,1,{"$f":"F6463*memoria!$B$44/(G6463*12*memoria!$B$47)","v":0},{"$f":"F6463/(G6463*12*memoria!$B$47)","v":0}]
[null,null,null,null,null,null,1,{"$f":"F6473*memoria!$B$44/(G6473*12*memoria!$B$47)","v":0},{"$f":"F6473/(G6473*12*memoria!$B$47)","v":0}]
[null,null,null,null,null,null,1,{"$f":"F6480*memoria!$B$44/(G6480*12*memoria!$B$47)","v":0},{"$f":"F6480/(G6480*12*memoria!$B$47)","v":0}]
[null,null,null,null,null,null,1,{"$f":"F6490*memoria!$B$44/(G6490*12*memoria!$B$47)","v":0},{"$f":"F6490/(G6490*12*memoria!$B$47)","v":0}]
[null,null,null,null,null,null,1,{"$f":"F6507*memoria!$B$44/(G6507*12*memoria!$B$47)","v":0},{"$f":"F6507/(G6507*12*memoria!$B$47)","v":0}]
[null,null,null,null,null,null,1,{"$f":"F6513*memoria!$B$44/(G6513*12*memoria!$B$47)","v":0},{"$f":"F6513/(G6513*12*memoria!$B$47)","v":0}]
[null,null,null,null,null,null,1,{"$f":"F6533*memoria!$B$44/(G6533*12*memoria!$B$47)","v":0},{"$f":"F6533/(G6533*12*memoria!$B$47)","v":0}]
[null,null,null,null,null,null,1,{"$f":"F6541*memoria!$B$44/(G6541*12*memoria!$B$47)","v":0},{"$f":"F6541/(G6541*12*memoria!$B$47)","v":0}]
[null,null,null,null,null,null,1,{"$f":"F6547*memoria!$B$44/(G6547*12*memoria!$B$47)","v":0},{"$f":"F6547/(G6547*12*memoria!$B$47)","v":0}]
[null,null,null,null,null,null,1,{"$f":"F6557*memoria!$B$44/(G6557*12*memoria!$B$47)","v":0},{"$f":"F6557/(G6557*12*memoria!$B$47)","v":0}]
[null,null,null,null,null,null,1,{"$f":"F6570*memoria!$B$44/(G6570*12*memoria!$B$47)","v":0},{"$f":"F6570/(G6570*12*memoria!$B$47)","v":0}]
[null,null,null,null,null,null,1,{"$f":"F6585*memoria!$B$44/(G6585*12*memoria!$B$47)","v":0},{"$f":"F6585/(G6585*12*memoria!$B$47)","v":0}]
[null,null,null,null,null,null,1,{"$f":"F6591*memoria!$B$44/(G6591*12*memoria!$B$47)","v":0},{"$f":"F6591/(G6591*12*memoria!$B$47)","v":0}]
[null,null,null,null,null,null,1,{"$f":"F6611*memoria!$B$44/(G6611*12*memoria!$B$47)","v":0},{"$f":"F6611/(G6611*12*memoria!$B$47)","v":0}]
[null,null,null,null,null,null,1,{"$f":"F6619*memoria!$B$44/(G6619*12*memoria!$B$47)","v":0},{"$f":"F6619/(G6619*12*memoria!$B$47)","v":0}]
[null,null,null,null,null,null,1,{"$f":"F6625*memoria!$B$44/(G6625*12*memoria!$B$47)","v":0},{"$f":"F6625/(G6625*12*memoria!$B$47)","v":0}]
[null,null,null,null,null,null,1,{"$f":"F6642*memoria!$B$44/(G6642*12*memoria!$B$47)","v":0},{"$f":"F6642/(G6642*12*memoria!$B$47)","v":0}]
[null,null,null,null,null,null,1,{"$f":"F6652*memoria!$B$44/(G6652*12*memoria!$B$47)","v":0},{"$f":"F6652/(G6652*12*memoria!$B$47)","v":0}]
[null,null,null,null,null,null,1,{"$f":"F6659*memoria!$B$44/(G6659*12*memoria!$B$47)","v":0},{"$f":"F6659/(G6659*12*memoria!$B$47)","v":0}]
[null,null,null,null,null,null,1,{"$f":"F6680*memoria!$B$44/(G6680*12*memoria!$B$47)","v":0},{"$f":"F6680/(G6680*12*memoria!$B$47)","v":0}]
[null,null,null,null,null,null,1,{"$f":"F6681*memoria!$B$44/(G6681*12*memoria!$B$47)","v":0},{"$f":"F6681/(G6681*12*memoria!$B$47)","v":0}]
[null,null,null,null,null,null,1,{"$f":"F6693*memoria!$B$44/(G6693*12*memoria!$B$47)","v":0},{"$f":"F6693/(G6693*12*memoria!$B$47)","v":0}]
[null,null,null,null,null,null,1,{"$f":"F6714*memoria!$B$44/(G6714*12*memoria!$B$47)","v":0},{"$f":"F6714/(G6714*12*memoria!$B$47)","v":0}]
[null,null,null,null,null,null,1,{"$f":"F6720*memoria!$B$44/(G6720*12*memoria!$B$47)","v":0},{"$f":"F6720/(G6720*12*memoria!$B$47)","v":0}]
[null,null,null,null,null,null,1,{"$f":"F6734*memoria!$B$44/(G6734*12*memoria!$B$47)","v":0},{"$f":"F6734/(G6734*12*memoria!$B$47)","v":0}]
[null,null,null,null,null,null,1,{"$f":"F6748*memoria!$B$44/(G6748*12*memoria!$B$47)","v":0},{"$f":"F6748/(G6748*12*memoria!$B$47)","v":0}]
[null,null,null,null,null,null,1,{"$f":"F6754*memoria!$B$44/(G6754*12*memoria!$B$47)","v":0},{"$f":"F6754/(G6754*12*memoria!$B$47)","v":0}]
[null,null,null,null,null,null,1,{"$f":"F6763*memoria!$B$44/(G6763*12*memoria!$B$47)","v":0},{"$f":"F6763/(G6763*12*memoria!$B$47)","v":0}]
[null,null,null,null,null,null,1,{"$f":"F6782*memoria!$B$44/(G6782*12*memoria!$B$47)","v":0},{"$f":"F6782/(G6782*12*memoria!$B$47)","v":0}]
[null,null,null,null,null,null,1,{"$f":"F6788*memoria!$B$44/(G6788*12*memoria!$B$47)","v":0},{"$f":"F6788/(G6788*12*memoria!$B$47)","v":0}]
[null,null,null,null,null,null,1,{"$f":"F6798*memoria!$B$44/(G6798*12*memoria!$B$47)","v":0},{"$f":"F6798/(G6798*12*memoria!$B$47)","v":0}]
[null,null,null,null,null,null,1,{"$f":"F6812*memoria!$B$44/(G6812*12*memoria!$B$47)","v":0},{"$f":"F6812/(G6812*12*memoria!$B$47)","v":0}]
[null,null,null,null,null,null,1,{"$f":"F6826*memoria!$B$44/(G6826*12*memoria!$B$47)","v":0},{"$f":"F6826/(G6826*12*memoria!$B$47)","v":0}]
[null,null,null,null,null,null,1,{"$f":"F6832*memoria!$B$44/(G6832*12*memoria!$B$47)","v":0},{"$f":"F6832/(G6832*12*memoria!$B$47)","v":0}]
[null,null,null,null,null,null,1,{"$f":"F6849*memoria!$B$44/(G6849*12*memoria!$B$47)","v":0},{"$f":"F6849/(G6849*12*memoria!$B$47)","v":0}]
[null,null,null,null,null,null,1,{"$f":"F6853*memoria!$B$44/(G6853*12*memoria!$B$47)","v":0},{"$f":"F6853/(G6853*12*memoria!$B$47)","v":0}]
[null,null,null,null,null,null,1,{"$f":"F6866*memoria!$B$44/(G6866*12*memoria!$B$47)","v":0},{"$f":"F6866/(G6866*12*memoria!$B$47)","v":0}]
[null,null,null,null,null,null,1,{"$f":"F6876*memoria!$B$44/(G6876*12*memoria!$B$47)","v":0},{"$f":"F6876/(G6876*12*memoria!$B$47)","v":0}]
[null,null,null,null,null,null,1,{"$f":"F6894*memoria!$B$44/(G6894*12*memoria!$B$47)","v":0},{"$f":"F6894/(G6894*12*memoria!$B$47)","v":0}]
[null,null,null,null,null,null,1,{"$f":"F6900*memoria!$B$44/(G6900*12*memoria!$B$47)","v":0},{"$f":"F6900/(G6900*12*memoria!$B$47)","v":0}]
[null,null,null,null,null,null,1,{"$f":"F6910*memoria!$B$44/(G6910*12*memoria!$B$47)","v":0},{"$f":"F6910/(G6910*12*memoria!$B$47)","v":0}]
[null,null,null,null,null,null,1,{"$f":"F6927*memoria!$B$44/(G6927*12*memoria!$B$47)","v":0},{"$f":"F6927/(G6927*12*memoria!$B$47)","v":0}]
[null,null,null,null,null,null,1,{"$f":"F6931*memoria!$B$44/(G6931*12*memoria!$B$47)","v":0},{"$f":"F6931/(G6931*12*memoria!$B$47)","v":0}]
[null,null,null,null,null,null,1,{"$f":"F6944*memoria!$B$44/(G6944*12*memoria!$B$47)","v":0},{"$f":"F6944/(G6944*12*memoria!$B$47)","v":0}]
[null,null,null,null,null,null,1,{"$f":"F6961*memoria!$B$44/(G6961*12*memoria!$B$47)","v":0},{"$f":"F6961/(G6961*12*memoria!$B$47)","v":0}]
[null,null,null,null,null,null,1,{"$f":"F6964*memoria!$B$44/(G6964*12*memoria!$B$47)","v":0},{"$f":"F6964/(G6964*12*memoria!$B$47)","v":0}]
[null,null,null,null,null,null,1,{"$f":"F6978*memoria!$B$44/(G6978*12*memoria!$B$47)","v":0},{"$f":"F6978/(G6978*12*memoria!$B$47)","v":0}]
[null,null,null,null,null,null,1,{"$f":"F6995*memoria!$B$44/(G6995*12*memoria!$B$47)","v":0},{"$f":"F6995/(G6995*12*memoria!$B$47)","v":0}]
[null,null,null,null,null,null,1,{"$f":"F7005*memoria!$B$44/(G7005*12*memoria!$B$47)","v":0},{"$f":"F7005/(G7005*12*memoria!$B$47)","v":0}]
[null,null,null,null,null,null,1,{"$f":"F7013*memoria!$B$44/(G7013*12*memoria!$B$47)","v":0},{"$f":"F7013/(G7013*12*memoria!$B$47)","v":0}]
[null,null,null,null,null,null,1,{"$f":"F7029*memoria!$B$44/(G7029*12*memoria!$B$47)","v":0},{"$f":"F7029/(G7029*12*memoria!$B$47)","v":0}]
[null,null,null,null,null,null,1,{"$f":"F7039*memoria!$B$44/(G7039*12*memoria!$B$47)","v":0},{"$f":"F7039/(G7039*12*memoria!$B$47)","v":0}]
[null,null,null,null,null,null,1,{"$f":"F7045*memoria!$B$44/(G7045*12*memoria!$B$47)","v":0},{"$f":"F7045/(G7045*12*memoria!$B$47)","v":0}]
[null,null,null,null,null,null,1,{"$f":"F7054*memoria!$B$44/(G7054*12*memoria!$B$47)","v":0},{"$f":"F7054/(G7054*12*memoria!$B$47)","v":0}]
[null,null,null,null,null,null,1,{"$f":"F7073*memoria!$B$44/(G7073*12*memoria!$B$47)","v":0},{"$f":"F7073/(G7073*12*memoria!$B$47)","v":0}]
[null,null,null,null,null,null,1,{"$f":"F7079*memoria!$B$44/(G7079*12*memoria!$B$47)","v":0},{"$f":"F7079/(G7079*12*memoria!$B$47)","v":0}]
[null,null,null,null,null,null,1,{"$f":"F7095*memoria!$B$44/(G7095*12*memoria!$B$47)","v":0},{"$f":"F7095/(G7095*12*memoria!$B$47)","v":0}]
[null,null,null,null,null,null,1,{"$f":"F7107*memoria!$B$44/(G7107*12*memoria!$B$47)","v":0},{"$f":"F7107/(G7107*12*memoria!$B$47)","v":0}]
[null,null,null,null,null,null,1,{"$f":"F7117*memoria!$B$44/(G7117*12*memoria!$B$47)","v":0},{"$f":"F7117/(G7117*12*memoria!$B$47)","v":0}]
[null,null,null,null,null,null,1,{"$f":"F7123*memoria!$B$44/(G7123*12*memoria!$B$47)","v":0},{"$f":"F7123/(G7123*12*memoria!$B$47)","v":0}]
[null,null,null,null,null,null,1,{"$f":"F7132*memoria!$B$44/(G7132*12*memoria!$B$47)","v":0},{"$f":"F7132/(G7132*12*memoria!$B$47)","v":0}]
[null,null,null,null,null,null,1,{"$f":"F7151*memoria!$B$44/(G7151*12*memoria!$B$47)","v":0},{"$f":"F7151/(G7151*12*memoria!$B$47)","v":0}]
[null,null,null,null,null,null,1,{"$f":"F7157*memoria!$B$44/(G7157*12*memoria!$B$47)","v":0},{"$f":"F7157/(G7157*12*memoria!$B$47)","v":0}]
[null,null,null,null,null,null,1,{"$f":"F7173*memoria!$B$44/(G7173*12*memoria!$B$47)","v":0},{"$f":"F7173/(G7173*12*memoria!$B$47)","v":0}]
[null,null,null,null,null,null,1,{"$f":"F7185*memoria!$B$44/(G7185*12*memoria!$B$47)","v":0},{"$f":"F7185/(G7185*12*memoria!$B$47)","v":0}]
[null,null,null,null,null,null,1,{"$f":"F7191*memoria!$B$44/(G7191*12*memoria!$B$47)","v":0},{"$f":"F7191/(G7191*12*memoria!$B$47)","v":0}]
[null,null,null,null,null,null,1,{"$f":"F7201*memoria!$B$44/(G7201*12*memoria!$B$47)","v":0},{"$f":"F7201/(G7201*12*memoria!$B$47)","v":0}]
[null,null,null,null,null,null,1,{"$f":"F7214*memoria!$B$44/(G7214*12*memoria!$B$47)","v":0},{"$f":"F7214/(G7214*12*memoria!$B$47)","v":0}]
[null,null,null,null,null,null,1,{"$f":"F7225*memoria!$B$44/(G7225*12*memoria!$B$47)","v":0},{"$f":"F7225/(G7225*12*memoria!$B$47)","v":0}]
[null,null,null,null,null,null,1,{"$f":"F7235*memoria!$B$44/(G7235*12*memoria!$B$47)","v":0},{"$f":"F7235/(G7235*12*memoria!$B$47)","v":0}]
[null,null,null,null,null,null,1,{"$f":"F7255*memoria!$B$44/(G7255*12*memoria!$B$47)","v":0},{"$f":"F7255/(G7255*12*memoria!$B$47)","v":0}]
[null,null,null,null,null,null,1,{"$f":"F7259*memoria!$B$44/(G7259*12*memoria!$B$47)","v":0},{"$f":"F7259/(G7259*12*memoria!$B$47)","v":0}]
[null,null,null,null,null,null,1,{"$f":"F7269*memoria!$B$44/(G7269*12*memoria!$B$47)","v":0},{"$f":"F7269/(G7269*12*memoria!$B$47)","v":0}]
[null,null,null,null,null,null,1,{"$f":"F7286*memoria!$B$44/(G7286*12*memoria!$B$47)","v":0},{"$f":"F7286/(G7286*12*memoria!$B$47)","v":0}]
[null,null,null,null,null,null,1,{"$f":"F7296*memoria!$B$44/(G7296*12*memoria!$B$47)","v":0},{"$f":"F7296/(G7296*12*memoria!$B$47)","v":0}]
[null,null,null,null,null,null,1,{"$f":"F7303*memoria!$B$44/(G7303*12*memoria!$B$47)","v":0},{"$f":"F7303/(G7303*12*memoria!$B$47)","v":0}]
[null,null,null,null,null,null,1,{"$f":"F7320*memoria!$B$44/(G7320*12*memoria!$B$47)","v":0},{"$f":"F7320/(G7320*12*memoria!$B$47)","v":0}]
[null,null,null,null,null,null,1,{"$f":"F7330*memoria!$B$44/(G7330*12*memoria!$B$47)","v":0},{"$f":"F7330/(G7330*12*memoria!$B$47)","v":0}]
[null,null,null,null,null,null,1,{"$f":"F7345*memoria!$B$44/(G7345*12*memoria!$B$47)","v":0},{"$f":"F7345/(G7345*12*memoria!$B$47)","v":0}]
[null,null,null,null,null,null,1,{"$f":"F7347*memoria!$B$44/(G7347*12*memoria!$B$47)","v":0},{"$f":"F7347/(G7347*12*memoria!$B$47)","v":0}]
[null,null,null,null,null,null,1,{"$f":"F7364*memoria!$B$44/(G7364*12*memoria!$B$47)","v":0},{"$f":"F7364/(G7364*12*memoria!$B$47)","v":0}]
[null,null,null,null,null,null,1,{"$f":"F7374*memoria!$B$44/(G7374*12*memoria!$B$47)","v":0},{"$f":"F7374/(G7374*12*memoria!$B$47)","v":0}]
[null,null,null,null,null,null,1,{"$f":"F7381*memoria!$B$44/(G7381*12*memoria!$B$47)","v":0},{"$f":"F7381/(G7381*12*memoria!$B$47)","v":0}]
[null,null,null,null,null,null,1,{"$f":"F7398*memoria!$B$44/(G7398*12*memoria!$B$47)","v":0},{"$f":"F7398/(G7398*12*memoria!$B$47)","v":0}]
[null,null,null,null,null,null,1,{"$f":"F7404*memoria!$B$44/(G7404*12*memoria!$B$47)","v":0},{"$f":"F7404/(G7404*12*memoria!$B$47)","v":0}]
[null,null,null,null,null,null,1,{"$f":"F7415*memoria!$B$44/(G7415*12*memoria!$B$47)","v":0},{"$f":"F7415/(G7415*12*memoria!$B$47)","v":0}]
[null,null,null,null,null,null,1,{"$f":"F7432*memoria!$B$44/(G7432*12*memoria!$B$47)","v":0},{"$f":"F7432/(G7432*12*memoria!$B$47)","v":0}]
[null,null,null,null,null,null,1,{"$f":"F7442*memoria!$B$44/(G7442*12*memoria!$B$47)","v":0},{"$f":"F7442/(G7442*12*memoria!$B$47)","v":0}]
[null,null,null,null,null,null,1,{"$f":"F7456*memoria!$B$44/(G7456*12*memoria!$B$47)","v":0},{"$f":"F7456/(G7456*12*memoria!$B$47)","v":0}]
[null,null,null,null,null,null,1,{"$f":"F7466*memoria!$B$44/(G7466*12*memoria!$B$47)","v":0},{"$f":"F7466/(G7466*12*memoria!$B$47)","v":0}]
[null,null,null,null,null,null,1,{"$f":"F7476*memoria!$B$44/(G7476*12*memoria!$B$47)","v":0},{"$f":"F7476/(G7476*12*memoria!$B$47)","v":0}]
[null,null,null,null,null,null,1,{"$f":"F7482*memoria!$B$44/(G7482*12*memoria!$B$47)","v":0},{"$f":"F7482/(G7482*12*memoria!$B$47)","v":0}]
[null,null,null,null,null,null,1,{"$f":"F7497*memoria!$B$44/(G7497*12*memoria!$B$47)","v":0},{"$f":"F7497/(G7497*12*memoria!$B$47)","v":0}]
[null,null,null,null,null,null,1,{"$f":"F7510*memoria!$B$44/(G7510*12*memoria!$B$47)","v":0},{"$f":"F7510/(G7510*12*memoria!$B$47)","v":0}]
[null,null,null,null,null,null,1,{"$f":"F7516*memoria!$B$44/(G7516*12*memoria!$B$47)","v":0},{"$f":"F7516/(G7516*12*memoria!$B$47)","v":0}]
[null,null,null,null,null,null,1,{"$f":"F7537*memoria!$B$44/(G7537*12*memoria!$B$47)","v":0},{"$f":"F7537/(G7537*12*memoria!$B$47)","v":0}]
[null,null,null,null,null,null,1,{"$f":"F7546*memoria!$B$44/(G7546*12*memoria!$B$47)","v":0},{"$f":"F7546/(G7546*12*memoria!$B$47)","v":0}]
[null,null,null,null,null,null,1,{"$f":"F7550*memoria!$B$44/(G7550*12*memoria!$B$47)","v":0},{"$f":"F7550/(G7550*12*memoria!$B$47)","v":0}]
[null,null,null,null,null,null,1,{"$f":"F7571*memoria!$B$44/(G7571*12*memoria!$B$47)","v":0},{"$f":"F7571/(G7571*12*memoria!$B$47)","v":0}]
[null,null,null,null,null,null,1,{"$f":"F7575*memoria!$B$44/(G7575*12*memoria!$B$47)","v":0},{"$f":"F7575/(G7575*12*memoria!$B$47)","v":0}]
[null,null,null,null,null,null,1,{"$f":"F7588*memoria!$B$44/(G7588*12*memoria!$B$47)","v":0},{"$f":"F7588/(G7588*12*memoria!$B$47)","v":0}]
[null,null,null,null,null,null,1,{"$f":"F7605*memoria!$B$44/(G7605*12*memoria!$B$47)","v":0},{"$f":"F7605/(G7605*12*memoria!$B$47)","v":0}]
[null,null,null,null,null,null,1,{"$f":"F7611*memoria!$B$44/(G7611*12*memoria!$B$47)","v":0},{"$f":"F7611/(G7611*12*memoria!$B$47)","v":0}]
[null,null,null,null,null,null,1,{"$f":"F7628*memoria!$B$44/(G7628*12*memoria!$B$47)","v":0},{"$f":"F7628/(G7628*12*memoria!$B$47)","v":0}]
[null,null,null,null,null,null,1,{"$f":"F7639*memoria!$B$44/(G7639*12*memoria!$B$47)","v":0},{"$f":"F7639/(G7639*12*memoria!$B$47)","v":0}]
[null,null,null,null,null,null,1,{"$f":"F7645*memoria!$B$44/(G7645*12*memoria!$B$47)","v":0},{"$f":"F7645/(G7645*12*memoria!$B$47)","v":0}]
[null,null,null,null,null,null,1,{"$f":"F7657*memoria!$B$44/(G7657*12*memoria!$B$47)","v":0},{"$f":"F7657/(G7657*12*memoria!$B$47)","v":0}]
[null,null,null,null,null,null,1,{"$f":"F7673*memoria!$B$44/(G7673*12*memoria!$B$47)","v":0},{"$f":"F7673/(G7673*12*memoria!$B$47)","v":0}]
[null,null,null,null,null,null,1,{"$f":"F7683*memoria!$B$44/(G7683*12*memoria!$B$47)","v":0},{"$f":"F7683/(G7683*12*memoria!$B$47)","v":0}]
[null,null,null,null,null,null,1,{"$f":"F7689*memoria!$B$44/(G7689*12*memoria!$B$47)","v":0},{"$f":"F7689/(G7689*12*memoria!$B$47)","v":0}]
[null,null,null,null,null,null,1,{"$f":"F7706*memoria!$B$44/(G7706*12*memoria!$B$47)","v":0},{"$f":"F7706/(G7706*12*memoria!$B$47)","v":0}]
[null,null,null,null,null,null,1,{"$f":"F7717*memoria!$B$44/(G7717*12*memoria!$B$47)","v":0},{"$f":"F7717/(G7717*12*memoria!$B$47)","v":0}]
[null,null,null,null,null,null,1,{"$f":"F7723*memoria!$B$44/(G7723*12*memoria!$B$47)","v":0},{"$f":"F7723/(G7723*12*memoria!$B$47)","v":0}]
[null,null,null,null,null,null,1,{"$f":"F7739*memoria!$B$44/(G7739*12*memoria!$B$47)","v":0},{"$f":"F7739/(G7739*12*memoria!$B$47)","v":0}]
[null,null,null,null,null,null,1,{"$f":"F7751*memoria!$B$44/(G7751*12*memoria!$B$47)","v":0},{"$f":"F7751/(G7751*12*memoria!$B$47)","v":0}]
[null,null,null,null,null,null,1,{"$f":"F7757*memoria!$B$44/(G7757*12*memoria!$B$47)","v":0},{"$f":"F7757/(G7757*12*memoria!$B$47)","v":0}]
[null,null,null,null,null,null,1,{"$f":"F7767*memoria!$B$44/(G7767*12*memoria!$B$47)","v":0},{"$f":"F7767/(G7767*12*memoria!$B$47)","v":0}]
[null,null,null,null,null,null,1,{"$f":"F7776*memoria!$B$44/(G7776*12*memoria!$B$47)","v":0},{"$f":"F7776/(G7776*12*memoria!$B$47)","v":0}]
[null,null,null,null,null,null,1,{"$f":"F7791*memoria!$B$44/(G7791*12*memoria!$B$47)","v":0},{"$f":"F7791/(G7791*12*memoria!$B$47)","v":0}]
[null,null,null,null,null,null,1,{"$f":"F7801*memoria!$B$44/(G7801*12*memoria!$B$47)","v":0},{"$f":"F7801/(G7801*12*memoria!$B$47)","v":0}]
[null,null,null,null,null,null,1,{"$f":"F7818*memoria!$B$44/(G7818*12*memoria!$B$47)","v":0},{"$f":"F7818/(G7818*12*memoria!$B$47)","v":0}]
[null,null,null,null,null,null,1,{"$f":"F7829*memoria!$B$44/(G7829*12*memoria!$B$47)","v":0},{"$f":"F7829/(G7829*12*memoria!$B$47)","v":0}]
[null,null,null,null,null,null,1,{"$f":"F7835*memoria!$B$44/(G7835*12*memoria!$B$47)","v":0},{"$f":"F7835/(G7835*12*memoria!$B$47)","v":0}]
[null,null,null,null,null,null,1,{"$f":"F7852*memoria!$B$44/(G7852*12*memoria!$B$47)","v":0},{"$f":"F7852/(G7852*12*memoria!$B$47)","v":0}]
[null,null,null,null,null,null,1,{"$f":"F7858*memoria!$B$44/(G7858*12*memoria!$B$47)","v":0},{"$f":"F7858/(G7858*12*memoria!$B$47)","v":0}]
[null,null,null,null,null,null,1,{"$f":"F7869*memoria!$B$44/(G7869*12*memoria!$B$47)","v":0},{"$f":"F7869/(G7869*12*memoria!$B$47)","v":0}]
[null,null,null,null,null,null,1,{"$f":"F7879*memoria!$B$44/(G7879*12*memoria!$B$47)","v":0},{"$f":"F7879/(G7879*12*memoria!$B$47)","v":0}]
[null,null,null,null,null,null,1,{"$f":"F7896*memoria!$B$44/(G7896*12*memoria!$B$47)","v":0},{"$f":"F7896/(G7896*12*memoria!$B$47)","v":0}]
[null,null,null,null,null,null,1,{"$f":"F7907*memoria!$B$44/(G7907*12*memoria!$B$47)","v":0},{"$f":"F7907/(G7907*12*memoria!$B$47)","v":0}]
[null,null,null,null,null,null,1,{"$f":"F7913*memoria!$B$44/(G7913*12*memoria!$B$47)","v":0},{"$f":"F7913/(G7913*12*memoria!$B$47)","v":0}]
[null,null,null,null,null,null,1,{"$f":"F7930*memoria!$B$44/(G7930*12*memoria!$B$47)","v":0},{"$f":"F7930/(G7930*12*memoria!$B$47)","v":0}]
[null,null,null,null,null,null,1,{"$f":"F7936*memoria!$B$44/(G7936*12*memoria!$B$47)","v":0},{"$f":"F7936/(G7936*12*memoria!$B$47)","v":0}]
[null,null,null,null,null,null,1,{"$f":"F7947*memoria!$B$44/(G7947*12*memoria!$B$47)","v":0},{"$f":"F7947/(G7947*12*memoria!$B$47)","v":0}]
[null,null,null,null,null,null,1,{"$f":"F7964*memoria!$B$44/(G7964*12*memoria!$B$47)","v":0},{"$f":"F7964/(G7964*12*memoria!$B$47)","v":0}]
[null,null,null,null,null,null,1,{"$f":"F7974*memoria!$B$44/(G7974*12*memoria!$B$47)","v":0},{"$f":"F7974/(G7974*12*memoria!$B$47)","v":0}]
[null,null,null,null,null,null,1,{"$f":"F7989*memoria!$B$44/(G7989*12*memoria!$B$47)","v":0},{"$f":"F7989/(G7989*12*memoria!$B$47)","v":0}]
[null,null,null,null,null,null,1,{"$f":"F7998*memoria!$B$44/(G7998*12*memoria!$B$47)","v":0},{"$f":"F7998/(G7998*12*memoria!$B$47)","v":0}]
[null,null,null,null,null,null,1,{"$f":"F8008*memoria!$B$44/(G8008*12*memoria!$B$47)","v":0},{"$f":"F8008/(G8008*12*memoria!$B$47)","v":0}]
[null,null,null,null,null,null,1,{"$f":"F8014*memoria!$B$44/(G8014*12*memoria!$B$47)","v":0},{"$f":"F8014/(G8014*12*memoria!$B$47)","v":0}]
[null,null,null,null,null,null,1,{"$f":"F8026*memoria!$B$44/(G8026*12*memoria!$B$47)","v":0},{"$f":"F8026/(G8026*12*memoria!$B$47)","v":0}]
[null,null,null,null,null,null,1,{"$f":"F8042*memoria!$B$44/(G8042*12*memoria!$B$47)","v":0},{"$f":"F8042/(G8042*12*memoria!$B$47)","v":0}]
[null,null,null,null,null,null,1,{"$f":"F8048*memoria!$B$44/(G8048*12*memoria!$B$47)","v":0},{"$f":"F8048/(G8048*12*memoria!$B$47)","v":0}]
[null,null,null,null,null,null,1,{"$f":"F8059*memoria!$B$44/(G8059*12*memoria!$B$47)","v":0},{"$f":"F8059/(G8059*12*memoria!$B$47)","v":0}]
[null,null,null,null,null,null,1,{"$f":"F8076*memoria!$B$44/(G8076*12*memoria!$B$47)","v":0},{"$f":"F8076/(G8076*12*memoria!$B$47)","v":0}]
[null,null,null,null,null,null,1,{"$f":"F8082*memoria!$B$44/(G8082*12*memoria!$B$47)","v":0},{"$f":"F8082/(G8082*12*memoria!$B$47)","v":0}]
[null,null,null,null,null,null,1,{"$f":"F8092*memoria!$B$44/(G8092*12*memoria!$B$47)","v":0},{"$f":"F8092/(G8092*12*memoria!$B$47)","v":0}]
[null,null,null,null,null,null,1,{"$f":"F8108*memoria!$B$44/(G8108*12*memoria!$B$47)","v":0},{"$f":"F8108/(G8108*12*memoria!$B$47)","v":0}]
[null,null,null,null,null,null,1,{"$f":"F8120*memoria!$B$44/(G8120*12*memoria!$B$47)","v":0},{"$f":"F8120/(G8120*12*memoria!$B$47)","v":0}]
[null,null,null,null,null,null,1,{"$f":"F8126*memoria!$B$44/(G8126*12*memoria!$B$47)","v":0},{"$f":"F8126/(G8126*12*memoria!$B$47)","v":0}]
[null,null,null,null,null,null,1,{"$f":"F8137*memoria!$B$44/(G8137*12*memoria!$B$47)","v":0},{"$f":"F8137/(G8137*12*memoria!$B$47)","v":0}]
[null,null,null,null,null,null,1,{"$f":"F8154*memoria!$B$44/(G8154*12*memoria!$B$47)","v":0},{"$f":"F8154/(G8154*12*memoria!$B$47)","v":0}]
[null,null,null,null,null,null,1,{"$f":"F8160*memoria!$B$44/(G8160*12*memoria!$B$47)","v":0},{"$f":"F8160/(G8160*12*memoria!$B$47)","v":0}]
[null,null,null,null,null,null,1,{"$f":"F8177*memoria!$B$44/(G8177*12*memoria!$B$47)","v":0},{"$f":"F8177/(G8177*12*memoria!$B$47)","v":0}]
[null,null,null,null,null,null,1,{"$f":"F8190*memoria!$B$44/(G8190*12*memoria!$B$47)","v":0},{"$f":"F8190/(G8190*12*memoria!$B$47)","v":0}]
[null,null,null,null,null,null,1,{"$f":"F8194*memoria!$B$44/(G8194*12*memoria!$B$47)","v":0},{"$f":"F8194/(G8194*12*memoria!$B$47)","v":0}]
[null,null,null,null,null,null,1,{"$f":"F8204*memoria!$B$44/(G8204*12*memoria!$B$47)","v":0},{"$f":"F8204/(G8204*12*memoria!$B$47)","v":0}]
[null,null,null,null,null,null,1,{"$f":"F8219*memoria!$B$44/(G8219*12*memoria!$B$47)","v":0},{"$f":"F8219/(G8219*12*memoria!$B$47)","v":0}]
[null,null,null,null,null,null,1,{"$f":"F8228*memoria!$B$44/(G8228*12*memoria!$B$47)","v":0},{"$f":"F8228/(G8228*12*memoria!$B$47)","v":0}]
[null,null,null,null,null,null,1,{"$f":"F8238*memoria!$B$44/(G8238*12*memoria!$B$47)","v":0},{"$f":"F8238/(G8238*12*memoria!$B$47)","v":0}]
[null,null,null,null,null,null,1,{"$f":"F8255*memoria!$B$44/(G8255*12*memoria!$B$47)","v":0},{"$f":"F8255/(G8255*12*memoria!$B$47)","v":0}]
[null,null,null,null,null,null,1,{"$f":"F8268*memoria!$B$44/(G8268*12*memoria!$B$47)","v":0},{"$f":"F8268/(G8268*12*memoria!$B$47)","v":0}]
[null,null,null,null,null,null,1,{"$f":"F8272*memoria!$B$44/(G8272*12*memoria!$B$47)","v":0},{"$f":"F8272/(G8272*12*memoria!$B$47)","v":0}]
[null,null,null,null,null,null,1,{"$f":"F8289*memoria!$B$44/(G8289*12*memoria!$B$47)","v":0},{"$f":"F8289/(G8289*12*memoria!$B$47)","v":0}]
[null,null,null,null,null,null,1,{"$f":"F8299*memoria!$B$44/(G8299*12*memoria!$B$47)","v":0},{"$f":"F8299/(G8299*12*memoria!$B$47)","v":0}]
[null,null,null,null,null,null,1,{"$f":"F8309*memoria!$B$44/(G8309*12*memoria!$B$47)","v":0},{"$f":"F8309/(G8309*12*memoria!$B$47)","v":0}]
[null,null,null,null,null,null,1,{"$f":"F8323*memoria!$B$44/(G8323*12*memoria!$B$47)","v":0},{"$f":"F8323/(G8323*12*memoria!$B$47)","v":0}]
[null,null,null,null,null,null,1,{"$f":"F8333*memoria!$B$44/(G8333*12*memoria!$B$47)","v":0},{"$f":"F8333/(G8333*12*memoria!$B$47)","v":0}]
[null,null,null,null,null,null,1,{"$f":"F8350*memoria!$B$44/(G8350*12*memoria!$B$47)","v":0},{"$f":"F8350/(G8350*12*memoria!$B$47)","v":0}]
[null,null,null,null,null,null,1,{"$f":"F8361*memoria!$B$44/(G8361*12*memoria!$B$47)","v":0},{"$f":"F8361/(G8361*12*memoria!$B$47)","v":0}]
[null,null,null,null,null,null,1,{"$f":"F8367*memoria!$B$44/(G8367*12*memoria!$B$47)","v":0},{"$f":"F8367/(G8367*12*memoria!$B$47)","v":0}]
[null,null,null,null,null,null,1,{"$f":"F8373*memoria!$B$44/(G8373*12*memoria!$B$47)","v":0},{"$f":"F8373/(G8373*12*memoria!$B$47)","v":0}]
[null,null,null,null,null,null,1,{"$f":"F8391*memoria!$B$44/(G8391*12*memoria!$B$47)","v":0},{"$f":"F8391/(G8391*12*memoria!$B$47)","v":0}]
[null,null,null,null,null,null,1,{"$f":"F8401*memoria!$B$44/(G8401*12*memoria!$B$47)","v":0},{"$f":"F8401/(G8401*12*memoria!$B$47)","v":0}]
[null,null,null,null,null,null,1,{"$f":"F8407*memoria!$B$44/(G8407*12*memoria!$B$47)","v":0},{"$f":"F8407/(G8407*12*memoria!$B$47)","v":0}]
[null,null,null,null,null,null,1,{"$f":"F8420*memoria!$B$44/(G8420*12*memoria!$B$47)","v":0},{"$f":"F8420/(G8420*12*memoria!$B$47)","v":0}]
[null,null,null,null,null,null,1,{"$f":"F8435*memoria!$B$44/(G8435*12*memoria!$B$47)","v":0},{"$f":"F8435/(G8435*12*memoria!$B$47)","v":0}]
[null,null,null,null,null,null,1,{"$f":"F8445*memoria!$B$44/(G8445*12*memoria!$B$47)","v":0},{"$f":"F8445/(G8445*12*memoria!$B$47)","v":0}]
[null,null,null,null,null,null,1,{"$f":"F8462*memoria!$B$44/(G8462*12*memoria!$B$47)","v":0},{"$f":"F8462/(G8462*12*memoria!$B$47)","v":0}]
[null,null,null,null,null,null,1,{"$f":"F8469*memoria!$B$44/(G8469*12*memoria!$B$47)","v":0},{"$f":"F8469/(G8469*12*memoria!$B$47)","v":0}]
[null,null,null,null,null,null,1,{"$f":"F8479*memoria!$B$44/(G8479*12*memoria!$B$47)","v":0},{"$f":"F8479/(G8479*12*memoria!$B$47)","v":0}]
[null,null,null,null,null,null,1,{"$f":"F8496*memoria!$B$44/(G8496*12*memoria!$B$47)","v":0},{"$f":"F8496/(G8496*12*memoria!$B$47)","v":0}]
[null,null,null,null,null,null,1,{"$f":"F8506*memoria!$B$44/(G8506*12*memoria!$B$47)","v":0},{"$f":"F8506/(G8506*12*memoria!$B$47)","v":0}]
[null,null,null,null,null,null,1,{"$f":"F8510*memoria!$B$44/(G8510*12*memoria!$B$47)","v":0},{"$f":"F8510/(G8510*12*memoria!$B$47)","v":0}]
[null,null,null,null,null,null,1,{"$f":"F8530*memoria!$B$44/(G8530*12*memoria!$B$47)","v":0},{"$f":"F8530/(G8530*12*memoria!$B$47)","v":0}]
[null,null,null,null,null,null,1,{"$f":"F8540*memoria!$B$44/(G8540*12*memoria!$B$47)","v":0},{"$f":"F8540/(G8540*12*memoria!$B$47)","v":0}]
[null,null,null,null,null,null,1,{"$f":"F8551*memoria!$B$44/(G8551*12*memoria!$B$47)","v":0},{"$f":"F8551/(G8551*12*memoria!$B$47)","v":0}]
[null,null,null,null,null,null,1,{"$f":"F8564*memoria!$B$44/(G8564*12*memoria!$B$47)","v":0},{"$f":"F8564/(G8564*12*memoria!$B$47)","v":0}]
[null,null,null,null,null,null,1,{"$f":"F8574*memoria!$B$44/(G8574*12*memoria!$B$47)","v":0},{"$f":"F8574/(G8574*12*memoria!$B$47)","v":0}]
[null,null,null,null,null,null,1,{"$f":"F8580*memoria!$B$44/(G8580*12*memoria!$B$47)","v":0},{"$f":"F8580/(G8580*12*memoria!$B$47)","v":0}]
[null,null,null,null,null,null,1,{"$f":"F8592*memoria!$B$44/(G8592*12*memoria!$B$47)","v":0},{"$f":"F8592/(G8592*12*memoria!$B$47)","v":0}]
[null,null,null,null,null,null,1,{"$f":"F8608*memoria!$B$44/(G8608*12*memoria!$B$47)","v":0},{"$f":"F8608/(G8608*12*memoria!$B$47)","v":0}]
[null,null,null,null,null,null,1,{"$f":"F8614*memoria!$B$44/(G8614*12*memoria!$B$47)","v":0},{"$f":"F8614/(G8614*12*memoria!$B$47)","v":0}]
[null,null,null,null,null,null,1,{"$f":"F8621*memoria!$B$44/(G8621*12*memoria!$B$47)","v":0},{"$f":"F8621/(G8621*12*memoria!$B$47)","v":0}]
[null,null,null,null,null,null,1,{"$f":"F8642*memoria!$B$44/(G8642*12*memoria!$B$47)","v":0},{"$f":"F8642/(G8642*12*memoria!$B$47)","v":0}]
[null,null,null,null,null,null,1,{"$f":"F8648*memoria!$B$44/(G8648*12*memoria!$B$47)","v":0},{"$f":"F8648/(G8648*12*memoria!$B$47)","v":0}]
[null,null,null,null,null,null,1,{"$f":"F8658*memoria!$B$44/(G8658*12*memoria!$B$47)","v":0},{"$f":"F8658/(G8658*12*memoria!$B$47)","v":0}]
[null,null,null,null,null,null,1,{"$f":"F8670*memoria!$B$44/(G8670*12*memoria!$B$47)","v":0},{"$f":"F8670/(G8670*12*memoria!$B$47)","v":0}]
[null,null,null,null,null,null,1,{"$f":"F8686*memoria!$B$44/(G8686*12*memoria!$B$47)","v":0},{"$f":"F8686/(G8686*12*memoria!$B$47)","v":0}]
[null,null,null,null,null,null,1,{"$f":"F8692*memoria!$B$44/(G8692*12*memoria!$B$47)","v":0},{"$f":"F8692/(G8692*12*memoria!$B$47)","v":0}]
[null,null,null,null,null,null,1,{"$f":"F8711*memoria!$B$44/(G8711*12*memoria!$B$47)","v":0},{"$f":"F8711/(G8711*12*memoria!$B$47)","v":0}]
[null,null,null,null,null,null,1,{"$f":"F8720*memoria!$B$44/(G8720*12*memoria!$B$47)","v":0},{"$f":"F8720/(G8720*12*memoria!$B$47)","v":0}]
[null,null,null,null,null,null,1,{"$f":"F8726*memoria!$B$44/(G8726*12*memoria!$B$47)","v":0},{"$f":"F8726/(G8726*12*memoria!$B$47)","v":0}]
[null,null,null,null,null,null,1,{"$f":"F8736*memoria!$B$44/(G8736*12*memoria!$B$47)","v":0},{"$f":"F8736/(G8736*12*memoria!$B$47)","v":0}]
[null,null,null,null,null,null,1,{"$f":"F8752*memoria!$B$44/(G8752*12*memoria!$B$47)","v":0},{"$f":"F8752/(G8752*12*memoria!$B$47)","v":0}]
[null,null,null,null,null,null,1,{"$f":"F8760*memoria!$B$44/(G8760*12*memoria!$B$47)","v":0},{"$f":"F8760/(G8760*12*memoria!$B$47)","v":0}]
[null,null,null,null,null,null,1,{"$f":"F8770*memoria!$B$44/(G8770*12*memoria!$B$47)","v":0},{"$f":"F8770/(G8770*12*memoria!$B$47)","v":0}]
[null,null,null,null,null,null,1,{"$f":"F8787*memoria!$B$44/(G8787*12*memoria!$B$47)","v":0},{"$f":"F8787/(G8787*12*memoria!$B$47)","v":0}]
[null,null,null,null,null,null,1,{"$f":"F8801*memoria!$B$44/(G8801*12*memoria!$B$47)","v":0},{"$f":"F8801/(G8801*12*memoria!$B$47)","v":0}]
[null,null,null,null,null,null,1,{"$f":"F8804*memoria!$B$44/(G8804*12*memoria!$B$47)","v":0},{"$f":"F8804/(G8804*12*memoria!$B$47)","v":0}]
[null,null,null,null,null,null,1,{"$f":"F8821*memoria!$B$44/(G8821*12*memoria!$B$47)","v":0},{"$f":"F8821/(G8821*12*memoria!$B$47)","v":0}]
[null,null,null,null,null,null,1,{"$f":"F8834*memoria!$B$44/(G8834*12*memoria!$B$47)","v":0},{"$f":"F8834/(G8834*12*memoria!$B$47)","v":0}]
[null,null,null,null,null,null,1,{"$f":"F8838*memoria!$B$44/(G8838*12*memoria!$B$47)","v":0},{"$f":"F8838/(G8838*12*memoria!$B$47)","v":0}]
[null,null,null,null,null,null,1,{"$f":"F8855*memoria!$B$44/(G8855*12*memoria!$B$47)","v":0},{"$f":"F8855/(G8855*12*memoria!$B$47)","v":0}]
[null,null,null,null,null,null,1,{"$f":"F8865*memoria!$B$44/(G8865*12*memoria!$B$47)","v":0},{"$f":"F8865/(G8865*12*memoria!$B$47)","v":0}]
[null,null,null,null,null,null,1,{"$f":"F8871*memoria!$B$44/(G8871*12*memoria!$B$47)","v":0},{"$f":"F8871/(G8871*12*memoria!$B$47)","v":0}]
[null,null,null,null,null,null,1,{"$f":"F8889*memoria!$B$44/(G8889*12*memoria!$B$47)","v":0},{"$f":"F8889/(G8889*12*memoria!$B$47)","v":0}]
[null,null,null,null,null,null,1,{"$f":"F8899*memoria!$B$44/(G8899*12*memoria!$B$47)","v":0},{"$f":"F8899/(G8899*12*memoria!$B$47)","v":0}]
[null,null,null,null,null,null,1,{"$f":"F8912*memoria!$B$44/(G8912*12*memoria!$B$47)","v":0},{"$f":"F8912/(G8912*12*memoria!$B$47)","v":0}]
[null,null,null,null,null,null,1,{"$f":"F8916*memoria!$B$44/(G8916*12*memoria!$B$47)","v":0},{"$f":"F8916/(G8916*12*memoria!$B$47)","v":0}]
[null,null,null,null,null,null,1,{"$f":"F8933*memoria!$B$44/(G8933*12*memoria!$B$47)","v":0},{"$f":"F8933/(G8933*12*memoria!$B$47)","v":0}]
[null,null,null,null,null,null,1,{"$f":"F8939*memoria!$B$44/(G8939*12*memoria!$B$47)","v":0},{"$f":"F8939/(G8939*12*memoria!$B$47)","v":0}]
[null,null,null,null,null,null,1,{"$f":"F8953*memoria!$B$44/(G8953*12*memoria!$B$47)","v":0},{"$f":"F8953/(G8953*12*memoria!$B$47)","v":0}]
[null,null,null,null,null,null,1,{"$f":"F8967*memoria!$B$44/(G8967*12*memoria!$B$47)","v":0},{"$f":"F8967/(G8967*12*memoria!$B$47)","v":0}]
[null,null,null,null,null,null,1,{"$f":"F8977*memoria!$B$44/(G8977*12*memoria!$B$47)","v":0},{"$f":"F8977/(G8977*12*memoria!$B$47)","v":0}]
[null,null,null,null,null,null,1,{"$f":"F8983*memoria!$B$44/(G8983*12*memoria!$B$47)","v":0},{"$f":"F8983/(G8983*12*memoria!$B$47)","v":0}]
[null,null,null,null,null,null,1,{"$f":"F9002*memoria!$B$44/(G9002*12*memoria!$B$47)","v":0},{"$f":"F9002/(G9002*12*memoria!$B$47)","v":0}]
[null,null,null,null,null,null,1,{"$f":"F9011*memoria!$B$44/(G9011*12*memoria!$B$47)","v":0},{"$f":"F9011/(G9011*12*memoria!$B$47)","v":0}]
[null,null,null,null,null,null,1,{"$f":"F9017*memoria!$B$44/(G9017*12*memoria!$B$47)","v":0},{"$f":"F9017/(G9017*12*memoria!$B$47)","v":0}]
[null,null,null,null,null,null,1,{"$f":"F9031*memoria!$B$44/(G9031*12*memoria!$B$47)","v":0},{"$f":"F9031/(G9031*12*memoria!$B$47)","v":0}]
[null,null,null,null,null,null,1,{"$f":"F9045*memoria!$B$44/(G9045*12*memoria!$B$47)","v":0},{"$f":"F9045/(G9045*12*memoria!$B$47)","v":0}]
[null,null,null,null,null,null,1,{"$f":"F9051*memoria!$B$44/(G9051*12*memoria!$B$47)","v":0},{"$f":"F9051/(G9051*12*memoria!$B$47)","v":0}]
[null,null,null,null,null,null,1,{"$f":"F9061*memoria!$B$44/(G9061*12*memoria!$B$47)","v":0},{"$f":"F9061/(G9061*12*memoria!$B$47)","v":0}]
[null,null,null,null,null,null,1,{"$f":"F9072*memoria!$B$44/(G9072*12*memoria!$B$47)","v":0},{"$f":"F9072/(G9072*12*memoria!$B$47)","v":0}]
[null,null,null,null,null,null,1,{"$f":"F9085*memoria!$B$44/(G9085*12*memoria!$B$47)","v":0},{"$f":"F9085/(G9085*12*memoria!$B$47)","v":0}]
[null,null,null,null,null,null,1,{"$f":"F9095*memoria!$B$44/(G9095*12*memoria!$B$47)","v":0},{"$f":"F9095/(G9095*12*memoria!$B$47)","v":0}]
[null,null,null,null,null,null,1,{"$f":"F9113*memoria!$B$44/(G9113*12*memoria!$B$47)","v":0},{"$f":"F9113/(G9113*12*memoria!$B$47)","v":0}]
[null,null,null,null,null,null,1,{"$f":"F9123*memoria!$B$44/(G9123*12*memoria!$B$47)","v":0},{"$f":"F9123/(G9123*12*memoria!$B$47)","v":0}]
[null,null,null,null,null,null,1,{"$f":"F9129*memoria!$B$44/(G9129*12*memoria!$B$47)","v":0},{"$f":"F9129/(G9129*12*memoria!$B$47)","v":0}]
[null,null,null,null,null,null,1,{"$f":"F9146*memoria!$B$44/(G9146*12*memoria!$B$47)","v":0},{"$f":"F9146/(G9146*12*memoria!$B$47)","v":0}]
[null,null,null,null,null,null,1,{"$f":"F9154*memoria!$B$44/(G9154*12*memoria!$B$47)","v":0},{"$f":"F9154/(G9154*12*memoria!$B$47)","v":0}]
[null,null,null,null,null,null,1,{"$f":"F9163*memoria!$B$44/(G9163*12*memoria!$B$47)","v":0},{"$f":"F9163/(G9163*12*memoria!$B$47)","v":0}]
[null,null,null,null,null,null,1,{"$f":"F9180*memoria!$B$44/(G9180*12*memoria!$B$47)","v":0},{"$f":"F9180/(G9180*12*memoria!$B$47)","v":0}]
[null,null,null,null,null,null,1,{"$f":"F9195*memoria!$B$44/(G9195*12*memoria!$B$47)","v":0},{"$f":"F9195/(G9195*12*memoria!$B$47)","v":0}]
[null,null,null,null,null,null,1,{"$f":"F9197*memoria!$B$44/(G9197*12*memoria!$B$47)","v":0},{"$f":"F9197/(G9197*12*memoria!$B$47)","v":0}]
[null,null,null,null,null,null,1,{"$f":"F9218*memoria!$B$44/(G9218*12*memoria!$B$47)","v":0},{"$f":"F9218/(G9218*12*memoria!$B$47)","v":0}]
[null,null,null,null,null,null,1,{"$f":"F9224*memoria!$B$44/(G9224*12*memoria!$B$47)","v":0},{"$f":"F9224/(G9224*12*memoria!$B$47)","v":0}]
[null,null,null,null,null,null,1,{"$f":"F9232*memoria!$B$44/(G9232*12*memoria!$B$47)","v":0},{"$f":"F9232/(G9232*12*memoria!$B$47)","v":0}]
[null,null,null,null,null,null,1,{"$f":"F9252*memoria!$B$44/(G9252*12*memoria!$B$47)","v":0},{"$f":"F9252/(G9252*12*memoria!$B$47)","v":0}]
[null,null,null,null,null,null,1,{"$f":"F9258*memoria!$B$44/(G9258*12*memoria!$B$47)","v":0},{"$f":"F9258/(G9258*12*memoria!$B$47)","v":0}]
[null,null,null,null,null,null,1,{"$f":"F9264*memoria!$B$44/(G9264*12*memoria!$B$47)","v":0},{"$f":"F9264/(G9264*12*memoria!$B$47)","v":0}]
[null,null,null,null,null,null,1,{"$f":"F9285*memoria!$B$44/(G9285*12*memoria!$B$47)","v":0},{"$f":"F9285/(G9285*12*memoria!$B$47)","v":0}]
[null,null,null,null,null,null,1,{"$f":"F9292*memoria!$B$44/(G9292*12*memoria!$B$47)","v":0},{"$f":"F9292/(G9292*12*memoria!$B$47)","v":0}]
[null,null,null,null,null,null,1,{"$f":"F9302*memoria!$B$44/(G9302*12*memoria!$B$47)","v":0},{"$f":"F9302/(G9302*12*memoria!$B$47)","v":0}]
[null,null,null,null,null,null,1,{"$f":"F9314*memoria!$B$44/(G9314*12*memoria!$B$47)","v":0},{"$f":"F9314/(G9314*12*memoria!$B$47)","v":0}]
[null,null,null,null,null,null,1,{"$f":"F9326*memoria!$B$44/(G9326*12*memoria!$B$47)","v":0},{"$f":"F9326/(G9326*12*memoria!$B$47)","v":0}]
[null,null,null,null,null,null,1,{"$f":"F9336*memoria!$B$44/(G9336*12*memoria!$B$47)","v":0},{"$f":"F9336/(G9336*12*memoria!$B$47)","v":0}]
[null,null,null,null,null,null,1,{"$f":"F9353*memoria!$B$44/(G9353*12*memoria!$B$47)","v":0},{"$f":"F9353/(G9353*12*memoria!$B$47)","v":0}]
[null,null,null,null,null,null,1,{"$f":"F9355*memoria!$B$44/(G9355*12*memoria!$B$47)","v":0},{"$f":"F9355/(G9355*12*memoria!$B$47)","v":0}]
[null,null,null,null,null,null,1,{"$f":"F9370*memoria!$B$44/(G9370*12*memoria!$B$47)","v":0},{"$f":"F9370/(G9370*12*memoria!$B$47)","v":0}]
[null,null,null,null,null,null,1,{"$f":"F9387*memoria!$B$44/(G9387*12*memoria!$B$47)","v":0},{"$f":"F9387/(G9387*12*memoria!$B$47)","v":0}]
[null,null,null,null,null,null,1,{"$f":"F9396*memoria!$B$44/(G9396*12*memoria!$B$47)","v":0},{"$f":"F9396/(G9396*12*memoria!$B$47)","v":0}]
[null,null,null,null,null,null,1,{"$f":"F9404*memoria!$B$44/(G9404*12*memoria!$B$47)","v":0},{"$f":"F9404/(G9404*12*memoria!$B$47)","v":0}]
[null,null,null,null,null,null,1,{"$f":"F9421*memoria!$B$44/(G9421*12*memoria!$B$47)","v":0},{"$f":"F9421/(G9421*12*memoria!$B$47)","v":0}]
[null,null,null,null,null,null,1,{"$f":"F9431*memoria!$B$44/(G9431*12*memoria!$B$47)","v":0},{"$f":"F9431/(G9431*12*memoria!$B$47)","v":0}]
[null,null,null,null,null,null,1,{"$f":"F9433*memoria!$B$44/(G9433*12*memoria!$B$47)","v":0},{"$f":"F9433/(G9433*12*memoria!$B$47)","v":0}]
[null,null,null,null,null,null,1,{"$f":"F9448*memoria!$B$44/(G9448*12*memoria!$B$47)","v":0},{"$f":"F9448/(G9448*12*memoria!$B$47)","v":0}]
[null,null,null,null,null,null,1,{"$f":"F9465*memoria!$B$44/(G9465*12*memoria!$B$47)","v":0},{"$f":"F9465/(G9465*12*memoria!$B$47)","v":0}]
[null,null,null,null,null,null,1,{"$f":"F9471*memoria!$B$44/(G9471*12*memoria!$B$47)","v":0},{"$f":"F9471/(G9471*12*memoria!$B$47)","v":0}]
[null,null,null,null,null,null,1,{"$f":"F9486*memoria!$B$44/(G9486*12*memoria!$B$47)","v":0},{"$f":"F9486/(G9486*12*memoria!$B$47)","v":0}]
[null,null,null,null,null,null,1,{"$f":"F9499*memoria!$B$44/(G9499*12*memoria!$B$47)","v":0},{"$f":"F9499/(G9499*12*memoria!$B$47)","v":0}]
[null,null,null,null,null,null,null,{"$f":"F9509*memoria!$B$44/(G9509*12*memoria!$B$47)","v":{"$error":"#DIV/0!"}},{"$f":"F9509/(G9509*12*memoria!$B$47)","v":{"$error":"#DIV/0!"}}]
[null,null,null,null,null,null,null,{"$f":"F9515*memoria!$B$44/(G9515*12*memoria!$B$47)","v":{"$error":"#DIV/0!"}},{"$f":"F9515/(G9515*12*memoria!$B$47)","v":{"$error":"#DIV/0!"}}]
[null,null,null,null,null,null,null,{"$f":"F9533*memoria!$B$44/(G9533*12*memoria!$B$47)","v":{"$error":"#DIV/0!"}},{"$f":"F9533/(G9533*12*memoria!$B$47)","v":{"$error":"#DIV/0!"}}]
[null,null,null,null,null,null,null,{"$f":"F9543*memoria!$B$44/(G9543*12*memoria!$B$47)","v":{"$error":"#DIV/0!"}},{"$f":"F9543/(G9543*12*memoria!$B$47)","v":{"$error":"#DIV/0!"}}]
[null,null,null,null,null,null,null,{"$f":"F9549*memoria!$B$44/(G9549*12*memoria!$B$47)","v":{"$error":"#DIV/0!"}},{"$f":"F9549/(G9549*12*memoria!$B$47)","v":{"$error":"#DIV/0!"}}]
[null,null,null,null,null,null,null,{"$f":"F9564*memoria!$B$44/(G9564*12*memoria!$B$47)","v":{"$error":"#DIV/0!"}},{"$f":"F9564/(G9564*12*memoria!$B$47)","v":{"$error":"#DIV/0!"}}]
[null,null,null,null,null,null,null,{"$f":"F9577*memoria!$B$44/(G9577*12*memoria!$B$47)","v":{"$error":"#DIV/0!"}},{"$f":"F9577/(G9577*12*memoria!$B$47)","v":{"$error":"#DIV/0!"}}]
[null,null,null,null,null,null,null,{"$f":"F9583*memoria!$B$44/(G9583*12*memoria!$B$47)","v":{"$error":"#DIV/0!"}},{"$f":"F9583/(G9583*12*memoria!$B$47)","v":{"$error":"#DIV/0!"}}]
[null,null,null,null,null,null,null,{"$f":"F9597*memoria!$B$44/(G9597*12*memoria!$B$47)","v":{"$error":"#DIV/0!"}},{"$f":"F9597/(G9597*12*memoria!$B$47)","v":{"$error":"#DIV/0!"}}]
[null,null,null,null,null,null,null,{"$f":"F9611*memoria!$B$44/(G9611*12*memoria!$B$47)","v":{"$error":"#DIV/0!"}},{"$f":"F9611/(G9611*12*memoria!$B$47)","v":{"$error":"#DIV/0!"}}]
[null,null,null,null,null,null,null,{"$f":"F9617*memoria!$B$44/(G9617*12*memoria!$B$47)","v":{"$error":"#DIV/0!"}},{"$f":"F9617/(G9617*12*memoria!$B$47)","v":{"$error":"#DIV/0!"}}]
[null,null,null,null,null,null,null,{"$f":"F9627*memoria!$B$44/(G9627*12*memoria!$B$47)","v":{"$error":"#DIV/0!"}},{"$f":"F9627/(G9627*12*memoria!$B$47)","v":{"$error":"#DIV/0!"}}]
[null,null,null,null,null,null,null,{"$f":"F9646*memoria!$B$44/(G9646*12*memoria!$B$47)","v":{"$error":"#DIV/0!"}},{"$f":"F9646/(G9646*12*memoria!$B$47)","v":{"$error":"#DIV/0!"}}]
[null,null,null,null,null,null,null,{"$f":"F9651*memoria!$B$44/(G9651*12*memoria!$B$47)","v":{"$error":"#DIV/0!"}},{"$f":"F9651/(G9651*12*memoria!$B$47)","v":{"$error":"#DIV/0!"}}]
[null,null,null,null,null,null,null,{"$f":"F9661*memoria!$B$44/(G9661*12*memoria!$B$47)","v":{"$error":"#DIV/0!"}},{"$f":"F9661/(G9661*12*memoria!$B$47)","v":{"$error":"#DIV/0!"}}]
[null,null,null,null,null,null,null,{"$f":"F9678*memoria!$B$44/(G9678*12*memoria!$B$47)","v":{"$error":"#DIV/0!"}},{"$f":"F9678/(G9678*12*memoria!$B$47)","v":{"$error":"#DIV/0!"}}]
[null,null,null,null,null,null,null,{"$f":"F9687*memoria!$B$44/(G9687*12*memoria!$B$47)","v":{"$error":"#DIV/0!"}},{"$f":"F9687/(G9687*12*memoria!$B$47)","v":{"$error":"#DIV/0!"}}]
[null,null,null,null,null,null,null,{"$f":"F9695*memoria!$B$44/(G9695*12*memoria!$B$47)","v":{"$error":"#DIV/0!"}},{"$f":"F9695/(G9695*12*memoria!$B$47)","v":{"$error":"#DIV/0!"}}]
[null,null,null,null,null,null,null,{"$f":"F9712*memoria!$B$44/(G9712*12*memoria!$B$47)","v":{"$error":"#DIV/0!"}},{"$f":"F9712/(G9712*12*memoria!$B$47)","v":{"$error":"#DIV/0!"}}]
[null,null,null,null,null,null,null,{"$f":"F9716*memoria!$B$44/(G9716*12*memoria!$B$47)","v":{"$error":"#DIV/0!"}},{"$f":"F9716/(G9716*12*memoria!$B$47)","v":{"$error":"#DIV/0!"}}]
[null,null,null,null,null,null,null,{"$f":"F9729*memoria!$B$44/(G9729*12*memoria!$B$47)","v":{"$error":"#DIV/0!"}},{"$f":"F9729/(G9729*12*memoria!$B$47)","v":{"$error":"#DIV/0!"}}]
[null,null,null,null,null,null,null,{"$f":"F9739*memoria!$B$44/(G9739*12*memoria!$B$47)","v":{"$error":"#DIV/0!"}},{"$f":"F9739/(G9739*12*memoria!$B$47)","v":{"$error":"#DIV/0!"}}]
[null,null,null,null,null,null,null,{"$f":"F9756*memoria!$B$44/(G9756*12*memoria!$B$47)","v":{"$error":"#DIV/0!"}},{"$f":"F9756/(G9756*12*memoria!$B$47)","v":{"$error":"#DIV/0!"}}]
[null,null,null,null,null,null,null,{"$f":"F9765*memoria!$B$44/(G9765*12*memoria!$B$47)","v":{"$error":"#DIV/0!"}},{"$f":"F9765/(G9765*12*memoria!$B$47)","v":{"$error":"#DIV/0!"}}]
[null,null,null,null,null,null,null,{"$f":"F9773*memoria!$B$44/(G9773*12*memoria!$B$47)","v":{"$error":"#DIV/0!"}},{"$f":"F9773/(G9773*12*memoria!$B$47)","v":{"$error":"#DIV/0!"}}]
[null,null,null,null,null,null,null,{"$f":"F9790*memoria!$B$44/(G9790*12*memoria!$B$47)","v":{"$error":"#DIV/0!"}},{"$f":"F9790/(G9790*12*memoria!$B$47)","v":{"$error":"#DIV/0!"}}]
[null,null,null,null,null,null,null,{"$f":"F9794*memoria!$B$44/(G9794*12*memoria!$B$47)","v":{"$error":"#DIV/0!"}},{"$f":"F9794/(G9794*12*memoria!$B$47)","v":{"$error":"#DIV/0!"}}]
[null,null,null,null,null,null,null,{"$f":"F9807*memoria!$B$44/(G9807*12*memoria!$B$47)","v":{"$error":"#DIV/0!"}},{"$f":"F9807/(G9807*12*memoria!$B$47)","v":{"$error":"#DIV/0!"}}]
[null,null,null,null,null,null,null,{"$f":"F9824*memoria!$B$44/(G9824*12*memoria!$B$47)","v":{"$error":"#DIV/0!"}},{"$f":"F9824/(G9824*12*memoria!$B$47)","v":{"$error":"#DIV/0!"}}]
[null,null,null,null,null,null,null,{"$f":"F9834*memoria!$B$44/(G9834*12*memoria!$B$47)","v":{"$error":"#DIV/0!"}},{"$f":"F9834/(G9834*12*memoria!$B$47)","v":{"$error":"#DIV/0!"}}]
[null,null,null,null,null,null,null,{"$f":"F9847*memoria!$B$44/(G9847*12*memoria!$B$47)","v":{"$error":"#DIV/0!"}},{"$f":"F9847/(G9847*12*memoria!$B$47)","v":{"$error":"#DIV/0!"}}]
[null,null,null,null,null,null,null,{"$f":"F9858*memoria!$B$44/(G9858*12*memoria!$B$47)","v":{"$error":"#DIV/0!"}},{"$f":"F9858/(G9858*12*memoria!$B$47)","v":{"$error":"#DIV/0!"}}]
[null,null,null,null,null,null,null,{"$f":"F9868*memoria!$B$44/(G9868*12*memoria!$B$47)","v":{"$error":"#DIV/0!"}},{"$f":"F9868/(G9868*12*memoria!$B$47)","v":{"$error":"#DIV/0!"}}]
[null,null,null,null,null,null,null,{"$f":"F9876*memoria!$B$44/(G9876*12*memoria!$B$47)","v":{"$error":"#DIV/0!"}},{"$f":"F9876/(G9876*12*memoria!$B$47)","v":{"$error":"#DIV/0!"}}]
[null,null,null,null,null,null,null,{"$f":"F9892*memoria!$B$44/(G9892*12*memoria!$B$47)","v":{"$error":"#DIV/0!"}},{"$f":"F9892/(G9892*12*memoria!$B$47)","v":{"$error":"#DIV/0!"}}]
[null,null,null,null,null,null,null,{"$f":"F9902*memoria!$B$44/(G9902*12*memoria!$B$47)","v":{"$error":"#DIV/0!"}},{"$f":"F9902/(G9902*12*memoria!$B$47)","v":{"$error":"#DIV/0!"}}]
[null,null,null,null,null,null,null,{"$f":"F9908*memoria!$B$44/(G9908*12*memoria!$B$47)","v":{"$error":"#DIV/0!"}},{"$f":"F9908/(G9908*12*memoria!$B$47)","v":{"$error":"#DIV/0!"}}]
[null,null,null,null,null,null,null,{"$f":"F9929*memoria!$B$44/(G9929*12*memoria!$B$47)","v":{"$error":"#DIV/0!"}},{"$f":"F9929/(G9929*12*memoria!$B$47)","v":{"$error":"#DIV/0!"}}]
[null,null,null,null,null,null,null,{"$f":"F9936*memoria!$B$44/(G9936*12*memoria!$B$47)","v":{"$error":"#DIV/0!"}},{"$f":"F9936/(G9936*12*memoria!$B$47)","v":{"$error":"#DIV/0!"}}]
[null,null,null,null,null,null,null,{"$f":"F9942*memoria!$B$44/(G9942*12*memoria!$B$47)","v":{"$error":"#DIV/0!"}},{"$f":"F9942/(G9942*12*memoria!$B$47)","v":{"$error":"#DIV/0!"}}]
[null,null,null,null,null,null,null,{"$f":"F9952*memoria!$B$44/(G9952*12*memoria!$B$47)","v":{"$error":"#DIV/0!"}},{"$f":"F9952/(G9952*12*memoria!$B$47)","v":{"$error":"#DIV/0!"}}]
[null,null,null,null,null,null,null,{"$f":"F9966*memoria!$B$44/(G9966*12*memoria!$B$47)","v":{"$error":"#DIV/0!"}},{"$f":"F9966/(G9966*12*memoria!$B$47)","v":{"$error":"#DIV/0!"}}]
[null,null,null,null,null,null,null,{"$f":"F9980*memoria!$B$44/(G9980*12*memoria!$B$47)","v":{"$error":"#DIV/0!"}},{"$f":"F9980/(G9980*12*memoria!$B$47)","v":{"$error":"#DIV/0!"}}]
[null,null,null,null,null,null,null,{"$f":"F9986*memoria!$B$44/(G9986*12*memoria!$B$47)","v":{"$error":"#DIV/0!"}},{"$f":"F9986/(G9986*12*memoria!$B$47)","v":{"$error":"#DIV/0!"}}]
[null,null,null,null,null,null,null,{"$f":"F10007*memoria!$B$44/(G10007*12*memoria!$B$47)","v":{"$error":"#DIV/0!"}},{"$f":"F10007/(G10007*12*memoria!$B$47)","v":{"$error":"#DIV/0!"}}]
[null,null,null,null,null,null,null,{"$f":"F10014*memoria!$B$44/(G10014*12*memoria!$B$47)","v":{"$error":"#DIV/0!"}},{"$f":"F10014/(G10014*12*memoria!$B$47)","v":{"$error":"#DIV/0!"}}]
[null,null,null,null,null,null,null,{"$f":"F10020*memoria!$B$44/(G10020*12*memoria!$B$47)","v":{"$error":"#DIV/0!"}},{"$f":"F10020/(G10020*12*memoria!$B$47)","v":{"$error":"#DIV/0!"}}]
[null,null,null,null,null,null,null,{"$f":"F10037*memoria!$B$44/(G10037*12*memoria!$B$47)","v":{"$error":"#DIV/0!"}},{"$f":"F10037/(G10037*12*memoria!$B$47)","v":{"$error":"#DIV/0!"}}]
[null,null,null,null,null,null,null,{"$f":"F10048*memoria!$B$44/(G10048*12*memoria!$B$47)","v":{"$error":"#DIV/0!"}},{"$f":"F10048/(G10048*12*memoria!$B$47)","v":{"$error":"#DIV/0!"}}]
[null,null,null,null,null,null,null,{"$f":"F10054*memoria!$B$44/(G10054*12*memoria!$B$47)","v":{"$error":"#DIV/0!"}},{"$f":"F10054/(G10054*12*memoria!$B$47)","v":{"$error":"#DIV/0!"}}]
[null,null,null,null,null,null,null,{"$f":"F10075*memoria!$B$44/(G10075*12*memoria!$B$47)","v":{"$error":"#DIV/0!"}},{"$f":"F10075/(G10075*12*memoria!$B$47)","v":{"$error":"#DIV/0!"}}]
[null,null,null,null,null,null,null,{"$f":"F10077*memoria!$B$44/(G10077*12*memoria!$B$47)","v":{"$error":"#DIV/0!"}},{"$f":"F10077/(G10077*12*memoria!$B$47)","v":{"$error":"#DIV/0!"}}]
[null,null,null,null,null,null,null,{"$f":"F10088*memoria!$B$44/(G10088*12*memoria!$B$47)","v":{"$error":"#DIV/0!"}},{"$f":"F10088/(G10088*12*memoria!$B$47)","v":{"$error":"#DIV/0!"}}]
[null,null,null,null,null,null,null,{"$f":"F10109*memoria!$B$44/(G10109*12*memoria!$B$47)","v":{"$error":"#DIV/0!"}},{"$f":"F10109/(G10109*12*memoria!$B$47)","v":{"$error":"#DIV/0!"}}]
[null,null,null,null,null,null,null,{"$f":"F10115*memoria!$B$44/(G10115*12*memoria!$B$47)","v":{"$error":"#DIV/0!"}},{"$f":"F10115/(G10115*12*memoria!$B$47)","v":{"$error":"#DIV/0!"}}]
[null,null,null,null,null,null,null,{"$f":"F10130*memoria!$B$44/(G10130*12*memoria!$B$47)","v":{"$error":"#DIV/0!"}},{"$f":"F10130/(G10130*12*memoria!$B$47)","v":{"$error":"#DIV/0!"}}]
[null,null,null,null,null,null,null,{"$f":"F10143*memoria!$B$44/(G10143*12*memoria!$B$47)","v":{"$error":"#DIV/0!"}},{"$f":"F10143/(G10143*12*memoria!$B$47)","v":{"$error":"#DIV/0!"}}]
[null,null,null,null,null,null,null,{"$f":"F10149*memoria!$B$44/(G10149*12*memoria!$B$47)","v":{"$error":"#DIV/0!"}},{"$f":"F10149/(G10149*12*memoria!$B$47)","v":{"$error":"#DIV/0!"}}]
[null,null,null,null,null,null,null,{"$f":"F10159*memoria!$B$44/(G10159*12*memoria!$B$47)","v":{"$error":"#DIV/0!"}},{"$f":"F10159/(G10159*12*memoria!$B$47)","v":{"$error":"#DIV/0!"}}]
[null,null,null,null,null,null,null,{"$f":"F10167*memoria!$B$44/(G10167*12*memoria!$B$47)","v":{"$error":"#DIV/0!"}},{"$f":"F10167/(G10167*12*memoria!$B$47)","v":{"$error":"#DIV/0!"}}]
[null,null,null,null,null,null,null,{"$f":"F10183*memoria!$B$44/(G10183*12*memoria!$B$47)","v":{"$error":"#DIV/0!"}},{"$f":"F10183/(G10183*12*memoria!$B$47)","v":{"$error":"#DIV/0!"}}]
[null,null,null,null,null,null,null,{"$f":"F10193*memoria!$B$44/(G10193*12*memoria!$B$47)","v":{"$error":"#DIV/0!"}},{"$f":"F10193/(G10193*12*memoria!$B$47)","v":{"$error":"#DIV/0!"}}]
[null,null,null,null,null,null,null,{"$f":"F10208*memoria!$B$44/(G10208*12*memoria!$B$47)","v":{"$error":"#DIV/0!"}},{"$f":"F10208/(G10208*12*memoria!$B$47)","v":{"$error":"#DIV/0!"}}]
[null,null,null,null,null,null,null,{"$f":"F10221*memoria!$B$44/(G10221*12*memoria!$B$47)","v":{"$error":"#DIV/0!"}},{"$f":"F10221/(G10221*12*memoria!$B$47)","v":{"$error":"#DIV/0!"}}]
[null,null,null,null,null,null,null,{"$f":"F10227*memoria!$B$44/(G10227*12*memoria!$B$47)","v":{"$error":"#DIV/0!"}},{"$f":"F10227/(G10227*12*memoria!$B$47)","v":{"$error":"#DIV/0!"}}]
[null,null,null,null,null,null,null,{"$f":"F10244*memoria!$B$44/(G10244*12*memoria!$B$47)","v":{"$error":"#DIV/0!"}},{"$f":"F10244/(G10244*12*memoria!$B$47)","v":{"$error":"#DIV/0!"}}]
[null,null,null,null,null,null,null,{"$f":"F10249*memoria!$B$44/(G10249*12*memoria!$B$47)","v":{"$error":"#DIV/0!"}},{"$f":"F10249/(G10249*12*memoria!$B$47)","v":{"$error":"#DIV/0!"}}]
[null,null,null,null,null,null,null,{"$f":"F10261*memoria!$B$44/(G10261*12*memoria!$B$47)","v":{"$error":"#DIV/0!"}},{"$f":"F10261/(G10261*12*memoria!$B$47)","v":{"$error":"#DIV/0!"}}]
[null,null,null,null,null,null,null,{"$f":"F10278*memoria!$B$44/(G10278*12*memoria!$B$47)","v":{"$error":"#DIV/0!"}},{"$f":"F10278/(G10278*12*memoria!$B$47)","v":{"$error":"#DIV/0!"}}]
[null,null,null,null,null,null,null,{"$f":"F10290*memoria!$B$44/(G10290*12*memoria!$B$47)","v":{"$error":"#DIV/0!"}},{"$f":"F10290/(G10290*12*memoria!$B$47)","v":{"$error":"#DIV/0!"}}]
[null,null,null,null,null,null,null,{"$f":"F10295*memoria!$B$44/(G10295*12*memoria!$B$47)","v":{"$error":"#DIV/0!"}},{"$f":"F10295/(G10295*12*memoria!$B$47)","v":{"$error":"#DIV/0!"}}]
[null,null,null,null,null,null,null,{"$f":"F10305*memoria!$B$44/(G10305*12*memoria!$B$47)","v":{"$error":"#DIV/0!"}},{"$f":"F10305/(G10305*12*memoria!$B$47)","v":{"$error":"#DIV/0!"}}]
[null,null,null,null,null,null,null,{"$f":"F10322*memoria!$B$44/(G10322*12*memoria!$B$47)","v":{"$error":"#DIV/0!"}},{"$f":"F10322/(G10322*12*memoria!$B$47)","v":{"$error":"#DIV/0!"}}]
[null,null,null,null,null,null,null,{"$f":"F10327*memoria!$B$44/(G10327*12*memoria!$B$47)","v":{"$error":"#DIV/0!"}},{"$f":"F10327/(G10327*12*memoria!$B$47)","v":{"$error":"#DIV/0!"}}]
[null,null,null,null,null,null,null,{"$f":"F10339*memoria!$B$44/(G10339*12*memoria!$B$47)","v":{"$error":"#DIV/0!"}},{"$f":"F10339/(G10339*12*memoria!$B$47)","v":{"$error":"#DIV/0!"}}]
[null,null,null,null,null,null,null,{"$f":"F10356*memoria!$B$44/(G10356*12*memoria!$B$47)","v":{"$error":"#DIV/0!"}},{"$f":"F10356/(G10356*12*memoria!$B$47)","v":{"$error":"#DIV/0!"}}]
[null,null,null,null,null,null,null,{"$f":"F10360*memoria!$B$44/(G10360*12*memoria!$B$47)","v":{"$error":"#DIV/0!"}},{"$f":"F10360/(G10360*12*memoria!$B$47)","v":{"$error":"#DIV/0!"}}]
[null,null,null,null,null,null,null,{"$f":"F10373*memoria!$B$44/(G10373*12*memoria!$B$47)","v":{"$error":"#DIV/0!"}},{"$f":"F10373/(G10373*12*memoria!$B$47)","v":{"$error":"#DIV/0!"}}]
[null,null,null,null,null,null,null,{"$f":"F10390*memoria!$B$44/(G10390*12*memoria!$B$47)","v":{"$error":"#DIV/0!"}},{"$f":"F10390/(G10390*12*memoria!$B$47)","v":{"$error":"#DIV/0!"}}]
[null,null,null,null,null,null,null,{"$f":"F10400*memoria!$B$44/(G10400*12*memoria!$B$47)","v":{"$error":"#DIV/0!"}},{"$f":"F10400/(G10400*12*memoria!$B$47)","v":{"$error":"#DIV/0!"}}]
[null,null,null,null,null,null,null,{"$f":"F10409*memoria!$B$44/(G10409*12*memoria!$B$47)","v":{"$error":"#DIV/0!"}},{"$f":"F10409/(G10409*12*memoria!$B$47)","v":{"$error":"#DIV/0!"}}]
[null,null,null,null,null,null,null,{"$f":"F10424*memoria!$B$44/(G10424*12*memoria!$B$47)","v":{"$error":"#DIV/0!"}},{"$f":"F10424/(G10424*12*memoria!$B$47)","v":{"$error":"#DIV/0!"}}]
[null,null,null,null,null,null,null,{"$f":"F10434*memoria!$B$44/(G10434*12*memoria!$B$47)","v":{"$error":"#DIV/0!"}},{"$f":"F10434/(G10434*12*memoria!$B$47)","v":{"$error":"#DIV/0!"}}]
[null,null,null,null,null,null,null,{"$f":"F10440*memoria!$B$44/(G10440*12*memoria!$B$47)","v":{"$error":"#DIV/0!"}},{"$f":"F10440/(G10440*12*memoria!$B$47)","v":{"$error":"#DIV/0!"}}]
[null,null,null,null,null,null,null,{"$f":"F10450*memoria!$B$44/(G10450*12*memoria!$B$47)","v":{"$error":"#DIV/0!"}},{"$f":"F10450/(G10450*12*memoria!$B$47)","v":{"$error":"#DIV/0!"}}]
[null,null,null,null,null,null,null,{"$f":"F10468*memoria!$B$44/(G10468*12*memoria!$B$47)","v":{"$error":"#DIV/0!"}},{"$f":"F10468/(G10468*12*memoria!$B$47)","v":{"$error":"#DIV/0!"}}]
[null,null,null,null,null,null,null,{"$f":"F10474*memoria!$B$44/(G10474*12*memoria!$B$47)","v":{"$error":"#DIV/0!"}},{"$f":"F10474/(G10474*12*memoria!$B$47)","v":{"$error":"#DIV/0!"}}]
[null,null,null,null,null,null,null,{"$f":"F10491*memoria!$B$44/(G10491*12*memoria!$B$47)","v":{"$error":"#DIV/0!"}},{"$f":"F10491/(G10491*12*memoria!$B$47)","v":{"$error":"#DIV/0!"}}]
[null,null,null,null,null,null,null,{"$f":"F10502*memoria!$B$44/(G10502*12*memoria!$B$47)","v":{"$error":"#DIV/0!"}},{"$f":"F10502/(G10502*12*memoria!$B$47)","v":{"$error":"#DIV/0!"}}]
[null,null,null,null,null,null,null,{"$f":"F10512*memoria!$B$44/(G10512*12*memoria!$B$47)","v":{"$error":"#DIV/0!"}},{"$f":"F10512/(G10512*12*memoria!$B$47)","v":{"$error":"#DIV/0!"}}]
[null,null,null,null,null,null,null,{"$f":"F10518*memoria!$B$44/(G10518*12*memoria!$B$47)","v":{"$error":"#DIV/0!"}},{"$f":"F10518/(G10518*12*memoria!$B$47)","v":{"$error":"#DIV/0!"}}]
[null,null,null,null,null,null,null,{"$f":"F10528*memoria!$B$44/(G10528*12*memoria!$B$47)","v":{"$error":"#DIV/0!"}},{"$f":"F10528/(G10528*12*memoria!$B$47)","v":{"$error":"#DIV/0!"}}]
[null,null,null,null,null,null,null,{"$f":"F10546*memoria!$B$44/(G10546*12*memoria!$B$47)","v":{"$error":"#DIV/0!"}},{"$f":"F10546/(G10546*12*memoria!$B$47)","v":{"$error":"#DIV/0!"}}]
[null,null,null,null,null,null,null,{"$f":"F10552*memoria!$B$44/(G10552*12*memoria!$B$47)","v":{"$error":"#DIV/0!"}},{"$f":"F10552/(G10552*12*memoria!$B$47)","v":{"$error":"#DIV/0!"}}]
[null,null,null,null,null,null,null,{"$f":"F10569*memoria!$B$44/(G10569*12*memoria!$B$47)","v":{"$error":"#DIV/0!"}},{"$f":"F10569/(G10569*12*memoria!$B$47)","v":{"$error":"#DIV/0!"}}]
[null,null,null,null,null,null,null,{"$f":"F10580*memoria!$B$44/(G10580*12*memoria!$B$47)","v":{"$error":"#DIV/0!"}},{"$f":"F10580/(G10580*12*memoria!$B$47)","v":{"$error":"#DIV/0!"}}]
[null,null,null,null,null,null,null,{"$f":"F10586*memoria!$B$44/(G10586*12*memoria!$B$47)","v":{"$error":"#DIV/0!"}},{"$f":"F10586/(G10586*12*memoria!$B$47)","v":{"$error":"#DIV/0!"}}]
[null,null,null,null,null,null,null,{"$f":"F10596*memoria!$B$44/(G10596*12*memoria!$B$47)","v":{"$error":"#DIV/0!"}},{"$f":"F10596/(G10596*12*memoria!$B$47)","v":{"$error":"#DIV/0!"}}]
[null,null,null,null,null,null,null,{"$f":"F10610*memoria!$B$44/(G10610*12*memoria!$B$47)","v":{"$error":"#DIV/0!"}},{"$f":"F10610/(G10610*12*memoria!$B$47)","v":{"$error":"#DIV/0!"}}]
[null,null,null,null,null,null,null,{"$f":"F10620*memoria!$B$44/(G10620*12*memoria!$B$47)","v":{"$error":"#DIV/0!"}},{"$f":"F10620/(G10620*12*memoria!$B$47)","v":{"$error":"#DIV/0!"}}]
[null,null,null,null,null,null,null,{"$f":"F10630*memoria!$B$44/(G10630*12*memoria!$B$47)","v":{"$error":"#DIV/0!"}},{"$f":"F10630/(G10630*12*memoria!$B$47)","v":{"$error":"#DIV/0!"}}]
[null,null,null,null,null,null,null,{"$f":"F10647*memoria!$B$44/(G10647*12*memoria!$B$47)","v":{"$error":"#DIV/0!"}},{"$f":"F10647/(G10647*12*memoria!$B$47)","v":{"$error":"#DIV/0!"}}]
[null,null,null,null,null,null,null,{"$f":"F10659*memoria!$B$44/(G10659*12*memoria!$B$47)","v":{"$error":"#DIV/0!"}},{"$f":"F10659/(G10659*12*memoria!$B$47)","v":{"$error":"#DIV/0!"}}]
[null,null,null,null,null,null,null,{"$f":"F10664*memoria!$B$44/(G10664*12*memoria!$B$47)","v":{"$error":"#DIV/0!"}},{"$f":"F10664/(G10664*12*memoria!$B$47)","v":{"$error":"#DIV/0!"}}]
[null,null,null,null,null,null,null,{"$f":"F10681*memoria!$B$44/(G10681*12*memoria!$B$47)","v":{"$error":"#DIV/0!"}},{"$f":"F10681/(G10681*12*memoria!$B$47)","v":{"$error":"#DIV/0!"}}]
[null,null,null,null,null,null,null,{"$f":"F10692*memoria!$B$44/(G10692*12*memoria!$B$47)","v":{"$error":"#DIV/0!"}},{"$f":"F10692/(G10692*12*memoria!$B$47)","v":{"$error":"#DIV/0!"}}]
[null,null,null,null,null,null,null,{"$f":"F10698*memoria!$B$44/(G10698*12*memoria!$B$47)","v":{"$error":"#DIV/0!"}},{"$f":"F10698/(G10698*12*memoria!$B$47)","v":{"$error":"#DIV/0!"}}]
[null,null,null,null,null,null,null,{"$f":"F10715*memoria!$B$44/(G10715*12*memoria!$B$47)","v":{"$error":"#DIV/0!"}},{"$f":"F10715/(G10715*12*memoria!$B$47)","v":{"$error":"#DIV/0!"}}]
[null,null,null,null,null,null,null,{"$f":"F10725*memoria!$B$44/(G10725*12*memoria!$B$47)","v":{"$error":"#DIV/0!"}},{"$f":"F10725/(G10725*12*memoria!$B$47)","v":{"$error":"#DIV/0!"}}]
[null,null,null,null,null,null,null,{"$f":"F10741*memoria!$B$44/(G10741*12*memoria!$B$47)","v":{"$error":"#DIV/0!"}},{"$f":"F10741/(G10741*12*memoria!$B$47)","v":{"$error":"#DIV/0!"}}]
[null,null,null,null,null,null,null,{"$f":"F10742*memoria!$B$44/(G10742*12*memoria!$B$47)","v":{"$error":"#DIV/0!"}},{"$f":"F10742/(G10742*12*memoria!$B$47)","v":{"$error":"#DIV/0!"}}]
[null,null,null,null,null,null,null,{"$f":"F10759*memoria!$B$44/(G10759*12*memoria!$B$47)","v":{"$error":"#DIV/0!"}},{"$f":"F10759/(G10759*12*memoria!$B$47)","v":{"$error":"#DIV/0!"}}]
[null,null,null,null,null,null,null,{"$f":"F10770*memoria!$B$44/(G10770*12*memoria!$B$47)","v":{"$error":"#DIV/0!"}},{"$f":"F10770/(G10770*12*memoria!$B$47)","v":{"$error":"#DIV/0!"}}]
[null,null,null,null,null,null,null,{"$f":"F10776*memoria!$B$44/(G10776*12*memoria!$B$47)","v":{"$error":"#DIV/0!"}},{"$f":"F10776/(G10776*12*memoria!$B$47)","v":{"$error":"#DIV/0!"}}]
[null,null,null,null,null,null,null,{"$f":"F10793*memoria!$B$44/(G10793*12*memoria!$B$47)","v":{"$error":"#DIV/0!"}},{"$f":"F10793/(G10793*12*memoria!$B$47)","v":{"$error":"#DIV/0!"}}]
[null,null,null,null,null,null,null,{"$f":"F10799*memoria!$B$44/(G10799*12*memoria!$B$47)","v":{"$error":"#DIV/0!"}},{"$f":"F10799/(G10799*12*memoria!$B$47)","v":{"$error":"#DIV/0!"}}]
[null,null,null,null,null,null,null,{"$f":"F10811*memoria!$B$44/(G10811*12*memoria!$B$47)","v":{"$error":"#DIV/0!"}},{"$f":"F10811/(G10811*12*memoria!$B$47)","v":{"$error":"#DIV/0!"}}]
[null,null,null,null,null,null,null,{"$f":"F10827*memoria!$B$44/(G10827*12*memoria!$B$47)","v":{"$error":"#DIV/0!"}},{"$f":"F10827/(G10827*12*memoria!$B$47)","v":{"$error":"#DIV/0!"}}]
[null,null,null,null,null,null,null,{"$f":"F10837*memoria!$B$44/(G10837*12*memoria!$B$47)","v":{"$error":"#DIV/0!"}},{"$f":"F10837/(G10837*12*memoria!$B$47)","v":{"$error":"#DIV/0!"}}]
[null,null,null,null,null,null,null,{"$f":"F10852*memoria!$B$44/(G10852*12*memoria!$B$47)","v":{"$error":"#DIV/0!"}},{"$f":"F10852/(G10852*12*memoria!$B$47)","v":{"$error":"#DIV/0!"}}]
[null,null,null,null,null,null,null,{"$f":"F10861*memoria!$B$44/(G10861*12*memoria!$B$47)","v":{"$error":"#DIV/0!"}},{"$f":"F10861/(G10861*12*memoria!$B$47)","v":{"$error":"#DIV/0!"}}]
[null,null,null,null,null,null,null,{"$f":"F10871*memoria!$B$44/(G10871*12*memoria!$B$47)","v":{"$error":"#DIV/0!"}},{"$f":"F10871/(G10871*12*memoria!$B$47)","v":{"$error":"#DIV/0!"}}]
[null,null,null,null,null,null,null,{"$f":"F10877*memoria!$B$44/(G10877*12*memoria!$B$47)","v":{"$error":"#DIV/0!"}},{"$f":"F10877/(G10877*12*memoria!$B$47)","v":{"$error":"#DIV/0!"}}]
[null,null,null,null,null,null,null,{"$f":"F10889*memoria!$B$44/(G10889*12*memoria!$B$47)","v":{"$error":"#DIV/0!"}},{"$f":"F10889/(G10889*12*memoria!$B$47)","v":{"$error":"#DIV/0!"}}]
[null,null,null,null,null,null,null,{"$f":"F10905*memoria!$B$44/(G10905*12*memoria!$B$47)","v":{"$error":"#DIV/0!"}},{"$f":"F10905/(G10905*12*memoria!$B$47)","v":{"$error":"#DIV/0!"}}]
[null,null,null,null,null,null,null,{"$f":"F10911*memoria!$B$44/(G10911*12*memoria!$B$47)","v":{"$error":"#DIV/0!"}},{"$f":"F10911/(G10911*12*memoria!$B$47)","v":{"$error":"#DIV/0!"}}]
[null,null,null,null,null,null,null,{"$f":"F10932*memoria!$B$44/(G10932*12*memoria!$B$47)","v":{"$error":"#DIV/0!"}},{"$f":"F10932/(G10932*12*memoria!$B$47)","v":{"$error":"#DIV/0!"}}]
[null,null,null,null,null,null,null,{"$f":"F10942*memoria!$B$44/(G10942*12*memoria!$B$47)","v":{"$error":"#DIV/0!"}},{"$f":"F10942/(G10942*12*memoria!$B$47)","v":{"$error":"#DIV/0!"}}]
[null,null,null,null,null,null,null,{"$f":"F10945*memoria!$B$44/(G10945*12*memoria!$B$47)","v":{"$error":"#DIV/0!"}},{"$f":"F10945/(G10945*12*memoria!$B$47)","v":{"$error":"#DIV/0!"}}]
[null,null,null,null,null,null,null,{"$f":"F10966*memoria!$B$44/(G10966*12*memoria!$B$47)","v":{"$error":"#DIV/0!"}},{"$f":"F10966/(G10966*12*memoria!$B$47)","v":{"$error":"#DIV/0!"}}]
[null,null,null,null,null,null,null,{"$f":"F10971*memoria!$B$44/(G10971*12*memoria!$B$47)","v":{"$error":"#DIV/0!"}},{"$f":"F10971/(G10971*12*memoria!$B$47)","v":{"$error":"#DIV/0!"}}]
[null,null,null,null,null,null,null,{"$f":"F10983*memoria!$B$44/(G10983*12*memoria!$B$47)","v":{"$error":"#DIV/0!"}},{"$f":"F10983/(G10983*12*memoria!$B$47)","v":{"$error":"#DIV/0!"}}]
[null,null,null,null,null,null,null,{"$f":"F11000*memoria!$B$44/(G11000*12*memoria!$B$47)","v":{"$error":"#DIV/0!"}},{"$f":"F11000/(G11000*12*memoria!$B$47)","v":{"$error":"#DIV/0!"}}]
[null,null,null,null,null,null,null,{"$f":"F11006*memoria!$B$44/(G11006*12*memoria!$B$47)","v":{"$error":"#DIV/0!"}},{"$f":"F11006/(G11006*12*memoria!$B$47)","v":{"$error":"#DIV/0!"}}]
[null,null,null,null,null,null,null,{"$f":"F11012*memoria!$B$44/(G11012*12*memoria!$B$47)","v":{"$error":"#DIV/0!"}},{"$f":"F11012/(G11012*12*memoria!$B$47)","v":{"$error":"#DIV/0!"}}]
[null,null,null,null,null,null,null,{"$f":"F11034*memoria!$B$44/(G11034*12*memoria!$B$47)","v":{"$error":"#DIV/0!"}},{"$f":"F11034/(G11034*12*memoria!$B$47)","v":{"$error":"#DIV/0!"}}]
[null,null,null,null,null,null,null,{"$f":"F11040*memoria!$B$44/(G11040*12*memoria!$B$47)","v":{"$error":"#DIV/0!"}},{"$f":"F11040/(G11040*12*memoria!$B$47)","v":{"$error":"#DIV/0!"}}]
[null,null,null,null,null,null,null,{"$f":"F11053*memoria!$B$44/(G11053*12*memoria!$B$47)","v":{"$error":"#DIV/0!"}},{"$f":"F11053/(G11053*12*memoria!$B$47)","v":{"$error":"#DIV/0!"}}]
[null,null,null,null,null,null,null,{"$f":"F11068*memoria!$B$44/(G11068*12*memoria!$B$47)","v":{"$error":"#DIV/0!"}},{"$f":"F11068/(G11068*12*memoria!$B$47)","v":{"$error":"#DIV/0!"}}]
[null,null,null,null,null,null,null,{"$f":"F11078*memoria!$B$44/(G11078*12*memoria!$B$47)","v":{"$error":"#DIV/0!"}},{"$f":"F11078/(G11078*12*memoria!$B$47)","v":{"$error":"#DIV/0!"}}]
[null,null,null,null,null,null,null,{"$f":"F11084*memoria!$B$44/(G11084*12*memoria!$B$47)","v":{"$error":"#DIV/0!"}},{"$f":"F11084/(G11084*12*memoria!$B$47)","v":{"$error":"#DIV/0!"}}]
[null,null,null,null,null,null,null,{"$f":"F11102*memoria!$B$44/(G11102*12*memoria!$B$47)","v":{"$error":"#DIV/0!"}},{"$f":"F11102/(G11102*12*memoria!$B$47)","v":{"$error":"#DIV/0!"}}]
[null,null,null,null,null,null,null,{"$f":"F11112*memoria!$B$44/(G11112*12*memoria!$B$47)","v":{"$error":"#DIV/0!"}},{"$f":"F11112/(G11112*12*memoria!$B$47)","v":{"$error":"#DIV/0!"}}]
[null,null,null,null,null,null,null,{"$f":"F11118*memoria!$B$44/(G11118*12*memoria!$B$47)","v":{"$error":"#DIV/0!"}},{"$f":"F11118/(G11118*12*memoria!$B$47)","v":{"$error":"#DIV/0!"}}]
[null,null,null,null,null,null,null,{"$f":"F11128*memoria!$B$44/(G11128*12*memoria!$B$47)","v":{"$error":"#DIV/0!"}},{"$f":"F11128/(G11128*12*memoria!$B$47)","v":{"$error":"#DIV/0!"}}]
[null,null,null,null,null,null,null,{"$f":"F11143*memoria!$B$44/(G11143*12*memoria!$B$47)","v":{"$error":"#DIV/0!"}},{"$f":"F11143/(G11143*12*memoria!$B$47)","v":{"$error":"#DIV/0!"}}]
[null,null,null,null,null,null,null,{"$f":"F11152*memoria!$B$44/(G11152*12*memoria!$B$47)","v":{"$error":"#DIV/0!"}},{"$f":"F11152/(G11152*12*memoria!$B$47)","v":{"$error":"#DIV/0!"}}]
[null,null,null,null,null,null,null,{"$f":"F11162*memoria!$B$44/(G11162*12*memoria!$B$47)","v":{"$error":"#DIV/0!"}},{"$f":"F11162/(G11162*12*memoria!$B$47)","v":{"$error":"#DIV/0!"}}]
[null,null,null,null,null,null,null,{"$f":"F11172*memoria!$B$44/(G11172*12*memoria!$B$47)","v":{"$error":"#DIV/0!"}},{"$f":"F11172/(G11172*12*memoria!$B$47)","v":{"$error":"#DIV/0!"}}]
[null,null,null,null,null,null,null,{"$f":"F11186*memoria!$B$44/(G11186*12*memoria!$B$47)","v":{"$error":"#DIV/0!"}},{"$f":"F11186/(G11186*12*memoria!$B$47)","v":{"$error":"#DIV/0!"}}]
[null,null,null,null,null,null,null,{"$f":"F11196*memoria!$B$44/(G11196*12*memoria!$B$47)","v":{"$error":"#DIV/0!"}},{"$f":"F11196/(G11196*12*memoria!$B$47)","v":{"$error":"#DIV/0!"}}]
[null,null,null,null,null,null,null,{"$f":"F11213*memoria!$B$44/(G11213*12*memoria!$B$47)","v":{"$error":"#DIV/0!"}},{"$f":"F11213/(G11213*12*memoria!$B$47)","v":{"$error":"#DIV/0!"}}]
[null,null,null,null,null,null,null,{"$f":"F11225*memoria!$B$44/(G11225*12*memoria!$B$47)","v":{"$error":"#DIV/0!"}},{"$f":"F11225/(G11225*12*memoria!$B$47)","v":{"$error":"#DIV/0!"}}]
[null,null,null,null,null,null,null,{"$f":"F11230*memoria!$B$44/(G11230*12*memoria!$B$47)","v":{"$error":"#DIV/0!"}},{"$f":"F11230/(G11230*12*memoria!$B$47)","v":{"$error":"#DIV/0!"}}]
[null,null,null,null,null,null,null,{"$f":"F11247*memoria!$B$44/(G11247*12*memoria!$B$47)","v":{"$error":"#DIV/0!"}},{"$f":"F11247/(G11247*12*memoria!$B$47)","v":{"$error":"#DIV/0!"}}]
[null,null,null,null,null,null,null,{"$f":"F11254*memoria!$B$44/(G11254*12*memoria!$B$47)","v":{"$error":"#DIV/0!"}},{"$f":"F11254/(G11254*12*memoria!$B$47)","v":{"$error":"#DIV/0!"}}]
[null,null,null,null,null,null,null,{"$f":"F11264*memoria!$B$44/(G11264*12*memoria!$B$47)","v":{"$error":"#DIV/0!"}},{"$f":"F11264/(G11264*12*memoria!$B$47)","v":{"$error":"#DIV/0!"}}]
[null,null,null,null,null,null,null,{"$f":"F11281*memoria!$B$44/(G11281*12*memoria!$B$47)","v":{"$error":"#DIV/0!"}},{"$f":"F11281/(G11281*12*memoria!$B$47)","v":{"$error":"#DIV/0!"}}]
[null,null,null,null,null,null,null,{"$f":"F11291*memoria!$B$44/(G11291*12*memoria!$B$47)","v":{"$error":"#DIV/0!"}},{"$f":"F11291/(G11291*12*memoria!$B$47)","v":{"$error":"#DIV/0!"}}]
[null,null,null,null,null,null,null,{"$f":"F11303*memoria!$B$44/(G11303*12*memoria!$B$47)","v":{"$error":"#DIV/0!"}},{"$f":"F11303/(G11303*12*memoria!$B$47)","v":{"$error":"#DIV/0!"}}]
[null,null,null,null,null,null,null,{"$f":"F11308*memoria!$B$44/(G11308*12*memoria!$B$47)","v":{"$error":"#DIV/0!"}},{"$f":"F11308/(G11308*12*memoria!$B$47)","v":{"$error":"#DIV/0!"}}]
[null,null,null,null,null,null,null,{"$f":"F11325*memoria!$B$44/(G11325*12*memoria!$B$47)","v":{"$error":"#DIV/0!"}},{"$f":"F11325/(G11325*12*memoria!$B$47)","v":{"$error":"#DIV/0!"}}]
[null,null,null,null,null,null,null,{"$f":"F11332*memoria!$B$44/(G11332*12*memoria!$B$47)","v":{"$error":"#DIV/0!"}},{"$f":"F11332/(G11332*12*memoria!$B$47)","v":{"$error":"#DIV/0!"}}]
[null,null,null,null,null,null,null,{"$f":"F11342*memoria!$B$44/(G11342*12*memoria!$B$47)","v":{"$error":"#DIV/0!"}},{"$f":"F11342/(G11342*12*memoria!$B$47)","v":{"$error":"#DIV/0!"}}]
[null,null,null,null,null,null,null,{"$f":"F11359*memoria!$B$44/(G11359*12*memoria!$B$47)","v":{"$error":"#DIV/0!"}},{"$f":"F11359/(G11359*12*memoria!$B$47)","v":{"$error":"#DIV/0!"}}]
[null,null,null,null,null,null,null,{"$f":"F11369*memoria!$B$44/(G11369*12*memoria!$B$47)","v":{"$error":"#DIV/0!"}},{"$f":"F11369/(G11369*12*memoria!$B$47)","v":{"$error":"#DIV/0!"}}]
[null,null,null,null,null,null,null,{"$f":"F11373*memoria!$B$44/(G11373*12*memoria!$B$47)","v":{"$error":"#DIV/0!"}},{"$f":"F11373/(G11373*12*memoria!$B$47)","v":{"$error":"#DIV/0!"}}]
[null,null,null,null,null,null,null,{"$f":"F11393*memoria!$B$44/(G11393*12*memoria!$B$47)","v":{"$error":"#DIV/0!"}},{"$f":"F11393/(G11393*12*memoria!$B$47)","v":{"$error":"#DIV/0!"}}]
[null,null,null,null,null,null,null,{"$f":"F11403*memoria!$B$44/(G11403*12*memoria!$B$47)","v":{"$error":"#DIV/0!"}},{"$f":"F11403/(G11403*12*memoria!$B$47)","v":{"$error":"#DIV/0!"}}]
[null,null,null,null,null,null,null,{"$f":"F11409*memoria!$B$44/(G11409*12*memoria!$B$47)","v":{"$error":"#DIV/0!"}},{"$f":"F11409/(G11409*12*memoria!$B$47)","v":{"$error":"#DIV/0!"}}]
[null,null,null,null,null,null,null,{"$f":"F11422*memoria!$B$44/(G11422*12*memoria!$B$47)","v":{"$error":"#DIV/0!"}},{"$f":"F11422/(G11422*12*memoria!$B$47)","v":{"$error":"#DIV/0!"}}]
[null,null,null,null,null,null,null,{"$f":"F11437*memoria!$B$44/(G11437*12*memoria!$B$47)","v":{"$error":"#DIV/0!"}},{"$f":"F11437/(G11437*12*memoria!$B$47)","v":{"$error":"#DIV/0!"}}]
[null,null,null,null,null,null,null,{"$f":"F11443*memoria!$B$44/(G11443*12*memoria!$B$47)","v":{"$error":"#DIV/0!"}},{"$f":"F11443/(G11443*12*memoria!$B$47)","v":{"$error":"#DIV/0!"}}]
[null,null,null,null,null,null,null,{"$f":"F11455*memoria!$B$44/(G11455*12*memoria!$B$47)","v":{"$error":"#DIV/0!"}},{"$f":"F11455/(G11455*12*memoria!$B$47)","v":{"$error":"#DIV/0!"}}]
[null,null,null,null,null,null,null,{"$f":"F11471*memoria!$B$44/(G11471*12*memoria!$B$47)","v":{"$error":"#DIV/0!"}},{"$f":"F11471/(G11471*12*memoria!$B$47)","v":{"$error":"#DIV/0!"}}]
[null,null,null,null,null,null,null,{"$f":"F11477*memoria!$B$44/(G11477*12*memoria!$B$47)","v":{"$error":"#DIV/0!"}},{"$f":"F11477/(G11477*12*memoria!$B$47)","v":{"$error":"#DIV/0!"}}]
[null,null,null,null,null,null,null,{"$f":"F11487*memoria!$B$44/(G11487*12*memoria!$B$47)","v":{"$error":"#DIV/0!"}},{"$f":"F11487/(G11487*12*memoria!$B$47)","v":{"$error":"#DIV/0!"}}]
[null,null,null,null,null,null,null,{"$f":"F11504*memoria!$B$44/(G11504*12*memoria!$B$47)","v":{"$error":"#DIV/0!"}},{"$f":"F11504/(G11504*12*memoria!$B$47)","v":{"$error":"#DIV/0!"}}]
[null,null,null,null,null,null,null,{"$f":"F11511*memoria!$B$44/(G11511*12*memoria!$B$47)","v":{"$error":"#DIV/0!"}},{"$f":"F11511/(G11511*12*memoria!$B$47)","v":{"$error":"#DIV/0!"}}]
[null,null,null,null,null,null,null,{"$f":"F11521*memoria!$B$44/(G11521*12*memoria!$B$47)","v":{"$error":"#DIV/0!"}},{"$f":"F11521/(G11521*12*memoria!$B$47)","v":{"$error":"#DIV/0!"}}]
[null,null,null,null,null,null,null,{"$f":"F11533*memoria!$B$44/(G11533*12*memoria!$B$47)","v":{"$error":"#DIV/0!"}},{"$f":"F11533/(G11533*12*memoria!$B$47)","v":{"$error":"#DIV/0!"}}]
[null,null,null,null,null,null,null,{"$f":"F11549*memoria!$B$44/(G11549*12*memoria!$B$47)","v":{"$error":"#DIV/0!"}},{"$f":"F11549/(G11549*12*memoria!$B$47)","v":{"$error":"#DIV/0!"}}]
[null,null,null,null,null,null,null,{"$f":"F11555*memoria!$B$44/(G11555*12*memoria!$B$47)","v":{"$error":"#DIV/0!"}},{"$f":"F11555/(G11555*12*memoria!$B$47)","v":{"$error":"#DIV/0!"}}]
[null,null,null,null,null,null,null,{"$f":"F11572*memoria!$B$44/(G11572*12*memoria!$B$47)","v":{"$error":"#DIV/0!"}},{"$f":"F11572/(G11572*12*memoria!$B$47)","v":{"$error":"#DIV/0!"}}]
[null,null,null,null,null,null,null,{"$f":"F11586*memoria!$B$44/(G11586*12*memoria!$B$47)","v":{"$error":"#DIV/0!"}},{"$f":"F11586/(G11586*12*memoria!$B$47)","v":{"$error":"#DIV/0!"}}]
[null,null,null,null,null,null,null,{"$f":"F11589*memoria!$B$44/(G11589*12*memoria!$B$47)","v":{"$error":"#DIV/0!"}},{"$f":"F11589/(G11589*12*memoria!$B$47)","v":{"$error":"#DIV/0!"}}]
[null,null,null,null,null,null,null,{"$f":"F11599*memoria!$B$44/(G11599*12*memoria!$B$47)","v":{"$error":"#DIV/0!"}},{"$f":"F11599/(G11599*12*memoria!$B$47)","v":{"$error":"#DIV/0!"}}]
[null,null,null,null,null,null,null,{"$f":"F11616*memoria!$B$44/(G11616*12*memoria!$B$47)","v":{"$error":"#DIV/0!"}},{"$f":"F11616/(G11616*12*memoria!$B$47)","v":{"$error":"#DIV/0!"}}]
[null,null,null,null,null,null,null,{"$f":"F11623*memoria!$B$44/(G11623*12*memoria!$B$47)","v":{"$error":"#DIV/0!"}},{"$f":"F11623/(G11623*12*memoria!$B$47)","v":{"$error":"#DIV/0!"}}]
[null,null,null,null,null,null,null,{"$f":"F11633*memoria!$B$44/(G11633*12*memoria!$B$47)","v":{"$error":"#DIV/0!"}},{"$f":"F11633/(G11633*12*memoria!$B$47)","v":{"$error":"#DIV/0!"}}]
[null,null,null,null,null,null,null,{"$f":"F11650*memoria!$B$44/(G11650*12*memoria!$B$47)","v":{"$error":"#DIV/0!"}},{"$f":"F11650/(G11650*12*memoria!$B$47)","v":{"$error":"#DIV/0!"}}]
[null,null,null,null,null,null,null,{"$f":"F11664*memoria!$B$44/(G11664*12*memoria!$B$47)","v":{"$error":"#DIV/0!"}},{"$f":"F11664/(G11664*12*memoria!$B$47)","v":{"$error":"#DIV/0!"}}]
[null,null,null,null,null,null,null,{"$f":"F11667*memoria!$B$44/(G11667*12*memoria!$B$47)","v":{"$error":"#DIV/0!"}},{"$f":"F11667/(G11667*12*memoria!$B$47)","v":{"$error":"#DIV/0!"}}]
[null,null,null,null,null,null,null,{"$f":"F11684*memoria!$B$44/(G11684*12*memoria!$B$47)","v":{"$error":"#DIV/0!"}},{"$f":"F11684/(G11684*12*memoria!$B$47)","v":{"$error":"#DIV/0!"}}]
[null,null,null,null,null,null,null,{"$f":"F11694*memoria!$B$44/(G11694*12*memoria!$B$47)","v":{"$error":"#DIV/0!"}},{"$f":"F11694/(G11694*12*memoria!$B$47)","v":{"$error":"#DIV/0!"}}]
[null,null,null,null,null,null,null,{"$f":"F11705*memoria!$B$44/(G11705*12*memoria!$B$47)","v":{"$error":"#DIV/0!"}},{"$f":"F11705/(G11705*12*memoria!$B$47)","v":{"$error":"#DIV/0!"}}]
[null,null,null,null,null,null,null,{"$f":"F11718*memoria!$B$44/(G11718*12*memoria!$B$47)","v":{"$error":"#DIV/0!"}},{"$f":"F11718/(G11718*12*memoria!$B$47)","v":{"$error":"#DIV/0!"}}]
[null,null,null,null,null,null,null,{"$f":"F11728*memoria!$B$44/(G11728*12*memoria!$B$47)","v":{"$error":"#DIV/0!"}},{"$f":"F11728/(G11728*12*memoria!$B$47)","v":{"$error":"#DIV/0!"}}]
[null,null,null,null,null,null,null,{"$f":"F11734*memoria!$B$44/(G11734*12*memoria!$B$47)","v":{"$error":"#DIV/0!"}},{"$f":"F11734/(G11734*12*memoria!$B$47)","v":{"$error":"#DIV/0!"}}]
[null,null,null,null,null,null,null,{"$f":"F11756*memoria!$B$44/(G11756*12*memoria!$B$47)","v":{"$error":"#DIV/0!"}},{"$f":"F11756/(G11756*12*memoria!$B$47)","v":{"$error":"#DIV/0!"}}]
[null,null,null,null,null,null,null,{"$f":"F11762*memoria!$B$44/(G11762*12*memoria!$B$47)","v":{"$error":"#DIV/0!"}},{"$f":"F11762/(G11762*12*memoria!$B$47)","v":{"$error":"#DIV/0!"}}]
[null,null,null,null,null,null,null,{"$f":"F11768*memoria!$B$44/(G11768*12*memoria!$B$47)","v":{"$error":"#DIV/0!"}},{"$f":"F11768/(G11768*12*memoria!$B$47)","v":{"$error":"#DIV/0!"}}]
[null,null,null,null,null,null,null,{"$f":"F11787*memoria!$B$44/(G11787*12*memoria!$B$47)","v":{"$error":"#DIV/0!"}},{"$f":"F11787/(G11787*12*memoria!$B$47)","v":{"$error":"#DIV/0!"}}]
[null,null,null,null,null,null,null,{"$f":"F11796*memoria!$B$44/(G11796*12*memoria!$B$47)","v":{"$error":"#DIV/0!"}},{"$f":"F11796/(G11796*12*memoria!$B$47)","v":{"$error":"#DIV/0!"}}]
[null,null,null,null,null,null,null,{"$f":"F11802*memoria!$B$44/(G11802*12*memoria!$B$47)","v":{"$error":"#DIV/0!"}},{"$f":"F11802/(G11802*12*memoria!$B$47)","v":{"$error":"#DIV/0!"}}]
[null,null,null,null,null,null,null,{"$f":"F11816*memoria!$B$44/(G11816*12*memoria!$B$47)","v":{"$error":"#DIV/0!"}},{"$f":"F11816/(G11816*12*memoria!$B$47)","v":{"$error":"#DIV/0!"}}]
[null,null,null,null,null,null,null,{"$f":"F11830*memoria!$B$44/(G11830*12*memoria!$B$47)","v":{"$error":"#DIV/0!"}},{"$f":"F11830/(G11830*12*memoria!$B$47)","v":{"$error":"#DIV/0!"}}]
[null,null,null,null,null,null,null,{"$f":"F11840*memoria!$B$44/(G11840*12*memoria!$B$47)","v":{"$error":"#DIV/0!"}},{"$f":"F11840/(G11840*12*memoria!$B$47)","v":{"$error":"#DIV/0!"}}]
[null,null,null,null,null,null,null,{"$f":"F11857*memoria!$B$44/(G11857*12*memoria!$B$47)","v":{"$error":"#DIV/0!"}},{"$f":"F11857/(G11857*12*memoria!$B$47)","v":{"$error":"#DIV/0!"}}]
[null,null,null,null,null,null,null,{"$f":"F11865*memoria!$B$44/(G11865*12*memoria!$B$47)","v":{"$error":"#DIV/0!"}},{"$f":"F11865/(G11865*12*memoria!$B$47)","v":{"$error":"#DIV/0!"}}]
[null,null,null,null,null,null,null,{"$f":"F11874*memoria!$B$44/(G11874*12*memoria!$B$47)","v":{"$error":"#DIV/0!"}},{"$f":"F11874/(G11874*12*memoria!$B$47)","v":{"$error":"#DIV/0!"}}]
[null,null,null,null,null,null,null,{"$f":"F11891*memoria!$B$44/(G11891*12*memoria!$B$47)","v":{"$error":"#DIV/0!"}},{"$f":"F11891/(G11891*12*memoria!$B$47)","v":{"$error":"#DIV/0!"}}]
[null,null,null,null,null,null,null,{"$f":"F11897*memoria!$B$44/(G11897*12*memoria!$B$47)","v":{"$error":"#DIV/0!"}},{"$f":"F11897/(G11897*12*memoria!$B$47)","v":{"$error":"#DIV/0!"}}]
[null,null,null,null,null,null,null,{"$f":"F11906*memoria!$B$44/(G11906*12*memoria!$B$47)","v":{"$error":"#DIV/0!"}},{"$f":"F11906/(G11906*12*memoria!$B$47)","v":{"$error":"#DIV/0!"}}]
[null,null,null,null,null,null,null,{"$f":"F11925*memoria!$B$44/(G11925*12*memoria!$B$47)","v":{"$error":"#DIV/0!"}},{"$f":"F11925/(G11925*12*memoria!$B$47)","v":{"$error":"#DIV/0!"}}]
[null,null,null,null,null,null,null,{"$f":"F11935*memoria!$B$44/(G11935*12*memoria!$B$47)","v":{"$error":"#DIV/0!"}},{"$f":"F11935/(G11935*12*memoria!$B$47)","v":{"$error":"#DIV/0!"}}]
[null,null,null,null,null,null,null,{"$f":"F11947*memoria!$B$44/(G11947*12*memoria!$B$47)","v":{"$error":"#DIV/0!"}},{"$f":"F11947/(G11947*12*memoria!$B$47)","v":{"$error":"#DIV/0!"}}]
[null,null,null,null,null,null,null,{"$f":"F11959*memoria!$B$44/(G11959*12*memoria!$B$47)","v":{"$error":"#DIV/0!"}},{"$f":"F11959/(G11959*12*memoria!$B$47)","v":{"$error":"#DIV/0!"}}]
[null,null,null,null,null,null,null,{"$f":"F11969*memoria!$B$44/(G11969*12*memoria!$B$47)","v":{"$error":"#DIV/0!"}},{"$f":"F11969/(G11969*12*memoria!$B$47)","v":{"$error":"#DIV/0!"}}]
[null,null,null,null,null,null,null,{"$f":"F11975*memoria!$B$44/(G11975*12*memoria!$B$47)","v":{"$error":"#DIV/0!"}},{"$f":"F11975/(G11975*12*memoria!$B$47)","v":{"$error":"#DIV/0!"}}]
[null,null,null,null,null,null,null,{"$f":"F11988*memoria!$B$44/(G11988*12*memoria!$B$47)","v":{"$error":"#DIV/0!"}},{"$f":"F11988/(G11988*12*memoria!$B$47)","v":{"$error":"#DIV/0!"}}]
[null,null,null,null,null,null,null,{"$f":"F12003*memoria!$B$44/(G12003*12*memoria!$B$47)","v":{"$error":"#DIV/0!"}},{"$f":"F12003/(G12003*12*memoria!$B$47)","v":{"$error":"#DIV/0!"}}]
[null,null,null,null,null,null,null,{"$f":"F12009*memoria!$B$44/(G12009*12*memoria!$B$47)","v":{"$error":"#DIV/0!"}},{"$f":"F12009/(G12009*12*memoria!$B$47)","v":{"$error":"#DIV/0!"}}]
[null,null,null,null,null,null,null,{"$f":"F12017*memoria!$B$44/(G12017*12*memoria!$B$47)","v":{"$error":"#DIV/0!"}},{"$f":"F12017/(G12017*12*memoria!$B$47)","v":{"$error":"#DIV/0!"}}]
[null,null,null,null,null,null,null,{"$f":"F12037*memoria!$B$44/(G12037*12*memoria!$B$47)","v":{"$error":"#DIV/0!"}},{"$f":"F12037/(G12037*12*memoria!$B$47)","v":{"$error":"#DIV/0!"}}]
[null,null,null,null,null,null,null,{"$f":"F12043*memoria!$B$44/(G12043*12*memoria!$B$47)","v":{"$error":"#DIV/0!"}},{"$f":"F12043/(G12043*12*memoria!$B$47)","v":{"$error":"#DIV/0!"}}]
[null,null,null,null,null,null,null,{"$f":"F12053*memoria!$B$44/(G12053*12*memoria!$B$47)","v":{"$error":"#DIV/0!"}},{"$f":"F12053/(G12053*12*memoria!$B$47)","v":{"$error":"#DIV/0!"}}]
[null,null,null,null,null,null,null,{"$f":"F12066*memoria!$B$44/(G12066*12*memoria!$B$47)","v":{"$error":"#DIV/0!"}},{"$f":"F12066/(G12066*12*memoria!$B$47)","v":{"$error":"#DIV/0!"}}]
[null,null,null,null,null,null,null,{"$f":"F12081*memoria!$B$44/(G12081*12*memoria!$B$47)","v":{"$error":"#DIV/0!"}},{"$f":"F12081/(G12081*12*memoria!$B$47)","v":{"$error":"#DIV/0!"}}]
[null,null,null,null,null,null,null,{"$f":"F12087*memoria!$B$44/(G12087*12*memoria!$B$47)","v":{"$error":"#DIV/0!"}},{"$f":"F12087/(G12087*12*memoria!$B$47)","v":{"$error":"#DIV/0!"}}]
[null,null,null,null,null,null,null,{"$f":"F12104*memoria!$B$44/(G12104*12*memoria!$B$47)","v":{"$error":"#DIV/0!"}},{"$f":"F12104/(G12104*12*memoria!$B$47)","v":{"$error":"#DIV/0!"}}]
[null,null,null,null,null,null,null,{"$f":"F12107*memoria!$B$44/(G12107*12*memoria!$B$47)","v":{"$error":"#DIV/0!"}},{"$f":"F12107/(G12107*12*memoria!$B$47)","v":{"$error":"#DIV/0!"}}]
[null,null,null,null,null,null,null,{"$f":"F12121*memoria!$B$44/(G12121*12*memoria!$B$47)","v":{"$error":"#DIV/0!"}},{"$f":"F12121/(G12121*12*memoria!$B$47)","v":{"$error":"#DIV/0!"}}]
[null,null,null,null,null,null,null,{"$f":"F12131*memoria!$B$44/(G12131*12*memoria!$B$47)","v":{"$error":"#DIV/0!"}},{"$f":"F12131/(G12131*12*memoria!$B$47)","v":{"$error":"#DIV/0!"}}]
[null,null,null,null,null,null,null,{"$f":"F12148*memoria!$B$44/(G12148*12*memoria!$B$47)","v":{"$error":"#DIV/0!"}},{"$f":"F12148/(G12148*12*memoria!$B$47)","v":{"$error":"#DIV/0!"}}]
[null,null,null,null,null,null,null,{"$f":"F12155*memoria!$B$44/(G12155*12*memoria!$B$47)","v":{"$error":"#DIV/0!"}},{"$f":"F12155/(G12155*12*memoria!$B$47)","v":{"$error":"#DIV/0!"}}]
[null,null,null,null,null,null,null,{"$f":"F12165*memoria!$B$44/(G12165*12*memoria!$B$47)","v":{"$error":"#DIV/0!"}},{"$f":"F12165/(G12165*12*memoria!$B$47)","v":{"$error":"#DIV/0!"}}]
[null,null,null,null,null,null,null,{"$f":"F12182*memoria!$B$44/(G12182*12*memoria!$B$47)","v":{"$error":"#DIV/0!"}},{"$f":"F12182/(G12182*12*memoria!$B$47)","v":{"$error":"#DIV/0!"}}]
[null,null,null,null,null,null,null,{"$f":"F12185*memoria!$B$44/(G12185*12*memoria!$B$47)","v":{"$error":"#DIV/0!"}},{"$f":"F12185/(G12185*12*memoria!$B$47)","v":{"$error":"#DIV/0!"}}]
[null,null,null,null,null,null,null,{"$f":"F12199*memoria!$B$44/(G12199*12*memoria!$B$47)","v":{"$error":"#DIV/0!"}},{"$f":"F12199/(G12199*12*memoria!$B$47)","v":{"$error":"#DIV/0!"}}]
[null,null,null,null,null,null,null,{"$f":"F12216*memoria!$B$44/(G12216*12*memoria!$B$47)","v":{"$error":"#DIV/0!"}},{"$f":"F12216/(G12216*12*memoria!$B$47)","v":{"$error":"#DIV/0!"}}]
[null,null,null,null,null,null,null,{"$f":"F12230*memoria!$B$44/(G12230*12*memoria!$B$47)","v":{"$error":"#DIV/0!"}},{"$f":"F12230/(G12230*12*memoria!$B$47)","v":{"$error":"#DIV/0!"}}]
[null,null,null,null,null,null,null,{"$f":"F12233*memoria!$B$44/(G12233*12*memoria!$B$47)","v":{"$error":"#DIV/0!"}},{"$f":"F12233/(G12233*12*memoria!$B$47)","v":{"$error":"#DIV/0!"}}]
[null,null,null,null,null,null,null,{"$f":"F12250*memoria!$B$44/(G12250*12*memoria!$B$47)","v":{"$error":"#DIV/0!"}},{"$f":"F12250/(G12250*12*memoria!$B$47)","v":{"$error":"#DIV/0!"}}]
[null,null,null,null,null,null,null,{"$f":"F12260*memoria!$B$44/(G12260*12*memoria!$B$47)","v":{"$error":"#DIV/0!"}},{"$f":"F12260/(G12260*12*memoria!$B$47)","v":{"$error":"#DIV/0!"}}]
[null,null,null,null,null,null,null,{"$f":"F12267*memoria!$B$44/(G12267*12*memoria!$B$47)","v":{"$error":"#DIV/0!"}},{"$f":"F12267/(G12267*12*memoria!$B$47)","v":{"$error":"#DIV/0!"}}]
[null,null,null,null,null,null,null,{"$f":"F12284*memoria!$B$44/(G12284*12*memoria!$B$47)","v":{"$error":"#DIV/0!"}},{"$f":"F12284/(G12284*12*memoria!$B$47)","v":{"$error":"#DIV/0!"}}]
[null,null,null,null,null,null,null,{"$f":"F12294*memoria!$B$44/(G12294*12*memoria!$B$47)","v":{"$error":"#DIV/0!"}},{"$f":"F12294/(G12294*12*memoria!$B$47)","v":{"$error":"#DIV/0!"}}]
[null,null,null,null,null,null,null,{"$f":"F12308*memoria!$B$44/(G12308*12*memoria!$B$47)","v":{"$error":"#DIV/0!"}},{"$f":"F12308/(G12308*12*memoria!$B$47)","v":{"$error":"#DIV/0!"}}]
[null,null,null,null,null,null,null,{"$f":"F12311*memoria!$B$44/(G12311*12*memoria!$B$47)","v":{"$error":"#DIV/0!"}},{"$f":"F12311/(G12311*12*memoria!$B$47)","v":{"$error":"#DIV/0!"}}]
[null,null,null,null,null,null,null,{"$f":"F12328*memoria!$B$44/(G12328*12*memoria!$B$47)","v":{"$error":"#DIV/0!"}},{"$f":"F12328/(G12328*12*memoria!$B$47)","v":{"$error":"#DIV/0!"}}]
[null,null,null,null,null,null,null,{"$f":"F12334*memoria!$B$44/(G12334*12*memoria!$B$47)","v":{"$error":"#DIV/0!"}},{"$f":"F12334/(G12334*12*memoria!$B$47)","v":{"$error":"#DIV/0!"}}]
[null,null,null,null,null,null,null,{"$f":"F12349*memoria!$B$44/(G12349*12*memoria!$B$47)","v":{"$error":"#DIV/0!"}},{"$f":"F12349/(G12349*12*memoria!$B$47)","v":{"$error":"#DIV/0!"}}]
[null,null,null,null,null,null,null,{"$f":"F12362*memoria!$B$44/(G12362*12*memoria!$B$47)","v":{"$error":"#DIV/0!"}},{"$f":"F12362/(G12362*12*memoria!$B$47)","v":{"$error":"#DIV/0!"}}]
[null,null,null,null,null,null,null,{"$f":"F12372*memoria!$B$44/(G12372*12*memoria!$B$47)","v":{"$error":"#DIV/0!"}},{"$f":"F12372/(G12372*12*memoria!$B$47)","v":{"$error":"#DIV/0!"}}]
[null,null,null,null,null,null,null,{"$f":"F12378*memoria!$B$44/(G12378*12*memoria!$B$47)","v":{"$error":"#DIV/0!"}},{"$f":"F12378/(G12378*12*memoria!$B$47)","v":{"$error":"#DIV/0!"}}]
[null,null,null,null,null,null,null,{"$f":"F12398*memoria!$B$44/(G12398*12*memoria!$B$47)","v":{"$error":"#DIV/0!"}},{"$f":"F12398/(G12398*12*memoria!$B$47)","v":{"$error":"#DIV/0!"}}]
[null,null,null,null,null,null,null,{"$f":"F12406*memoria!$B$44/(G12406*12*memoria!$B$47)","v":{"$error":"#DIV/0!"}},{"$f":"F12406/(G12406*12*memoria!$B$47)","v":{"$error":"#DIV/0!"}}]
[null,null,null,null,null,null,null,{"$f":"F12412*memoria!$B$44/(G12412*12*memoria!$B$47)","v":{"$error":"#DIV/0!"}},{"$f":"F12412/(G12412*12*memoria!$B$47)","v":{"$error":"#DIV/0!"}}]
[null,null,null,null,null,null,null,{"$f":"F12427*memoria!$B$44/(G12427*12*memoria!$B$47)","v":{"$error":"#DIV/0!"}},{"$f":"F12427/(G12427*12*memoria!$B$47)","v":{"$error":"#DIV/0!"}}]
[null,null,null,null,null,null,null,{"$f":"F12440*memoria!$B$44/(G12440*12*memoria!$B$47)","v":{"$error":"#DIV/0!"}},{"$f":"F12440/(G12440*12*memoria!$B$47)","v":{"$error":"#DIV/0!"}}]
[null,null,null,null,null,null,null,{"$f":"F12446*memoria!$B$44/(G12446*12*memoria!$B$47)","v":{"$error":"#DIV/0!"}},{"$f":"F12446/(G12446*12*memoria!$B$47)","v":{"$error":"#DIV/0!"}}]
[null,null,null,null,null,null,null,{"$f":"F12456*memoria!$B$44/(G12456*12*memoria!$B$47)","v":{"$error":"#DIV/0!"}},{"$f":"F12456/(G12456*12*memoria!$B$47)","v":{"$error":"#DIV/0!"}}]
[null,null,null,null,null,null,null,{"$f":"F12468*memoria!$B$44/(G12468*12*memoria!$B$47)","v":{"$error":"#DIV/0!"}},{"$f":"F12468/(G12468*12*memoria!$B$47)","v":{"$error":"#DIV/0!"}}]
[null,null,null,null,null,null,null,{"$f":"F12480*memoria!$B$44/(G12480*12*memoria!$B$47)","v":{"$error":"#DIV/0!"}},{"$f":"F12480/(G12480*12*memoria!$B$47)","v":{"$error":"#DIV/0!"}}]
[null,null,null,null,null,null,null,{"$f":"F12490*memoria!$B$44/(G12490*12*memoria!$B$47)","v":{"$error":"#DIV/0!"}},{"$f":"F12490/(G12490*12*memoria!$B$47)","v":{"$error":"#DIV/0!"}}]
[null,null,null,null,null,null,null,{"$f":"F12509*memoria!$B$44/(G12509*12*memoria!$B$47)","v":{"$error":"#DIV/0!"}},{"$f":"F12509/(G12509*12*memoria!$B$47)","v":{"$error":"#DIV/0!"}}]
[null,null,null,null,null,null,null,{"$f":"F12514*memoria!$B$44/(G12514*12*memoria!$B$47)","v":{"$error":"#DIV/0!"}},{"$f":"F12514/(G12514*12*memoria!$B$47)","v":{"$error":"#DIV/0!"}}]
[null,null,null,null,null,null,null,{"$f":"F12524*memoria!$B$44/(G12524*12*memoria!$B$47)","v":{"$error":"#DIV/0!"}},{"$f":"F12524/(G12524*12*memoria!$B$47)","v":{"$error":"#DIV/0!"}}]
[null,null,null,null,null,null,null,{"$f":"F12541*memoria!$B$44/(G12541*12*memoria!$B$47)","v":{"$error":"#DIV/0!"}},{"$f":"F12541/(G12541*12*memoria!$B$47)","v":{"$error":"#DIV/0!"}}]
[null,null,null,null,null,null,null,{"$f":"F12550*memoria!$B$44/(G12550*12*memoria!$B$47)","v":{"$error":"#DIV/0!"}},{"$f":"F12550/(G12550*12*memoria!$B$47)","v":{"$error":"#DIV/0!"}}]
[null,null,null,null,null,null,null,{"$f":"F12558*memoria!$B$44/(G12558*12*memoria!$B$47)","v":{"$error":"#DIV/0!"}},{"$f":"F12558/(G12558*12*memoria!$B$47)","v":{"$error":"#DIV/0!"}}]
[null,null,null,null,null,null,null,{"$f":"F12575*memoria!$B$44/(G12575*12*memoria!$B$47)","v":{"$error":"#DIV/0!"}},{"$f":"F12575/(G12575*12*memoria!$B$47)","v":{"$error":"#DIV/0!"}}]
[null,null,null,null,null,null,null,{"$f":"F12585*memoria!$B$44/(G12585*12*memoria!$B$47)","v":{"$error":"#DIV/0!"}},{"$f":"F12585/(G12585*12*memoria!$B$47)","v":{"$error":"#DIV/0!"}}]
[null,null,null,null,null,null,null,{"$f":"F12599*memoria!$B$44/(G12599*12*memoria!$B$47)","v":{"$error":"#DIV/0!"}},{"$f":"F12599/(G12599*12*memoria!$B$47)","v":{"$error":"#DIV/0!"}}]
[null,null,null,null,null,null,null,{"$f":"F12613*memoria!$B$44/(G12613*12*memoria!$B$47)","v":{"$error":"#DIV/0!"}},{"$f":"F12613/(G12613*12*memoria!$B$47)","v":{"$error":"#DIV/0!"}}]
[null,null,null,null,null,null,null,{"$f":"F12619*memoria!$B$44/(G12619*12*memoria!$B$47)","v":{"$error":"#DIV/0!"}},{"$f":"F12619/(G12619*12*memoria!$B$47)","v":{"$error":"#DIV/0!"}}]
[null,null,null,null,null,null,null,{"$f":"F12628*memoria!$B$44/(G12628*12*memoria!$B$47)","v":{"$error":"#DIV/0!"}},{"$f":"F12628/(G12628*12*memoria!$B$47)","v":{"$error":"#DIV/0!"}}]
[null,null,null,null,null,null,null,{"$f":"F12647*memoria!$B$44/(G12647*12*memoria!$B$47)","v":{"$error":"#DIV/0!"}},{"$f":"F12647/(G12647*12*memoria!$B$47)","v":{"$error":"#DIV/0!"}}]
[null,null,null,null,null,null,null,{"$f":"F12653*memoria!$B$44/(G12653*12*memoria!$B$47)","v":{"$error":"#DIV/0!"}},{"$f":"F12653/(G12653*12*memoria!$B$47)","v":{"$error":"#DIV/0!"}}]
[null,null,null,null,null,null,null,{"$f":"F12659*memoria!$B$44/(G12659*12*memoria!$B$47)","v":{"$error":"#DIV/0!"}},{"$f":"F12659/(G12659*12*memoria!$B$47)","v":{"$error":"#DIV/0!"}}]
[null,null,null,null,null,null,null,{"$f":"F12681*memoria!$B$44/(G12681*12*memoria!$B$47)","v":{"$error":"#DIV/0!"}},{"$f":"F12681/(G12681*12*memoria!$B$47)","v":{"$error":"#DIV/0!"}}]
[null,null,null,null,null,null,null,{"$f":"F12687*memoria!$B$44/(G12687*12*memoria!$B$47)","v":{"$error":"#DIV/0!"}},{"$f":"F12687/(G12687*12*memoria!$B$47)","v":{"$error":"#DIV/0!"}}]
[null,null,null,null,null,null,null,{"$f":"F12697*memoria!$B$44/(G12697*12*memoria!$B$47)","v":{"$error":"#DIV/0!"}},{"$f":"F12697/(G12697*12*memoria!$B$47)","v":{"$error":"#DIV/0!"}}]
[null,null,null,null,null,null,null,{"$f":"F12710*memoria!$B$44/(G12710*12*memoria!$B$47)","v":{"$error":"#DIV/0!"}},{"$f":"F12710/(G12710*12*memoria!$B$47)","v":{"$error":"#DIV/0!"}}]
[null,null,null,null,null,null,null,{"$f":"F12721*memoria!$B$44/(G12721*12*memoria!$B$47)","v":{"$error":"#DIV/0!"}},{"$f":"F12721/(G12721*12*memoria!$B$47)","v":{"$error":"#DIV/0!"}}]
[null,null,null,null,null,null,null,{"$f":"F12731*memoria!$B$44/(G12731*12*memoria!$B$47)","v":{"$error":"#DIV/0!"}},{"$f":"F12731/(G12731*12*memoria!$B$47)","v":{"$error":"#DIV/0!"}}]
[null,null,null,null,null,null,null,{"$f":"F12748*memoria!$B$44/(G12748*12*memoria!$B$47)","v":{"$error":"#DIV/0!"}},{"$f":"F12748/(G12748*12*memoria!$B$47)","v":{"$error":"#DIV/0!"}}]
[null,null,null,null,null,null,null,{"$f":"F12751*memoria!$B$44/(G12751*12*memoria!$B$47)","v":{"$error":"#DIV/0!"}},{"$f":"F12751/(G12751*12*memoria!$B$47)","v":{"$error":"#DIV/0!"}}]
[null,null,null,null,null,null,null,{"$f":"F12765*memoria!$B$44/(G12765*12*memoria!$B$47)","v":{"$error":"#DIV/0!"}},{"$f":"F12765/(G12765*12*memoria!$B$47)","v":{"$error":"#DIV/0!"}}]
[null,null,null,null,null,null,null,{"$f":"F12782*memoria!$B$44/(G12782*12*memoria!$B$47)","v":{"$error":"#DIV/0!"}},{"$f":"F12782/(G12782*12*memoria!$B$47)","v":{"$error":"#DIV/0!"}}]
[null,null,null,null,null,null,null,{"$f":"F12792*memoria!$B$44/(G12792*12*memoria!$B$47)","v":{"$error":"#DIV/0!"}},{"$f":"F12792/(G12792*12*memoria!$B$47)","v":{"$error":"#DIV/0!"}}]
[null,null,null,null,null,null,null,{"$f":"F12799*memoria!$B$44/(G12799*12*memoria!$B$47)","v":{"$error":"#DIV/0!"}},{"$f":"F12799/(G12799*12*memoria!$B$47)","v":{"$error":"#DIV/0!"}}]
[null,null,null,null,null,null,null,{"$f":"F12816*memoria!$B$44/(G12816*12*memoria!$B$47)","v":{"$error":"#DIV/0!"}},{"$f":"F12816/(G12816*12*memoria!$B$47)","v":{"$error":"#DIV/0!"}}]
[null,null,null,null,null,null,null,{"$f":"F12826*memoria!$B$44/(G12826*12*memoria!$B$47)","v":{"$error":"#DIV/0!"}},{"$f":"F12826/(G12826*12*memoria!$B$47)","v":{"$error":"#DIV/0!"}}]
[null,null,null,null,null,null,null,{"$f":"F12829*memoria!$B$44/(G12829*12*memoria!$B$47)","v":{"$error":"#DIV/0!"}},{"$f":"F12829/(G12829*12*memoria!$B$47)","v":{"$error":"#DIV/0!"}}]
[null,null,null,null,null,null,null,{"$f":"F12843*memoria!$B$44/(G12843*12*memoria!$B$47)","v":{"$error":"#DIV/0!"}},{"$f":"F12843/(G12843*12*memoria!$B$47)","v":{"$error":"#DIV/0!"}}]
[null,null,null,null,null,null,null,{"$f":"F12860*memoria!$B$44/(G12860*12*memoria!$B$47)","v":{"$error":"#DIV/0!"}},{"$f":"F12860/(G12860*12*memoria!$B$47)","v":{"$error":"#DIV/0!"}}]
[null,null,null,null,null,null,null,{"$f":"F12866*memoria!$B$44/(G12866*12*memoria!$B$47)","v":{"$error":"#DIV/0!"}},{"$f":"F12866/(G12866*12*memoria!$B$47)","v":{"$error":"#DIV/0!"}}]
[null,null,null,null,null,null,null,{"$f":"F12882*memoria!$B$44/(G12882*12*memoria!$B$47)","v":{"$error":"#DIV/0!"}},{"$f":"F12882/(G12882*12*memoria!$B$47)","v":{"$error":"#DIV/0!"}}]
[null,null,null,null,null,null,null,{"$f":"F12894*memoria!$B$44/(G12894*12*memoria!$B$47)","v":{"$error":"#DIV/0!"}},{"$f":"F12894/(G12894*12*memoria!$B$47)","v":{"$error":"#DIV/0!"}}]
[null,null,null,null,null,null,null,{"$f":"F12900*memoria!$B$44/(G12900*12*memoria!$B$47)","v":{"$error":"#DIV/0!"}},{"$f":"F12900/(G12900*12*memoria!$B$47)","v":{"$error":"#DIV/0!"}}]
[null,null,null,null,null,null,null,{"$f":"F12911*memoria!$B$44/(G12911*12*memoria!$B$47)","v":{"$error":"#DIV/0!"}},{"$f":"F12911/(G12911*12*memoria!$B$47)","v":{"$error":"#DIV/0!"}}]
[null,null,null,null,null,null,null,{"$f":"F12928*memoria!$B$44/(G12928*12*memoria!$B$47)","v":{"$error":"#DIV/0!"}},{"$f":"F12928/(G12928*12*memoria!$B$47)","v":{"$error":"#DIV/0!"}}]
[null,null,null,null,null,null,null,{"$f":"F12938*memoria!$B$44/(G12938*12*memoria!$B$47)","v":{"$error":"#DIV/0!"}},{"$f":"F12938/(G12938*12*memoria!$B$47)","v":{"$error":"#DIV/0!"}}]
[null,null,null,null,null,null,null,{"$f":"F12944*memoria!$B$44/(G12944*12*memoria!$B$47)","v":{"$error":"#DIV/0!"}},{"$f":"F12944/(G12944*12*memoria!$B$47)","v":{"$error":"#DIV/0!"}}]
[null,null,null,null,null,null,null,{"$f":"F12960*memoria!$B$44/(G12960*12*memoria!$B$47)","v":{"$error":"#DIV/0!"}},{"$f":"F12960/(G12960*12*memoria!$B$47)","v":{"$error":"#DIV/0!"}}]
[null,null,null,null,null,null,null,{"$f":"F12972*memoria!$B$44/(G12972*12*memoria!$B$47)","v":{"$error":"#DIV/0!"}},{"$f":"F12972/(G12972*12*memoria!$B$47)","v":{"$error":"#DIV/0!"}}]
[null,null,null,null,null,null,null,{"$f":"F12978*memoria!$B$44/(G12978*12*memoria!$B$47)","v":{"$error":"#DIV/0!"}},{"$f":"F12978/(G12978*12*memoria!$B$47)","v":{"$error":"#DIV/0!"}}]
[null,null,null,null,null,null,null,{"$f":"F12993*memoria!$B$44/(G12993*12*memoria!$B$47)","v":{"$error":"#DIV/0!"}},{"$f":"F12993/(G12993*12*memoria!$B$47)","v":{"$error":"#DIV/0!"}}]
[null,null,null,null,null,null,null,{"$f":"F13006*memoria!$B$44/(G13006*12*memoria!$B$47)","v":{"$error":"#DIV/0!"}},{"$f":"F13006/(G13006*12*memoria!$B$47)","v":{"$error":"#DIV/0!"}}]
[null,null,null,null,null,null,null,{"$f":"F13012*memoria!$B$44/(G13012*12*memoria!$B$47)","v":{"$error":"#DIV/0!"}},{"$f":"F13012/(G13012*12*memoria!$B$47)","v":{"$error":"#DIV/0!"}}]
[null,null,null,null,null,null,null,{"$f":"F13022*memoria!$B$44/(G13022*12*memoria!$B$47)","v":{"$error":"#DIV/0!"}},{"$f":"F13022/(G13022*12*memoria!$B$47)","v":{"$error":"#DIV/0!"}}]
[null,null,null,null,null,null,null,{"$f":"F13042*memoria!$B$44/(G13042*12*memoria!$B$47)","v":{"$error":"#DIV/0!"}},{"$f":"F13042/(G13042*12*memoria!$B$47)","v":{"$error":"#DIV/0!"}}]
[null,null,null,null,null,null,null,{"$f":"F13046*memoria!$B$44/(G13046*12*memoria!$B$47)","v":{"$error":"#DIV/0!"}},{"$f":"F13046/(G13046*12*memoria!$B$47)","v":{"$error":"#DIV/0!"}}]
[null,null,null,null,null,null,null,{"$f":"F13056*memoria!$B$44/(G13056*12*memoria!$B$47)","v":{"$error":"#DIV/0!"}},{"$f":"F13056/(G13056*12*memoria!$B$47)","v":{"$error":"#DIV/0!"}}]
[null,null,null,null,null,null,null,{"$f":"F13073*memoria!$B$44/(G13073*12*memoria!$B$47)","v":{"$error":"#DIV/0!"}},{"$f":"F13073/(G13073*12*memoria!$B$47)","v":{"$error":"#DIV/0!"}}]
[null,null,null,null,null,null,null,{"$f":"F13083*memoria!$B$44/(G13083*12*memoria!$B$47)","v":{"$error":"#DIV/0!"}},{"$f":"F13083/(G13083*12*memoria!$B$47)","v":{"$error":"#DIV/0!"}}]
[null,null,null,null,null,null,null,{"$f":"F13090*memoria!$B$44/(G13090*12*memoria!$B$47)","v":{"$error":"#DIV/0!"}},{"$f":"F13090/(G13090*12*memoria!$B$47)","v":{"$error":"#DIV/0!"}}]
[null,null,null,null,null,null,null,{"$f":"F13107*memoria!$B$44/(G13107*12*memoria!$B$47)","v":{"$error":"#DIV/0!"}},{"$f":"F13107/(G13107*12*memoria!$B$47)","v":{"$error":"#DIV/0!"}}]
[null,null,null,null,null,null,null,{"$f":"F13112*memoria!$B$44/(G13112*12*memoria!$B$47)","v":{"$error":"#DIV/0!"}},{"$f":"F13112/(G13112*12*memoria!$B$47)","v":{"$error":"#DIV/0!"}}]
[null,null,null,null,null,null,null,{"$f":"F13124*memoria!$B$44/(G13124*12*memoria!$B$47)","v":{"$error":"#DIV/0!"}},{"$f":"F13124/(G13124*12*memoria!$B$47)","v":{"$error":"#DIV/0!"}}]
[null,null,null,null,null,null,null,{"$f":"F13134*memoria!$B$44/(G13134*12*memoria!$B$47)","v":{"$error":"#DIV/0!"}},{"$f":"F13134/(G13134*12*memoria!$B$47)","v":{"$error":"#DIV/0!"}}]
[null,null,null,null,null,null,null,{"$f":"F13151*memoria!$B$44/(G13151*12*memoria!$B$47)","v":{"$error":"#DIV/0!"}},{"$f":"F13151/(G13151*12*memoria!$B$47)","v":{"$error":"#DIV/0!"}}]
[null,null,null,null,null,null,null,{"$f":"F13161*memoria!$B$44/(G13161*12*memoria!$B$47)","v":{"$error":"#DIV/0!"}},{"$f":"F13161/(G13161*12*memoria!$B$47)","v":{"$error":"#DIV/0!"}}]
[null,null,null,null,null,null,null,{"$f":"F13168*memoria!$B$44/(G13168*12*memoria!$B$47)","v":{"$error":"#DIV/0!"}},{"$f":"F13168/(G13168*12*memoria!$B$47)","v":{"$error":"#DIV/0!"}}]
[null,null,null,null,null,null,null,{"$f":"F13185*memoria!$B$44/(G13185*12*memoria!$B$47)","v":{"$error":"#DIV/0!"}},{"$f":"F13185/(G13185*12*memoria!$B$47)","v":{"$error":"#DIV/0!"}}]
[null,null,null,null,null,null,null,{"$f":"F13190*memoria!$B$44/(G13190*12*memoria!$B$47)","v":{"$error":"#DIV/0!"}},{"$f":"F13190/(G13190*12*memoria!$B$47)","v":{"$error":"#DIV/0!"}}]
[null,null,null,null,null,null,null,{"$f":"F13202*memoria!$B$44/(G13202*12*memoria!$B$47)","v":{"$error":"#DIV/0!"}},{"$f":"F13202/(G13202*12*memoria!$B$47)","v":{"$error":"#DIV/0!"}}]
[null,null,null,null,null,null,null,{"$f":"F13219*memoria!$B$44/(G13219*12*memoria!$B$47)","v":{"$error":"#DIV/0!"}},{"$f":"F13219/(G13219*12*memoria!$B$47)","v":{"$error":"#DIV/0!"}}]
[null,null,null,null,null,null,null,{"$f":"F13229*memoria!$B$44/(G13229*12*memoria!$B$47)","v":{"$error":"#DIV/0!"}},{"$f":"F13229/(G13229*12*memoria!$B$47)","v":{"$error":"#DIV/0!"}}]
[null,null,null,null,null,null,null,{"$f":"F13243*memoria!$B$44/(G13243*12*memoria!$B$47)","v":{"$error":"#DIV/0!"}},{"$f":"F13243/(G13243*12*memoria!$B$47)","v":{"$error":"#DIV/0!"}}]
[null,null,null,null,null,null,null,{"$f":"F13253*memoria!$B$44/(G13253*12*memoria!$B$47)","v":{"$error":"#DIV/0!"}},{"$f":"F13253/(G13253*12*memoria!$B$47)","v":{"$error":"#DIV/0!"}}]
[null,null,null,null,null,null,null,{"$f":"F13263*memoria!$B$44/(G13263*12*memoria!$B$47)","v":{"$error":"#DIV/0!"}},{"$f":"F13263/(G13263*12*memoria!$B$47)","v":{"$error":"#DIV/0!"}}]
[null,null,null,null,null,null,null,{"$f":"F13272*memoria!$B$44/(G13272*12*memoria!$B$47)","v":{"$error":"#DIV/0!"}},{"$f":"F13272/(G13272*12*memoria!$B$47)","v":{"$error":"#DIV/0!"}}]
[null,null,null,null,null,null,null,{"$f":"F13287*memoria!$B$44/(G13287*12*memoria!$B$47)","v":{"$error":"#DIV/0!"}},{"$f":"F13287/(G13287*12*memoria!$B$47)","v":{"$error":"#DIV/0!"}}]
[null,null,null,null,null,null,null,{"$f":"F13297*memoria!$B$44/(G13297*12*memoria!$B$47)","v":{"$error":"#DIV/0!"}},{"$f":"F13297/(G13297*12*memoria!$B$47)","v":{"$error":"#DIV/0!"}}]
[null,null,null,null,null,null,null,{"$f":"F13303*memoria!$B$44/(G13303*12*memoria!$B$47)","v":{"$error":"#DIV/0!"}},{"$f":"F13303/(G13303*12*memoria!$B$47)","v":{"$error":"#DIV/0!"}}]
[null,null,null,null,null,null,null,{"$f":"F13313*memoria!$B$44/(G13313*12*memoria!$B$47)","v":{"$error":"#DIV/0!"}},{"$f":"F13313/(G13313*12*memoria!$B$47)","v":{"$error":"#DIV/0!"}}]
[null,null,null,null,null,null,null,{"$f":"F13331*memoria!$B$44/(G13331*12*memoria!$B$47)","v":{"$error":"#DIV/0!"}},{"$f":"F13331/(G13331*12*memoria!$B$47)","v":{"$error":"#DIV/0!"}}]
[null,null,null,null,null,null,null,{"$f":"F13337*memoria!$B$44/(G13337*12*memoria!$B$47)","v":{"$error":"#DIV/0!"}},{"$f":"F13337/(G13337*12*memoria!$B$47)","v":{"$error":"#DIV/0!"}}]
[null,null,null,null,null,null,null,{"$f":"F13347*memoria!$B$44/(G13347*12*memoria!$B$47)","v":{"$error":"#DIV/0!"}},{"$f":"F13347/(G13347*12*memoria!$B$47)","v":{"$error":"#DIV/0!"}}]
[null,null,null,null,null,null,null,{"$f":"F13362*memoria!$B$44/(G13362*12*memoria!$B$47)","v":{"$error":"#DIV/0!"}},{"$f":"F13362/(G13362*12*memoria!$B$47)","v":{"$error":"#DIV/0!"}}]
[null,null,null,null,null,null,null,{"$f":"F13375*memoria!$B$44/(G13375*12*memoria!$B$47)","v":{"$error":"#DIV/0!"}},{"$f":"F13375/(G13375*12*memoria!$B$47)","v":{"$error":"#DIV/0!"}}]
[null,null,null,null,null,null,null,{"$f":"F13381*memoria!$B$44/(G13381*12*memoria!$B$47)","v":{"$error":"#DIV/0!"}},{"$f":"F13381/(G13381*12*memoria!$B$47)","v":{"$error":"#DIV/0!"}}]
[null,null,null,null,null,null,null,{"$f":"F13403*memoria!$B$44/(G13403*12*memoria!$B$47)","v":{"$error":"#DIV/0!"}},{"$f":"F13403/(G13403*12*memoria!$B$47)","v":{"$error":"#DIV/0!"}}]
[null,null,null,null,null,null,null,{"$f":"F13409*memoria!$B$44/(G13409*12*memoria!$B$47)","v":{"$error":"#DIV/0!"}},{"$f":"F13409/(G13409*12*memoria!$B$47)","v":{"$error":"#DIV/0!"}}]
[null,null,null,null,null,null,null,{"$f":"F13415*memoria!$B$44/(G13415*12*memoria!$B$47)","v":{"$error":"#DIV/0!"}},{"$f":"F13415/(G13415*12*memoria!$B$47)","v":{"$error":"#DIV/0!"}}]
[null,null,null,null,null,null,null,{"$f":"F13432*memoria!$B$44/(G13432*12*memoria!$B$47)","v":{"$error":"#DIV/0!"}},{"$f":"F13432/(G13432*12*memoria!$B$47)","v":{"$error":"#DIV/0!"}}]
[null,null,null,null,null,null,null,{"$f":"F13444*memoria!$B$44/(G13444*12*memoria!$B$47)","v":{"$error":"#DIV/0!"}},{"$f":"F13444/(G13444*12*memoria!$B$47)","v":{"$error":"#DIV/0!"}}]
[null,null,null,null,null,null,null,{"$f":"F13449*memoria!$B$44/(G13449*12*memoria!$B$47)","v":{"$error":"#DIV/0!"}},{"$f":"F13449/(G13449*12*memoria!$B$47)","v":{"$error":"#DIV/0!"}}]
[null,null,null,null,null,null,null,{"$f":"F13470*memoria!$B$44/(G13470*12*memoria!$B$47)","v":{"$error":"#DIV/0!"}},{"$f":"F13470/(G13470*12*memoria!$B$47)","v":{"$error":"#DIV/0!"}}]
[null,null,null,null,null,null,null,{"$f":"F13473*memoria!$B$44/(G13473*12*memoria!$B$47)","v":{"$error":"#DIV/0!"}},{"$f":"F13473/(G13473*12*memoria!$B$47)","v":{"$error":"#DIV/0!"}}]
[null,null,null,null,null,null,null,{"$f":"F13483*memoria!$B$44/(G13483*12*memoria!$B$47)","v":{"$error":"#DIV/0!"}},{"$f":"F13483/(G13483*12*memoria!$B$47)","v":{"$error":"#DIV/0!"}}]
[null,null,null,null,null,null,null,{"$f":"F13504*memoria!$B$44/(G13504*12*memoria!$B$47)","v":{"$error":"#DIV/0!"}},{"$f":"F13504/(G13504*12*memoria!$B$47)","v":{"$error":"#DIV/0!"}}]
[null,null,null,null,null,null,null,{"$f":"F13510*memoria!$B$44/(G13510*12*memoria!$B$47)","v":{"$error":"#DIV/0!"}},{"$f":"F13510/(G13510*12*memoria!$B$47)","v":{"$error":"#DIV/0!"}}]
[null,null,null,null,null,null,null,{"$f":"F13522*memoria!$B$44/(G13522*12*memoria!$B$47)","v":{"$error":"#DIV/0!"}},{"$f":"F13522/(G13522*12*memoria!$B$47)","v":{"$error":"#DIV/0!"}}]
[null,null,null,null,null,null,null,{"$f":"F13538*memoria!$B$44/(G13538*12*memoria!$B$47)","v":{"$error":"#DIV/0!"}},{"$f":"F13538/(G13538*12*memoria!$B$47)","v":{"$error":"#DIV/0!"}}]
[null,null,null,null,null,null,null,{"$f":"F13544*memoria!$B$44/(G13544*12*memoria!$B$47)","v":{"$error":"#DIV/0!"}},{"$f":"F13544/(G13544*12*memoria!$B$47)","v":{"$error":"#DIV/0!"}}]
[null,null,null,null,null,null,null,{"$f":"F13554*memoria!$B$44/(G13554*12*memoria!$B$47)","v":{"$error":"#DIV/0!"}},{"$f":"F13554/(G13554*12*memoria!$B$47)","v":{"$error":"#DIV/0!"}}]
[null,null,null,null,null,null,null,{"$f":"F13563*memoria!$B$44/(G13563*12*memoria!$B$47)","v":{"$error":"#DIV/0!"}},{"$f":"F13563/(G13563*12*memoria!$B$47)","v":{"$error":"#DIV/0!"}}]
[null,null,null,null,null,null,null,{"$f":"F13578*memoria!$B$44/(G13578*12*memoria!$B$47)","v":{"$error":"#DIV/0!"}},{"$f":"F13578/(G13578*12*memoria!$B$47)","v":{"$error":"#DIV/0!"}}]
[null,null,null,null,null,null,null,{"$f":"F13588*memoria!$B$44/(G13588*12*memoria!$B$47)","v":{"$error":"#DIV/0!"}},{"$f":"F13588/(G13588*12*memoria!$B$47)","v":{"$error":"#DIV/0!"}}]
[null,null,null,null,null,null,null,{"$f":"F13604*memoria!$B$44/(G13604*12*memoria!$B$47)","v":{"$error":"#DIV/0!"}},{"$f":"F13604/(G13604*12*memoria!$B$47)","v":{"$error":"#DIV/0!"}}]
[null,null,null,null,null,null,null,{"$f":"F13616*memoria!$B$44/(G13616*12*memoria!$B$47)","v":{"$error":"#DIV/0!"}},{"$f":"F13616/(G13616*12*memoria!$B$47)","v":{"$error":"#DIV/0!"}}]
[null,null,null,null,null,null,null,{"$f":"F13622*memoria!$B$44/(G13622*12*memoria!$B$47)","v":{"$error":"#DIV/0!"}},{"$f":"F13622/(G13622*12*memoria!$B$47)","v":{"$error":"#DIV/0!"}}]
[null,null,null,null,null,null,null,{"$f":"F13639*memoria!$B$44/(G13639*12*memoria!$B$47)","v":{"$error":"#DIV/0!"}},{"$f":"F13639/(G13639*12*memoria!$B$47)","v":{"$error":"#DIV/0!"}}]
[null,null,null,null,null,null,null,{"$f":"F13645*memoria!$B$44/(G13645*12*memoria!$B$47)","v":{"$error":"#DIV/0!"}},{"$f":"F13645/(G13645*12*memoria!$B$47)","v":{"$error":"#DIV/0!"}}]
[null,null,null,null,null,null,null,{"$f":"F13656*memoria!$B$44/(G13656*12*memoria!$B$47)","v":{"$error":"#DIV/0!"}},{"$f":"F13656/(G13656*12*memoria!$B$47)","v":{"$error":"#DIV/0!"}}]
[null,null,null,null,null,null,null,{"$f":"F13673*memoria!$B$44/(G13673*12*memoria!$B$47)","v":{"$error":"#DIV/0!"}},{"$f":"F13673/(G13673*12*memoria!$B$47)","v":{"$error":"#DIV/0!"}}]
[null,null,null,null,null,null,null,{"$f":"F13674*memoria!$B$44/(G13674*12*memoria!$B$47)","v":{"$error":"#DIV/0!"}},{"$f":"F13674/(G13674*12*memoria!$B$47)","v":{"$error":"#DIV/0!"}}]
[null,null,null,null,null,null,null,{"$f":"F13690*memoria!$B$44/(G13690*12*memoria!$B$47)","v":{"$error":"#DIV/0!"}},{"$f":"F13690/(G13690*12*memoria!$B$47)","v":{"$error":"#DIV/0!"}}]
[null,null,null,null,null,null,null,{"$f":"F13700*memoria!$B$44/(G13700*12*memoria!$B$47)","v":{"$error":"#DIV/0!"}},{"$f":"F13700/(G13700*12*memoria!$B$47)","v":{"$error":"#DIV/0!"}}]
[null,null,null,null,null,null,null,{"$f":"F13717*memoria!$B$44/(G13717*12*memoria!$B$47)","v":{"$error":"#DIV/0!"}},{"$f":"F13717/(G13717*12*memoria!$B$47)","v":{"$error":"#DIV/0!"}}]
[null,null,null,null,null,null,null,{"$f":"F13723*memoria!$B$44/(G13723*12*memoria!$B$47)","v":{"$error":"#DIV/0!"}},{"$f":"F13723/(G13723*12*memoria!$B$47)","v":{"$error":"#DIV/0!"}}]
[null,null,null,null,null,null,null,{"$f":"F13734*memoria!$B$44/(G13734*12*memoria!$B$47)","v":{"$error":"#DIV/0!"}},{"$f":"F13734/(G13734*12*memoria!$B$47)","v":{"$error":"#DIV/0!"}}]
[null,null,null,null,null,null,null,{"$f":"F13751*memoria!$B$44/(G13751*12*memoria!$B$47)","v":{"$error":"#DIV/0!"}},{"$f":"F13751/(G13751*12*memoria!$B$47)","v":{"$error":"#DIV/0!"}}]
[null,null,null,null,null,null,null,{"$f":"F13761*memoria!$B$44/(G13761*12*memoria!$B$47)","v":{"$error":"#DIV/0!"}},{"$f":"F13761/(G13761*12*memoria!$B$47)","v":{"$error":"#DIV/0!"}}]
[null,null,null,null,null,null,null,{"$f":"F13764*memoria!$B$44/(G13764*12*memoria!$B$47)","v":{"$error":"#DIV/0!"}},{"$f":"F13764/(G13764*12*memoria!$B$47)","v":{"$error":"#DIV/0!"}}]
[null,null,null,null,null,null,null,{"$f":"F13785*memoria!$B$44/(G13785*12*memoria!$B$47)","v":{"$error":"#DIV/0!"}},{"$f":"F13785/(G13785*12*memoria!$B$47)","v":{"$error":"#DIV/0!"}}]
[null,null,null,null,null,null,null,{"$f":"F13795*memoria!$B$44/(G13795*12*memoria!$B$47)","v":{"$error":"#DIV/0!"}},{"$f":"F13795/(G13795*12*memoria!$B$47)","v":{"$error":"#DIV/0!"}}]
[null,null,null,null,null,null,null,{"$f":"F13805*memoria!$B$44/(G13805*12*memoria!$B$47)","v":{"$error":"#DIV/0!"}},{"$f":"F13805/(G13805*12*memoria!$B$47)","v":{"$error":"#DIV/0!"}}]
[null,null,null,null,null,null,null,{"$f":"F13819*memoria!$B$44/(G13819*12*memoria!$B$47)","v":{"$error":"#DIV/0!"}},{"$f":"F13819/(G13819*12*memoria!$B$47)","v":{"$error":"#DIV/0!"}}]
[null,null,null,null,null,null,null,{"$f":"F13829*memoria!$B$44/(G13829*12*memoria!$B$47)","v":{"$error":"#DIV/0!"}},{"$f":"F13829/(G13829*12*memoria!$B$47)","v":{"$error":"#DIV/0!"}}]
[null,null,null,null,null,null,null,{"$f":"F13835*memoria!$B$44/(G13835*12*memoria!$B$47)","v":{"$error":"#DIV/0!"}},{"$f":"F13835/(G13835*12*memoria!$B$47)","v":{"$error":"#DIV/0!"}}]
[null,null,null,null,null,null,null,{"$f":"F13846*memoria!$B$44/(G13846*12*memoria!$B$47)","v":{"$error":"#DIV/0!"}},{"$f":"F13846/(G13846*12*memoria!$B$47)","v":{"$error":"#DIV/0!"}}]
[null,null,null,null,null,null,null,{"$f":"F13863*memoria!$B$44/(G13863*12*memoria!$B$47)","v":{"$error":"#DIV/0!"}},{"$f":"F13863/(G13863*12*memoria!$B$47)","v":{"$error":"#DIV/0!"}}]
[null,null,null,null,null,null,null,{"$f":"F13869*memoria!$B$44/(G13869*12*memoria!$B$47)","v":{"$error":"#DIV/0!"}},{"$f":"F13869/(G13869*12*memoria!$B$47)","v":{"$error":"#DIV/0!"}}]
[null,null,null,null,null,null,null,{"$f":"F13887*memoria!$B$44/(G13887*12*memoria!$B$47)","v":{"$error":"#DIV/0!"}},{"$f":"F13887/(G13887*12*memoria!$B$47)","v":{"$error":"#DIV/0!"}}]
[null,null,null,null,null,null,null,{"$f":"F13897*memoria!$B$44/(G13897*12*memoria!$B$47)","v":{"$error":"#DIV/0!"}},{"$f":"F13897/(G13897*12*memoria!$B$47)","v":{"$error":"#DIV/0!"}}]
[null,null,null,null,null,null,null,{"$f":"F13903*memoria!$B$44/(G13903*12*memoria!$B$47)","v":{"$error":"#DIV/0!"}},{"$f":"F13903/(G13903*12*memoria!$B$47)","v":{"$error":"#DIV/0!"}}]
[null,null,null,null,null,null,null,{"$f":"F13913*memoria!$B$44/(G13913*12*memoria!$B$47)","v":{"$error":"#DIV/0!"}},{"$f":"F13913/(G13913*12*memoria!$B$47)","v":{"$error":"#DIV/0!"}}]
[null,null,null,null,null,null,null,{"$f":"F13924*memoria!$B$44/(G13924*12*memoria!$B$47)","v":{"$error":"#DIV/0!"}},{"$f":"F13924/(G13924*12*memoria!$B$47)","v":{"$error":"#DIV/0!"}}]
[null,null,null,null,null,null,null,{"$f":"F13941*memoria!$B$44/(G13941*12*memoria!$B$47)","v":{"$error":"#DIV/0!"}},{"$f":"F13941/(G13941*12*memoria!$B$47)","v":{"$error":"#DIV/0!"}}]
[null,null,null,null,null,null,null,{"$f":"F13947*memoria!$B$44/(G13947*12*memoria!$B$47)","v":{"$error":"#DIV/0!"}},{"$f":"F13947/(G13947*12*memoria!$B$47)","v":{"$error":"#DIV/0!"}}]
[null,null,null,null,null,null,null,{"$f":"F13965*memoria!$B$44/(G13965*12*memoria!$B$47)","v":{"$error":"#DIV/0!"}},{"$f":"F13965/(G13965*12*memoria!$B$47)","v":{"$error":"#DIV/0!"}}]
[null,null,null,null,null,null,null,{"$f":"F13975*memoria!$B$44/(G13975*12*memoria!$B$47)","v":{"$error":"#DIV/0!"}},{"$f":"F13975/(G13975*12*memoria!$B$47)","v":{"$error":"#DIV/0!"}}]
[null,null,null,null,null,null,null,{"$f":"F13981*memoria!$B$44/(G13981*12*memoria!$B$47)","v":{"$error":"#DIV/0!"}},{"$f":"F13981/(G13981*12*memoria!$B$47)","v":{"$error":"#DIV/0!"}}]
[null,null,null,null,null,null,null,{"$f":"F13991*memoria!$B$44/(G13991*12*memoria!$B$47)","v":{"$error":"#DIV/0!"}},{"$f":"F13991/(G13991*12*memoria!$B$47)","v":{"$error":"#DIV/0!"}}]
[null,null,null,null,null,null,null,{"$f":"F14006*memoria!$B$44/(G14006*12*memoria!$B$47)","v":{"$error":"#DIV/0!"}},{"$f":"F14006/(G14006*12*memoria!$B$47)","v":{"$error":"#DIV/0!"}}]
[null,null,null,null,null,null,null,{"$f":"F14015*memoria!$B$44/(G14015*12*memoria!$B$47)","v":{"$error":"#DIV/0!"}},{"$f":"F14015/(G14015*12*memoria!$B$47)","v":{"$error":"#DIV/0!"}}]
[null,null,null,null,null,null,null,{"$f":"F14025*memoria!$B$44/(G14025*12*memoria!$B$47)","v":{"$error":"#DIV/0!"}},{"$f":"F14025/(G14025*12*memoria!$B$47)","v":{"$error":"#DIV/0!"}}]
[null,null,null,null,null,null,null,{"$f":"F14042*memoria!$B$44/(G14042*12*memoria!$B$47)","v":{"$error":"#DIV/0!"}},{"$f":"F14042/(G14042*12*memoria!$B$47)","v":{"$error":"#DIV/0!"}}]
[null,null,null,null,null,null,null,{"$f":"F14055*memoria!$B$44/(G14055*12*memoria!$B$47)","v":{"$error":"#DIV/0!"}},{"$f":"F14055/(G14055*12*memoria!$B$47)","v":{"$error":"#DIV/0!"}}]
[null,null,null,null,null,null,null,{"$f":"F14059*memoria!$B$44/(G14059*12*memoria!$B$47)","v":{"$error":"#DIV/0!"}},{"$f":"F14059/(G14059*12*memoria!$B$47)","v":{"$error":"#DIV/0!"}}]
[null,null,null,null,null,null,null,{"$f":"F14076*memoria!$B$44/(G14076*12*memoria!$B$47)","v":{"$error":"#DIV/0!"}},{"$f":"F14076/(G14076*12*memoria!$B$47)","v":{"$error":"#DIV/0!"}}]
[null,null,null,null,null,null,null,{"$f":"F14088*memoria!$B$44/(G14088*12*memoria!$B$47)","v":{"$error":"#DIV/0!"}},{"$f":"F14088/(G14088*12*memoria!$B$47)","v":{"$error":"#DIV/0!"}}]
[null,null,null,null,null,null,null,{"$f":"F14093*memoria!$B$44/(G14093*12*memoria!$B$47)","v":{"$error":"#DIV/0!"}},{"$f":"F14093/(G14093*12*memoria!$B$47)","v":{"$error":"#DIV/0!"}}]
[null,null,null,null,null,null,null,{"$f":"F14110*memoria!$B$44/(G14110*12*memoria!$B$47)","v":{"$error":"#DIV/0!"}},{"$f":"F14110/(G14110*12*memoria!$B$47)","v":{"$error":"#DIV/0!"}}]
[null,null,null,null,null,null,null,{"$f":"F14120*memoria!$B$44/(G14120*12*memoria!$B$47)","v":{"$error":"#DIV/0!"}},{"$f":"F14120/(G14120*12*memoria!$B$47)","v":{"$error":"#DIV/0!"}}]
[null,null,null,null,null,null,null,{"$f":"F14125*memoria!$B$44/(G14125*12*memoria!$B$47)","v":{"$error":"#DIV/0!"}},{"$f":"F14125/(G14125*12*memoria!$B$47)","v":{"$error":"#DIV/0!"}}]
[null,null,null,null,null,null,null,{"$f":"F14144*memoria!$B$44/(G14144*12*memoria!$B$47)","v":{"$error":"#DIV/0!"}},{"$f":"F14144/(G14144*12*memoria!$B$47)","v":{"$error":"#DIV/0!"}}]
[null,null,null,null,null,null,null,{"$f":"F14154*memoria!$B$44/(G14154*12*memoria!$B$47)","v":{"$error":"#DIV/0!"}},{"$f":"F14154/(G14154*12*memoria!$B$47)","v":{"$error":"#DIV/0!"}}]
[null,null,null,null,null,null,null,{"$f":"F14166*memoria!$B$44/(G14166*12*memoria!$B$47)","v":{"$error":"#DIV/0!"}},{"$f":"F14166/(G14166*12*memoria!$B$47)","v":{"$error":"#DIV/0!"}}]
[null,null,null,null,null,null,null,{"$f":"F14171*memoria!$B$44/(G14171*12*memoria!$B$47)","v":{"$error":"#DIV/0!"}},{"$f":"F14171/(G14171*12*memoria!$B$47)","v":{"$error":"#DIV/0!"}}]
[null,null,null,null,null,null,null,{"$f":"F14188*memoria!$B$44/(G14188*12*memoria!$B$47)","v":{"$error":"#DIV/0!"}},{"$f":"F14188/(G14188*12*memoria!$B$47)","v":{"$error":"#DIV/0!"}}]
[null,null,null,null,null,null,null,{"$f":"F14194*memoria!$B$44/(G14194*12*memoria!$B$47)","v":{"$error":"#DIV/0!"}},{"$f":"F14194/(G14194*12*memoria!$B$47)","v":{"$error":"#DIV/0!"}}]
[null,null,null,null,null,null,null,{"$f":"F14207*memoria!$B$44/(G14207*12*memoria!$B$47)","v":{"$error":"#DIV/0!"}},{"$f":"F14207/(G14207*12*memoria!$B$47)","v":{"$error":"#DIV/0!"}}]
[null,null,null,null,null,null,null,{"$f":"F14222*memoria!$B$44/(G14222*12*memoria!$B$47)","v":{"$error":"#DIV/0!"}},{"$f":"F14222/(G14222*12*memoria!$B$47)","v":{"$error":"#DIV/0!"}}]
[null,null,null,null,null,null,null,{"$f":"F14232*memoria!$B$44/(G14232*12*memoria!$B$47)","v":{"$error":"#DIV/0!"}},{"$f":"F14232/(G14232*12*memoria!$B$47)","v":{"$error":"#DIV/0!"}}]
[null,null,null,null,null,null,null,{"$f":"F14238*memoria!$B$44/(G14238*12*memoria!$B$47)","v":{"$error":"#DIV/0!"}},{"$f":"F14238/(G14238*12*memoria!$B$47)","v":{"$error":"#DIV/0!"}}]
[null,null,null,null,null,null,null,{"$f":"F14256*memoria!$B$44/(G14256*12*memoria!$B$47)","v":{"$error":"#DIV/0!"}},{"$f":"F14256/(G14256*12*memoria!$B$47)","v":{"$error":"#DIV/0!"}}]
[null,null,null,null,null,null,null,{"$f":"F14266*memoria!$B$44/(G14266*12*memoria!$B$47)","v":{"$error":"#DIV/0!"}},{"$f":"F14266/(G14266*12*memoria!$B$47)","v":{"$error":"#DIV/0!"}}]
[null,null,null,null,null,null,null,{"$f":"F14272*memoria!$B$44/(G14272*12*memoria!$B$47)","v":{"$error":"#DIV/0!"}},{"$f":"F14272/(G14272*12*memoria!$B$47)","v":{"$error":"#DIV/0!"}}]
[null,null,null,null,null,null,null,{"$f":"F14285*memoria!$B$44/(G14285*12*memoria!$B$47)","v":{"$error":"#DIV/0!"}},{"$f":"F14285/(G14285*12*memoria!$B$47)","v":{"$error":"#DIV/0!"}}]
[null,null,null,null,null,null,null,{"$f":"F14300*memoria!$B$44/(G14300*12*memoria!$B$47)","v":{"$error":"#DIV/0!"}},{"$f":"F14300/(G14300*12*memoria!$B$47)","v":{"$error":"#DIV/0!"}}]
[null,null,null,null,null,null,null,{"$f":"F14306*memoria!$B$44/(G14306*12*memoria!$B$47)","v":{"$error":"#DIV/0!"}},{"$f":"F14306/(G14306*12*memoria!$B$47)","v":{"$error":"#DIV/0!"}}]
[null,null,null,null,null,null,null,{"$f":"F14327*memoria!$B$44/(G14327*12*memoria!$B$47)","v":{"$error":"#DIV/0!"}},{"$f":"F14327/(G14327*12*memoria!$B$47)","v":{"$error":"#DIV/0!"}}]
[null,null,null,null,null,null,null,{"$f":"F14338*memoria!$B$44/(G14338*12*memoria!$B$47)","v":{"$error":"#DIV/0!"}},{"$f":"F14338/(G14338*12*memoria!$B$47)","v":{"$error":"#DIV/0!"}}]
[null,null,null,null,null,null,null,{"$f":"F14340*memoria!$B$44/(G14340*12*memoria!$B$47)","v":{"$error":"#DIV/0!"}},{"$f":"F14340/(G14340*12*memoria!$B$47)","v":{"$error":"#DIV/0!"}}]
[null,null,null,null,null,null,null,{"$f":"F14361*memoria!$B$44/(G14361*12*memoria!$B$47)","v":{"$error":"#DIV/0!"}},{"$f":"F14361/(G14361*12*memoria!$B$47)","v":{"$error":"#DIV/0!"}}]
[null,null,null,null,null,null,null,{"$f":"F14367*memoria!$B$44/(G14367*12*memoria!$B$47)","v":{"$error":"#DIV/0!"}},{"$f":"F14367/(G14367*12*memoria!$B$47)","v":{"$error":"#DIV/0!"}}]
[null,null,null,null,null,null,null,{"$f":"F14378*memoria!$B$44/(G14378*12*memoria!$B$47)","v":{"$error":"#DIV/0!"}},{"$f":"F14378/(G14378*12*memoria!$B$47)","v":{"$error":"#DIV/0!"}}]
[null,null,null,null,null,null,null,{"$f":"F14395*memoria!$B$44/(G14395*12*memoria!$B$47)","v":{"$error":"#DIV/0!"}},{"$f":"F14395/(G14395*12*memoria!$B$47)","v":{"$error":"#DIV/0!"}}]
[null,null,null,null,null,null,null,{"$f":"F14401*memoria!$B$44/(G14401*12*memoria!$B$47)","v":{"$error":"#DIV/0!"}},{"$f":"F14401/(G14401*12*memoria!$B$47)","v":{"$error":"#DIV/0!"}}]
[null,null,null,null,null,null,null,{"$f":"F14408*memoria!$B$44/(G14408*12*memoria!$B$47)","v":{"$error":"#DIV/0!"}},{"$f":"F14408/(G14408*12*memoria!$B$47)","v":{"$error":"#DIV/0!"}}]
[null,null,null,null,null,null,null,{"$f":"F14429*memoria!$B$44/(G14429*12*memoria!$B$47)","v":{"$error":"#DIV/0!"}},{"$f":"F14429/(G14429*12*memoria!$B$47)","v":{"$error":"#DIV/0!"}}]
[null,null,null,null,null,null,null,{"$f":"F14435*memoria!$B$44/(G14435*12*memoria!$B$47)","v":{"$error":"#DIV/0!"}},{"$f":"F14435/(G14435*12*memoria!$B$47)","v":{"$error":"#DIV/0!"}}]
[null,null,null,null,null,null,null,{"$f":"F14449*memoria!$B$44/(G14449*12*memoria!$B$47)","v":{"$error":"#DIV/0!"}},{"$f":"F14449/(G14449*12*memoria!$B$47)","v":{"$error":"#DIV/0!"}}]
[null,null,null,null,null,null,null,{"$f":"F14463*memoria!$B$44/(G14463*12*memoria!$B$47)","v":{"$error":"#DIV/0!"}},{"$f":"F14463/(G14463*12*memoria!$B$47)","v":{"$error":"#DIV/0!"}}]
[null,null,null,null,null,null,null,{"$f":"F14473*memoria!$B$44/(G14473*12*memoria!$B$47)","v":{"$error":"#DIV/0!"}},{"$f":"F14473/(G14473*12*memoria!$B$47)","v":{"$error":"#DIV/0!"}}]
[null,null,null,null,null,null,null,{"$f":"F14479*memoria!$B$44/(G14479*12*memoria!$B$47)","v":{"$error":"#DIV/0!"}},{"$f":"F14479/(G14479*12*memoria!$B$47)","v":{"$error":"#DIV/0!"}}]
[null,null,null,null,null,null,null,{"$f":"F14486*memoria!$B$44/(G14486*12*memoria!$B$47)","v":{"$error":"#DIV/0!"}},{"$f":"F14486/(G14486*12*memoria!$B$47)","v":{"$error":"#DIV/0!"}}]
[null,null,null,null,null,null,null,{"$f":"F14507*memoria!$B$44/(G14507*12*memoria!$B$47)","v":{"$error":"#DIV/0!"}},{"$f":"F14507/(G14507*12*memoria!$B$47)","v":{"$error":"#DIV/0!"}}]
[null,null,null,null,null,null,null,{"$f":"F14513*memoria!$B$44/(G14513*12*memoria!$B$47)","v":{"$error":"#DIV/0!"}},{"$f":"F14513/(G14513*12*memoria!$B$47)","v":{"$error":"#DIV/0!"}}]
[null,null,null,null,null,null,null,{"$f":"F14530*memoria!$B$44/(G14530*12*memoria!$B$47)","v":{"$error":"#DIV/0!"}},{"$f":"F14530/(G14530*12*memoria!$B$47)","v":{"$error":"#DIV/0!"}}]
[null,null,null,null,null,null,null,{"$f":"F14539*memoria!$B$44/(G14539*12*memoria!$B$47)","v":{"$error":"#DIV/0!"}},{"$f":"F14539/(G14539*12*memoria!$B$47)","v":{"$error":"#DIV/0!"}}]
[null,null,null,null,null,null,null,{"$f":"F14547*memoria!$B$44/(G14547*12*memoria!$B$47)","v":{"$error":"#DIV/0!"}},{"$f":"F14547/(G14547*12*memoria!$B$47)","v":{"$error":"#DIV/0!"}}]
[null,null,null,null,null,null,null,{"$f":"F14557*memoria!$B$44/(G14557*12*memoria!$B$47)","v":{"$error":"#DIV/0!"}},{"$f":"F14557/(G14557*12*memoria!$B$47)","v":{"$error":"#DIV/0!"}}]
[null,null,null,null,null,null,null,{"$f":"F14568*memoria!$B$44/(G14568*12*memoria!$B$47)","v":{"$error":"#DIV/0!"}},{"$f":"F14568/(G14568*12*memoria!$B$47)","v":{"$error":"#DIV/0!"}}]
[null,null,null,null,null,null,null,{"$f":"F14581*memoria!$B$44/(G14581*12*memoria!$B$47)","v":{"$error":"#DIV/0!"}},{"$f":"F14581/(G14581*12*memoria!$B$47)","v":{"$error":"#DIV/0!"}}]
[null,null,null,null,null,null,null,{"$f":"F14591*memoria!$B$44/(G14591*12*memoria!$B$47)","v":{"$error":"#DIV/0!"}},{"$f":"F14591/(G14591*12*memoria!$B$47)","v":{"$error":"#DIV/0!"}}]
[null,null,null,null,null,null,null,{"$f":"F14608*memoria!$B$44/(G14608*12*memoria!$B$47)","v":{"$error":"#DIV/0!"}},{"$f":"F14608/(G14608*12*memoria!$B$47)","v":{"$error":"#DIV/0!"}}]
[null,null,null,null,null,null,null,{"$f":"F14621*memoria!$B$44/(G14621*12*memoria!$B$47)","v":{"$error":"#DIV/0!"}},{"$f":"F14621/(G14621*12*memoria!$B$47)","v":{"$error":"#DIV/0!"}}]
[null,null,null,null,null,null,null,{"$f":"F14625*memoria!$B$44/(G14625*12*memoria!$B$47)","v":{"$error":"#DIV/0!"}},{"$f":"F14625/(G14625*12*memoria!$B$47)","v":{"$error":"#DIV/0!"}}]
[null,null,null,null,null,null,null,{"$f":"F14642*memoria!$B$44/(G14642*12*memoria!$B$47)","v":{"$error":"#DIV/0!"}},{"$f":"F14642/(G14642*12*memoria!$B$47)","v":{"$error":"#DIV/0!"}}]
[null,null,null,null,null,null,null,{"$f":"F14650*memoria!$B$44/(G14650*12*memoria!$B$47)","v":{"$error":"#DIV/0!"}},{"$f":"F14650/(G14650*12*memoria!$B$47)","v":{"$error":"#DIV/0!"}}]
[null,null,null,null,null,null,null,{"$f":"F14659*memoria!$B$44/(G14659*12*memoria!$B$47)","v":{"$error":"#DIV/0!"}},{"$f":"F14659/(G14659*12*memoria!$B$47)","v":{"$error":"#DIV/0!"}}]
[null,null,null,null,null,null,null,{"$f":"F14676*memoria!$B$44/(G14676*12*memoria!$B$47)","v":{"$error":"#DIV/0!"}},{"$f":"F14676/(G14676*12*memoria!$B$47)","v":{"$error":"#DIV/0!"}}]
[null,null,null,null,null,null,null,{"$f":"F14686*memoria!$B$44/(G14686*12*memoria!$B$47)","v":{"$error":"#DIV/0!"}},{"$f":"F14686/(G14686*12*memoria!$B$47)","v":{"$error":"#DIV/0!"}}]
[null,null,null,null,null,null,null,{"$f":"F14699*memoria!$B$44/(G14699*12*memoria!$B$47)","v":{"$error":"#DIV/0!"}},{"$f":"F14699/(G14699*12*memoria!$B$47)","v":{"$error":"#DIV/0!"}}]
[null,null,null,null,null,null,null,{"$f":"F14703*memoria!$B$44/(G14703*12*memoria!$B$47)","v":{"$error":"#DIV/0!"}},{"$f":"F14703/(G14703*12*memoria!$B$47)","v":{"$error":"#DIV/0!"}}]
[null,null,null,null,null,null,null,{"$f":"F14720*memoria!$B$44/(G14720*12*memoria!$B$47)","v":{"$error":"#DIV/0!"}},{"$f":"F14720/(G14720*12*memoria!$B$47)","v":{"$error":"#DIV/0!"}}]
[null,null,null,null,null,null,null,{"$f":"F14726*memoria!$B$44/(G14726*12*memoria!$B$47)","v":{"$error":"#DIV/0!"}},{"$f":"F14726/(G14726*12*memoria!$B$47)","v":{"$error":"#DIV/0!"}}]
[null,null,null,null,null,null,null,{"$f":"F14740*memoria!$B$44/(G14740*12*memoria!$B$47)","v":{"$error":"#DIV/0!"}},{"$f":"F14740/(G14740*12*memoria!$B$47)","v":{"$error":"#DIV/0!"}}]
[null,null,null,null,null,null,null,{"$f":"F14754*memoria!$B$44/(G14754*12*memoria!$B$47)","v":{"$error":"#DIV/0!"}},{"$f":"F14754/(G14754*12*memoria!$B$47)","v":{"$error":"#DIV/0!"}}]
[null,null,null,null,null,null,null,{"$f":"F14764*memoria!$B$44/(G14764*12*memoria!$B$47)","v":{"$error":"#DIV/0!"}},{"$f":"F14764/(G14764*12*memoria!$B$47)","v":{"$error":"#DIV/0!"}}]
[null,null,null,null,null,null,null,{"$f":"F14769*memoria!$B$44/(G14769*12*memoria!$B$47)","v":{"$error":"#DIV/0!"}},{"$f":"F14769/(G14769*12*memoria!$B$47)","v":{"$error":"#DIV/0!"}}]
[null,null,null,null,null,null,null,{"$f":"F14788*memoria!$B$44/(G14788*12*memoria!$B$47)","v":{"$error":"#DIV/0!"}},{"$f":"F14788/(G14788*12*memoria!$B$47)","v":{"$error":"#DIV/0!"}}]
[null,null,null,null,null,null,null,{"$f":"F14798*memoria!$B$44/(G14798*12*memoria!$B$47)","v":{"$error":"#DIV/0!"}},{"$f":"F14798/(G14798*12*memoria!$B$47)","v":{"$error":"#DIV/0!"}}]
[null,null,null,null,null,null,null,{"$f":"F14804*memoria!$B$44/(G14804*12*memoria!$B$47)","v":{"$error":"#DIV/0!"}},{"$f":"F14804/(G14804*12*memoria!$B$47)","v":{"$error":"#DIV/0!"}}]
[null,null,null,null,null,null,null,{"$f":"F14818*memoria!$B$44/(G14818*12*memoria!$B$47)","v":{"$error":"#DIV/0!"}},{"$f":"F14818/(G14818*12*memoria!$B$47)","v":{"$error":"#DIV/0!"}}]
[null,null,null,null,null,null,null,{"$f":"F14832*memoria!$B$44/(G14832*12*memoria!$B$47)","v":{"$error":"#DIV/0!"}},{"$f":"F14832/(G14832*12*memoria!$B$47)","v":{"$error":"#DIV/0!"}}]
[null,null,null,null,null,null,null,{"$f":"F14838*memoria!$B$44/(G14838*12*memoria!$B$47)","v":{"$error":"#DIV/0!"}},{"$f":"F14838/(G14838*12*memoria!$B$47)","v":{"$error":"#DIV/0!"}}]
[null,null,null,null,null,null,null,{"$f":"F14851*memoria!$B$44/(G14851*12*memoria!$B$47)","v":{"$error":"#DIV/0!"}},{"$f":"F14851/(G14851*12*memoria!$B$47)","v":{"$error":"#DIV/0!"}}]
[null,null,null,null,null,null,null,{"$f":"F14866*memoria!$B$44/(G14866*12*memoria!$B$47)","v":{"$error":"#DIV/0!"}},{"$f":"F14866/(G14866*12*memoria!$B$47)","v":{"$error":"#DIV/0!"}}]
[null,null,null,null,null,null,null,{"$f":"F14872*memoria!$B$44/(G14872*12*memoria!$B$47)","v":{"$error":"#DIV/0!"}},{"$f":"F14872/(G14872*12*memoria!$B$47)","v":{"$error":"#DIV/0!"}}]
[null,null,null,null,null,null,null,{"$f":"F14882*memoria!$B$44/(G14882*12*memoria!$B$47)","v":{"$error":"#DIV/0!"}},{"$f":"F14882/(G14882*12*memoria!$B$47)","v":{"$error":"#DIV/0!"}}]
[null,null,null,null,null,null,null,{"$f":"F14900*memoria!$B$44/(G14900*12*memoria!$B$47)","v":{"$error":"#DIV/0!"}},{"$f":"F14900/(G14900*12*memoria!$B$47)","v":{"$error":"#DIV/0!"}}]
[null,null,null,null,null,null,null,{"$f":"F14906*memoria!$B$44/(G14906*12*memoria!$B$47)","v":{"$error":"#DIV/0!"}},{"$f":"F14906/(G14906*12*memoria!$B$47)","v":{"$error":"#DIV/0!"}}]
[null,null,null,null,null,null,null,{"$f":"F14916*memoria!$B$44/(G14916*12*memoria!$B$47)","v":{"$error":"#DIV/0!"}},{"$f":"F14916/(G14916*12*memoria!$B$47)","v":{"$error":"#DIV/0!"}}]
[null,null,null,null,null,null,null,{"$f":"F14929*memoria!$B$44/(G14929*12*memoria!$B$47)","v":{"$error":"#DIV/0!"}},{"$f":"F14929/(G14929*12*memoria!$B$47)","v":{"$error":"#DIV/0!"}}]
[null,null,null,null,null,null,null,{"$f":"F14944*memoria!$B$44/(G14944*12*memoria!$B$47)","v":{"$error":"#DIV/0!"}},{"$f":"F14944/(G14944*12*memoria!$B$47)","v":{"$error":"#DIV/0!"}}]
[null,null,null,null,null,null,null,{"$f":"F14950*memoria!$B$44/(G14950*12*memoria!$B$47)","v":{"$error":"#DIV/0!"}},{"$f":"F14950/(G14950*12*memoria!$B$47)","v":{"$error":"#DIV/0!"}}]
[null,null,null,null,null,null,null,{"$f":"F14967*memoria!$B$44/(G14967*12*memoria!$B$47)","v":{"$error":"#DIV/0!"}},{"$f":"F14967/(G14967*12*memoria!$B$47)","v":{"$error":"#DIV/0!"}}]
[null,null,null,null,null,null,null,{"$f":"F14982*memoria!$B$44/(G14982*12*memoria!$B$47)","v":{"$error":"#DIV/0!"}},{"$f":"F14982/(G14982*12*memoria!$B$47)","v":{"$error":"#DIV/0!"}}]
[null,null,null,null,null,null,null,{"$f":"F14984*memoria!$B$44/(G14984*12*memoria!$B$47)","v":{"$error":"#DIV/0!"}},{"$f":"F14984/(G14984*12*memoria!$B$47)","v":{"$error":"#DIV/0!"}}]
[null,null,null,null,null,null,null,{"$f":"F14994*memoria!$B$44/(G14994*12*memoria!$B$47)","v":{"$error":"#DIV/0!"}},{"$f":"F14994/(G14994*12*memoria!$B$47)","v":{"$error":"#DIV/0!"}}]
[null,null,null,null,null,null,null,{"$f":"F15011*memoria!$B$44/(G15011*12*memoria!$B$47)","v":{"$error":"#DIV/0!"}},{"$f":"F15011/(G15011*12*memoria!$B$47)","v":{"$error":"#DIV/0!"}}]
[null,null,null,null,null,null,null,{"$f":"F15019*memoria!$B$44/(G15019*12*memoria!$B$47)","v":{"$error":"#DIV/0!"}},{"$f":"F15019/(G15019*12*memoria!$B$47)","v":{"$error":"#DIV/0!"}}]
[null,null,null,null,null,null,null,{"$f":"F15028*memoria!$B$44/(G15028*12*memoria!$B$47)","v":{"$error":"#DIV/0!"}},{"$f":"F15028/(G15028*12*memoria!$B$47)","v":{"$error":"#DIV/0!"}}]
[null,null,null,null,null,null,null,{"$f":"F15045*memoria!$B$44/(G15045*12*memoria!$B$47)","v":{"$error":"#DIV/0!"}},{"$f":"F15045/(G15045*12*memoria!$B$47)","v":{"$error":"#DIV/0!"}}]
[null,null,null,null,null,null,null,{"$f":"F15060*memoria!$B$44/(G15060*12*memoria!$B$47)","v":{"$error":"#DIV/0!"}},{"$f":"F15060/(G15060*12*memoria!$B$47)","v":{"$error":"#DIV/0!"}}]
[null,null,null,null,null,null,null,{"$f":"F15062*memoria!$B$44/(G15062*12*memoria!$B$47)","v":{"$error":"#DIV/0!"}},{"$f":"F15062/(G15062*12*memoria!$B$47)","v":{"$error":"#DIV/0!"}}]
[null,null,null,null,null,null,null,{"$f":"F15079*memoria!$B$44/(G15079*12*memoria!$B$47)","v":{"$error":"#DIV/0!"}},{"$f":"F15079/(G15079*12*memoria!$B$47)","v":{"$error":"#DIV/0!"}}]
[null,null,null,null,null,null,null,{"$f":"F15089*memoria!$B$44/(G15089*12*memoria!$B$47)","v":{"$error":"#DIV/0!"}},{"$f":"F15089/(G15089*12*memoria!$B$47)","v":{"$error":"#DIV/0!"}}]
[null,null,null,null,null,null,null,{"$f":"F15101*memoria!$B$44/(G15101*12*memoria!$B$47)","v":{"$error":"#DIV/0!"}},{"$f":"F15101/(G15101*12*memoria!$B$47)","v":{"$error":"#DIV/0!"}}]
[null,null,null,null,null,null,null,{"$f":"F15113*memoria!$B$44/(G15113*12*memoria!$B$47)","v":{"$error":"#DIV/0!"}},{"$f":"F15113/(G15113*12*memoria!$B$47)","v":{"$error":"#DIV/0!"}}]
[null,null,null,null,null,null,null,{"$f":"F15123*memoria!$B$44/(G15123*12*memoria!$B$47)","v":{"$error":"#DIV/0!"}},{"$f":"F15123/(G15123*12*memoria!$B$47)","v":{"$error":"#DIV/0!"}}]
[null,null,null,null,null,null,null,{"$f":"F15130*memoria!$B$44/(G15130*12*memoria!$B$47)","v":{"$error":"#DIV/0!"}},{"$f":"F15130/(G15130*12*memoria!$B$47)","v":{"$error":"#DIV/0!"}}]
[null,null,null,null,null,null,null,{"$f":"F15147*memoria!$B$44/(G15147*12*memoria!$B$47)","v":{"$error":"#DIV/0!"}},{"$f":"F15147/(G15147*12*memoria!$B$47)","v":{"$error":"#DIV/0!"}}]
[null,null,null,null,null,null,null,{"$f":"F15157*memoria!$B$44/(G15157*12*memoria!$B$47)","v":{"$error":"#DIV/0!"}},{"$f":"F15157/(G15157*12*memoria!$B$47)","v":{"$error":"#DIV/0!"}}]
[null,null,null,null,null,null,null,{"$f":"F15163*memoria!$B$44/(G15163*12*memoria!$B$47)","v":{"$error":"#DIV/0!"}},{"$f":"F15163/(G15163*12*memoria!$B$47)","v":{"$error":"#DIV/0!"}}]
[null,null,null,null,null,null,null,{"$f":"F15183*memoria!$B$44/(G15183*12*memoria!$B$47)","v":{"$error":"#DIV/0!"}},{"$f":"F15183/(G15183*12*memoria!$B$47)","v":{"$error":"#DIV/0!"}}]
[null,null,null,null,null,null,null,{"$f":"F15191*memoria!$B$44/(G15191*12*memoria!$B$47)","v":{"$error":"#DIV/0!"}},{"$f":"F15191/(G15191*12*memoria!$B$47)","v":{"$error":"#DIV/0!"}}]
[null,null,null,null,null,null,null,{"$f":"F15197*memoria!$B$44/(G15197*12*memoria!$B$47)","v":{"$error":"#DIV/0!"}},{"$f":"F15197/(G15197*12*memoria!$B$47)","v":{"$error":"#DIV/0!"}}]
[null,null,null,null,null,null,null,{"$f":"F15218*memoria!$B$44/(G15218*12*memoria!$B$47)","v":{"$error":"#DIV/0!"}},{"$f":"F15218/(G15218*12*memoria!$B$47)","v":{"$error":"#DIV/0!"}}]
[null,null,null,null,null,null,null,{"$f":"F15220*memoria!$B$44/(G15220*12*memoria!$B$47)","v":{"$error":"#DIV/0!"}},{"$f":"F15220/(G15220*12*memoria!$B$47)","v":{"$error":"#DIV/0!"}}]
[null,null,null,null,null,null,null,{"$f":"F15235*memoria!$B$44/(G15235*12*memoria!$B$47)","v":{"$error":"#DIV/0!"}},{"$f":"F15235/(G15235*12*memoria!$B$47)","v":{"$error":"#DIV/0!"}}]
[null,null,null,null,null,null,null,{"$f":"F15252*memoria!$B$44/(G15252*12*memoria!$B$47)","v":{"$error":"#DIV/0!"}},{"$f":"F15252/(G15252*12*memoria!$B$47)","v":{"$error":"#DIV/0!"}}]
[null,null,null,null,null,null,null,{"$f":"F15261*memoria!$B$44/(G15261*12*memoria!$B$47)","v":{"$error":"#DIV/0!"}},{"$f":"F15261/(G15261*12*memoria!$B$47)","v":{"$error":"#DIV/0!"}}]
[null,null,null,null,null,null,null,{"$f":"F15269*memoria!$B$44/(G15269*12*memoria!$B$47)","v":{"$error":"#DIV/0!"}},{"$f":"F15269/(G15269*12*memoria!$B$47)","v":{"$error":"#DIV/0!"}}]
[null,null,null,null,null,null,null,{"$f":"F15286*memoria!$B$44/(G15286*12*memoria!$B$47)","v":{"$error":"#DIV/0!"}},{"$f":"F15286/(G15286*12*memoria!$B$47)","v":{"$error":"#DIV/0!"}}]
[null,null,null,null,null,null,null,{"$f":"F15292*memoria!$B$44/(G15292*12*memoria!$B$47)","v":{"$error":"#DIV/0!"}},{"$f":"F15292/(G15292*12*memoria!$B$47)","v":{"$error":"#DIV/0!"}}]
[null,null,null,null,null,null,null,{"$f":"F15302*memoria!$B$44/(G15302*12*memoria!$B$47)","v":{"$error":"#DIV/0!"}},{"$f":"F15302/(G15302*12*memoria!$B$47)","v":{"$error":"#DIV/0!"}}]
[null,null,null,null,null,null,null,{"$f":"F15320*memoria!$B$44/(G15320*12*memoria!$B$47)","v":{"$error":"#DIV/0!"}},{"$f":"F15320/(G15320*12*memoria!$B$47)","v":{"$error":"#DIV/0!"}}]
[null,null,null,null,null,null,null,{"$f":"F15330*memoria!$B$44/(G15330*12*memoria!$B$47)","v":{"$error":"#DIV/0!"}},{"$f":"F15330/(G15330*12*memoria!$B$47)","v":{"$error":"#DIV/0!"}}]
[null,null,null,null,null,null,null,{"$f":"F15343*memoria!$B$44/(G15343*12*memoria!$B$47)","v":{"$error":"#DIV/0!"}},{"$f":"F15343/(G15343*12*memoria!$B$47)","v":{"$error":"#DIV/0!"}}]
[null,null,null,null,null,null,null,{"$f":"F15354*memoria!$B$44/(G15354*12*memoria!$B$47)","v":{"$error":"#DIV/0!"}},{"$f":"F15354/(G15354*12*memoria!$B$47)","v":{"$error":"#DIV/0!"}}]
[null,null,null,null,null,null,null,{"$f":"F15364*memoria!$B$44/(G15364*12*memoria!$B$47)","v":{"$error":"#DIV/0!"}},{"$f":"F15364/(G15364*12*memoria!$B$47)","v":{"$error":"#DIV/0!"}}]
[null,null,null,null,null,null,null,{"$f":"F15370*memoria!$B$44/(G15370*12*memoria!$B$47)","v":{"$error":"#DIV/0!"}},{"$f":"F15370/(G15370*12*memoria!$B$47)","v":{"$error":"#DIV/0!"}}]
[null,null,null,null,null,null,null,{"$f":"F15384*memoria!$B$44/(G15384*12*memoria!$B$47)","v":{"$error":"#DIV/0!"}},{"$f":"F15384/(G15384*12*memoria!$B$47)","v":{"$error":"#DIV/0!"}}]
[null,null,null,null,null,null,null,{"$f":"F15398*memoria!$B$44/(G15398*12*memoria!$B$47)","v":{"$error":"#DIV/0!"}},{"$f":"F15398/(G15398*12*memoria!$B$47)","v":{"$error":"#DIV/0!"}}]
[null,null,null,null,null,null,null,{"$f":"F15404*memoria!$B$44/(G15404*12*memoria!$B$47)","v":{"$error":"#DIV/0!"}},{"$f":"F15404/(G15404*12*memoria!$B$47)","v":{"$error":"#DIV/0!"}}]
[null,null,null,null,null,null,null,{"$f":"F15413*memoria!$B$44/(G15413*12*memoria!$B$47)","v":{"$error":"#DIV/0!"}},{"$f":"F15413/(G15413*12*memoria!$B$47)","v":{"$error":"#DIV/0!"}}]
[null,null,null,null,null,null,null,{"$f":"F15432*memoria!$B$44/(G15432*12*memoria!$B$47)","v":{"$error":"#DIV/0!"}},{"$f":"F15432/(G15432*12*memoria!$B$47)","v":{"$error":"#DIV/0!"}}]
[null,null,null,null,null,null,null,{"$f":"F15438*memoria!$B$44/(G15438*12*memoria!$B$47)","v":{"$error":"#DIV/0!"}},{"$f":"F15438/(G15438*12*memoria!$B$47)","v":{"$error":"#DIV/0!"}}]
[null,null,null,null,null,null,null,{"$f":"F15448*memoria!$B$44/(G15448*12*memoria!$B$47)","v":{"$error":"#DIV/0!"}},{"$f":"F15448/(G15448*12*memoria!$B$47)","v":{"$error":"#DIV/0!"}}]
[null,null,null,null,null,null,null,{"$f":"F15462*memoria!$B$44/(G15462*12*memoria!$B$47)","v":{"$error":"#DIV/0!"}},{"$f":"F15462/(G15462*12*memoria!$B$47)","v":{"$error":"#DIV/0!"}}]
[null,null,null,null,null,null,null,{"$f":"F15476*memoria!$B$44/(G15476*12*memoria!$B$47)","v":{"$error":"#DIV/0!"}},{"$f":"F15476/(G15476*12*memoria!$B$47)","v":{"$error":"#DIV/0!"}}]
[null,null,null,null,null,null,null,{"$f":"F15482*memoria!$B$44/(G15482*12*memoria!$B$47)","v":{"$error":"#DIV/0!"}},{"$f":"F15482/(G15482*12*memoria!$B$47)","v":{"$error":"#DIV/0!"}}]
[null,null,null,null,null,null,null,{"$f":"F15499*memoria!$B$44/(G15499*12*memoria!$B$47)","v":{"$error":"#DIV/0!"}},{"$f":"F15499/(G15499*12*memoria!$B$47)","v":{"$error":"#DIV/0!"}}]
[null,null,null,null,null,null,null,{"$f":"F15503*memoria!$B$44/(G15503*12*memoria!$B$47)","v":{"$error":"#DIV/0!"}},{"$f":"F15503/(G15503*12*memoria!$B$47)","v":{"$error":"#DIV/0!"}}]
[null,null,null,null,null,null,null,{"$f":"F15516*memoria!$B$44/(G15516*12*memoria!$B$47)","v":{"$error":"#DIV/0!"}},{"$f":"F15516/(G15516*12*memoria!$B$47)","v":{"$error":"#DIV/0!"}}]
[null,null,null,null,null,null,null,{"$f":"F15533*memoria!$B$44/(G15533*12*memoria!$B$47)","v":{"$error":"#DIV/0!"}},{"$f":"F15533/(G15533*12*memoria!$B$47)","v":{"$error":"#DIV/0!"}}]
[null,null,null,null,null,null,null,{"$f":"F15544*memoria!$B$44/(G15544*12*memoria!$B$47)","v":{"$error":"#DIV/0!"}},{"$f":"F15544/(G15544*12*memoria!$B$47)","v":{"$error":"#DIV/0!"}}]
[null,null,null,null,null,null,null,{"$f":"F15550*memoria!$B$44/(G15550*12*memoria!$B$47)","v":{"$error":"#DIV/0!"}},{"$f":"F15550/(G15550*12*memoria!$B$47)","v":{"$error":"#DIV/0!"}}]
[null,null,null,null,null,null,null,{"$f":"F15560*memoria!$B$44/(G15560*12*memoria!$B$47)","v":{"$error":"#DIV/0!"}},{"$f":"F15560/(G15560*12*memoria!$B$47)","v":{"$error":"#DIV/0!"}}]
[null,null,null,null,null,null,null,{"$f":"F15577*memoria!$B$44/(G15577*12*memoria!$B$47)","v":{"$error":"#DIV/0!"}},{"$f":"F15577/(G15577*12*memoria!$B$47)","v":{"$error":"#DIV/0!"}}]
[null,null,null,null,null,null,null,{"$f":"F15581*memoria!$B$44/(G15581*12*memoria!$B$47)","v":{"$error":"#DIV/0!"}},{"$f":"F15581/(G15581*12*memoria!$B$47)","v":{"$error":"#DIV/0!"}}]
[null,null,null,null,null,null,null,{"$f":"F15594*memoria!$B$44/(G15594*12*memoria!$B$47)","v":{"$error":"#DIV/0!"}},{"$f":"F15594/(G15594*12*memoria!$B$47)","v":{"$error":"#DIV/0!"}}]
[null,null,null,null,null,null,null,{"$f":"F15611*memoria!$B$44/(G15611*12*memoria!$B$47)","v":{"$error":"#DIV/0!"}},{"$f":"F15611/(G15611*12*memoria!$B$47)","v":{"$error":"#DIV/0!"}}]
[null,null,null,null,null,null,null,{"$f":"F15614*memoria!$B$44/(G15614*12*memoria!$B$47)","v":{"$error":"#DIV/0!"}},{"$f":"F15614/(G15614*12*memoria!$B$47)","v":{"$error":"#DIV/0!"}}]
[null,null,null,null,null,null,null,{"$f":"F15628*memoria!$B$44/(G15628*12*memoria!$B$47)","v":{"$error":"#DIV/0!"}},{"$f":"F15628/(G15628*12*memoria!$B$47)","v":{"$error":"#DIV/0!"}}]
[null,null,null,null,null,null,null,{"$f":"F15645*memoria!$B$44/(G15645*12*memoria!$B$47)","v":{"$error":"#DIV/0!"}},{"$f":"F15645/(G15645*12*memoria!$B$47)","v":{"$error":"#DIV/0!"}}]
[null,null,null,null,null,null,null,{"$f":"F15655*memoria!$B$44/(G15655*12*memoria!$B$47)","v":{"$error":"#DIV/0!"}},{"$f":"F15655/(G15655*12*memoria!$B$47)","v":{"$error":"#DIV/0!"}}]
[null,null,null,null,null,null,null,{"$f":"F15663*memoria!$B$44/(G15663*12*memoria!$B$47)","v":{"$error":"#DIV/0!"}},{"$f":"F15663/(G15663*12*memoria!$B$47)","v":{"$error":"#DIV/0!"}}]
[null,null,null,null,null,null,null,{"$f":"F15679*memoria!$B$44/(G15679*12*memoria!$B$47)","v":{"$error":"#DIV/0!"}},{"$f":"F15679/(G15679*12*memoria!$B$47)","v":{"$error":"#DIV/0!"}}]
[null,null,null,null,null,null,null,{"$f":"F15689*memoria!$B$44/(G15689*12*memoria!$B$47)","v":{"$error":"#DIV/0!"}},{"$f":"F15689/(G15689*12*memoria!$B$47)","v":{"$error":"#DIV/0!"}}]
[null,null,null,null,null,null,null,{"$f":"F15695*memoria!$B$44/(G15695*12*memoria!$B$47)","v":{"$error":"#DIV/0!"}},{"$f":"F15695/(G15695*12*memoria!$B$47)","v":{"$error":"#DIV/0!"}}]
[null,null,null,null,null,null,null,{"$f":"F15704*memoria!$B$44/(G15704*12*memoria!$B$47)","v":{"$error":"#DIV/0!"}},{"$f":"F15704/(G15704*12*memoria!$B$47)","v":{"$error":"#DIV/0!"}}]
[null,null,null,null,null,null,null,{"$f":"F15723*memoria!$B$44/(G15723*12*memoria!$B$47)","v":{"$error":"#DIV/0!"}},{"$f":"F15723/(G15723*12*memoria!$B$47)","v":{"$error":"#DIV/0!"}}]
[null,null,null,null,null,null,null,{"$f":"F15729*memoria!$B$44/(G15729*12*memoria!$B$47)","v":{"$error":"#DIV/0!"}},{"$f":"F15729/(G15729*12*memoria!$B$47)","v":{"$error":"#DIV/0!"}}]
[null,null,null,null,null,null,null,{"$f":"F15745*memoria!$B$44/(G15745*12*memoria!$B$47)","v":{"$error":"#DIV/0!"}},{"$f":"F15745/(G15745*12*memoria!$B$47)","v":{"$error":"#DIV/0!"}}]
[null,null,null,null,null,null,null,{"$f":"F15757*memoria!$B$44/(G15757*12*memoria!$B$47)","v":{"$error":"#DIV/0!"}},{"$f":"F15757/(G15757*12*memoria!$B$47)","v":{"$error":"#DIV/0!"}}]
[null,null,null,null,null,null,null,{"$f":"F15763*memoria!$B$44/(G15763*12*memoria!$B$47)","v":{"$error":"#DIV/0!"}},{"$f":"F15763/(G15763*12*memoria!$B$47)","v":{"$error":"#DIV/0!"}}]
[null,null,null,null,null,null,null,{"$f":"F15773*memoria!$B$44/(G15773*12*memoria!$B$47)","v":{"$error":"#DIV/0!"}},{"$f":"F15773/(G15773*12*memoria!$B$47)","v":{"$error":"#DIV/0!"}}]
[null,null,null,null,null,null,null,{"$f":"F15794*memoria!$B$44/(G15794*12*memoria!$B$47)","v":{"$error":"#DIV/0!"}},{"$f":"F15794/(G15794*12*memoria!$B$47)","v":{"$error":"#DIV/0!"}}]
[null,null,null,null,null,null,null,{"$f":"F15801*memoria!$B$44/(G15801*12*memoria!$B$47)","v":{"$error":"#DIV/0!"}},{"$f":"F15801/(G15801*12*memoria!$B$47)","v":{"$error":"#DIV/0!"}}]
[null,null,null,null,null,null,null,{"$f":"F15807*memoria!$B$44/(G15807*12*memoria!$B$47)","v":{"$error":"#DIV/0!"}},{"$f":"F15807/(G15807*12*memoria!$B$47)","v":{"$error":"#DIV/0!"}}]
[null,null,null,null,null,null,null,{"$f":"F15823*memoria!$B$44/(G15823*12*memoria!$B$47)","v":{"$error":"#DIV/0!"}},{"$f":"F15823/(G15823*12*memoria!$B$47)","v":{"$error":"#DIV/0!"}}]
[null,null,null,null,null,null,null,{"$f":"F15835*memoria!$B$44/(G15835*12*memoria!$B$47)","v":{"$error":"#DIV/0!"}},{"$f":"F15835/(G15835*12*memoria!$B$47)","v":{"$error":"#DIV/0!"}}]
[null,null,null,null,null,null,null,{"$f":"F15841*memoria!$B$44/(G15841*12*memoria!$B$47)","v":{"$error":"#DIV/0!"}},{"$f":"F15841/(G15841*12*memoria!$B$47)","v":{"$error":"#DIV/0!"}}]
[null,null,null,null,null,null,null,{"$f":"F15851*memoria!$B$44/(G15851*12*memoria!$B$47)","v":{"$error":"#DIV/0!"}},{"$f":"F15851/(G15851*12*memoria!$B$47)","v":{"$error":"#DIV/0!"}}]
[null,null,null,null,null,null,null,{"$f":"F15864*memoria!$B$44/(G15864*12*memoria!$B$47)","v":{"$error":"#DIV/0!"}},{"$f":"F15864/(G15864*12*memoria!$B$47)","v":{"$error":"#DIV/0!"}}]
[null,null,null,null,null,null,null,{"$f":"F15875*memoria!$B$44/(G15875*12*memoria!$B$47)","v":{"$error":"#DIV/0!"}},{"$f":"F15875/(G15875*12*memoria!$B$47)","v":{"$error":"#DIV/0!"}}]
[null,null,null,null,null,null,null,{"$f":"F15885*memoria!$B$44/(G15885*12*memoria!$B$47)","v":{"$error":"#DIV/0!"}},{"$f":"F15885/(G15885*12*memoria!$B$47)","v":{"$error":"#DIV/0!"}}]
[null,null,null,null,null,null,null,{"$f":"F15905*memoria!$B$44/(G15905*12*memoria!$B$47)","v":{"$error":"#DIV/0!"}},{"$f":"F15905/(G15905*12*memoria!$B$47)","v":{"$error":"#DIV/0!"}}]
[null,null,null,null,null,null,null,{"$f":"F15909*memoria!$B$44/(G15909*12*memoria!$B$47)","v":{"$error":"#DIV/0!"}},{"$f":"F15909/(G15909*12*memoria!$B$47)","v":{"$error":"#DIV/0!"}}]
[null,null,null,null,null,null,null,{"$f":"F15919*memoria!$B$44/(G15919*12*memoria!$B$47)","v":{"$error":"#DIV/0!"}},{"$f":"F15919/(G15919*12*memoria!$B$47)","v":{"$error":"#DIV/0!"}}]
[null,null,null,null,null,null,null,{"$f":"F15936*memoria!$B$44/(G15936*12*memoria!$B$47)","v":{"$error":"#DIV/0!"}},{"$f":"F15936/(G15936*12*memoria!$B$47)","v":{"$error":"#DIV/0!"}}]
[null,null,null,null,null,null,null,{"$f":"F15946*memoria!$B$44/(G15946*12*memoria!$B$47)","v":{"$error":"#DIV/0!"}},{"$f":"F15946/(G15946*12*memoria!$B$47)","v":{"$error":"#DIV/0!"}}]
[null,null,null,null,null,null,null,{"$f":"F15953*memoria!$B$44/(G15953*12*memoria!$B$47)","v":{"$error":"#DIV/0!"}},{"$f":"F15953/(G15953*12*memoria!$B$47)","v":{"$error":"#DIV/0!"}}]
[null,null,null,null,null,null,null,{"$f":"F15970*memoria!$B$44/(G15970*12*memoria!$B$47)","v":{"$error":"#DIV/0!"}},{"$f":"F15970/(G15970*12*memoria!$B$47)","v":{"$error":"#DIV/0!"}}]
[null,null,null,null,null,null,null,{"$f":"F15980*memoria!$B$44/(G15980*12*memoria!$B$47)","v":{"$error":"#DIV/0!"}},{"$f":"F15980/(G15980*12*memoria!$B$47)","v":{"$error":"#DIV/0!"}}]
[null,null,null,null,null,null,null,{"$f":"F15995*memoria!$B$44/(G15995*12*memoria!$B$47)","v":{"$error":"#DIV/0!"}},{"$f":"F15995/(G15995*12*memoria!$B$47)","v":{"$error":"#DIV/0!"}}]
[null,null,null,null,null,null,null,{"$f":"F16008*memoria!$B$44/(G16008*12*memoria!$B$47)","v":{"$error":"#DIV/0!"}},{"$f":"F16008/(G16008*12*memoria!$B$47)","v":{"$error":"#DIV/0!"}}]
[null,null,null,null,null,null,null,{"$f":"F16014*memoria!$B$44/(G16014*12*memoria!$B$47)","v":{"$error":"#DIV/0!"}},{"$f":"F16014/(G16014*12*memoria!$B$47)","v":{"$error":"#DIV/0!"}}]
[null,null,null,null,null,null,null,{"$f":"F16024*memoria!$B$44/(G16024*12*memoria!$B$47)","v":{"$error":"#DIV/0!"}},{"$f":"F16024/(G16024*12*memoria!$B$47)","v":{"$error":"#DIV/0!"}}]
[null,null,null,null,null,null,null,{"$f":"F16042*memoria!$B$44/(G16042*12*memoria!$B$47)","v":{"$error":"#DIV/0!"}},{"$f":"F16042/(G16042*12*memoria!$B$47)","v":{"$error":"#DIV/0!"}}]
[null,null,null,null,null,null,null,{"$f":"F16048*memoria!$B$44/(G16048*12*memoria!$B$47)","v":{"$error":"#DIV/0!"}},{"$f":"F16048/(G16048*12*memoria!$B$47)","v":{"$error":"#DIV/0!"}}]
[null,null,null,null,null,null,null,{"$f":"F16054*memoria!$B$44/(G16054*12*memoria!$B$47)","v":{"$error":"#DIV/0!"}},{"$f":"F16054/(G16054*12*memoria!$B$47)","v":{"$error":"#DIV/0!"}}]
[null,null,null,null,null,null,null,{"$f":"F16065*memoria!$B$44/(G16065*12*memoria!$B$47)","v":{"$error":"#DIV/0!"}},{"$f":"F16065/(G16065*12*memoria!$B$47)","v":{"$error":"#DIV/0!"}}]
[null,null,null,null,null,null,null,{"$f":"F16082*memoria!$B$44/(G16082*12*memoria!$B$47)","v":{"$error":"#DIV/0!"}},{"$f":"F16082/(G16082*12*memoria!$B$47)","v":{"$error":"#DIV/0!"}}]
[null,null,null,null,null,null,null,{"$f":"F16092*memoria!$B$44/(G16092*12*memoria!$B$47)","v":{"$error":"#DIV/0!"}},{"$f":"F16092/(G16092*12*memoria!$B$47)","v":{"$error":"#DIV/0!"}}]
[null,null,null,null,null,null,null,{"$f":"F16106*memoria!$B$44/(G16106*12*memoria!$B$47)","v":{"$error":"#DIV/0!"}},{"$f":"F16106/(G16106*12*memoria!$B$47)","v":{"$error":"#DIV/0!"}}]
[null,null,null,null,null,null,null,{"$f":"F16116*memoria!$B$44/(G16116*12*memoria!$B$47)","v":{"$error":"#DIV/0!"}},{"$f":"F16116/(G16116*12*memoria!$B$47)","v":{"$error":"#DIV/0!"}}]
[null,null,null,null,null,null,null,{"$f":"F16126*memoria!$B$44/(G16126*12*memoria!$B$47)","v":{"$error":"#DIV/0!"}},{"$f":"F16126/(G16126*12*memoria!$B$47)","v":{"$error":"#DIV/0!"}}]
[null,null,null,null,null,null,null,{"$f":"F16143*memoria!$B$44/(G16143*12*memoria!$B$47)","v":{"$error":"#DIV/0!"}},{"$f":"F16143/(G16143*12*memoria!$B$47)","v":{"$error":"#DIV/0!"}}]
[null,null,null,null,null,null,null,{"$f":"F16155*memoria!$B$44/(G16155*12*memoria!$B$47)","v":{"$error":"#DIV/0!"}},{"$f":"F16155/(G16155*12*memoria!$B$47)","v":{"$error":"#DIV/0!"}}]
[null,null,null,null,null,null,null,{"$f":"F16160*memoria!$B$44/(G16160*12*memoria!$B$47)","v":{"$error":"#DIV/0!"}},{"$f":"F16160/(G16160*12*memoria!$B$47)","v":{"$error":"#DIV/0!"}}]
[null,null,null,null,null,null,null,{"$f":"F16177*memoria!$B$44/(G16177*12*memoria!$B$47)","v":{"$error":"#DIV/0!"}},{"$f":"F16177/(G16177*12*memoria!$B$47)","v":{"$error":"#DIV/0!"}}]
[null,null,null,null,null,null,null,{"$f":"F16187*memoria!$B$44/(G16187*12*memoria!$B$47)","v":{"$error":"#DIV/0!"}},{"$f":"F16187/(G16187*12*memoria!$B$47)","v":{"$error":"#DIV/0!"}}]
[null,null,null,null,null,null,null,{"$f":"F16196*memoria!$B$44/(G16196*12*memoria!$B$47)","v":{"$error":"#DIV/0!"}},{"$f":"F16196/(G16196*12*memoria!$B$47)","v":{"$error":"#DIV/0!"}}]
[null,null,null,null,null,null,null,{"$f":"F16211*memoria!$B$44/(G16211*12*memoria!$B$47)","v":{"$error":"#DIV/0!"}},{"$f":"F16211/(G16211*12*memoria!$B$47)","v":{"$error":"#DIV/0!"}}]
[null,null,null,null,null,null,null,{"$f":"F16221*memoria!$B$44/(G16221*12*memoria!$B$47)","v":{"$error":"#DIV/0!"}},{"$f":"F16221/(G16221*12*memoria!$B$47)","v":{"$error":"#DIV/0!"}}]
[null,null,null,null,null,null,null,{"$f":"F16225*memoria!$B$44/(G16225*12*memoria!$B$47)","v":{"$error":"#DIV/0!"}},{"$f":"F16225/(G16225*12*memoria!$B$47)","v":{"$error":"#DIV/0!"}}]
[null,null,null,null,null,null,null,{"$f":"F16238*memoria!$B$44/(G16238*12*memoria!$B$47)","v":{"$error":"#DIV/0!"}},{"$f":"F16238/(G16238*12*memoria!$B$47)","v":{"$error":"#DIV/0!"}}]
[null,null,null,null,null,null,null,{"$f":"F16255*memoria!$B$44/(G16255*12*memoria!$B$47)","v":{"$error":"#DIV/0!"}},{"$f":"F16255/(G16255*12*memoria!$B$47)","v":{"$error":"#DIV/0!"}}]
[null,null,null,null,null,null,null,{"$f":"F16261*memoria!$B$44/(G16261*12*memoria!$B$47)","v":{"$error":"#DIV/0!"}},{"$f":"F16261/(G16261*12*memoria!$B$47)","v":{"$error":"#DIV/0!"}}]
[null,null,null,null,null,null,null,{"$f":"F16278*memoria!$B$44/(G16278*12*memoria!$B$47)","v":{"$error":"#DIV/0!"}},{"$f":"F16278/(G16278*12*memoria!$B$47)","v":{"$error":"#DIV/0!"}}]
[null,null,null,null,null,null,null,{"$f":"F16289*memoria!$B$44/(G16289*12*memoria!$B$47)","v":{"$error":"#DIV/0!"}},{"$f":"F16289/(G16289*12*memoria!$B$47)","v":{"$error":"#DIV/0!"}}]
[null,null,null,null,null,null,null,{"$f":"F16295*memoria!$B$44/(G16295*12*memoria!$B$47)","v":{"$error":"#DIV/0!"}},{"$f":"F16295/(G16295*12*memoria!$B$47)","v":{"$error":"#DIV/0!"}}]
[null,null,null,null,null,null,null,{"$f":"F16307*memoria!$B$44/(G16307*12*memoria!$B$47)","v":{"$error":"#DIV/0!"}},{"$f":"F16307/(G16307*12*memoria!$B$47)","v":{"$error":"#DIV/0!"}}]
[null,null,null,null,null,null,null,{"$f":"F16323*memoria!$B$44/(G16323*12*memoria!$B$47)","v":{"$error":"#DIV/0!"}},{"$f":"F16323/(G16323*12*memoria!$B$47)","v":{"$error":"#DIV/0!"}}]
[null,null,null,null,null,null,null,{"$f":"F16333*memoria!$B$44/(G16333*12*memoria!$B$47)","v":{"$error":"#DIV/0!"}},{"$f":"F16333/(G16333*12*memoria!$B$47)","v":{"$error":"#DIV/0!"}}]
[null,null,null,null,null,null,null,{"$f":"F16339*memoria!$B$44/(G16339*12*memoria!$B$47)","v":{"$error":"#DIV/0!"}},{"$f":"F16339/(G16339*12*memoria!$B$47)","v":{"$error":"#DIV/0!"}}]
[null,null,null,null,null,null,null,{"$f":"F16356*memoria!$B$44/(G16356*12*memoria!$B$47)","v":{"$error":"#DIV/0!"}},{"$f":"F16356/(G16356*12*memoria!$B$47)","v":{"$error":"#DIV/0!"}}]
[null,null,null,null,null,null,null,{"$f":"F16367*memoria!$B$44/(G16367*12*memoria!$B$47)","v":{"$error":"#DIV/0!"}},{"$f":"F16367/(G16367*12*memoria!$B$47)","v":{"$error":"#DIV/0!"}}]
[null,null,null,null,null,null,null,{"$f":"F16373*memoria!$B$44/(G16373*12*memoria!$B$47)","v":{"$error":"#DIV/0!"}},{"$f":"F16373/(G16373*12*memoria!$B$47)","v":{"$error":"#DIV/0!"}}]
[null,null,null,null,null,null,null,{"$f":"F16389*memoria!$B$44/(G16389*12*memoria!$B$47)","v":{"$error":"#DIV/0!"}},{"$f":"F16389/(G16389*12*memoria!$B$47)","v":{"$error":"#DIV/0!"}}]
[null,null,null,null,null,null,null,{"$f":"F16401*memoria!$B$44/(G16401*12*memoria!$B$47)","v":{"$error":"#DIV/0!"}},{"$f":"F16401/(G16401*12*memoria!$B$47)","v":{"$error":"#DIV/0!"}}]
[null,null,null,null,null,null,null,{"$f":"F16407*memoria!$B$44/(G16407*12*memoria!$B$47)","v":{"$error":"#DIV/0!"}},{"$f":"F16407/(G16407*12*memoria!$B$47)","v":{"$error":"#DIV/0!"}}]
[null,null,null,null,null,null,null,{"$f":"F16417*memoria!$B$44/(G16417*12*memoria!$B$47)","v":{"$error":"#DIV/0!"}},{"$f":"F16417/(G16417*12*memoria!$B$47)","v":{"$error":"#DIV/0!"}}]
[null,null,null,null,null,null,null,{"$f":"F16426*memoria!$B$44/(G16426*12*memoria!$B$47)","v":{"$error":"#DIV/0!"}},{"$f":"F16426/(G16426*12*memoria!$B$47)","v":{"$error":"#DIV/0!"}}]
[null,null,null,null,null,null,null,{"$f":"F16441*memoria!$B$44/(G16441*12*memoria!$B$47)","v":{"$error":"#DIV/0!"}},{"$f":"F16441/(G16441*12*memoria!$B$47)","v":{"$error":"#DIV/0!"}}]
[null,null,null,null,null,null,null,{"$f":"F16451*memoria!$B$44/(G16451*12*memoria!$B$47)","v":{"$error":"#DIV/0!"}},{"$f":"F16451/(G16451*12*memoria!$B$47)","v":{"$error":"#DIV/0!"}}]
[null,null,null,null,null,null,null,{"$f":"F16468*memoria!$B$44/(G16468*12*memoria!$B$47)","v":{"$error":"#DIV/0!"}},{"$f":"F16468/(G16468*12*memoria!$B$47)","v":{"$error":"#DIV/0!"}}]
[null,null,null,null,null,null,null,{"$f":"F16479*memoria!$B$44/(G16479*12*memoria!$B$47)","v":{"$error":"#DIV/0!"}},{"$f":"F16479/(G16479*12*memoria!$B$47)","v":{"$error":"#DIV/0!"}}]
[null,null,null,null,null,null,null,{"$f":"F16485*memoria!$B$44/(G16485*12*memoria!$B$47)","v":{"$error":"#DIV/0!"}},{"$f":"F16485/(G16485*12*memoria!$B$47)","v":{"$error":"#DIV/0!"}}]
[null,null,null,null,null,null,null,{"$f":"F16502*memoria!$B$44/(G16502*12*memoria!$B$47)","v":{"$error":"#DIV/0!"}},{"$f":"F16502/(G16502*12*memoria!$B$47)","v":{"$error":"#DIV/0!"}}]
[null,null,null,null,null,null,null,{"$f":"F16508*memoria!$B$44/(G16508*12*memoria!$B$47)","v":{"$error":"#DIV/0!"}},{"$f":"F16508/(G16508*12*memoria!$B$47)","v":{"$error":"#DIV/0!"}}]
[null,null,null,null,null,null,null,{"$f":"F16519*memoria!$B$44/(G16519*12*memoria!$B$47)","v":{"$error":"#DIV/0!"}},{"$f":"F16519/(G16519*12*memoria!$B$47)","v":{"$error":"#DIV/0!"}}]
[null,null,null,null,null,null,null,{"$f":"F16536*memoria!$B$44/(G16536*12*memoria!$B$47)","v":{"$error":"#DIV/0!"}},{"$f":"F16536/(G16536*12*memoria!$B$47)","v":{"$error":"#DIV/0!"}}]
[null,null,null,null,null,null,null,{"$f":"F16546*memoria!$B$44/(G16546*12*memoria!$B$47)","v":{"$error":"#DIV/0!"}},{"$f":"F16546/(G16546*12*memoria!$B$47)","v":{"$error":"#DIV/0!"}}]
[null,null,null,null,null,null,null,{"$f":"F16557*memoria!$B$44/(G16557*12*memoria!$B$47)","v":{"$error":"#DIV/0!"}},{"$f":"F16557/(G16557*12*memoria!$B$47)","v":{"$error":"#DIV/0!"}}]
[null,null,null,null,null,null,null,{"$f":"F16563*memoria!$B$44/(G16563*12*memoria!$B$47)","v":{"$error":"#DIV/0!"}},{"$f":"F16563/(G16563*12*memoria!$B$47)","v":{"$error":"#DIV/0!"}}]
[null,null,null,null,null,null,null,{"$f":"F16580*memoria!$B$44/(G16580*12*memoria!$B$47)","v":{"$error":"#DIV/0!"}},{"$f":"F16580/(G16580*12*memoria!$B$47)","v":{"$error":"#DIV/0!"}}]
[null,null,null,null,null,null,null,{"$f":"F16586*memoria!$B$44/(G16586*12*memoria!$B$47)","v":{"$error":"#DIV/0!"}},{"$f":"F16586/(G16586*12*memoria!$B$47)","v":{"$error":"#DIV/0!"}}]
[null,null,null,null,null,null,null,{"$f":"F16597*memoria!$B$44/(G16597*12*memoria!$B$47)","v":{"$error":"#DIV/0!"}},{"$f":"F16597/(G16597*12*memoria!$B$47)","v":{"$error":"#DIV/0!"}}]
[null,null,null,null,null,null,null,{"$f":"F16614*memoria!$B$44/(G16614*12*memoria!$B$47)","v":{"$error":"#DIV/0!"}},{"$f":"F16614/(G16614*12*memoria!$B$47)","v":{"$error":"#DIV/0!"}}]
[null,null,null,null,null,null,null,{"$f":"F16624*memoria!$B$44/(G16624*12*memoria!$B$47)","v":{"$error":"#DIV/0!"}},{"$f":"F16624/(G16624*12*memoria!$B$47)","v":{"$error":"#DIV/0!"}}]
[null,null,null,null,null,null,null,{"$f":"F16639*memoria!$B$44/(G16639*12*memoria!$B$47)","v":{"$error":"#DIV/0!"}},{"$f":"F16639/(G16639*12*memoria!$B$47)","v":{"$error":"#DIV/0!"}}]
[null,null,null,null,null,null,null,{"$f":"F16648*memoria!$B$44/(G16648*12*memoria!$B$47)","v":{"$error":"#DIV/0!"}},{"$f":"F16648/(G16648*12*memoria!$B$47)","v":{"$error":"#DIV/0!"}}]
[null,null,null,null,null,null,null,{"$f":"F16658*memoria!$B$44/(G16658*12*memoria!$B$47)","v":{"$error":"#DIV/0!"}},{"$f":"F16658/(G16658*12*memoria!$B$47)","v":{"$error":"#DIV/0!"}}]
[null,null,null,null,null,null,null,{"$f":"F16664*memoria!$B$44/(G16664*12*memoria!$B$47)","v":{"$error":"#DIV/0!"}},{"$f":"F16664/(G16664*12*memoria!$B$47)","v":{"$error":"#DIV/0!"}}]
[null,null,null,null,null,null,null,{"$f":"F16676*memoria!$B$44/(G16676*12*memoria!$B$47)","v":{"$error":"#DIV/0!"}},{"$f":"F16676/(G16676*12*memoria!$B$47)","v":{"$error":"#DIV/0!"}}]
[null,null,null,null,null,null,null,{"$f":"F16692*memoria!$B$44/(G16692*12*memoria!$B$47)","v":{"$error":"#DIV/0!"}},{"$f":"F16692/(G16692*12*memoria!$B$47)","v":{"$error":"#DIV/0!"}}]
[null,null,null,null,null,null,null,{"$f":"F16698*memoria!$B$44/(G16698*12*memoria!$B$47)","v":{"$error":"#DIV/0!"}},{"$f":"F16698/(G16698*12*memoria!$B$47)","v":{"$error":"#DIV/0!"}}]
[null,null,null,null,null,null,null,{"$f":"F16709*memoria!$B$44/(G16709*12*memoria!$B$47)","v":{"$error":"#DIV/0!"}},{"$f":"F16709/(G16709*12*memoria!$B$47)","v":{"$error":"#DIV/0!"}}]
[null,null,null,null,null,null,null,{"$f":"F16726*memoria!$B$44/(G16726*12*memoria!$B$47)","v":{"$error":"#DIV/0!"}},{"$f":"F16726/(G16726*12*memoria!$B$47)","v":{"$error":"#DIV/0!"}}]
[null,null,null,null,null,null,null,{"$f":"F16732*memoria!$B$44/(G16732*12*memoria!$B$47)","v":{"$error":"#DIV/0!"}},{"$f":"F16732/(G16732*12*memoria!$B$47)","v":{"$error":"#DIV/0!"}}]
[null,null,null,null,null,null,null,{"$f":"F16742*memoria!$B$44/(G16742*12*memoria!$B$47)","v":{"$error":"#DIV/0!"}},{"$f":"F16742/(G16742*12*memoria!$B$47)","v":{"$error":"#DIV/0!"}}]
[null,null,null,null,null,null,null,{"$f":"F16758*memoria!$B$44/(G16758*12*memoria!$B$47)","v":{"$error":"#DIV/0!"}},{"$f":"F16758/(G16758*12*memoria!$B$47)","v":{"$error":"#DIV/0!"}}]
[null,null,null,null,null,null,null,{"$f":"F16766*memoria!$B$44/(G16766*12*memoria!$B$47)","v":{"$error":"#DIV/0!"}},{"$f":"F16766/(G16766*12*memoria!$B$47)","v":{"$error":"#DIV/0!"}}]
[null,null,null,null,null,null,null,{"$f":"F16776*memoria!$B$44/(G16776*12*memoria!$B$47)","v":{"$error":"#DIV/0!"}},{"$f":"F16776/(G16776*12*memoria!$B$47)","v":{"$error":"#DIV/0!"}}]
[null,null,null,null,null,null,null,{"$f":"F16787*memoria!$B$44/(G16787*12*memoria!$B$47)","v":{"$error":"#DIV/0!"}},{"$f":"F16787/(G16787*12*memoria!$B$47)","v":{"$error":"#DIV/0!"}}]
[null,null,null,null,null,null,null,{"$f":"F16804*memoria!$B$44/(G16804*12*memoria!$B$47)","v":{"$error":"#DIV/0!"}},{"$f":"F16804/(G16804*12*memoria!$B$47)","v":{"$error":"#DIV/0!"}}]
[null,null,null,null,null,null,null,{"$f":"F16810*memoria!$B$44/(G16810*12*memoria!$B$47)","v":{"$error":"#DIV/0!"}},{"$f":"F16810/(G16810*12*memoria!$B$47)","v":{"$error":"#DIV/0!"}}]
[null,null,null,null,null,null,null,{"$f":"F16827*memoria!$B$44/(G16827*12*memoria!$B$47)","v":{"$error":"#DIV/0!"}},{"$f":"F16827/(G16827*12*memoria!$B$47)","v":{"$error":"#DIV/0!"}}]
[null,null,null,null,null,null,null,{"$f":"F16840*memoria!$B$44/(G16840*12*memoria!$B$47)","v":{"$error":"#DIV/0!"}},{"$f":"F16840/(G16840*12*memoria!$B$47)","v":{"$error":"#DIV/0!"}}]
[null,null,null,null,null,null,null,{"$f":"F16844*memoria!$B$44/(G16844*12*memoria!$B$47)","v":{"$error":"#DIV/0!"}},{"$f":"F16844/(G16844*12*memoria!$B$47)","v":{"$error":"#DIV/0!"}}]
[null,null,null,null,null,null,null,{"$f":"F16865*memoria!$B$44/(G16865*12*memoria!$B$47)","v":{"$error":"#DIV/0!"}},{"$f":"F16865/(G16865*12*memoria!$B$47)","v":{"$error":"#DIV/0!"}}]
[null,null,null,null,null,null,null,{"$f":"F16869*memoria!$B$44/(G16869*12*memoria!$B$47)","v":{"$error":"#DIV/0!"}},{"$f":"F16869/(G16869*12*memoria!$B$47)","v":{"$error":"#DIV/0!"}}]
[null,null,null,null,null,null,null,{"$f":"F16878*memoria!$B$44/(G16878*12*memoria!$B$47)","v":{"$error":"#DIV/0!"}},{"$f":"F16878/(G16878*12*memoria!$B$47)","v":{"$error":"#DIV/0!"}}]
[null,null,null,null,null,null,null,{"$f":"F16899*memoria!$B$44/(G16899*12*memoria!$B$47)","v":{"$error":"#DIV/0!"}},{"$f":"F16899/(G16899*12*memoria!$B$47)","v":{"$error":"#DIV/0!"}}]
[null,null,null,null,null,null,null,{"$f":"F16905*memoria!$B$44/(G16905*12*memoria!$B$47)","v":{"$error":"#DIV/0!"}},{"$f":"F16905/(G16905*12*memoria!$B$47)","v":{"$error":"#DIV/0!"}}]
[null,null,null,null,null,null,null,{"$f":"F16918*memoria!$B$44/(G16918*12*memoria!$B$47)","v":{"$error":"#DIV/0!"}},{"$f":"F16918/(G16918*12*memoria!$B$47)","v":{"$error":"#DIV/0!"}}]
[null,null,null,null,null,null,null,{"$f":"F16933*memoria!$B$44/(G16933*12*memoria!$B$47)","v":{"$error":"#DIV/0!"}},{"$f":"F16933/(G16933*12*memoria!$B$47)","v":{"$error":"#DIV/0!"}}]
[null,null,null,null,null,null,null,{"$f":"F16939*memoria!$B$44/(G16939*12*memoria!$B$47)","v":{"$error":"#DIV/0!"}},{"$f":"F16939/(G16939*12*memoria!$B$47)","v":{"$error":"#DIV/0!"}}]
[null,null,null,null,null,null,null,{"$f":"F16949*memoria!$B$44/(G16949*12*memoria!$B$47)","v":{"$error":"#DIV/0!"}},{"$f":"F16949/(G16949*12*memoria!$B$47)","v":{"$error":"#DIV/0!"}}]
[null,null,null,null,null,null,null,{"$f":"F16959*memoria!$B$44/(G16959*12*memoria!$B$47)","v":{"$error":"#DIV/0!"}},{"$f":"F16959/(G16959*12*memoria!$B$47)","v":{"$error":"#DIV/0!"}}]
[null,null,null,null,null,null,null,{"$f":"F16973*memoria!$B$44/(G16973*12*memoria!$B$47)","v":{"$error":"#DIV/0!"}},{"$f":"F16973/(G16973*12*memoria!$B$47)","v":{"$error":"#DIV/0!"}}]
[null,null,null,null,null,null,null,{"$f":"F16983*memoria!$B$44/(G16983*12*memoria!$B$47)","v":{"$error":"#DIV/0!"}},{"$f":"F16983/(G16983*12*memoria!$B$47)","v":{"$error":"#DIV/0!"}}]
[null,null,null,null,null,null,null,{"$f":"F17000*memoria!$B$44/(G17000*12*memoria!$B$47)","v":{"$error":"#DIV/0!"}},{"$f":"F17000/(G17000*12*memoria!$B$47)","v":{"$error":"#DIV/0!"}}]
[null,null,null,null,null,null,null,{"$f":"F17011*memoria!$B$44/(G17011*12*memoria!$B$47)","v":{"$error":"#DIV/0!"}},{"$f":"F17011/(G17011*12*memoria!$B$47)","v":{"$error":"#DIV/0!"}}]
[null,null,null,null,null,null,null,{"$f":"F17017*memoria!$B$44/(G17017*12*memoria!$B$47)","v":{"$error":"#DIV/0!"}},{"$f":"F17017/(G17017*12*memoria!$B$47)","v":{"$error":"#DIV/0!"}}]
[null,null,null,null,null,null,null,{"$f":"F17034*memoria!$B$44/(G17034*12*memoria!$B$47)","v":{"$error":"#DIV/0!"}},{"$f":"F17034/(G17034*12*memoria!$B$47)","v":{"$error":"#DIV/0!"}}]
[null,null,null,null,null,null,null,{"$f":"F17041*memoria!$B$44/(G17041*12*memoria!$B$47)","v":{"$error":"#DIV/0!"}},{"$f":"F17041/(G17041*12*memoria!$B$47)","v":{"$error":"#DIV/0!"}}]
[null,null,null,null,null,null,null,{"$f":"F17051*memoria!$B$44/(G17051*12*memoria!$B$47)","v":{"$error":"#DIV/0!"}},{"$f":"F17051/(G17051*12*memoria!$B$47)","v":{"$error":"#DIV/0!"}}]
[null,null,null,null,null,null,null,{"$f":"F17068*memoria!$B$44/(G17068*12*memoria!$B$47)","v":{"$error":"#DIV/0!"}},{"$f":"F17068/(G17068*12*memoria!$B$47)","v":{"$error":"#DIV/0!"}}]
[null,null,null,null,null,null,null,{"$f":"F17070*memoria!$B$44/(G17070*12*memoria!$B$47)","v":{"$error":"#DIV/0!"}},{"$f":"F17070/(G17070*12*memoria!$B$47)","v":{"$error":"#DIV/0!"}}]
[null,null,null,null,null,null,null,{"$f":"F17085*memoria!$B$44/(G17085*12*memoria!$B$47)","v":{"$error":"#DIV/0!"}},{"$f":"F17085/(G17085*12*memoria!$B$47)","v":{"$error":"#DIV/0!"}}]
[null,null,null,null,null,null,null,{"$f":"F17095*memoria!$B$44/(G17095*12*memoria!$B$47)","v":{"$error":"#DIV/0!"}},{"$f":"F17095/(G17095*12*memoria!$B$47)","v":{"$error":"#DIV/0!"}}]
[null,null,null,null,null,null,null,{"$f":"F17112*memoria!$B$44/(G17112*12*memoria!$B$47)","v":{"$error":"#DIV/0!"}},{"$f":"F17112/(G17112*12*memoria!$B$47)","v":{"$error":"#DIV/0!"}}]
[null,null,null,null,null,null,null,{"$f":"F17119*memoria!$B$44/(G17119*12*memoria!$B$47)","v":{"$error":"#DIV/0!"}},{"$f":"F17119/(G17119*12*memoria!$B$47)","v":{"$error":"#DIV/0!"}}]
[null,null,null,null,null,null,null,{"$f":"F17129*memoria!$B$44/(G17129*12*memoria!$B$47)","v":{"$error":"#DIV/0!"}},{"$f":"F17129/(G17129*12*memoria!$B$47)","v":{"$error":"#DIV/0!"}}]
[null,null,null,null,null,null,null,{"$f":"F17146*memoria!$B$44/(G17146*12*memoria!$B$47)","v":{"$error":"#DIV/0!"}},{"$f":"F17146/(G17146*12*memoria!$B$47)","v":{"$error":"#DIV/0!"}}]
[null,null,null,null,null,null,null,{"$f":"F17152*memoria!$B$44/(G17152*12*memoria!$B$47)","v":{"$error":"#DIV/0!"}},{"$f":"F17152/(G17152*12*memoria!$B$47)","v":{"$error":"#DIV/0!"}}]
[null,null,null,null,null,null,null,{"$f":"F17160*memoria!$B$44/(G17160*12*memoria!$B$47)","v":{"$error":"#DIV/0!"}},{"$f":"F17160/(G17160*12*memoria!$B$47)","v":{"$error":"#DIV/0!"}}]
[null,null,null,null,null,null,null,{"$f":"F17180*memoria!$B$44/(G17180*12*memoria!$B$47)","v":{"$error":"#DIV/0!"}},{"$f":"F17180/(G17180*12*memoria!$B$47)","v":{"$error":"#DIV/0!"}}]
[null,null,null,null,null,null,null,{"$f":"F17190*memoria!$B$44/(G17190*12*memoria!$B$47)","v":{"$error":"#DIV/0!"}},{"$f":"F17190/(G17190*12*memoria!$B$47)","v":{"$error":"#DIV/0!"}}]
[null,null,null,null,null,null,null,{"$f":"F17201*memoria!$B$44/(G17201*12*memoria!$B$47)","v":{"$error":"#DIV/0!"}},{"$f":"F17201/(G17201*12*memoria!$B$47)","v":{"$error":"#DIV/0!"}}]
[null,null,null,null,null,null,null,{"$f":"F17214*memoria!$B$44/(G17214*12*memoria!$B$47)","v":{"$error":"#DIV/0!"}},{"$f":"F17214/(G17214*12*memoria!$B$47)","v":{"$error":"#DIV/0!"}}]
[null,null,null,null,null,null,null,{"$f":"F17224*memoria!$B$44/(G17224*12*memoria!$B$47)","v":{"$error":"#DIV/0!"}},{"$f":"F17224/(G17224*12*memoria!$B$47)","v":{"$error":"#DIV/0!"}}]
[null,null,null,null,null,null,null,{"$f":"F17230*memoria!$B$44/(G17230*12*memoria!$B$47)","v":{"$error":"#DIV/0!"}},{"$f":"F17230/(G17230*12*memoria!$B$47)","v":{"$error":"#DIV/0!"}}]
[null,null,null,null,null,null,null,{"$f":"F17242*memoria!$B$44/(G17242*12*memoria!$B$47)","v":{"$error":"#DIV/0!"}},{"$f":"F17242/(G17242*12*memoria!$B$47)","v":{"$error":"#DIV/0!"}}]
[null,null,null,null,null,null,null,{"$f":"F17258*memoria!$B$44/(G17258*12*memoria!$B$47)","v":{"$error":"#DIV/0!"}},{"$f":"F17258/(G17258*12*memoria!$B$47)","v":{"$error":"#DIV/0!"}}]
[null,null,null,null,null,null,null,{"$f":"F17264*memoria!$B$44/(G17264*12*memoria!$B$47)","v":{"$error":"#DIV/0!"}},{"$f":"F17264/(G17264*12*memoria!$B$47)","v":{"$error":"#DIV/0!"}}]
[null,null,null,null,null,null,null,{"$f":"F17283*memoria!$B$44/(G17283*12*memoria!$B$47)","v":{"$error":"#DIV/0!"}},{"$f":"F17283/(G17283*12*memoria!$B$47)","v":{"$error":"#DIV/0!"}}]
[null,null,null,null,null,null,null,{"$f":"F17292*memoria!$B$44/(G17292*12*memoria!$B$47)","v":{"$error":"#DIV/0!"}},{"$f":"F17292/(G17292*12*memoria!$B$47)","v":{"$error":"#DIV/0!"}}]
[null,null,null,null,null,null,null,{"$f":"F17298*memoria!$B$44/(G17298*12*memoria!$B$47)","v":{"$error":"#DIV/0!"}},{"$f":"F17298/(G17298*12*memoria!$B$47)","v":{"$error":"#DIV/0!"}}]
[null,null,null,null,null,null,null,{"$f":"F17308*memoria!$B$44/(G17308*12*memoria!$B$47)","v":{"$error":"#DIV/0!"}},{"$f":"F17308/(G17308*12*memoria!$B$47)","v":{"$error":"#DIV/0!"}}]
[null,null,null,null,null,null,null,{"$f":"F17320*memoria!$B$44/(G17320*12*memoria!$B$47)","v":{"$error":"#DIV/0!"}},{"$f":"F17320/(G17320*12*memoria!$B$47)","v":{"$error":"#DIV/0!"}}]
[null,null,null,null,null,null,null,{"$f":"F17336*memoria!$B$44/(G17336*12*memoria!$B$47)","v":{"$error":"#DIV/0!"}},{"$f":"F17336/(G17336*12*memoria!$B$47)","v":{"$error":"#DIV/0!"}}]
[null,null,null,null,null,null,null,{"$f":"F17342*memoria!$B$44/(G17342*12*memoria!$B$47)","v":{"$error":"#DIV/0!"}},{"$f":"F17342/(G17342*12*memoria!$B$47)","v":{"$error":"#DIV/0!"}}]
[null,null,null,null,null,null,null,{"$f":"F17359*memoria!$B$44/(G17359*12*memoria!$B$47)","v":{"$error":"#DIV/0!"}},{"$f":"F17359/(G17359*12*memoria!$B$47)","v":{"$error":"#DIV/0!"}}]
[null,null,null,null,null,null,null,{"$f":"F17373*memoria!$B$44/(G17373*12*memoria!$B$47)","v":{"$error":"#DIV/0!"}},{"$f":"F17373/(G17373*12*memoria!$B$47)","v":{"$error":"#DIV/0!"}}]
[null,null,null,null,null,null,null,{"$f":"F17376*memoria!$B$44/(G17376*12*memoria!$B$47)","v":{"$error":"#DIV/0!"}},{"$f":"F17376/(G17376*12*memoria!$B$47)","v":{"$error":"#DIV/0!"}}]
[null,null,null,null,null,null,null,{"$f":"F17386*memoria!$B$44/(G17386*12*memoria!$B$47)","v":{"$error":"#DIV/0!"}},{"$f":"F17386/(G17386*12*memoria!$B$47)","v":{"$error":"#DIV/0!"}}]
[null,null,null,null,null,null,null,{"$f":"F17402*memoria!$B$44/(G17402*12*memoria!$B$47)","v":{"$error":"#DIV/0!"}},{"$f":"F17402/(G17402*12*memoria!$B$47)","v":{"$error":"#DIV/0!"}}]
[null,null,null,null,null,null,null,{"$f":"F17410*memoria!$B$44/(G17410*12*memoria!$B$47)","v":{"$error":"#DIV/0!"}},{"$f":"F17410/(G17410*12*memoria!$B$47)","v":{"$error":"#DIV/0!"}}]
[null,null,null,null,null,null,null,{"$f":"F17420*memoria!$B$44/(G17420*12*memoria!$B$47)","v":{"$error":"#DIV/0!"}},{"$f":"F17420/(G17420*12*memoria!$B$47)","v":{"$error":"#DIV/0!"}}]
[null,null,null,null,null,null,null,{"$f":"F17437*memoria!$B$44/(G17437*12*memoria!$B$47)","v":{"$error":"#DIV/0!"}},{"$f":"F17437/(G17437*12*memoria!$B$47)","v":{"$error":"#DIV/0!"}}]
[null,null,null,null,null,null,null,{"$f":"F17451*memoria!$B$44/(G17451*12*memoria!$B$47)","v":{"$error":"#DIV/0!"}},{"$f":"F17451/(G17451*12*memoria!$B$47)","v":{"$error":"#DIV/0!"}}]
[null,null,null,null,null,null,null,{"$f":"F17454*memoria!$B$44/(G17454*12*memoria!$B$47)","v":{"$error":"#DIV/0!"}},{"$f":"F17454/(G17454*12*memoria!$B$47)","v":{"$error":"#DIV/0!"}}]
[null,null,null,null,null,null,null,{"$f":"F17471*memoria!$B$44/(G17471*12*memoria!$B$47)","v":{"$error":"#DIV/0!"}},{"$f":"F17471/(G17471*12*memoria!$B$47)","v":{"$error":"#DIV/0!"}}]
[null,null,null,null,null,null,null,{"$f":"F17484*memoria!$B$44/(G17484*12*memoria!$B$47)","v":{"$error":"#DIV/0!"}},{"$f":"F17484/(G17484*12*memoria!$B$47)","v":{"$error":"#DIV/0!"}}]
[null,null,null,null,null,null,null,{"$f":"F17488*memoria!$B$44/(G17488*12*memoria!$B$47)","v":{"$error":"#DIV/0!"}},{"$f":"F17488/(G17488*12*memoria!$B$47)","v":{"$error":"#DIV/0!"}}]
[null,null,null,null,null,null,null,{"$f":"F17505*memoria!$B$44/(G17505*12*memoria!$B$47)","v":{"$error":"#DIV/0!"}},{"$f":"F17505/(G17505*12*memoria!$B$47)","v":{"$error":"#DIV/0!"}}]
[null,null,null,null,null,null,null,{"$f":"F17515*memoria!$B$44/(G17515*12*memoria!$B$47)","v":{"$error":"#DIV/0!"}},{"$f":"F17515/(G17515*12*memoria!$B$47)","v":{"$error":"#DIV/0!"}}]
[null,null,null,null,null,null,null,{"$f":"F17521*memoria!$B$44/(G17521*12*memoria!$B$47)","v":{"$error":"#DIV/0!"}},{"$f":"F17521/(G17521*12*memoria!$B$47)","v":{"$error":"#DIV/0!"}}]
[null,null,null,null,null,null,null,{"$f":"F17539*memoria!$B$44/(G17539*12*memoria!$B$47)","v":{"$error":"#DIV/0!"}},{"$f":"F17539/(G17539*12*memoria!$B$47)","v":{"$error":"#DIV/0!"}}]
[null,null,null,null,null,null,null,{"$f":"F17549*memoria!$B$44/(G17549*12*memoria!$B$47)","v":{"$error":"#DIV/0!"}},{"$f":"F17549/(G17549*12*memoria!$B$47)","v":{"$error":"#DIV/0!"}}]
[null,null,null,null,null,null,null,{"$f":"F17562*memoria!$B$44/(G17562*12*memoria!$B$47)","v":{"$error":"#DIV/0!"}},{"$f":"F17562/(G17562*12*memoria!$B$47)","v":{"$error":"#DIV/0!"}}]
[null,null,null,null,null,null,null,{"$f":"F17566*memoria!$B$44/(G17566*12*memoria!$B$47)","v":{"$error":"#DIV/0!"}},{"$f":"F17566/(G17566*12*memoria!$B$47)","v":{"$error":"#DIV/0!"}}]
[null,null,null,null,null,null,null,{"$f":"F17583*memoria!$B$44/(G17583*12*memoria!$B$47)","v":{"$error":"#DIV/0!"}},{"$f":"F17583/(G17583*12*memoria!$B$47)","v":{"$error":"#DIV/0!"}}]
[null,null,null,null,null,null,null,{"$f":"F17589*memoria!$B$44/(G17589*12*memoria!$B$47)","v":{"$error":"#DIV/0!"}},{"$f":"F17589/(G17589*12*memoria!$B$47)","v":{"$error":"#DIV/0!"}}]
[null,null,null,null,null,null,null,{"$f":"F17603*memoria!$B$44/(G17603*12*memoria!$B$47)","v":{"$error":"#DIV/0!"}},{"$f":"F17603/(G17603*12*memoria!$B$47)","v":{"$error":"#DIV/0!"}}]
[null,null,null,null,null,null,null,{"$f":"F17617*memoria!$B$44/(G17617*12*memoria!$B$47)","v":{"$error":"#DIV/0!"}},{"$f":"F17617/(G17617*12*memoria!$B$47)","v":{"$error":"#DIV/0!"}}]
[null,null,null,null,null,null,null,{"$f":"F17627*memoria!$B$44/(G17627*12*memoria!$B$47)","v":{"$error":"#DIV/0!"}},{"$f":"F17627/(G17627*12*memoria!$B$47)","v":{"$error":"#DIV/0!"}}]
[null,null,null,null,null,null,null,{"$f":"F17633*memoria!$B$44/(G17633*12*memoria!$B$47)","v":{"$error":"#DIV/0!"}},{"$f":"F17633/(G17633*12*memoria!$B$47)","v":{"$error":"#DIV/0!"}}]
[null,null,null,null,null,null,null,{"$f":"F17652*memoria!$B$44/(G17652*12*memoria!$B$47)","v":{"$error":"#DIV/0!"}},{"$f":"F17652/(G17652*12*memoria!$B$47)","v":{"$error":"#DIV/0!"}}]
[null,null,null,null,null,null,null,{"$f":"F17661*memoria!$B$44/(G17661*12*memoria!$B$47)","v":{"$error":"#DIV/0!"}},{"$f":"F17661/(G17661*12*memoria!$B$47)","v":{"$error":"#DIV/0!"}}]
[null,null,null,null,null,null,null,{"$f":"F17667*memoria!$B$44/(G17667*12*memoria!$B$47)","v":{"$error":"#DIV/0!"}},{"$f":"F17667/(G17667*12*memoria!$B$47)","v":{"$error":"#DIV/0!"}}]
[null,null,null,null,null,null,null,{"$f":"F17681*memoria!$B$44/(G17681*12*memoria!$B$47)","v":{"$error":"#DIV/0!"}},{"$f":"F17681/(G17681*12*memoria!$B$47)","v":{"$error":"#DIV/0!"}}]
[null,null,null,null,null,null,null,{"$f":"F17695*memoria!$B$44/(G17695*12*memoria!$B$47)","v":{"$error":"#DIV/0!"}},{"$f":"F17695/(G17695*12*memoria!$B$47)","v":{"$error":"#DIV/0!"}}]
[null,null,null,null,null,null,null,{"$f":"F17701*memoria!$B$44/(G17701*12*memoria!$B$47)","v":{"$error":"#DIV/0!"}},{"$f":"F17701/(G17701*12*memoria!$B$47)","v":{"$error":"#DIV/0!"}}]
[null,null,null,null,null,null,null,{"$f":"F17722*memoria!$B$44/(G17722*12*memoria!$B$47)","v":{"$error":"#DIV/0!"}},{"$f":"F17722/(G17722*12*memoria!$B$47)","v":{"$error":"#DIV/0!"}}]
[null,null,null,null,null,null,null,{"$f":"F17734*memoria!$B$44/(G17734*12*memoria!$B$47)","v":{"$error":"#DIV/0!"}},{"$f":"F17734/(G17734*12*memoria!$B$47)","v":{"$error":"#DIV/0!"}}]
[null,null,null,null,null,null,null,{"$f":"F17735*memoria!$B$44/(G17735*12*memoria!$B$47)","v":{"$error":"#DIV/0!"}},{"$f":"F17735/(G17735*12*memoria!$B$47)","v":{"$error":"#DIV/0!"}}]
[null,null,null,null,null,null,null,{"$f":"F17756*memoria!$B$44/(G17756*12*memoria!$B$47)","v":{"$error":"#DIV/0!"}},{"$f":"F17756/(G17756*12*memoria!$B$47)","v":{"$error":"#DIV/0!"}}]
[null,null,null,null,null,null,null,{"$f":"F17763*memoria!$B$44/(G17763*12*memoria!$B$47)","v":{"$error":"#DIV/0!"}},{"$f":"F17763/(G17763*12*memoria!$B$47)","v":{"$error":"#DIV/0!"}}]
[null,null,null,null,null,null,null,{"$f":"F17769*memoria!$B$44/(G17769*12*memoria!$B$47)","v":{"$error":"#DIV/0!"}},{"$f":"F17769/(G17769*12*memoria!$B$47)","v":{"$error":"#DIV/0!"}}]
[null,null,null,null,null,null,null,{"$f":"F17790*memoria!$B$44/(G17790*12*memoria!$B$47)","v":{"$error":"#DIV/0!"}},{"$f":"F17790/(G17790*12*memoria!$B$47)","v":{"$error":"#DIV/0!"}}]
[null,null,null,null,null,null,null,{"$f":"F17796*memoria!$B$44/(G17796*12*memoria!$B$47)","v":{"$error":"#DIV/0!"}},{"$f":"F17796/(G17796*12*memoria!$B$47)","v":{"$error":"#DIV/0!"}}]
[null,null,null,null,null,null,null,{"$f":"F17804*memoria!$B$44/(G17804*12*memoria!$B$47)","v":{"$error":"#DIV/0!"}},{"$f":"F17804/(G17804*12*memoria!$B$47)","v":{"$error":"#DIV/0!"}}]
[null,null,null,null,null,null,null,{"$f":"F17824*memoria!$B$44/(G17824*12*memoria!$B$47)","v":{"$error":"#DIV/0!"}},{"$f":"F17824/(G17824*12*memoria!$B$47)","v":{"$error":"#DIV/0!"}}]
[null,null,null,null,null,null,null,{"$f":"F17830*memoria!$B$44/(G17830*12*memoria!$B$47)","v":{"$error":"#DIV/0!"}},{"$f":"F17830/(G17830*12*memoria!$B$47)","v":{"$error":"#DIV/0!"}}]
[null,null,null,null,null,null,null,{"$f":"F17840*memoria!$B$44/(G17840*12*memoria!$B$47)","v":{"$error":"#DIV/0!"}},{"$f":"F17840/(G17840*12*memoria!$B$47)","v":{"$error":"#DIV/0!"}}]
[null,null,null,null,null,null,null,{"$f":"F17853*memoria!$B$44/(G17853*12*memoria!$B$47)","v":{"$error":"#DIV/0!"}},{"$f":"F17853/(G17853*12*memoria!$B$47)","v":{"$error":"#DIV/0!"}}]
[null,null,null,null,null,null,null,{"$f":"F17868*memoria!$B$44/(G17868*12*memoria!$B$47)","v":{"$error":"#DIV/0!"}},{"$f":"F17868/(G17868*12*memoria!$B$47)","v":{"$error":"#DIV/0!"}}]
[null,null,null,null,null,null,null,{"$f":"F17874*memoria!$B$44/(G17874*12*memoria!$B$47)","v":{"$error":"#DIV/0!"}},{"$f":"F17874/(G17874*12*memoria!$B$47)","v":{"$error":"#DIV/0!"}}]
[null,null,null,null,null,null,null,{"$f":"F17882*memoria!$B$44/(G17882*12*memoria!$B$47)","v":{"$error":"#DIV/0!"}},{"$f":"F17882/(G17882*12*memoria!$B$47)","v":{"$error":"#DIV/0!"}}]
[null,null,null,null,null,null,null,{"$f":"F17902*memoria!$B$44/(G17902*12*memoria!$B$47)","v":{"$error":"#DIV/0!"}},{"$f":"F17902/(G17902*12*memoria!$B$47)","v":{"$error":"#DIV/0!"}}]
[null,null,null,null,null,null,null,{"$f":"F17908*memoria!$B$44/(G17908*12*memoria!$B$47)","v":{"$error":"#DIV/0!"}},{"$f":"F17908/(G17908*12*memoria!$B$47)","v":{"$error":"#DIV/0!"}}]
[null,null,null,null,null,null,null,{"$f":"F17925*memoria!$B$44/(G17925*12*memoria!$B$47)","v":{"$error":"#DIV/0!"}},{"$f":"F17925/(G17925*12*memoria!$B$47)","v":{"$error":"#DIV/0!"}}]
[null,null,null,null,null,null,null,{"$f":"F17935*memoria!$B$44/(G17935*12*memoria!$B$47)","v":{"$error":"#DIV/0!"}},{"$f":"F17935/(G17935*12*memoria!$B$47)","v":{"$error":"#DIV/0!"}}]
[null,null,null,null,null,null,null,{"$f":"F17942*memoria!$B$44/(G17942*12*memoria!$B$47)","v":{"$error":"#DIV/0!"}},{"$f":"F17942/(G17942*12*memoria!$B$47)","v":{"$error":"#DIV/0!"}}]
[null,null,null,null,null,null,null,{"$f":"F17952*memoria!$B$44/(G17952*12*memoria!$B$47)","v":{"$error":"#DIV/0!"}},{"$f":"F17952/(G17952*12*memoria!$B$47)","v":{"$error":"#DIV/0!"}}]
[null,null,null,null,null,null,null,{"$f":"F17964*memoria!$B$44/(G17964*12*memoria!$B$47)","v":{"$error":"#DIV/0!"}},{"$f":"F17964/(G17964*12*memoria!$B$47)","v":{"$error":"#DIV/0!"}}]
[null,null,null,null,null,null,null,{"$f":"F17976*memoria!$B$44/(G17976*12*memoria!$B$47)","v":{"$error":"#DIV/0!"}},{"$f":"F17976/(G17976*12*memoria!$B$47)","v":{"$error":"#DIV/0!"}}]
[null,null,null,null,null,null,null,{"$f":"F17986*memoria!$B$44/(G17986*12*memoria!$B$47)","v":{"$error":"#DIV/0!"}},{"$f":"F17986/(G17986*12*memoria!$B$47)","v":{"$error":"#DIV/0!"}}]
[null,null,null,null,null,null,null,{"$f":"F18003*memoria!$B$44/(G18003*12*memoria!$B$47)","v":{"$error":"#DIV/0!"}},{"$f":"F18003/(G18003*12*memoria!$B$47)","v":{"$error":"#DIV/0!"}}]
[null,null,null,null,null,null,null,{"$f":"F18005*memoria!$B$44/(G18005*12*memoria!$B$47)","v":{"$error":"#DIV/0!"}},{"$f":"F18005/(G18005*12*memoria!$B$47)","v":{"$error":"#DIV/0!"}}]
[null,null,null,null,null,null,null,{"$f":"F18020*memoria!$B$44/(G18020*12*memoria!$B$47)","v":{"$error":"#DIV/0!"}},{"$f":"F18020/(G18020*12*memoria!$B$47)","v":{"$error":"#DIV/0!"}}]
[null,null,null,null,null,null,null,{"$f":"F18037*memoria!$B$44/(G18037*12*memoria!$B$47)","v":{"$error":"#DIV/0!"}},{"$f":"F18037/(G18037*12*memoria!$B$47)","v":{"$error":"#DIV/0!"}}]
[null,null,null,null,null,null,null,{"$f":"F18046*memoria!$B$44/(G18046*12*memoria!$B$47)","v":{"$error":"#DIV/0!"}},{"$f":"F18046/(G18046*12*memoria!$B$47)","v":{"$error":"#DIV/0!"}}]
[null,null,null,null,null,null,null,{"$f":"F18054*memoria!$B$44/(G18054*12*memoria!$B$47)","v":{"$error":"#DIV/0!"}},{"$f":"F18054/(G18054*12*memoria!$B$47)","v":{"$error":"#DIV/0!"}}]
[null,null,null,null,null,null,null,{"$f":"F18071*memoria!$B$44/(G18071*12*memoria!$B$47)","v":{"$error":"#DIV/0!"}},{"$f":"F18071/(G18071*12*memoria!$B$47)","v":{"$error":"#DIV/0!"}}]
[null,null,null,null,null,null,null,{"$f":"F18081*memoria!$B$44/(G18081*12*memoria!$B$47)","v":{"$error":"#DIV/0!"}},{"$f":"F18081/(G18081*12*memoria!$B$47)","v":{"$error":"#DIV/0!"}}]
[null,null,null,null,null,null,null,{"$f":"F18095*memoria!$B$44/(G18095*12*memoria!$B$47)","v":{"$error":"#DIV/0!"}},{"$f":"F18095/(G18095*12*memoria!$B$47)","v":{"$error":"#DIV/0!"}}]
[null,null,null,null,null,null,null,{"$f":"F18098*memoria!$B$44/(G18098*12*memoria!$B$47)","v":{"$error":"#DIV/0!"}},{"$f":"F18098/(G18098*12*memoria!$B$47)","v":{"$error":"#DIV/0!"}}]
[null,null,null,null,null,null,null,{"$f":"F18115*memoria!$B$44/(G18115*12*memoria!$B$47)","v":{"$error":"#DIV/0!"}},{"$f":"F18115/(G18115*12*memoria!$B$47)","v":{"$error":"#DIV/0!"}}]
[null,null,null,null,null,null,null,{"$f":"F18121*memoria!$B$44/(G18121*12*memoria!$B$47)","v":{"$error":"#DIV/0!"}},{"$f":"F18121/(G18121*12*memoria!$B$47)","v":{"$error":"#DIV/0!"}}]
[null,null,null,null,null,null,null,{"$f":"F18136*memoria!$B$44/(G18136*12*memoria!$B$47)","v":{"$error":"#DIV/0!"}},{"$f":"F18136/(G18136*12*memoria!$B$47)","v":{"$error":"#DIV/0!"}}]
[null,null,null,null,null,null,null,{"$f":"F18149*memoria!$B$44/(G18149*12*memoria!$B$47)","v":{"$error":"#DIV/0!"}},{"$f":"F18149/(G18149*12*memoria!$B$47)","v":{"$error":"#DIV/0!"}}]
[null,null,null,null,null,null,null,{"$f":"F18155*memoria!$B$44/(G18155*12*memoria!$B$47)","v":{"$error":"#DIV/0!"}},{"$f":"F18155/(G18155*12*memoria!$B$47)","v":{"$error":"#DIV/0!"}}]
[null,null,null,null,null,null,null,{"$f":"F18165*memoria!$B$44/(G18165*12*memoria!$B$47)","v":{"$error":"#DIV/0!"}},{"$f":"F18165/(G18165*12*memoria!$B$47)","v":{"$error":"#DIV/0!"}}]
[null,null,null,null,null,null,null,{"$f":"F18183*memoria!$B$44/(G18183*12*memoria!$B$47)","v":{"$error":"#DIV/0!"}},{"$f":"F18183/(G18183*12*memoria!$B$47)","v":{"$error":"#DIV/0!"}}]
[null,null,null,null,null,null,null,{"$f":"F18193*memoria!$B$44/(G18193*12*memoria!$B$47)","v":{"$error":"#DIV/0!"}},{"$f":"F18193/(G18193*12*memoria!$B$47)","v":{"$error":"#DIV/0!"}}]
[null,null,null,null,null,null,null,{"$f":"F18199*memoria!$B$44/(G18199*12*memoria!$B$47)","v":{"$error":"#DIV/0!"}},{"$f":"F18199/(G18199*12*memoria!$B$47)","v":{"$error":"#DIV/0!"}}]
[null,null,null,null,null,null,null,{"$f":"F18214*memoria!$B$44/(G18214*12*memoria!$B$47)","v":{"$error":"#DIV/0!"}},{"$f":"F18214/(G18214*12*memoria!$B$47)","v":{"$error":"#DIV/0!"}}]
[null,null,null,null,null,null,null,{"$f":"F18227*memoria!$B$44/(G18227*12*memoria!$B$47)","v":{"$error":"#DIV/0!"}},{"$f":"F18227/(G18227*12*memoria!$B$47)","v":{"$error":"#DIV/0!"}}]
[null,null,null,null,null,null,null,{"$f":"F18233*memoria!$B$44/(G18233*12*memoria!$B$47)","v":{"$error":"#DIV/0!"}},{"$f":"F18233/(G18233*12*memoria!$B$47)","v":{"$error":"#DIV/0!"}}]
[null,null,null,null,null,null,null,{"$f":"F18247*memoria!$B$44/(G18247*12*memoria!$B$47)","v":{"$error":"#DIV/0!"}},{"$f":"F18247/(G18247*12*memoria!$B$47)","v":{"$error":"#DIV/0!"}}]
[null,null,null,null,null,null,null,{"$f":"F18261*memoria!$B$44/(G18261*12*memoria!$B$47)","v":{"$error":"#DIV/0!"}},{"$f":"F18261/(G18261*12*memoria!$B$47)","v":{"$error":"#DIV/0!"}}]
[null,null,null,null,null,null,null,{"$f":"F18267*memoria!$B$44/(G18267*12*memoria!$B$47)","v":{"$error":"#DIV/0!"}},{"$f":"F18267/(G18267*12*memoria!$B$47)","v":{"$error":"#DIV/0!"}}]
[null,null,null,null,null,null,null,{"$f":"F18277*memoria!$B$44/(G18277*12*memoria!$B$47)","v":{"$error":"#DIV/0!"}},{"$f":"F18277/(G18277*12*memoria!$B$47)","v":{"$error":"#DIV/0!"}}]
[null,null,null,null,null,null,null,{"$f":"F18296*memoria!$B$44/(G18296*12*memoria!$B$47)","v":{"$error":"#DIV/0!"}},{"$f":"F18296/(G18296*12*memoria!$B$47)","v":{"$error":"#DIV/0!"}}]
[null,null,null,null,null,null,null,{"$f":"F18301*memoria!$B$44/(G18301*12*memoria!$B$47)","v":{"$error":"#DIV/0!"}},{"$f":"F18301/(G18301*12*memoria!$B$47)","v":{"$error":"#DIV/0!"}}]
[null,null,null,null,null,null,null,{"$f":"F18311*memoria!$B$44/(G18311*12*memoria!$B$47)","v":{"$error":"#DIV/0!"}},{"$f":"F18311/(G18311*12*memoria!$B$47)","v":{"$error":"#DIV/0!"}}]
[null,null,null,null,null,null,null,{"$f":"F18328*memoria!$B$44/(G18328*12*memoria!$B$47)","v":{"$error":"#DIV/0!"}},{"$f":"F18328/(G18328*12*memoria!$B$47)","v":{"$error":"#DIV/0!"}}]
[null,null,null,null,null,null,null,{"$f":"F18337*memoria!$B$44/(G18337*12*memoria!$B$47)","v":{"$error":"#DIV/0!"}},{"$f":"F18337/(G18337*12*memoria!$B$47)","v":{"$error":"#DIV/0!"}}]
[null,null,null,null,null,null,null,{"$f":"F18345*memoria!$B$44/(G18345*12*memoria!$B$47)","v":{"$error":"#DIV/0!"}},{"$f":"F18345/(G18345*12*memoria!$B$47)","v":{"$error":"#DIV/0!"}}]
[null,null,null,null,null,null,null,{"$f":"F18362*memoria!$B$44/(G18362*12*memoria!$B$47)","v":{"$error":"#DIV/0!"}},{"$f":"F18362/(G18362*12*memoria!$B$47)","v":{"$error":"#DIV/0!"}}]
[null,null,null,null,null,null,null,{"$f":"F18366*memoria!$B$44/(G18366*12*memoria!$B$47)","v":{"$error":"#DIV/0!"}},{"$f":"F18366/(G18366*12*memoria!$B$47)","v":{"$error":"#DIV/0!"}}]
[null,null,null,null,null,null,null,{"$f":"F18379*memoria!$B$44/(G18379*12*memoria!$B$47)","v":{"$error":"#DIV/0!"}},{"$f":"F18379/(G18379*12*memoria!$B$47)","v":{"$error":"#DIV/0!"}}]
[null,null,null,null,null,null,null,{"$f":"F18396*memoria!$B$44/(G18396*12*memoria!$B$47)","v":{"$error":"#DIV/0!"}},{"$f":"F18396/(G18396*12*memoria!$B$47)","v":{"$error":"#DIV/0!"}}]
[null,null,null,null,null,null,null,{"$f":"F18406*memoria!$B$44/(G18406*12*memoria!$B$47)","v":{"$error":"#DIV/0!"}},{"$f":"F18406/(G18406*12*memoria!$B$47)","v":{"$error":"#DIV/0!"}}]
[null,null,null,null,null,null,null,{"$f":"F18415*memoria!$B$44/(G18415*12*memoria!$B$47)","v":{"$error":"#DIV/0!"}},{"$f":"F18415/(G18415*12*memoria!$B$47)","v":{"$error":"#DIV/0!"}}]
[null,null,null,null,null,null,null,{"$f":"F18423*memoria!$B$44/(G18423*12*memoria!$B$47)","v":{"$error":"#DIV/0!"}},{"$f":"F18423/(G18423*12*memoria!$B$47)","v":{"$error":"#DIV/0!"}}]
[null,null,null,null,null,null,null,{"$f":"F18440*memoria!$B$44/(G18440*12*memoria!$B$47)","v":{"$error":"#DIV/0!"}},{"$f":"F18440/(G18440*12*memoria!$B$47)","v":{"$error":"#DIV/0!"}}]
[null,null,null,null,null,null,null,{"$f":"F18456*memoria!$B$44/(G18456*12*memoria!$B$47)","v":{"$error":"#DIV/0!"}},{"$f":"F18456/(G18456*12*memoria!$B$47)","v":{"$error":"#DIV/0!"}}]
[null,null,null,null,null,null,null,{"$f":"F18457*memoria!$B$44/(G18457*12*memoria!$B$47)","v":{"$error":"#DIV/0!"}},{"$f":"F18457/(G18457*12*memoria!$B$47)","v":{"$error":"#DIV/0!"}}]
[null,null,null,null,null,null,null,{"$f":"F18474*memoria!$B$44/(G18474*12*memoria!$B$47)","v":{"$error":"#DIV/0!"}},{"$f":"F18474/(G18474*12*memoria!$B$47)","v":{"$error":"#DIV/0!"}}]
[null,null,null,null,null,null,null,{"$f":"F18484*memoria!$B$44/(G18484*12*memoria!$B$47)","v":{"$error":"#DIV/0!"}},{"$f":"F18484/(G18484*12*memoria!$B$47)","v":{"$error":"#DIV/0!"}}]
[null,null,null,null,null,null,null,{"$f":"F18497*memoria!$B$44/(G18497*12*memoria!$B$47)","v":{"$error":"#DIV/0!"}},{"$f":"F18497/(G18497*12*memoria!$B$47)","v":{"$error":"#DIV/0!"}}]
[null,null,null,null,null,null,null,{"$f":"F18508*memoria!$B$44/(G18508*12*memoria!$B$47)","v":{"$error":"#DIV/0!"}},{"$f":"F18508/(G18508*12*memoria!$B$47)","v":{"$error":"#DIV/0!"}}]
[null,null,null,null,null,null,null,{"$f":"F18518*memoria!$B$44/(G18518*12*memoria!$B$47)","v":{"$error":"#DIV/0!"}},{"$f":"F18518/(G18518*12*memoria!$B$47)","v":{"$error":"#DIV/0!"}}]
[null,null,null,null,null,null,null,{"$f":"F18526*memoria!$B$44/(G18526*12*memoria!$B$47)","v":{"$error":"#DIV/0!"}},{"$f":"F18526/(G18526*12*memoria!$B$47)","v":{"$error":"#DIV/0!"}}]
[null,null,null,null,null,null,null,{"$f":"F18542*memoria!$B$44/(G18542*12*memoria!$B$47)","v":{"$error":"#DIV/0!"}},{"$f":"F18542/(G18542*12*memoria!$B$47)","v":{"$error":"#DIV/0!"}}]
[null,null,null,null,null,null,null,{"$f":"F18552*memoria!$B$44/(G18552*12*memoria!$B$47)","v":{"$error":"#DIV/0!"}},{"$f":"F18552/(G18552*12*memoria!$B$47)","v":{"$error":"#DIV/0!"}}]
[null,null,null,null,null,null,null,{"$f":"F18558*memoria!$B$44/(G18558*12*memoria!$B$47)","v":{"$error":"#DIV/0!"}},{"$f":"F18558/(G18558*12*memoria!$B$47)","v":{"$error":"#DIV/0!"}}]
[null,null,null,null,null,null,null,{"$f":"F18579*memoria!$B$44/(G18579*12*memoria!$B$47)","v":{"$error":"#DIV/0!"}},{"$f":"F18579/(G18579*12*memoria!$B$47)","v":{"$error":"#DIV/0!"}}]
[null,null,null,null,null,null,null,{"$f":"F18586*memoria!$B$44/(G18586*12*memoria!$B$47)","v":{"$error":"#DIV/0!"}},{"$f":"F18586/(G18586*12*memoria!$B$47)","v":{"$error":"#DIV/0!"}}]
[null,null,null,null,null,null,null,{"$f":"F18592*memoria!$B$44/(G18592*12*memoria!$B$47)","v":{"$error":"#DIV/0!"}},{"$f":"F18592/(G18592*12*memoria!$B$47)","v":{"$error":"#DIV/0!"}}]
[null,null,null,null,null,null,null,{"$f":"F18613*memoria!$B$44/(G18613*12*memoria!$B$47)","v":{"$error":"#DIV/0!"}},{"$f":"F18613/(G18613*12*memoria!$B$47)","v":{"$error":"#DIV/0!"}}]
[null,null,null,null,null,null,null,{"$f":"F18616*memoria!$B$44/(G18616*12*memoria!$B$47)","v":{"$error":"#DIV/0!"}},{"$f":"F18616/(G18616*12*memoria!$B$47)","v":{"$error":"#DIV/0!"}}]
[null,null,null,null,null,null,null,{"$f":"F18630*memoria!$B$44/(G18630*12*memoria!$B$47)","v":{"$error":"#DIV/0!"}},{"$f":"F18630/(G18630*12*memoria!$B$47)","v":{"$error":"#DIV/0!"}}]
[null,null,null,null,null,null,null,{"$f":"F18647*memoria!$B$44/(G18647*12*memoria!$B$47)","v":{"$error":"#DIV/0!"}},{"$f":"F18647/(G18647*12*memoria!$B$47)","v":{"$error":"#DIV/0!"}}]
[null,null,null,null,null,null,null,{"$f":"F18657*memoria!$B$44/(G18657*12*memoria!$B$47)","v":{"$error":"#DIV/0!"}},{"$f":"F18657/(G18657*12*memoria!$B$47)","v":{"$error":"#DIV/0!"}}]
[null,null,null,null,null,null,null,{"$f":"F18664*memoria!$B$44/(G18664*12*memoria!$B$47)","v":{"$error":"#DIV/0!"}},{"$f":"F18664/(G18664*12*memoria!$B$47)","v":{"$error":"#DIV/0!"}}]
[null,null,null,null,null,null,null,{"$f":"F18681*memoria!$B$44/(G18681*12*memoria!$B$47)","v":{"$error":"#DIV/0!"}},{"$f":"F18681/(G18681*12*memoria!$B$47)","v":{"$error":"#DIV/0!"}}]
[null,null,null,null,null,null,null,{"$f":"F18687*memoria!$B$44/(G18687*12*memoria!$B$47)","v":{"$error":"#DIV/0!"}},{"$f":"F18687/(G18687*12*memoria!$B$47)","v":{"$error":"#DIV/0!"}}]
[null,null,null,null,null,null,null,{"$f":"F18698*memoria!$B$44/(G18698*12*memoria!$B$47)","v":{"$error":"#DIV/0!"}},{"$f":"F18698/(G18698*12*memoria!$B$47)","v":{"$error":"#DIV/0!"}}]
[null,null,null,null,null,null,null,{"$f":"F18715*memoria!$B$44/(G18715*12*memoria!$B$47)","v":{"$error":"#DIV/0!"}},{"$f":"F18715/(G18715*12*memoria!$B$47)","v":{"$error":"#DIV/0!"}}]
[null,null,null,null,null,null,null,{"$f":"F18725*memoria!$B$44/(G18725*12*memoria!$B$47)","v":{"$error":"#DIV/0!"}},{"$f":"F18725/(G18725*12*memoria!$B$47)","v":{"$error":"#DIV/0!"}}]
[null,null,null,null,null,null,null,{"$f":"F18727*memoria!$B$44/(G18727*12*memoria!$B$47)","v":{"$error":"#DIV/0!"}},{"$f":"F18727/(G18727*12*memoria!$B$47)","v":{"$error":"#DIV/0!"}}]
[null,null,null,null,null,null,null,{"$f":"F18749*memoria!$B$44/(G18749*12*memoria!$B$47)","v":{"$error":"#DIV/0!"}},{"$f":"F18749/(G18749*12*memoria!$B$47)","v":{"$error":"#DIV/0!"}}]
[null,null,null,null,null,null,null,{"$f":"F18759*memoria!$B$44/(G18759*12*memoria!$B$47)","v":{"$error":"#DIV/0!"}},{"$f":"F18759/(G18759*12*memoria!$B$47)","v":{"$error":"#DIV/0!"}}]
[null,null,null,null,null,null,null,{"$f":"F18765*memoria!$B$44/(G18765*12*memoria!$B$47)","v":{"$error":"#DIV/0!"}},{"$f":"F18765/(G18765*12*memoria!$B$47)","v":{"$error":"#DIV/0!"}}]
[null,null,null,null,null,null,null,{"$f":"F18776*memoria!$B$44/(G18776*12*memoria!$B$47)","v":{"$error":"#DIV/0!"}},{"$f":"F18776/(G18776*12*memoria!$B$47)","v":{"$error":"#DIV/0!"}}]
[null,null,null,null,null,null,null,{"$f":"F18793*memoria!$B$44/(G18793*12*memoria!$B$47)","v":{"$error":"#DIV/0!"}},{"$f":"F18793/(G18793*12*memoria!$B$47)","v":{"$error":"#DIV/0!"}}]
[null,null,null,null,null,null,null,{"$f":"F18799*memoria!$B$44/(G18799*12*memoria!$B$47)","v":{"$error":"#DIV/0!"}},{"$f":"F18799/(G18799*12*memoria!$B$47)","v":{"$error":"#DIV/0!"}}]
[null,null,null,null,null,null,null,{"$f":"F18809*memoria!$B$44/(G18809*12*memoria!$B$47)","v":{"$error":"#DIV/0!"}},{"$f":"F18809/(G18809*12*memoria!$B$47)","v":{"$error":"#DIV/0!"}}]
[null,null,null,null,null,null,null,{"$f":"F18817*memoria!$B$44/(G18817*12*memoria!$B$47)","v":{"$error":"#DIV/0!"}},{"$f":"F18817/(G18817*12*memoria!$B$47)","v":{"$error":"#DIV/0!"}}]
[null,null,null,null,null,null,null,{"$f":"F18833*memoria!$B$44/(G18833*12*memoria!$B$47)","v":{"$error":"#DIV/0!"}},{"$f":"F18833/(G18833*12*memoria!$B$47)","v":{"$error":"#DIV/0!"}}]
[null,null,null,null,null,null,null,{"$f":"F18843*memoria!$B$44/(G18843*12*memoria!$B$47)","v":{"$error":"#DIV/0!"}},{"$f":"F18843/(G18843*12*memoria!$B$47)","v":{"$error":"#DIV/0!"}}]
[null,null,null,null,null,null,null,{"$f":"F18858*memoria!$B$44/(G18858*12*memoria!$B$47)","v":{"$error":"#DIV/0!"}},{"$f":"F18858/(G18858*12*memoria!$B$47)","v":{"$error":"#DIV/0!"}}]
[null,null,null,null,null,null,null,{"$f":"F18871*memoria!$B$44/(G18871*12*memoria!$B$47)","v":{"$error":"#DIV/0!"}},{"$f":"F18871/(G18871*12*memoria!$B$47)","v":{"$error":"#DIV/0!"}}]
[null,null,null,null,null,null,null,{"$f":"F18877*memoria!$B$44/(G18877*12*memoria!$B$47)","v":{"$error":"#DIV/0!"}},{"$f":"F18877/(G18877*12*memoria!$B$47)","v":{"$error":"#DIV/0!"}}]
[null,null,null,null,null,null,null,{"$f":"F18894*memoria!$B$44/(G18894*12*memoria!$B$47)","v":{"$error":"#DIV/0!"}},{"$f":"F18894/(G18894*12*memoria!$B$47)","v":{"$error":"#DIV/0!"}}]
[null,null,null,null,null,null,null,{"$f":"F18899*memoria!$B$44/(G18899*12*memoria!$B$47)","v":{"$error":"#DIV/0!"}},{"$f":"F18899/(G18899*12*memoria!$B$47)","v":{"$error":"#DIV/0!"}}]
[null,null,null,null,null,null,null,{"$f":"F18911*memoria!$B$44/(G18911*12*memoria!$B$47)","v":{"$error":"#DIV/0!"}},{"$f":"F18911/(G18911*12*memoria!$B$47)","v":{"$error":"#DIV/0!"}}]
[null,null,null,null,null,null,null,{"$f":"F18928*memoria!$B$44/(G18928*12*memoria!$B$47)","v":{"$error":"#DIV/0!"}},{"$f":"F18928/(G18928*12*memoria!$B$47)","v":{"$error":"#DIV/0!"}}]
[null,null,null,null,null,null,null,{"$f":"F18940*memoria!$B$44/(G18940*12*memoria!$B$47)","v":{"$error":"#DIV/0!"}},{"$f":"F18940/(G18940*12*memoria!$B$47)","v":{"$error":"#DIV/0!"}}]
[null,null,null,null,null,null,null,{"$f":"F18945*memoria!$B$44/(G18945*12*memoria!$B$47)","v":{"$error":"#DIV/0!"}},{"$f":"F18945/(G18945*12*memoria!$B$47)","v":{"$error":"#DIV/0!"}}]
[null,null,null,null,null,null,null,{"$f":"F18955*memoria!$B$44/(G18955*12*memoria!$B$47)","v":{"$error":"#DIV/0!"}},{"$f":"F18955/(G18955*12*memoria!$B$47)","v":{"$error":"#DIV/0!"}}]
[null,null,null,null,null,null,null,{"$f":"F18972*memoria!$B$44/(G18972*12*memoria!$B$47)","v":{"$error":"#DIV/0!"}},{"$f":"F18972/(G18972*12*memoria!$B$47)","v":{"$error":"#DIV/0!"}}]
[null,null,null,null,null,null,null,{"$f":"F18977*memoria!$B$44/(G18977*12*memoria!$B$47)","v":{"$error":"#DIV/0!"}},{"$f":"F18977/(G18977*12*memoria!$B$47)","v":{"$error":"#DIV/0!"}}]
[null,null,null,null,null,null,null,{"$f":"F18989*memoria!$B$44/(G18989*12*memoria!$B$47)","v":{"$error":"#DIV/0!"}},{"$f":"F18989/(G18989*12*memoria!$B$47)","v":{"$error":"#DIV/0!"}}]
[null,null,null,null,null,null,null,{"$f":"F19006*memoria!$B$44/(G19006*12*memoria!$B$47)","v":{"$error":"#DIV/0!"}},{"$f":"F19006/(G19006*12*memoria!$B$47)","v":{"$error":"#DIV/0!"}}]
[null,null,null,null,null,null,null,{"$f":"F19010*memoria!$B$44/(G19010*12*memoria!$B$47)","v":{"$error":"#DIV/0!"}},{"$f":"F19010/(G19010*12*memoria!$B$47)","v":{"$error":"#DIV/0!"}}]
[null,null,null,null,null,null,null,{"$f":"F19023*memoria!$B$44/(G19023*12*memoria!$B$47)","v":{"$error":"#DIV/0!"}},{"$f":"F19023/(G19023*12*memoria!$B$47)","v":{"$error":"#DIV/0!"}}]
[null,null,null,null,null,null,null,{"$f":"F19040*memoria!$B$44/(G19040*12*memoria!$B$47)","v":{"$error":"#DIV/0!"}},{"$f":"F19040/(G19040*12*memoria!$B$47)","v":{"$error":"#DIV/0!"}}]
[null,null,null,null,null,null,null,{"$f":"F19050*memoria!$B$44/(G19050*12*memoria!$B$47)","v":{"$error":"#DIV/0!"}},{"$f":"F19050/(G19050*12*memoria!$B$47)","v":{"$error":"#DIV/0!"}}]
[null,null,null,null,null,null,null,{"$f":"F19059*memoria!$B$44/(G19059*12*memoria!$B$47)","v":{"$error":"#DIV/0!"}},{"$f":"F19059/(G19059*12*memoria!$B$47)","v":{"$error":"#DIV/0!"}}]
[null,null,null,null,null,null,null,{"$f":"F19074*memoria!$B$44/(G19074*12*memoria!$B$47)","v":{"$error":"#DIV/0!"}},{"$f":"F19074/(G19074*12*memoria!$B$47)","v":{"$error":"#DIV/0!"}}]
[null,null,null,null,null,null,null,{"$f":"F19084*memoria!$B$44/(G19084*12*memoria!$B$47)","v":{"$error":"#DIV/0!"}},{"$f":"F19084/(G19084*12*memoria!$B$47)","v":{"$error":"#DIV/0!"}}]
[null,null,null,null,null,null,null,{"$f":"F19090*memoria!$B$44/(G19090*12*memoria!$B$47)","v":{"$error":"#DIV/0!"}},{"$f":"F19090/(G19090*12*memoria!$B$47)","v":{"$error":"#DIV/0!"}}]
[null,null,null,null,null,null,null,{"$f":"F19100*memoria!$B$44/(G19100*12*memoria!$B$47)","v":{"$error":"#DIV/0!"}},{"$f":"F19100/(G19100*12*memoria!$B$47)","v":{"$error":"#DIV/0!"}}]
[null,null,null,null,null,null,null,{"$f":"F19118*memoria!$B$44/(G19118*12*memoria!$B$47)","v":{"$error":"#DIV/0!"}},{"$f":"F19118/(G19118*12*memoria!$B$47)","v":{"$error":"#DIV/0!"}}]
[null,null,null,null,null,null,null,{"$f":"F19124*memoria!$B$44/(G19124*12*memoria!$B$47)","v":{"$error":"#DIV/0!"}},{"$f":"F19124/(G19124*12*memoria!$B$47)","v":{"$error":"#DIV/0!"}}]
[null,null,null,null,null,null,null,{"$f":"F19141*memoria!$B$44/(G19141*12*memoria!$B$47)","v":{"$error":"#DIV/0!"}},{"$f":"F19141/(G19141*12*memoria!$B$47)","v":{"$error":"#DIV/0!"}}]
[null,null,null,null,null,null,null,{"$f":"F19152*memoria!$B$44/(G19152*12*memoria!$B$47)","v":{"$error":"#DIV/0!"}},{"$f":"F19152/(G19152*12*memoria!$B$47)","v":{"$error":"#DIV/0!"}}]
[null,null,null,null,null,null,null,{"$f":"F19158*memoria!$B$44/(G19158*12*memoria!$B$47)","v":{"$error":"#DIV/0!"}},{"$f":"F19158/(G19158*12*memoria!$B$47)","v":{"$error":"#DIV/0!"}}]
[null,null,null,null,null,null,null,{"$f":"F19168*memoria!$B$44/(G19168*12*memoria!$B$47)","v":{"$error":"#DIV/0!"}},{"$f":"F19168/(G19168*12*memoria!$B$47)","v":{"$error":"#DIV/0!"}}]
[null,null,null,null,null,null,null,{"$f":"F19178*memoria!$B$44/(G19178*12*memoria!$B$47)","v":{"$error":"#DIV/0!"}},{"$f":"F19178/(G19178*12*memoria!$B$47)","v":{"$error":"#DIV/0!"}}]
[null,null,null,null,null,null,null,{"$f":"F19196*memoria!$B$44/(G19196*12*memoria!$B$47)","v":{"$error":"#DIV/0!"}},{"$f":"F19196/(G19196*12*memoria!$B$47)","v":{"$error":"#DIV/0!"}}]
[null,null,null,null,null,null,null,{"$f":"F19202*memoria!$B$44/(G19202*12*memoria!$B$47)","v":{"$error":"#DIV/0!"}},{"$f":"F19202/(G19202*12*memoria!$B$47)","v":{"$error":"#DIV/0!"}}]
[null,null,null,null,null,null,null,{"$f":"F19219*memoria!$B$44/(G19219*12*memoria!$B$47)","v":{"$error":"#DIV/0!"}},{"$f":"F19219/(G19219*12*memoria!$B$47)","v":{"$error":"#DIV/0!"}}]
[null,null,null,null,null,null,null,{"$f":"F19230*memoria!$B$44/(G19230*12*memoria!$B$47)","v":{"$error":"#DIV/0!"}},{"$f":"F19230/(G19230*12*memoria!$B$47)","v":{"$error":"#DIV/0!"}}]
[null,null,null,null,null,null,null,{"$f":"F19236*memoria!$B$44/(G19236*12*memoria!$B$47)","v":{"$error":"#DIV/0!"}},{"$f":"F19236/(G19236*12*memoria!$B$47)","v":{"$error":"#DIV/0!"}}]
[null,null,null,null,null,null,null,{"$f":"F19246*memoria!$B$44/(G19246*12*memoria!$B$47)","v":{"$error":"#DIV/0!"}},{"$f":"F19246/(G19246*12*memoria!$B$47)","v":{"$error":"#DIV/0!"}}]
[null,null,null,null,null,null,null,{"$f":"F19260*memoria!$B$44/(G19260*12*memoria!$B$47)","v":{"$error":"#DIV/0!"}},{"$f":"F19260/(G19260*12*memoria!$B$47)","v":{"$error":"#DIV/0!"}}]
[null,null,null,null,null,null,null,{"$f":"F19270*memoria!$B$44/(G19270*12*memoria!$B$47)","v":{"$error":"#DIV/0!"}},{"$f":"F19270/(G19270*12*memoria!$B$47)","v":{"$error":"#DIV/0!"}}]
[null,null,null,null,null,null,null,{"$f":"F19280*memoria!$B$44/(G19280*12*memoria!$B$47)","v":{"$error":"#DIV/0!"}},{"$f":"F19280/(G19280*12*memoria!$B$47)","v":{"$error":"#DIV/0!"}}]
[null,null,null,null,null,null,null,{"$f":"F19297*memoria!$B$44/(G19297*12*memoria!$B$47)","v":{"$error":"#DIV/0!"}},{"$f":"F19297/(G19297*12*memoria!$B$47)","v":{"$error":"#DIV/0!"}}]
[null,null,null,null,null,null,null,{"$f":"F19309*memoria!$B$44/(G19309*12*memoria!$B$47)","v":{"$error":"#DIV/0!"}},{"$f":"F19309/(G19309*12*memoria!$B$47)","v":{"$error":"#DIV/0!"}}]
[null,null,null,null,null,null,null,{"$f":"F19314*memoria!$B$44/(G19314*12*memoria!$B$47)","v":{"$error":"#DIV/0!"}},{"$f":"F19314/(G19314*12*memoria!$B$47)","v":{"$error":"#DIV/0!"}}]
[null,null,null,null,null,null,null,{"$f":"F19331*memoria!$B$44/(G19331*12*memoria!$B$47)","v":{"$error":"#DIV/0!"}},{"$f":"F19331/(G19331*12*memoria!$B$47)","v":{"$error":"#DIV/0!"}}]
[null,null,null,null,null,null,null,{"$f":"F19342*memoria!$B$44/(G19342*12*memoria!$B$47)","v":{"$error":"#DIV/0!"}},{"$f":"F19342/(G19342*12*memoria!$B$47)","v":{"$error":"#DIV/0!"}}]
[null,null,null,null,null,null,null,{"$f":"F19348*memoria!$B$44/(G19348*12*memoria!$B$47)","v":{"$error":"#DIV/0!"}},{"$f":"F19348/(G19348*12*memoria!$B$47)","v":{"$error":"#DIV/0!"}}]
[null,null,null,null,null,null,null,{"$f":"F19365*memoria!$B$44/(G19365*12*memoria!$B$47)","v":{"$error":"#DIV/0!"}},{"$f":"F19365/(G19365*12*memoria!$B$47)","v":{"$error":"#DIV/0!"}}]
[null,null,null,null,null,null,null,{"$f":"F19375*memoria!$B$44/(G19375*12*memoria!$B$47)","v":{"$error":"#DIV/0!"}},{"$f":"F19375/(G19375*12*memoria!$B$47)","v":{"$error":"#DIV/0!"}}]
[null,null,null,null,null,null,null,{"$f":"F19391*memoria!$B$44/(G19391*12*memoria!$B$47)","v":{"$error":"#DIV/0!"}},{"$f":"F19391/(G19391*12*memoria!$B$47)","v":{"$error":"#DIV/0!"}}]
[null,null,null,null,null,null,null,{"$f":"F19399*memoria!$B$44/(G19399*12*memoria!$B$47)","v":{"$error":"#DIV/0!"}},{"$f":"F19399/(G19399*12*memoria!$B$47)","v":{"$error":"#DIV/0!"}}]
[null,null,null,null,null,null,null,{"$f":"F19409*memoria!$B$44/(G19409*12*memoria!$B$47)","v":{"$error":"#DIV/0!"}},{"$f":"F19409/(G19409*12*memoria!$B$47)","v":{"$error":"#DIV/0!"}}]
[null,null,null,null,null,null,null,{"$f":"F19420*memoria!$B$44/(G19420*12*memoria!$B$47)","v":{"$error":"#DIV/0!"}},{"$f":"F19420/(G19420*12*memoria!$B$47)","v":{"$error":"#DIV/0!"}}]
[null,null,null,null,null,null,null,{"$f":"F19437*memoria!$B$44/(G19437*12*memoria!$B$47)","v":{"$error":"#DIV/0!"}},{"$f":"F19437/(G19437*12*memoria!$B$47)","v":{"$error":"#DIV/0!"}}]
[null,null,null,null,null,null,null,{"$f":"F19443*memoria!$B$44/(G19443*12*memoria!$B$47)","v":{"$error":"#DIV/0!"}},{"$f":"F19443/(G19443*12*memoria!$B$47)","v":{"$error":"#DIV/0!"}}]
[null,null,null,null,null,null,null,{"$f":"F19449*memoria!$B$44/(G19449*12*memoria!$B$47)","v":{"$error":"#DIV/0!"}},{"$f":"F19449/(G19449*12*memoria!$B$47)","v":{"$error":"#DIV/0!"}}]
[null,null,null,null,null,null,null,{"$f":"F19461*memoria!$B$44/(G19461*12*memoria!$B$47)","v":{"$error":"#DIV/0!"}},{"$f":"F19461/(G19461*12*memoria!$B$47)","v":{"$error":"#DIV/0!"}}]
[null,null,null,null,null,null,null,{"$f":"F19477*memoria!$B$44/(G19477*12*memoria!$B$47)","v":{"$error":"#DIV/0!"}},{"$f":"F19477/(G19477*12*memoria!$B$47)","v":{"$error":"#DIV/0!"}}]
[null,null,null,null,null,null,null,{"$f":"F19487*memoria!$B$44/(G19487*12*memoria!$B$47)","v":{"$error":"#DIV/0!"}},{"$f":"F19487/(G19487*12*memoria!$B$47)","v":{"$error":"#DIV/0!"}}]
[null,null,null,null,null,null,null,{"$f":"F19502*memoria!$B$44/(G19502*12*memoria!$B$47)","v":{"$error":"#DIV/0!"}},{"$f":"F19502/(G19502*12*memoria!$B$47)","v":{"$error":"#DIV/0!"}}]
[null,null,null,null,null,null,null,{"$f":"F19511*memoria!$B$44/(G19511*12*memoria!$B$47)","v":{"$error":"#DIV/0!"}},{"$f":"F19511/(G19511*12*memoria!$B$47)","v":{"$error":"#DIV/0!"}}]
[null,null,null,null,null,null,null,{"$f":"F19521*memoria!$B$44/(G19521*12*memoria!$B$47)","v":{"$error":"#DIV/0!"}},{"$f":"F19521/(G19521*12*memoria!$B$47)","v":{"$error":"#DIV/0!"}}]
[null,null,null,null,null,null,null,{"$f":"F19538*memoria!$B$44/(G19538*12*memoria!$B$47)","v":{"$error":"#DIV/0!"}},{"$f":"F19538/(G19538*12*memoria!$B$47)","v":{"$error":"#DIV/0!"}}]
[null,null,null,null,null,null,null,{"$f":"F19539*memoria!$B$44/(G19539*12*memoria!$B$47)","v":{"$error":"#DIV/0!"}},{"$f":"F19539/(G19539*12*memoria!$B$47)","v":{"$error":"#DIV/0!"}}]
[null,null,null,null,null,null,null,{"$f":"F19555*memoria!$B$44/(G19555*12*memoria!$B$47)","v":{"$error":"#DIV/0!"}},{"$f":"F19555/(G19555*12*memoria!$B$47)","v":{"$error":"#DIV/0!"}}]
[null,null,null,null,null,null,null,{"$f":"F19572*memoria!$B$44/(G19572*12*memoria!$B$47)","v":{"$error":"#DIV/0!"}},{"$f":"F19572/(G19572*12*memoria!$B$47)","v":{"$error":"#DIV/0!"}}]
[null,null,null,null,null,null,null,{"$f":"F19582*memoria!$B$44/(G19582*12*memoria!$B$47)","v":{"$error":"#DIV/0!"}},{"$f":"F19582/(G19582*12*memoria!$B$47)","v":{"$error":"#DIV/0!"}}]
[null,null,null,null,null,null,null,{"$f":"F19592*memoria!$B$44/(G19592*12*memoria!$B$47)","v":{"$error":"#DIV/0!"}},{"$f":"F19592/(G19592*12*memoria!$B$47)","v":{"$error":"#DIV/0!"}}]
[null,null,null,null,null,null,null,{"$f":"F19606*memoria!$B$44/(G19606*12*memoria!$B$47)","v":{"$error":"#DIV/0!"}},{"$f":"F19606/(G19606*12*memoria!$B$47)","v":{"$error":"#DIV/0!"}}]
[null,null,null,null,null,null,null,{"$f":"F19616*memoria!$B$44/(G19616*12*memoria!$B$47)","v":{"$error":"#DIV/0!"}},{"$f":"F19616/(G19616*12*memoria!$B$47)","v":{"$error":"#DIV/0!"}}]
[null,null,null,null,null,null,null,{"$f":"F19621*memoria!$B$44/(G19621*12*memoria!$B$47)","v":{"$error":"#DIV/0!"}},{"$f":"F19621/(G19621*12*memoria!$B$47)","v":{"$error":"#DIV/0!"}}]
[null,null,null,null,null,null,null,{"$f":"F19633*memoria!$B$44/(G19633*12*memoria!$B$47)","v":{"$error":"#DIV/0!"}},{"$f":"F19633/(G19633*12*memoria!$B$47)","v":{"$error":"#DIV/0!"}}]
[null,null,null,null,null,null,null,{"$f":"F19650*memoria!$B$44/(G19650*12*memoria!$B$47)","v":{"$error":"#DIV/0!"}},{"$f":"F19650/(G19650*12*memoria!$B$47)","v":{"$error":"#DIV/0!"}}]
[null,null,null,null,null,null,null,{"$f":"F19656*memoria!$B$44/(G19656*12*memoria!$B$47)","v":{"$error":"#DIV/0!"}},{"$f":"F19656/(G19656*12*memoria!$B$47)","v":{"$error":"#DIV/0!"}}]
[null,null,null,null,null,null,null,{"$f":"F19674*memoria!$B$44/(G19674*12*memoria!$B$47)","v":{"$error":"#DIV/0!"}},{"$f":"F19674/(G19674*12*memoria!$B$47)","v":{"$error":"#DIV/0!"}}]
[null,null,null,null,null,null,null,{"$f":"F19684*memoria!$B$44/(G19684*12*memoria!$B$47)","v":{"$error":"#DIV/0!"}},{"$f":"F19684/(G19684*12*memoria!$B$47)","v":{"$error":"#DIV/0!"}}]
[null,null,null,null,null,null,null,{"$f":"F19690*memoria!$B$44/(G19690*12*memoria!$B$47)","v":{"$error":"#DIV/0!"}},{"$f":"F19690/(G19690*12*memoria!$B$47)","v":{"$error":"#DIV/0!"}}]
[null,null,null,null,null,null,null,{"$f":"F19703*memoria!$B$44/(G19703*12*memoria!$B$47)","v":{"$error":"#DIV/0!"}},{"$f":"F19703/(G19703*12*memoria!$B$47)","v":{"$error":"#DIV/0!"}}]
[null,null,null,null,null,null,null,{"$f":"F19718*memoria!$B$44/(G19718*12*memoria!$B$47)","v":{"$error":"#DIV/0!"}},{"$f":"F19718/(G19718*12*memoria!$B$47)","v":{"$error":"#DIV/0!"}}]
[null,null,null,null,null,null,null,{"$f":"F19728*memoria!$B$44/(G19728*12*memoria!$B$47)","v":{"$error":"#DIV/0!"}},{"$f":"F19728/(G19728*12*memoria!$B$47)","v":{"$error":"#DIV/0!"}}]
[null,null,null,null,null,null,null,{"$f":"F19734*memoria!$B$44/(G19734*12*memoria!$B$47)","v":{"$error":"#DIV/0!"}},{"$f":"F19734/(G19734*12*memoria!$B$47)","v":{"$error":"#DIV/0!"}}]
[null,null,null,null,null,null,null,{"$f":"F19752*memoria!$B$44/(G19752*12*memoria!$B$47)","v":{"$error":"#DIV/0!"}},{"$f":"F19752/(G19752*12*memoria!$B$47)","v":{"$error":"#DIV/0!"}}]
[null,null,null,null,null,null,null,{"$f":"F19762*memoria!$B$44/(G19762*12*memoria!$B$47)","v":{"$error":"#DIV/0!"}},{"$f":"F19762/(G19762*12*memoria!$B$47)","v":{"$error":"#DIV/0!"}}]
[null,null,null,null,null,null,null,{"$f":"F19768*memoria!$B$44/(G19768*12*memoria!$B$47)","v":{"$error":"#DIV/0!"}},{"$f":"F19768/(G19768*12*memoria!$B$47)","v":{"$error":"#DIV/0!"}}]
[null,null,null,null,null,null,null,{"$f":"F19785*memoria!$B$44/(G19785*12*memoria!$B$47)","v":{"$error":"#DIV/0!"}},{"$f":"F19785/(G19785*12*memoria!$B$47)","v":{"$error":"#DIV/0!"}}]
[null,null,null,null,null,null,null,{"$f":"F19793*memoria!$B$44/(G19793*12*memoria!$B$47)","v":{"$error":"#DIV/0!"}},{"$f":"F19793/(G19793*12*memoria!$B$47)","v":{"$error":"#DIV/0!"}}]
[null,null,null,null,null,null,null,{"$f":"F19802*memoria!$B$44/(G19802*12*memoria!$B$47)","v":{"$error":"#DIV/0!"}},{"$f":"F19802/(G19802*12*memoria!$B$47)","v":{"$error":"#DIV/0!"}}]
[null,null,null,null,null,null,null,{"$f":"F19812*memoria!$B$44/(G19812*12*memoria!$B$47)","v":{"$error":"#DIV/0!"}},{"$f":"F19812/(G19812*12*memoria!$B$47)","v":{"$error":"#DIV/0!"}}]
[null,null,null,null,null,null,null,{"$f":"F19822*memoria!$B$44/(G19822*12*memoria!$B$47)","v":{"$error":"#DIV/0!"}},{"$f":"F19822/(G19822*12*memoria!$B$47)","v":{"$error":"#DIV/0!"}}]
[null,null,null,null,null,null,null,{"$f":"F19836*memoria!$B$44/(G19836*12*memoria!$B$47)","v":{"$error":"#DIV/0!"}},{"$f":"F19836/(G19836*12*memoria!$B$47)","v":{"$error":"#DIV/0!"}}]
[null,null,null,null,null,null,null,{"$f":"F19846*memoria!$B$44/(G19846*12*memoria!$B$47)","v":{"$error":"#DIV/0!"}},{"$f":"F19846/(G19846*12*memoria!$B$47)","v":{"$error":"#DIV/0!"}}]
[null,null,null,null,null,null,null,{"$f":"F19863*memoria!$B$44/(G19863*12*memoria!$B$47)","v":{"$error":"#DIV/0!"}},{"$f":"F19863/(G19863*12*memoria!$B$47)","v":{"$error":"#DIV/0!"}}]
[null,null,null,null,null,null,null,{"$f":"F19875*memoria!$B$44/(G19875*12*memoria!$B$47)","v":{"$error":"#DIV/0!"}},{"$f":"F19875/(G19875*12*memoria!$B$47)","v":{"$error":"#DIV/0!"}}]
[null,null,null,null,null,null,null,{"$f":"F19880*memoria!$B$44/(G19880*12*memoria!$B$47)","v":{"$error":"#DIV/0!"}},{"$f":"F19880/(G19880*12*memoria!$B$47)","v":{"$error":"#DIV/0!"}}]
[null,null,null,null,null,null,null,{"$f":"F19897*memoria!$B$44/(G19897*12*memoria!$B$47)","v":{"$error":"#DIV/0!"}},{"$f":"F19897/(G19897*12*memoria!$B$47)","v":{"$error":"#DIV/0!"}}]
[null,null,null,null,null,null,null,{"$f":"F19904*memoria!$B$44/(G19904*12*memoria!$B$47)","v":{"$error":"#DIV/0!"}},{"$f":"F19904/(G19904*12*memoria!$B$47)","v":{"$error":"#DIV/0!"}}]
[null,null,null,null,null,null,null,{"$f":"F19914*memoria!$B$44/(G19914*12*memoria!$B$47)","v":{"$error":"#DIV/0!"}},{"$f":"F19914/(G19914*12*memoria!$B$47)","v":{"$error":"#DIV/0!"}}]
[null,null,null,null,null,null,null,{"$f":"F19931*memoria!$B$44/(G19931*12*memoria!$B$47)","v":{"$error":"#DIV/0!"}},{"$f":"F19931/(G19931*12*memoria!$B$47)","v":{"$error":"#DIV/0!"}}]
[null,null,null,null,null,null,null,{"$f":"F19941*memoria!$B$44/(G19941*12*memoria!$B$47)","v":{"$error":"#DIV/0!"}},{"$f":"F19941/(G19941*12*memoria!$B$47)","v":{"$error":"#DIV/0!"}}]
[null,null,null,null,null,null,null,{"$f":"F19953*memoria!$B$44/(G19953*12*memoria!$B$47)","v":{"$error":"#DIV/0!"}},{"$f":"F19953/(G19953*12*memoria!$B$47)","v":{"$error":"#DIV/0!"}}]
[null,null,null,null,null,null,null,{"$f":"F19958*memoria!$B$44/(G19958*12*memoria!$B$47)","v":{"$error":"#DIV/0!"}},{"$f":"F19958/(G19958*12*memoria!$B$47)","v":{"$error":"#DIV/0!"}}]
[null,null,null,null,null,null,null,{"$f":"F19975*memoria!$B$44/(G19975*12*memoria!$B$47)","v":{"$error":"#DIV/0!"}},{"$f":"F19975/(G19975*12*memoria!$B$47)","v":{"$error":"#DIV/0!"}}]
[null,null,null,null,null,null,null,{"$f":"F19982*memoria!$B$44/(G19982*12*memoria!$B$47)","v":{"$error":"#DIV/0!"}},{"$f":"F19982/(G19982*12*memoria!$B$47)","v":{"$error":"#DIV/0!"}}]
[null,null,null,null,null,null,null,{"$f":"F19992*memoria!$B$44/(G19992*12*memoria!$B$47)","v":{"$error":"#DIV/0!"}},{"$f":"F19992/(G19992*12*memoria!$B$47)","v":{"$error":"#DIV/0!"}}]
[null,null,null,null,null,null,null,{"$f":"F20009*memoria!$B$44/(G20009*12*memoria!$B$47)","v":{"$error":"#DIV/0!"}},{"$f":"F20009/(G20009*12*memoria!$B$47)","v":{"$error":"#DIV/0!"}}]
[null,null,null,null,null,null,null,{"$f":"F20015*memoria!$B$44/(G20015*12*memoria!$B$47)","v":{"$error":"#DIV/0!"}},{"$f":"F20015/(G20015*12*memoria!$B$47)","v":{"$error":"#DIV/0!"}}]
[null,null,null,null,null,null,null,{"$f":"F20035*memoria!$B$44/(G20035*12*memoria!$B$47)","v":{"$error":"#DIV/0!"}},{"$f":"F20035/(G20035*12*memoria!$B$47)","v":{"$error":"#DIV/0!"}}]
[null,null,null,null,null,null,null,{"$f":"F20043*memoria!$B$44/(G20043*12*memoria!$B$47)","v":{"$error":"#DIV/0!"}},{"$f":"F20043/(G20043*12*memoria!$B$47)","v":{"$error":"#DIV/0!"}}]
[null,null,null,null,null,null,null,{"$f":"F20053*memoria!$B$44/(G20053*12*memoria!$B$47)","v":{"$error":"#DIV/0!"}},{"$f":"F20053/(G20053*12*memoria!$B$47)","v":{"$error":"#DIV/0!"}}]
[null,null,null,null,null,null,null,{"$f":"F20059*memoria!$B$44/(G20059*12*memoria!$B$47)","v":{"$error":"#DIV/0!"}},{"$f":"F20059/(G20059*12*memoria!$B$47)","v":{"$error":"#DIV/0!"}}]
[null,null,null,null,null,null,null,{"$f":"F20072*memoria!$B$44/(G20072*12*memoria!$B$47)","v":{"$error":"#DIV/0!"}},{"$f":"F20072/(G20072*12*memoria!$B$47)","v":{"$error":"#DIV/0!"}}]
[null,null,null,null,null,null,null,{"$f":"F20087*memoria!$B$44/(G20087*12*memoria!$B$47)","v":{"$error":"#DIV/0!"}},{"$f":"F20087/(G20087*12*memoria!$B$47)","v":{"$error":"#DIV/0!"}}]
[null,null,null,null,null,null,null,{"$f":"F20093*memoria!$B$44/(G20093*12*memoria!$B$47)","v":{"$error":"#DIV/0!"}},{"$f":"F20093/(G20093*12*memoria!$B$47)","v":{"$error":"#DIV/0!"}}]
[null,null,null,null,null,null,null,{"$f":"F20105*memoria!$B$44/(G20105*12*memoria!$B$47)","v":{"$error":"#DIV/0!"}},{"$f":"F20105/(G20105*12*memoria!$B$47)","v":{"$error":"#DIV/0!"}}]
[null,null,null,null,null,null,null,{"$f":"F20121*memoria!$B$44/(G20121*12*memoria!$B$47)","v":{"$error":"#DIV/0!"}},{"$f":"F20121/(G20121*12*memoria!$B$47)","v":{"$error":"#DIV/0!"}}]
[null,null,null,null,null,null,null,{"$f":"F20127*memoria!$B$44/(G20127*12*memoria!$B$47)","v":{"$error":"#DIV/0!"}},{"$f":"F20127/(G20127*12*memoria!$B$47)","v":{"$error":"#DIV/0!"}}]
[null,null,null,null,null,null,null,{"$f":"F20137*memoria!$B$44/(G20137*12*memoria!$B$47)","v":{"$error":"#DIV/0!"}},{"$f":"F20137/(G20137*12*memoria!$B$47)","v":{"$error":"#DIV/0!"}}]
[null,null,null,null,null,null,null,{"$f":"F20154*memoria!$B$44/(G20154*12*memoria!$B$47)","v":{"$error":"#DIV/0!"}},{"$f":"F20154/(G20154*12*memoria!$B$47)","v":{"$error":"#DIV/0!"}}]
[null,null,null,null,null,null,null,{"$f":"F20161*memoria!$B$44/(G20161*12*memoria!$B$47)","v":{"$error":"#DIV/0!"}},{"$f":"F20161/(G20161*12*memoria!$B$47)","v":{"$error":"#DIV/0!"}}]
[null,null,null,null,null,null,null,{"$f":"F20171*memoria!$B$44/(G20171*12*memoria!$B$47)","v":{"$error":"#DIV/0!"}},{"$f":"F20171/(G20171*12*memoria!$B$47)","v":{"$error":"#DIV/0!"}}]
[null,null,null,null,null,null,null,{"$f":"F20183*memoria!$B$44/(G20183*12*memoria!$B$47)","v":{"$error":"#DIV/0!"}},{"$f":"F20183/(G20183*12*memoria!$B$47)","v":{"$error":"#DIV/0!"}}]
[null,null,null,null,null,null,null,{"$f":"F20199*memoria!$B$44/(G20199*12*memoria!$B$47)","v":{"$error":"#DIV/0!"}},{"$f":"F20199/(G20199*12*memoria!$B$47)","v":{"$error":"#DIV/0!"}}]
[null,null,null,null,null,null,null,{"$f":"F20205*memoria!$B$44/(G20205*12*memoria!$B$47)","v":{"$error":"#DIV/0!"}},{"$f":"F20205/(G20205*12*memoria!$B$47)","v":{"$error":"#DIV/0!"}}]
[null,null,null,null,null,null,null,{"$f":"F20222*memoria!$B$44/(G20222*12*memoria!$B$47)","v":{"$error":"#DIV/0!"}},{"$f":"F20222/(G20222*12*memoria!$B$47)","v":{"$error":"#DIV/0!"}}]
[null,null,null,null,null,null,null,{"$f":"F20236*memoria!$B$44/(G20236*12*memoria!$B$47)","v":{"$error":"#DIV/0!"}},{"$f":"F20236/(G20236*12*memoria!$B$47)","v":{"$error":"#DIV/0!"}}]
[null,null,null,null,null,null,null,{"$f":"F20239*memoria!$B$44/(G20239*12*memoria!$B$47)","v":{"$error":"#DIV/0!"}},{"$f":"F20239/(G20239*12*memoria!$B$47)","v":{"$error":"#DIV/0!"}}]
[null,null,null,null,null,null,null,{"$f":"F20260*memoria!$B$44/(G20260*12*memoria!$B$47)","v":{"$error":"#DIV/0!"}},{"$f":"F20260/(G20260*12*memoria!$B$47)","v":{"$error":"#DIV/0!"}}]
[null,null,null,null,null,null,null,{"$f":"F20266*memoria!$B$44/(G20266*12*memoria!$B$47)","v":{"$error":"#DIV/0!"}},{"$f":"F20266/(G20266*12*memoria!$B$47)","v":{"$error":"#DIV/0!"}}]
[null,null,null,null,null,null,null,{"$f":"F20273*memoria!$B$44/(G20273*12*memoria!$B$47)","v":{"$error":"#DIV/0!"}},{"$f":"F20273/(G20273*12*memoria!$B$47)","v":{"$error":"#DIV/0!"}}]
[null,null,null,null,null,null,null,{"$f":"F20294*memoria!$B$44/(G20294*12*memoria!$B$47)","v":{"$error":"#DIV/0!"}},{"$f":"F20294/(G20294*12*memoria!$B$47)","v":{"$error":"#DIV/0!"}}]
[null,null,null,null,null,null,null,{"$f":"F20300*memoria!$B$44/(G20300*12*memoria!$B$47)","v":{"$error":"#DIV/0!"}},{"$f":"F20300/(G20300*12*memoria!$B$47)","v":{"$error":"#DIV/0!"}}]
[null,null,null,null,null,null,null,{"$f":"F20314*memoria!$B$44/(G20314*12*memoria!$B$47)","v":{"$error":"#DIV/0!"}},{"$f":"F20314/(G20314*12*memoria!$B$47)","v":{"$error":"#DIV/0!"}}]
[null,null,null,null,null,null,null,{"$f":"F20328*memoria!$B$44/(G20328*12*memoria!$B$47)","v":{"$error":"#DIV/0!"}},{"$f":"F20328/(G20328*12*memoria!$B$47)","v":{"$error":"#DIV/0!"}}]
[null,null,null,null,null,null,null,{"$f":"F20334*memoria!$B$44/(G20334*12*memoria!$B$47)","v":{"$error":"#DIV/0!"}},{"$f":"F20334/(G20334*12*memoria!$B$47)","v":{"$error":"#DIV/0!"}}]
[null,null,null,null,null,null,null,{"$f":"F20344*memoria!$B$44/(G20344*12*memoria!$B$47)","v":{"$error":"#DIV/0!"}},{"$f":"F20344/(G20344*12*memoria!$B$47)","v":{"$error":"#DIV/0!"}}]
[null,null,null,null,null,null,null,{"$f":"F20355*memoria!$B$44/(G20355*12*memoria!$B$47)","v":{"$error":"#DIV/0!"}},{"$f":"F20355/(G20355*12*memoria!$B$47)","v":{"$error":"#DIV/0!"}}]
[null,null,null,null,null,null,null,{"$f":"F20368*memoria!$B$44/(G20368*12*memoria!$B$47)","v":{"$error":"#DIV/0!"}},{"$f":"F20368/(G20368*12*memoria!$B$47)","v":{"$error":"#DIV/0!"}}]
[null,null,null,null,null,null,null,{"$f":"F20378*memoria!$B$44/(G20378*12*memoria!$B$47)","v":{"$error":"#DIV/0!"}},{"$f":"F20378/(G20378*12*memoria!$B$47)","v":{"$error":"#DIV/0!"}}]
[null,null,null,null,null,null,null,{"$f":"F20396*memoria!$B$44/(G20396*12*memoria!$B$47)","v":{"$error":"#DIV/0!"}},{"$f":"F20396/(G20396*12*memoria!$B$47)","v":{"$error":"#DIV/0!"}}]
[null,null,null,null,null,null,null,{"$f":"F20402*memoria!$B$44/(G20402*12*memoria!$B$47)","v":{"$error":"#DIV/0!"}},{"$f":"F20402/(G20402*12*memoria!$B$47)","v":{"$error":"#DIV/0!"}}]
[null,null,null,null,null,null,null,{"$f":"F20412*memoria!$B$44/(G20412*12*memoria!$B$47)","v":{"$error":"#DIV/0!"}},{"$f":"F20412/(G20412*12*memoria!$B$47)","v":{"$error":"#DIV/0!"}}]
[null,null,null,null,null,null,null,{"$f":"F20429*memoria!$B$44/(G20429*12*memoria!$B$47)","v":{"$error":"#DIV/0!"}},{"$f":"F20429/(G20429*12*memoria!$B$47)","v":{"$error":"#DIV/0!"}}]
[null,null,null,null,null,null,null,{"$f":"F20437*memoria!$B$44/(G20437*12*memoria!$B$47)","v":{"$error":"#DIV/0!"}},{"$f":"F20437/(G20437*12*memoria!$B$47)","v":{"$error":"#DIV/0!"}}]
[null,null,null,null,null,null,null,{"$f":"F20446*memoria!$B$44/(G20446*12*memoria!$B$47)","v":{"$error":"#DIV/0!"}},{"$f":"F20446/(G20446*12*memoria!$B$47)","v":{"$error":"#DIV/0!"}}]
[null,null,null,null,null,null,null,{"$f":"F20463*memoria!$B$44/(G20463*12*memoria!$B$47)","v":{"$error":"#DIV/0!"}},{"$f":"F20463/(G20463*12*memoria!$B$47)","v":{"$error":"#DIV/0!"}}]
[null,null,null,null,null,null,null,{"$f":"F20466*memoria!$B$44/(G20466*12*memoria!$B$47)","v":{"$error":"#DIV/0!"}},{"$f":"F20466/(G20466*12*memoria!$B$47)","v":{"$error":"#DIV/0!"}}]
[null,null,null,null,null,null,null,{"$f":"F20480*memoria!$B$44/(G20480*12*memoria!$B$47)","v":{"$error":"#DIV/0!"}},{"$f":"F20480/(G20480*12*memoria!$B$47)","v":{"$error":"#DIV/0!"}}]
[null,null,null,null,null,null,null,{"$f":"F20490*memoria!$B$44/(G20490*12*memoria!$B$47)","v":{"$error":"#DIV/0!"}},{"$f":"F20490/(G20490*12*memoria!$B$47)","v":{"$error":"#DIV/0!"}}]
[null,null,null,null,null,null,null,{"$f":"F20507*memoria!$B$44/(G20507*12*memoria!$B$47)","v":{"$error":"#DIV/0!"}},{"$f":"F20507/(G20507*12*memoria!$B$47)","v":{"$error":"#DIV/0!"}}]
[null,null,null,null,null,null,null,{"$f":"F20515*memoria!$B$44/(G20515*12*memoria!$B$47)","v":{"$error":"#DIV/0!"}},{"$f":"F20515/(G20515*12*memoria!$B$47)","v":{"$error":"#DIV/0!"}}]
[null,null,null,null,null,null,null,{"$f":"F20524*memoria!$B$44/(G20524*12*memoria!$B$47)","v":{"$error":"#DIV/0!"}},{"$f":"F20524/(G20524*12*memoria!$B$47)","v":{"$error":"#DIV/0!"}}]
[null,null,null,null,null,null,null,{"$f":"F20541*memoria!$B$44/(G20541*12*memoria!$B$47)","v":{"$error":"#DIV/0!"}},{"$f":"F20541/(G20541*12*memoria!$B$47)","v":{"$error":"#DIV/0!"}}]
[null,null,null,null,null,null,null,{"$f":"F20547*memoria!$B$44/(G20547*12*memoria!$B$47)","v":{"$error":"#DIV/0!"}},{"$f":"F20547/(G20547*12*memoria!$B$47)","v":{"$error":"#DIV/0!"}}]
[null,null,null,null,null,null,null,{"$f":"F20556*memoria!$B$44/(G20556*12*memoria!$B$47)","v":{"$error":"#DIV/0!"}},{"$f":"F20556/(G20556*12*memoria!$B$47)","v":{"$error":"#DIV/0!"}}]
[null,null,null,null,null,null,null,{"$f":"F20575*memoria!$B$44/(G20575*12*memoria!$B$47)","v":{"$error":"#DIV/0!"}},{"$f":"F20575/(G20575*12*memoria!$B$47)","v":{"$error":"#DIV/0!"}}]
[null,null,null,null,null,null,null,{"$f":"F20585*memoria!$B$44/(G20585*12*memoria!$B$47)","v":{"$error":"#DIV/0!"}},{"$f":"F20585/(G20585*12*memoria!$B$47)","v":{"$error":"#DIV/0!"}}]
[null,null,null,null,null,null,null,{"$f":"F20597*memoria!$B$44/(G20597*12*memoria!$B$47)","v":{"$error":"#DIV/0!"}},{"$f":"F20597/(G20597*12*memoria!$B$47)","v":{"$error":"#DIV/0!"}}]
[null,null,null,null,null,null,null,{"$f":"F20609*memoria!$B$44/(G20609*12*memoria!$B$47)","v":{"$error":"#DIV/0!"}},{"$f":"F20609/(G20609*12*memoria!$B$47)","v":{"$error":"#DIV/0!"}}]
[null,null,null,null,null,null,null,{"$f":"F20619*memoria!$B$44/(G20619*12*memoria!$B$47)","v":{"$error":"#DIV/0!"}},{"$f":"F20619/(G20619*12*memoria!$B$47)","v":{"$error":"#DIV/0!"}}]
[null,null,null,null,null,null,null,{"$f":"F20625*memoria!$B$44/(G20625*12*memoria!$B$47)","v":{"$error":"#DIV/0!"}},{"$f":"F20625/(G20625*12*memoria!$B$47)","v":{"$error":"#DIV/0!"}}]
[null,null,null,null,null,null,null,{"$f":"F20638*memoria!$B$44/(G20638*12*memoria!$B$47)","v":{"$error":"#DIV/0!"}},{"$f":"F20638/(G20638*12*memoria!$B$47)","v":{"$error":"#DIV/0!"}}]
[null,null,null,null,null,null,null,{"$f":"F20653*memoria!$B$44/(G20653*12*memoria!$B$47)","v":{"$error":"#DIV/0!"}},{"$f":"F20653/(G20653*12*memoria!$B$47)","v":{"$error":"#DIV/0!"}}]
[null,null,null,null,null,null,null,{"$f":"F20659*memoria!$B$44/(G20659*12*memoria!$B$47)","v":{"$error":"#DIV/0!"}},{"$f":"F20659/(G20659*12*memoria!$B$47)","v":{"$error":"#DIV/0!"}}]
[null,null,null,null,null,null,null,{"$f":"F20667*memoria!$B$44/(G20667*12*memoria!$B$47)","v":{"$error":"#DIV/0!"}},{"$f":"F20667/(G20667*12*memoria!$B$47)","v":{"$error":"#DIV/0!"}}]
[null,null,null,null,null,null,null,{"$f":"F20687*memoria!$B$44/(G20687*12*memoria!$B$47)","v":{"$error":"#DIV/0!"}},{"$f":"F20687/(G20687*12*memoria!$B$47)","v":{"$error":"#DIV/0!"}}]
[null,null,null,null,null,null,null,{"$f":"F20693*memoria!$B$44/(G20693*12*memoria!$B$47)","v":{"$error":"#DIV/0!"}},{"$f":"F20693/(G20693*12*memoria!$B$47)","v":{"$error":"#DIV/0!"}}]
[null,null,null,null,null,null,null,{"$f":"F20703*memoria!$B$44/(G20703*12*memoria!$B$47)","v":{"$error":"#DIV/0!"}},{"$f":"F20703/(G20703*12*memoria!$B$47)","v":{"$error":"#DIV/0!"}}]
[null,null,null,null,null,null,null,{"$f":"F20716*memoria!$B$44/(G20716*12*memoria!$B$47)","v":{"$error":"#DIV/0!"}},{"$f":"F20716/(G20716*12*memoria!$B$47)","v":{"$error":"#DIV/0!"}}]
[null,null,null,null,null,null,null,{"$f":"F20731*memoria!$B$44/(G20731*12*memoria!$B$47)","v":{"$error":"#DIV/0!"}},{"$f":"F20731/(G20731*12*memoria!$B$47)","v":{"$error":"#DIV/0!"}}]
[null,null,null,null,null,null,null,{"$f":"F20737*memoria!$B$44/(G20737*12*memoria!$B$47)","v":{"$error":"#DIV/0!"}},{"$f":"F20737/(G20737*12*memoria!$B$47)","v":{"$error":"#DIV/0!"}}]
[null,null,null,null,null,null,null,{"$f":"F20754*memoria!$B$44/(G20754*12*memoria!$B$47)","v":{"$error":"#DIV/0!"}},{"$f":"F20754/(G20754*12*memoria!$B$47)","v":{"$error":"#DIV/0!"}}]
[null,null,null,null,null,null,null,{"$f":"F20757*memoria!$B$44/(G20757*12*memoria!$B$47)","v":{"$error":"#DIV/0!"}},{"$f":"F20757/(G20757*12*memoria!$B$47)","v":{"$error":"#DIV/0!"}}]
[null,null,null,null,null,null,null,{"$f":"F20771*memoria!$B$44/(G20771*12*memoria!$B$47)","v":{"$error":"#DIV/0!"}},{"$f":"F20771/(G20771*12*memoria!$B$47)","v":{"$error":"#DIV/0!"}}]
[null,null,null,null,null,null,null,{"$f":"F20788*memoria!$B$44/(G20788*12*memoria!$B$47)","v":{"$error":"#DIV/0!"}},{"$f":"F20788/(G20788*12*memoria!$B$47)","v":{"$error":"#DIV/0!"}}]
[null,null,null,null,null,null,null,{"$f":"F20798*memoria!$B$44/(G20798*12*memoria!$B$47)","v":{"$error":"#DIV/0!"}},{"$f":"F20798/(G20798*12*memoria!$B$47)","v":{"$error":"#DIV/0!"}}]
[null,null,null,null,null,null,null,{"$f":"F20805*memoria!$B$44/(G20805*12*memoria!$B$47)","v":{"$error":"#DIV/0!"}},{"$f":"F20805/(G20805*12*memoria!$B$47)","v":{"$error":"#DIV/0!"}}]
[null,null,null,null,null,null,null,{"$f":"F20815*memoria!$B$44/(G20815*12*memoria!$B$47)","v":{"$error":"#DIV/0!"}},{"$f":"F20815/(G20815*12*memoria!$B$47)","v":{"$error":"#DIV/0!"}}]
[null,null,null,null,null,null,null,{"$f":"F20832*memoria!$B$44/(G20832*12*memoria!$B$47)","v":{"$error":"#DIV/0!"}},{"$f":"F20832/(G20832*12*memoria!$B$47)","v":{"$error":"#DIV/0!"}}]
[null,null,null,null,null,null,null,{"$f":"F20847*memoria!$B$44/(G20847*12*memoria!$B$47)","v":{"$error":"#DIV/0!"}},{"$f":"F20847/(G20847*12*memoria!$B$47)","v":{"$error":"#DIV/0!"}}]
[null,null,null,null,null,null,null,{"$f":"F20849*memoria!$B$44/(G20849*12*memoria!$B$47)","v":{"$error":"#DIV/0!"}},{"$f":"F20849/(G20849*12*memoria!$B$47)","v":{"$error":"#DIV/0!"}}]
[null,null,null,null,null,null,null,{"$f":"F20866*memoria!$B$44/(G20866*12*memoria!$B$47)","v":{"$error":"#DIV/0!"}},{"$f":"F20866/(G20866*12*memoria!$B$47)","v":{"$error":"#DIV/0!"}}]
[null,null,null,null,null,null,null,{"$f":"F20880*memoria!$B$44/(G20880*12*memoria!$B$47)","v":{"$error":"#DIV/0!"}},{"$f":"F20880/(G20880*12*memoria!$B$47)","v":{"$error":"#DIV/0!"}}]
[null,null,null,null,null,null,null,{"$f":"F20883*memoria!$B$44/(G20883*12*memoria!$B$47)","v":{"$error":"#DIV/0!"}},{"$f":"F20883/(G20883*12*memoria!$B$47)","v":{"$error":"#DIV/0!"}}]
[null,null,null,null,null,null,null,{"$f":"F20900*memoria!$B$44/(G20900*12*memoria!$B$47)","v":{"$error":"#DIV/0!"}},{"$f":"F20900/(G20900*12*memoria!$B$47)","v":{"$error":"#DIV/0!"}}]
[null,null,null,null,null,null,null,{"$f":"F20910*memoria!$B$44/(G20910*12*memoria!$B$47)","v":{"$error":"#DIV/0!"}},{"$f":"F20910/(G20910*12*memoria!$B$47)","v":{"$error":"#DIV/0!"}}]
[null,null,null,null,null,null,null,{"$f":"F20917*memoria!$B$44/(G20917*12*memoria!$B$47)","v":{"$error":"#DIV/0!"}},{"$f":"F20917/(G20917*12*memoria!$B$47)","v":{"$error":"#DIV/0!"}}]
[null,null,null,null,null,null,null,{"$f":"F20934*memoria!$B$44/(G20934*12*memoria!$B$47)","v":{"$error":"#DIV/0!"}},{"$f":"F20934/(G20934*12*memoria!$B$47)","v":{"$error":"#DIV/0!"}}]
[null,null,null,null,null,null,null,{"$f":"F20944*memoria!$B$44/(G20944*12*memoria!$B$47)","v":{"$error":"#DIV/0!"}},{"$f":"F20944/(G20944*12*memoria!$B$47)","v":{"$error":"#DIV/0!"}}]
[null,null,null,null,null,null,null,{"$f":"F20950*memoria!$B$44/(G20950*12*memoria!$B$47)","v":{"$error":"#DIV/0!"}},{"$f":"F20950/(G20950*12*memoria!$B$47)","v":{"$error":"#DIV/0!"}}]
[null,null,null,null,null,null,null,{"$f":"F20970*memoria!$B$44/(G20970*12*memoria!$B$47)","v":{"$error":"#DIV/0!"}},{"$f":"F20970/(G20970*12*memoria!$B$47)","v":{"$error":"#DIV/0!"}}]
[null,null,null,null,null,null,null,{"$f":"F20978*memoria!$B$44/(G20978*12*memoria!$B$47)","v":{"$error":"#DIV/0!"}},{"$f":"F20978/(G20978*12*memoria!$B$47)","v":{"$error":"#DIV/0!"}}]
[null,null,null,null,null,null,null,{"$f":"F20984*memoria!$B$44/(G20984*12*memoria!$B$47)","v":{"$error":"#DIV/0!"}},{"$f":"F20984/(G20984*12*memoria!$B$47)","v":{"$error":"#DIV/0!"}}]
[null,null,null,null,null,null,null,{"$f":"F20999*memoria!$B$44/(G20999*12*memoria!$B$47)","v":{"$error":"#DIV/0!"}},{"$f":"F20999/(G20999*12*memoria!$B$47)","v":{"$error":"#DIV/0!"}}]
[null,null,null,null,null,null,null,{"$f":"F21012*memoria!$B$44/(G21012*12*memoria!$B$47)","v":{"$error":"#DIV/0!"}},{"$f":"F21012/(G21012*12*memoria!$B$47)","v":{"$error":"#DIV/0!"}}]
[null,null,null,null,null,null,null,{"$f":"F21018*memoria!$B$44/(G21018*12*memoria!$B$47)","v":{"$error":"#DIV/0!"}},{"$f":"F21018/(G21018*12*memoria!$B$47)","v":{"$error":"#DIV/0!"}}]
[null,null,null,null,null,null,null,{"$f":"F21028*memoria!$B$44/(G21028*12*memoria!$B$47)","v":{"$error":"#DIV/0!"}},{"$f":"F21028/(G21028*12*memoria!$B$47)","v":{"$error":"#DIV/0!"}}]
[null,null,null,null,null,null,null,{"$f":"F21048*memoria!$B$44/(G21048*12*memoria!$B$47)","v":{"$error":"#DIV/0!"}},{"$f":"F21048/(G21048*12*memoria!$B$47)","v":{"$error":"#DIV/0!"}}]
[null,null,null,null,null,null,null,{"$f":"F21056*memoria!$B$44/(G21056*12*memoria!$B$47)","v":{"$error":"#DIV/0!"}},{"$f":"F21056/(G21056*12*memoria!$B$47)","v":{"$error":"#DIV/0!"}}]
[null,null,null,null,null,null,null,{"$f":"F21062*memoria!$B$44/(G21062*12*memoria!$B$47)","v":{"$error":"#DIV/0!"}},{"$f":"F21062/(G21062*12*memoria!$B$47)","v":{"$error":"#DIV/0!"}}]
[null,null,null,null,null,null,null,{"$f":"F21077*memoria!$B$44/(G21077*12*memoria!$B$47)","v":{"$error":"#DIV/0!"}},{"$f":"F21077/(G21077*12*memoria!$B$47)","v":{"$error":"#DIV/0!"}}]
[null,null,null,null,null,null,null,{"$f":"F21090*memoria!$B$44/(G21090*12*memoria!$B$47)","v":{"$error":"#DIV/0!"}},{"$f":"F21090/(G21090*12*memoria!$B$47)","v":{"$error":"#DIV/0!"}}]
[null,null,null,null,null,null,null,{"$f":"F21096*memoria!$B$44/(G21096*12*memoria!$B$47)","v":{"$error":"#DIV/0!"}},{"$f":"F21096/(G21096*12*memoria!$B$47)","v":{"$error":"#DIV/0!"}}]
[null,null,null,null,null,null,null,{"$f":"F21117*memoria!$B$44/(G21117*12*memoria!$B$47)","v":{"$error":"#DIV/0!"}},{"$f":"F21117/(G21117*12*memoria!$B$47)","v":{"$error":"#DIV/0!"}}]
[null,null,null,null,null,null,null,{"$f":"F21118*memoria!$B$44/(G21118*12*memoria!$B$47)","v":{"$error":"#DIV/0!"}},{"$f":"F21118/(G21118*12*memoria!$B$47)","v":{"$error":"#DIV/0!"}}]
[null,null,null,null,null,null,null,{"$f":"F21130*memoria!$B$44/(G21130*12*memoria!$B$47)","v":{"$error":"#DIV/0!"}},{"$f":"F21130/(G21130*12*memoria!$B$47)","v":{"$error":"#DIV/0!"}}]
[null,null,null,null,null,null,null,{"$f":"F21151*memoria!$B$44/(G21151*12*memoria!$B$47)","v":{"$error":"#DIV/0!"}},{"$f":"F21151/(G21151*12*memoria!$B$47)","v":{"$error":"#DIV/0!"}}]
[null,null,null,null,null,null,null,{"$f":"F21159*memoria!$B$44/(G21159*12*memoria!$B$47)","v":{"$error":"#DIV/0!"}},{"$f":"F21159/(G21159*12*memoria!$B$47)","v":{"$error":"#DIV/0!"}}]
[null,null,null,null,null,null,null,{"$f":"F21164*memoria!$B$44/(G21164*12*memoria!$B$47)","v":{"$error":"#DIV/0!"}},{"$f":"F21164/(G21164*12*memoria!$B$47)","v":{"$error":"#DIV/0!"}}]
[null,null,null,null,null,null,null,{"$f":"F21185*memoria!$B$44/(G21185*12*memoria!$B$47)","v":{"$error":"#DIV/0!"}},{"$f":"F21185/(G21185*12*memoria!$B$47)","v":{"$error":"#DIV/0!"}}]
[null,null,null,null,null,null,null,{"$f":"F21191*memoria!$B$44/(G21191*12*memoria!$B$47)","v":{"$error":"#DIV/0!"}},{"$f":"F21191/(G21191*12*memoria!$B$47)","v":{"$error":"#DIV/0!"}}]
[null,null,null,null,null,null,null,{"$f":"F21200*memoria!$B$44/(G21200*12*memoria!$B$47)","v":{"$error":"#DIV/0!"}},{"$f":"F21200/(G21200*12*memoria!$B$47)","v":{"$error":"#DIV/0!"}}]
[null,null,null,null,null,null,null,{"$f":"F21219*memoria!$B$44/(G21219*12*memoria!$B$47)","v":{"$error":"#DIV/0!"}},{"$f":"F21219/(G21219*12*memoria!$B$47)","v":{"$error":"#DIV/0!"}}]
[null,null,null,null,null,null,null,{"$f":"F21225*memoria!$B$44/(G21225*12*memoria!$B$47)","v":{"$error":"#DIV/0!"}},{"$f":"F21225/(G21225*12*memoria!$B$47)","v":{"$error":"#DIV/0!"}}]
[null,null,null,null,null,null,null,{"$f":"F21235*memoria!$B$44/(G21235*12*memoria!$B$47)","v":{"$error":"#DIV/0!"}},{"$f":"F21235/(G21235*12*memoria!$B$47)","v":{"$error":"#DIV/0!"}}]
[null,null,null,null,null,null,null,{"$f":"F21249*memoria!$B$44/(G21249*12*memoria!$B$47)","v":{"$error":"#DIV/0!"}},{"$f":"F21249/(G21249*12*memoria!$B$47)","v":{"$error":"#DIV/0!"}}]
[null,null,null,null,null,null,null,{"$f":"F21263*memoria!$B$44/(G21263*12*memoria!$B$47)","v":{"$error":"#DIV/0!"}},{"$f":"F21263/(G21263*12*memoria!$B$47)","v":{"$error":"#DIV/0!"}}]
[null,null,null,null,null,null,null,{"$f":"F21269*memoria!$B$44/(G21269*12*memoria!$B$47)","v":{"$error":"#DIV/0!"}},{"$f":"F21269/(G21269*12*memoria!$B$47)","v":{"$error":"#DIV/0!"}}]
[null,null,null,null,null,null,null,{"$f":"F21278*memoria!$B$44/(G21278*12*memoria!$B$47)","v":{"$error":"#DIV/0!"}},{"$f":"F21278/(G21278*12*memoria!$B$47)","v":{"$error":"#DIV/0!"}}]
[null,null,null,null,null,null,null,{"$f":"F21297*memoria!$B$44/(G21297*12*memoria!$B$47)","v":{"$error":"#DIV/0!"}},{"$f":"F21297/(G21297*12*memoria!$B$47)","v":{"$error":"#DIV/0!"}}]
[null,null,null,null,null,null,null,{"$f":"F21303*memoria!$B$44/(G21303*12*memoria!$B$47)","v":{"$error":"#DIV/0!"}},{"$f":"F21303/(G21303*12*memoria!$B$47)","v":{"$error":"#DIV/0!"}}]
[null,null,null,null,null,null,null,{"$f":"F21320*memoria!$B$44/(G21320*12*memoria!$B$47)","v":{"$error":"#DIV/0!"}},{"$f":"F21320/(G21320*12*memoria!$B$47)","v":{"$error":"#DIV/0!"}}]
[null,null,null,null,null,null,null,{"$f":"F21331*memoria!$B$44/(G21331*12*memoria!$B$47)","v":{"$error":"#DIV/0!"}},{"$f":"F21331/(G21331*12*memoria!$B$47)","v":{"$error":"#DIV/0!"}}]
[null,null,null,null,null,null,null,{"$f":"F21337*memoria!$B$44/(G21337*12*memoria!$B$47)","v":{"$error":"#DIV/0!"}},{"$f":"F21337/(G21337*12*memoria!$B$47)","v":{"$error":"#DIV/0!"}}]
[null,null,null,null,null,null,null,{"$f":"F21347*memoria!$B$44/(G21347*12*memoria!$B$47)","v":{"$error":"#DIV/0!"}},{"$f":"F21347/(G21347*12*memoria!$B$47)","v":{"$error":"#DIV/0!"}}]
[null,null,null,null,null,null,null,{"$f":"F21360*memoria!$B$44/(G21360*12*memoria!$B$47)","v":{"$error":"#DIV/0!"}},{"$f":"F21360/(G21360*12*memoria!$B$47)","v":{"$error":"#DIV/0!"}}]
[null,null,null,null,null,null,null,{"$f":"F21371*memoria!$B$44/(G21371*12*memoria!$B$47)","v":{"$error":"#DIV/0!"}},{"$f":"F21371/(G21371*12*memoria!$B$47)","v":{"$error":"#DIV/0!"}}]
[null,null,null,null,null,null,null,{"$f":"F21381*memoria!$B$44/(G21381*12*memoria!$B$47)","v":{"$error":"#DIV/0!"}},{"$f":"F21381/(G21381*12*memoria!$B$47)","v":{"$error":"#DIV/0!"}}]
[null,null,null,null,null,null,null,{"$f":"F21398*memoria!$B$44/(G21398*12*memoria!$B$47)","v":{"$error":"#DIV/0!"}},{"$f":"F21398/(G21398*12*memoria!$B$47)","v":{"$error":"#DIV/0!"}}]
[null,null,null,null,null,null,null,{"$f":"F21409*memoria!$B$44/(G21409*12*memoria!$B$47)","v":{"$error":"#DIV/0!"}},{"$f":"F21409/(G21409*12*memoria!$B$47)","v":{"$error":"#DIV/0!"}}]
[null,null,null,null,null,null,null,{"$f":"F21415*memoria!$B$44/(G21415*12*memoria!$B$47)","v":{"$error":"#DIV/0!"}},{"$f":"F21415/(G21415*12*memoria!$B$47)","v":{"$error":"#DIV/0!"}}]
[null,null,null,null,null,null,null,{"$f":"F21432*memoria!$B$44/(G21432*12*memoria!$B$47)","v":{"$error":"#DIV/0!"}},{"$f":"F21432/(G21432*12*memoria!$B$47)","v":{"$error":"#DIV/0!"}}]
[null,null,null,null,null,null,null,{"$f":"F21442*memoria!$B$44/(G21442*12*memoria!$B$47)","v":{"$error":"#DIV/0!"}},{"$f":"F21442/(G21442*12*memoria!$B$47)","v":{"$error":"#DIV/0!"}}]
[null,null,null,null,null,null,null,{"$f":"F21450*memoria!$B$44/(G21450*12*memoria!$B$47)","v":{"$error":"#DIV/0!"}},{"$f":"F21450/(G21450*12*memoria!$B$47)","v":{"$error":"#DIV/0!"}}]
[null,null,null,null,null,null,null,{"$f":"F21466*memoria!$B$44/(G21466*12*memoria!$B$47)","v":{"$error":"#DIV/0!"}},{"$f":"F21466/(G21466*12*memoria!$B$47)","v":{"$error":"#DIV/0!"}}]
[null,null,null,null,null,null,null,{"$f":"F21476*memoria!$B$44/(G21476*12*memoria!$B$47)","v":{"$error":"#DIV/0!"}},{"$f":"F21476/(G21476*12*memoria!$B$47)","v":{"$error":"#DIV/0!"}}]
[null,null,null,null,null,null,null,{"$f":"F21479*memoria!$B$44/(G21479*12*memoria!$B$47)","v":{"$error":"#DIV/0!"}},{"$f":"F21479/(G21479*12*memoria!$B$47)","v":{"$error":"#DIV/0!"}}]
[null,null,null,null,null,null,null,{"$f":"F21493*memoria!$B$44/(G21493*12*memoria!$B$47)","v":{"$error":"#DIV/0!"}},{"$f":"F21493/(G21493*12*memoria!$B$47)","v":{"$error":"#DIV/0!"}}]
[null,null,null,null,null,null,null,{"$f":"F21510*memoria!$B$44/(G21510*12*memoria!$B$47)","v":{"$error":"#DIV/0!"}},{"$f":"F21510/(G21510*12*memoria!$B$47)","v":{"$error":"#DIV/0!"}}]
[null,null,null,null,null,null,null,{"$f":"F21516*memoria!$B$44/(G21516*12*memoria!$B$47)","v":{"$error":"#DIV/0!"}},{"$f":"F21516/(G21516*12*memoria!$B$47)","v":{"$error":"#DIV/0!"}}]
[null,null,null,null,null,null,null,{"$f":"F21532*memoria!$B$44/(G21532*12*memoria!$B$47)","v":{"$error":"#DIV/0!"}},{"$f":"F21532/(G21532*12*memoria!$B$47)","v":{"$error":"#DIV/0!"}}]
[null,null,null,null,null,null,null,{"$f":"F21544*memoria!$B$44/(G21544*12*memoria!$B$47)","v":{"$error":"#DIV/0!"}},{"$f":"F21544/(G21544*12*memoria!$B$47)","v":{"$error":"#DIV/0!"}}]
[null,null,null,null,null,null,null,{"$f":"F21550*memoria!$B$44/(G21550*12*memoria!$B$47)","v":{"$error":"#DIV/0!"}},{"$f":"F21550/(G21550*12*memoria!$B$47)","v":{"$error":"#DIV/0!"}}]
[null,null,null,null,null,null,null,{"$f":"F21561*memoria!$B$44/(G21561*12*memoria!$B$47)","v":{"$error":"#DIV/0!"}},{"$f":"F21561/(G21561*12*memoria!$B$47)","v":{"$error":"#DIV/0!"}}]
[null,null,null,null,null,null,null,{"$f":"F21578*memoria!$B$44/(G21578*12*memoria!$B$47)","v":{"$error":"#DIV/0!"}},{"$f":"F21578/(G21578*12*memoria!$B$47)","v":{"$error":"#DIV/0!"}}]
[null,null,null,null,null,null,null,{"$f":"F21588*memoria!$B$44/(G21588*12*memoria!$B$47)","v":{"$error":"#DIV/0!"}},{"$f":"F21588/(G21588*12*memoria!$B$47)","v":{"$error":"#DIV/0!"}}]
[null,null,null,null,null,null,null,{"$f":"F21594*memoria!$B$44/(G21594*12*memoria!$B$47)","v":{"$error":"#DIV/0!"}},{"$f":"F21594/(G21594*12*memoria!$B$47)","v":{"$error":"#DIV/0!"}}]
[null,null,null,null,null,null,null,{"$f":"F21610*memoria!$B$44/(G21610*12*memoria!$B$47)","v":{"$error":"#DIV/0!"}},{"$f":"F21610/(G21610*12*memoria!$B$47)","v":{"$error":"#DIV/0!"}}]
[null,null,null,null,null,null,null,{"$f":"F21622*memoria!$B$44/(G21622*12*memoria!$B$47)","v":{"$error":"#DIV/0!"}},{"$f":"F21622/(G21622*12*memoria!$B$47)","v":{"$error":"#DIV/0!"}}]
[null,null,null,null,null,null,null,{"$f":"F21628*memoria!$B$44/(G21628*12*memoria!$B$47)","v":{"$error":"#DIV/0!"}},{"$f":"F21628/(G21628*12*memoria!$B$47)","v":{"$error":"#DIV/0!"}}]
[null,null,null,null,null,null,null,{"$f":"F21643*memoria!$B$44/(G21643*12*memoria!$B$47)","v":{"$error":"#DIV/0!"}},{"$f":"F21643/(G21643*12*memoria!$B$47)","v":{"$error":"#DIV/0!"}}]
[null,null,null,null,null,null,null,{"$f":"F21656*memoria!$B$44/(G21656*12*memoria!$B$47)","v":{"$error":"#DIV/0!"}},{"$f":"F21656/(G21656*12*memoria!$B$47)","v":{"$error":"#DIV/0!"}}]
[null,null,null,null,null,null,null,{"$f":"F21662*memoria!$B$44/(G21662*12*memoria!$B$47)","v":{"$error":"#DIV/0!"}},{"$f":"F21662/(G21662*12*memoria!$B$47)","v":{"$error":"#DIV/0!"}}]
[null,null,null,null,null,null,null,{"$f":"F21672*memoria!$B$44/(G21672*12*memoria!$B$47)","v":{"$error":"#DIV/0!"}},{"$f":"F21672/(G21672*12*memoria!$B$47)","v":{"$error":"#DIV/0!"}}]
[null,null,null,null,null,null,null,{"$f":"F21692*memoria!$B$44/(G21692*12*memoria!$B$47)","v":{"$error":"#DIV/0!"}},{"$f":"F21692/(G21692*12*memoria!$B$47)","v":{"$error":"#DIV/0!"}}]
[null,null,null,null,null,null,null,{"$f":"F21696*memoria!$B$44/(G21696*12*memoria!$B$47)","v":{"$error":"#DIV/0!"}},{"$f":"F21696/(G21696*12*memoria!$B$47)","v":{"$error":"#DIV/0!"}}]
[null,null,null,null,null,null,null,{"$f":"F21706*memoria!$B$44/(G21706*12*memoria!$B$47)","v":{"$error":"#DIV/0!"}},{"$f":"F21706/(G21706*12*memoria!$B$47)","v":{"$error":"#DIV/0!"}}]
[null,null,null,null,null,null,null,{"$f":"F21723*memoria!$B$44/(G21723*12*memoria!$B$47)","v":{"$error":"#DIV/0!"}},{"$f":"F21723/(G21723*12*memoria!$B$47)","v":{"$error":"#DIV/0!"}}]
[null,null,null,null,null,null,null,{"$f":"F21733*memoria!$B$44/(G21733*12*memoria!$B$47)","v":{"$error":"#DIV/0!"}},{"$f":"F21733/(G21733*12*memoria!$B$47)","v":{"$error":"#DIV/0!"}}]
[null,null,null,null,null,null,null,{"$f":"F21740*memoria!$B$44/(G21740*12*memoria!$B$47)","v":{"$error":"#DIV/0!"}},{"$f":"F21740/(G21740*12*memoria!$B$47)","v":{"$error":"#DIV/0!"}}]
[null,null,null,null,null,null,null,{"$f":"F21757*memoria!$B$44/(G21757*12*memoria!$B$47)","v":{"$error":"#DIV/0!"}},{"$f":"F21757/(G21757*12*memoria!$B$47)","v":{"$error":"#DIV/0!"}}]
[null,null,null,null,null,null,null,{"$f":"F21762*memoria!$B$44/(G21762*12*memoria!$B$47)","v":{"$error":"#DIV/0!"}},{"$f":"F21762/(G21762*12*memoria!$B$47)","v":{"$error":"#DIV/0!"}}]
[null,null,null,null,null,null,null,{"$f":"F21774*memoria!$B$44/(G21774*12*memoria!$B$47)","v":{"$error":"#DIV/0!"}},{"$f":"F21774/(G21774*12*memoria!$B$47)","v":{"$error":"#DIV/0!"}}]
[null,null,null,null,null,null,null,{"$f":"F21791*memoria!$B$44/(G21791*12*memoria!$B$47)","v":{"$error":"#DIV/0!"}},{"$f":"F21791/(G21791*12*memoria!$B$47)","v":{"$error":"#DIV/0!"}}]
[null,null,null,null,null,null,null,{"$f":"F21801*memoria!$B$44/(G21801*12*memoria!$B$47)","v":{"$error":"#DIV/0!"}},{"$f":"F21801/(G21801*12*memoria!$B$47)","v":{"$error":"#DIV/0!"}}]
[null,null,null,null,null,null,null,{"$f":"F21811*memoria!$B$44/(G21811*12*memoria!$B$47)","v":{"$error":"#DIV/0!"}},{"$f":"F21811/(G21811*12*memoria!$B$47)","v":{"$error":"#DIV/0!"}}]
[null,null,null,null,null,null,null,{"$f":"F21818*memoria!$B$44/(G21818*12*memoria!$B$47)","v":{"$error":"#DIV/0!"}},{"$f":"F21818/(G21818*12*memoria!$B$47)","v":{"$error":"#DIV/0!"}}]
[null,null,null,null,null,null,null,{"$f":"F21835*memoria!$B$44/(G21835*12*memoria!$B$47)","v":{"$error":"#DIV/0!"}},{"$f":"F21835/(G21835*12*memoria!$B$47)","v":{"$error":"#DIV/0!"}}]
[null,null,null,null,null,null,null,{"$f":"F21840*memoria!$B$44/(G21840*12*memoria!$B$47)","v":{"$error":"#DIV/0!"}},{"$f":"F21840/(G21840*12*memoria!$B$47)","v":{"$error":"#DIV/0!"}}]
[null,null,null,null,null,null,null,{"$f":"F21852*memoria!$B$44/(G21852*12*memoria!$B$47)","v":{"$error":"#DIV/0!"}},{"$f":"F21852/(G21852*12*memoria!$B$47)","v":{"$error":"#DIV/0!"}}]
[null,null,null,null,null,null,null,{"$f":"F21869*memoria!$B$44/(G21869*12*memoria!$B$47)","v":{"$error":"#DIV/0!"}},{"$f":"F21869/(G21869*12*memoria!$B$47)","v":{"$error":"#DIV/0!"}}]
[null,null,null,null,null,null,null,{"$f":"F21879*memoria!$B$44/(G21879*12*memoria!$B$47)","v":{"$error":"#DIV/0!"}},{"$f":"F21879/(G21879*12*memoria!$B$47)","v":{"$error":"#DIV/0!"}}]
[null,null,null,null,null,null,null,{"$f":"F21893*memoria!$B$44/(G21893*12*memoria!$B$47)","v":{"$error":"#DIV/0!"}},{"$f":"F21893/(G21893*12*memoria!$B$47)","v":{"$error":"#DIV/0!"}}]
[null,null,null,null,null,null,null,{"$f":"F21903*memoria!$B$44/(G21903*12*memoria!$B$47)","v":{"$error":"#DIV/0!"}},{"$f":"F21903/(G21903*12*memoria!$B$47)","v":{"$error":"#DIV/0!"}}]
[null,null,null,null,null,null,null,{"$f":"F21913*memoria!$B$44/(G21913*12*memoria!$B$47)","v":{"$error":"#DIV/0!"}},{"$f":"F21913/(G21913*12*memoria!$B$47)","v":{"$error":"#DIV/0!"}}]
[null,null,null,null,null,null,null,{"$f":"F21919*memoria!$B$44/(G21919*12*memoria!$B$47)","v":{"$error":"#DIV/0!"}},{"$f":"F21919/(G21919*12*memoria!$B$47)","v":{"$error":"#DIV/0!"}}]
[null,null,null,null,null,null,null,{"$f":"F21930*memoria!$B$44/(G21930*12*memoria!$B$47)","v":{"$error":"#DIV/0!"}},{"$f":"F21930/(G21930*12*memoria!$B$47)","v":{"$error":"#DIV/0!"}}]
[null,null,null,null,null,null,null,{"$f":"F21947*memoria!$B$44/(G21947*12*memoria!$B$47)","v":{"$error":"#DIV/0!"}},{"$f":"F21947/(G21947*12*memoria!$B$47)","v":{"$error":"#DIV/0!"}}]
[null,null,null,null,null,null,null,{"$f":"F21953*memoria!$B$44/(G21953*12*memoria!$B$47)","v":{"$error":"#DIV/0!"}},{"$f":"F21953/(G21953*12*memoria!$B$47)","v":{"$error":"#DIV/0!"}}]
[null,null,null,null,null,null,null,{"$f":"F21975*memoria!$B$44/(G21975*12*memoria!$B$47)","v":{"$error":"#DIV/0!"}},{"$f":"F21975/(G21975*12*memoria!$B$47)","v":{"$error":"#DIV/0!"}}]
[null,null,null,null,null,null,null,{"$f":"F21981*memoria!$B$44/(G21981*12*memoria!$B$47)","v":{"$error":"#DIV/0!"}},{"$f":"F21981/(G21981*12*memoria!$B$47)","v":{"$error":"#DIV/0!"}}]
[null,null,null,null,null,null,null,{"$f":"F21987*memoria!$B$44/(G21987*12*memoria!$B$47)","v":{"$error":"#DIV/0!"}},{"$f":"F21987/(G21987*12*memoria!$B$47)","v":{"$error":"#DIV/0!"}}]
[null,null,null,null,null,null,null,{"$f":"F22008*memoria!$B$44/(G22008*12*memoria!$B$47)","v":{"$error":"#DIV/0!"}},{"$f":"F22008/(G22008*12*memoria!$B$47)","v":{"$error":"#DIV/0!"}}]
[null,null,null,null,null,null,null,{"$f":"F22012*memoria!$B$44/(G22012*12*memoria!$B$47)","v":{"$error":"#DIV/0!"}},{"$f":"F22012/(G22012*12*memoria!$B$47)","v":{"$error":"#DIV/0!"}}]
[null,null,null,null,null,null,null,{"$f":"F22021*memoria!$B$44/(G22021*12*memoria!$B$47)","v":{"$error":"#DIV/0!"}},{"$f":"F22021/(G22021*12*memoria!$B$47)","v":{"$error":"#DIV/0!"}}]
[null,null,null,null,null,null,null,{"$f":"F22042*memoria!$B$44/(G22042*12*memoria!$B$47)","v":{"$error":"#DIV/0!"}},{"$f":"F22042/(G22042*12*memoria!$B$47)","v":{"$error":"#DIV/0!"}}]
[null,null,null,null,null,null,null,{"$f":"F22053*memoria!$B$44/(G22053*12*memoria!$B$47)","v":{"$error":"#DIV/0!"}},{"$f":"F22053/(G22053*12*memoria!$B$47)","v":{"$error":"#DIV/0!"}}]
[null,null,null,null,null,null,null,{"$f":"F22059*memoria!$B$44/(G22059*12*memoria!$B$47)","v":{"$error":"#DIV/0!"}},{"$f":"F22059/(G22059*12*memoria!$B$47)","v":{"$error":"#DIV/0!"}}]
[null,null,null,null,null,null,null,{"$f":"F22076*memoria!$B$44/(G22076*12*memoria!$B$47)","v":{"$error":"#DIV/0!"}},{"$f":"F22076/(G22076*12*memoria!$B$47)","v":{"$error":"#DIV/0!"}}]
[null,null,null,null,null,null,null,{"$f":"F22082*memoria!$B$44/(G22082*12*memoria!$B$47)","v":{"$error":"#DIV/0!"}},{"$f":"F22082/(G22082*12*memoria!$B$47)","v":{"$error":"#DIV/0!"}}]
[null,null,null,null,null,null,null,{"$f":"F22094*memoria!$B$44/(G22094*12*memoria!$B$47)","v":{"$error":"#DIV/0!"}},{"$f":"F22094/(G22094*12*memoria!$B$47)","v":{"$error":"#DIV/0!"}}]
[null,null,null,null,null,null,null,{"$f":"F22110*memoria!$B$44/(G22110*12*memoria!$B$47)","v":{"$error":"#DIV/0!"}},{"$f":"F22110/(G22110*12*memoria!$B$47)","v":{"$error":"#DIV/0!"}}]
[null,null,null,null,null,null,null,{"$f":"F22120*memoria!$B$44/(G22120*12*memoria!$B$47)","v":{"$error":"#DIV/0!"}},{"$f":"F22120/(G22120*12*memoria!$B$47)","v":{"$error":"#DIV/0!"}}]
[null,null,null,null,null,null,null,{"$f":"F22123*memoria!$B$44/(G22123*12*memoria!$B$47)","v":{"$error":"#DIV/0!"}},{"$f":"F22123/(G22123*12*memoria!$B$47)","v":{"$error":"#DIV/0!"}}]
[null,null,null,null,null,null,null,{"$f":"F22144*memoria!$B$44/(G22144*12*memoria!$B$47)","v":{"$error":"#DIV/0!"}},{"$f":"F22144/(G22144*12*memoria!$B$47)","v":{"$error":"#DIV/0!"}}]
[null,null,null,null,null,null,null,{"$f":"F22154*memoria!$B$44/(G22154*12*memoria!$B$47)","v":{"$error":"#DIV/0!"}},{"$f":"F22154/(G22154*12*memoria!$B$47)","v":{"$error":"#DIV/0!"}}]
[null,null,null,null,null,null,null,{"$f":"F22160*memoria!$B$44/(G22160*12*memoria!$B$47)","v":{"$error":"#DIV/0!"}},{"$f":"F22160/(G22160*12*memoria!$B$47)","v":{"$error":"#DIV/0!"}}]
[null,null,null,null,null,null,null,{"$f":"F22172*memoria!$B$44/(G22172*12*memoria!$B$47)","v":{"$error":"#DIV/0!"}},{"$f":"F22172/(G22172*12*memoria!$B$47)","v":{"$error":"#DIV/0!"}}]
[null,null,null,null,null,null,null,{"$f":"F22188*memoria!$B$44/(G22188*12*memoria!$B$47)","v":{"$error":"#DIV/0!"}},{"$f":"F22188/(G22188*12*memoria!$B$47)","v":{"$error":"#DIV/0!"}}]
[null,null,null,null,null,null,null,{"$f":"F22194*memoria!$B$44/(G22194*12*memoria!$B$47)","v":{"$error":"#DIV/0!"}},{"$f":"F22194/(G22194*12*memoria!$B$47)","v":{"$error":"#DIV/0!"}}]
[null,null,null,null,null,null,null,{"$f":"F22204*memoria!$B$44/(G22204*12*memoria!$B$47)","v":{"$error":"#DIV/0!"}},{"$f":"F22204/(G22204*12*memoria!$B$47)","v":{"$error":"#DIV/0!"}}]
[null,null,null,null,null,null,null,{"$f":"F22213*memoria!$B$44/(G22213*12*memoria!$B$47)","v":{"$error":"#DIV/0!"}},{"$f":"F22213/(G22213*12*memoria!$B$47)","v":{"$error":"#DIV/0!"}}]
[null,null,null,null,null,null,null,{"$f":"F22228*memoria!$B$44/(G22228*12*memoria!$B$47)","v":{"$error":"#DIV/0!"}},{"$f":"F22228/(G22228*12*memoria!$B$47)","v":{"$error":"#DIV/0!"}}]
[null,null,null,null,null,null,null,{"$f":"F22238*memoria!$B$44/(G22238*12*memoria!$B$47)","v":{"$error":"#DIV/0!"}},{"$f":"F22238/(G22238*12*memoria!$B$47)","v":{"$error":"#DIV/0!"}}]
[null,null,null,null,null,null,null,{"$f":"F22254*memoria!$B$44/(G22254*12*memoria!$B$47)","v":{"$error":"#DIV/0!"}},{"$f":"F22254/(G22254*12*memoria!$B$47)","v":{"$error":"#DIV/0!"}}]
[null,null,null,null,null,null,null,{"$f":"F22266*memoria!$B$44/(G22266*12*memoria!$B$47)","v":{"$error":"#DIV/0!"}},{"$f":"F22266/(G22266*12*memoria!$B$47)","v":{"$error":"#DIV/0!"}}]
[null,null,null,null,null,null,null,{"$f":"F22272*memoria!$B$44/(G22272*12*memoria!$B$47)","v":{"$error":"#DIV/0!"}},{"$f":"F22272/(G22272*12*memoria!$B$47)","v":{"$error":"#DIV/0!"}}]
[null,null,null,null,null,null,null,{"$f":"F22289*memoria!$B$44/(G22289*12*memoria!$B$47)","v":{"$error":"#DIV/0!"}},{"$f":"F22289/(G22289*12*memoria!$B$47)","v":{"$error":"#DIV/0!"}}]
[null,null,null,null,null,null,null,{"$f":"F22295*memoria!$B$44/(G22295*12*memoria!$B$47)","v":{"$error":"#DIV/0!"}},{"$f":"F22295/(G22295*12*memoria!$B$47)","v":{"$error":"#DIV/0!"}}]
[null,null,null,null,null,null,null,{"$f":"F22306*memoria!$B$44/(G22306*12*memoria!$B$47)","v":{"$error":"#DIV/0!"}},{"$f":"F22306/(G22306*12*memoria!$B$47)","v":{"$error":"#DIV/0!"}}]
[null,null,null,null,null,null,null,{"$f":"F22323*memoria!$B$44/(G22323*12*memoria!$B$47)","v":{"$error":"#DIV/0!"}},{"$f":"F22323/(G22323*12*memoria!$B$47)","v":{"$error":"#DIV/0!"}}]
[null,null,null,null,null,null,null,{"$f":"F22336*memoria!$B$44/(G22336*12*memoria!$B$47)","v":{"$error":"#DIV/0!"}},{"$f":"F22336/(G22336*12*memoria!$B$47)","v":{"$error":"#DIV/0!"}}]
[null,null,null,null,null,null,null,{"$f":"F22340*memoria!$B$44/(G22340*12*memoria!$B$47)","v":{"$error":"#DIV/0!"}},{"$f":"F22340/(G22340*12*memoria!$B$47)","v":{"$error":"#DIV/0!"}}]
[null,null,null,null,null,null,null,{"$f":"F22350*memoria!$B$44/(G22350*12*memoria!$B$47)","v":{"$error":"#DIV/0!"}},{"$f":"F22350/(G22350*12*memoria!$B$47)","v":{"$error":"#DIV/0!"}}]
[null,null,null,null,null,null,null,{"$f":"F22367*memoria!$B$44/(G22367*12*memoria!$B$47)","v":{"$error":"#DIV/0!"}},{"$f":"F22367/(G22367*12*memoria!$B$47)","v":{"$error":"#DIV/0!"}}]
[null,null,null,null,null,null,null,{"$f":"F22373*memoria!$B$44/(G22373*12*memoria!$B$47)","v":{"$error":"#DIV/0!"}},{"$f":"F22373/(G22373*12*memoria!$B$47)","v":{"$error":"#DIV/0!"}}]
[null,null,null,null,null,null,null,{"$f":"F22384*memoria!$B$44/(G22384*12*memoria!$B$47)","v":{"$error":"#DIV/0!"}},{"$f":"F22384/(G22384*12*memoria!$B$47)","v":{"$error":"#DIV/0!"}}]
[null,null,null,null,null,null,null,{"$f":"F22401*memoria!$B$44/(G22401*12*memoria!$B$47)","v":{"$error":"#DIV/0!"}},{"$f":"F22401/(G22401*12*memoria!$B$47)","v":{"$error":"#DIV/0!"}}]
[null,null,null,null,null,null,null,{"$f":"F22407*memoria!$B$44/(G22407*12*memoria!$B$47)","v":{"$error":"#DIV/0!"}},{"$f":"F22407/(G22407*12*memoria!$B$47)","v":{"$error":"#DIV/0!"}}]
[null,null,null,null,null,null,null,{"$f":"F22426*memoria!$B$44/(G22426*12*memoria!$B$47)","v":{"$error":"#DIV/0!"}},{"$f":"F22426/(G22426*12*memoria!$B$47)","v":{"$error":"#DIV/0!"}}]
[null,null,null,null,null,null,null,{"$f":"F22435*memoria!$B$44/(G22435*12*memoria!$B$47)","v":{"$error":"#DIV/0!"}},{"$f":"F22435/(G22435*12*memoria!$B$47)","v":{"$error":"#DIV/0!"}}]
[null,null,null,null,null,null,null,{"$f":"F22445*memoria!$B$44/(G22445*12*memoria!$B$47)","v":{"$error":"#DIV/0!"}},{"$f":"F22445/(G22445*12*memoria!$B$47)","v":{"$error":"#DIV/0!"}}]
[null,null,null,null,null,null,null,{"$f":"F22455*memoria!$B$44/(G22455*12*memoria!$B$47)","v":{"$error":"#DIV/0!"}},{"$f":"F22455/(G22455*12*memoria!$B$47)","v":{"$error":"#DIV/0!"}}]
[null,null,null,null,null,null,null,{"$f":"F22469*memoria!$B$44/(G22469*12*memoria!$B$47)","v":{"$error":"#DIV/0!"}},{"$f":"F22469/(G22469*12*memoria!$B$47)","v":{"$error":"#DIV/0!"}}]
[null,null,null,null,null,null,null,{"$f":"F22479*memoria!$B$44/(G22479*12*memoria!$B$47)","v":{"$error":"#DIV/0!"}},{"$f":"F22479/(G22479*12*memoria!$B$47)","v":{"$error":"#DIV/0!"}}]
[null,null,null,null,null,null,null,{"$f":"F22485*memoria!$B$44/(G22485*12*memoria!$B$47)","v":{"$error":"#DIV/0!"}},{"$f":"F22485/(G22485*12*memoria!$B$47)","v":{"$error":"#DIV/0!"}}]
[null,null,null,null,null,null,null,{"$f":"F22496*memoria!$B$44/(G22496*12*memoria!$B$47)","v":{"$error":"#DIV/0!"}},{"$f":"F22496/(G22496*12*memoria!$B$47)","v":{"$error":"#DIV/0!"}}]
[null,null,null,null,null,null,null,{"$f":"F22513*memoria!$B$44/(G22513*12*memoria!$B$47)","v":{"$error":"#DIV/0!"}},{"$f":"F22513/(G22513*12*memoria!$B$47)","v":{"$error":"#DIV/0!"}}]
[null,null,null,null,null,null,null,{"$f":"F22519*memoria!$B$44/(G22519*12*memoria!$B$47)","v":{"$error":"#DIV/0!"}},{"$f":"F22519/(G22519*12*memoria!$B$47)","v":{"$error":"#DIV/0!"}}]
[null,null,null,null,null,null,null,{"$f":"F22537*memoria!$B$44/(G22537*12*memoria!$B$47)","v":{"$error":"#DIV/0!"}},{"$f":"F22537/(G22537*12*memoria!$B$47)","v":{"$error":"#DIV/0!"}}]
[null,null,null,null,null,null,null,{"$f":"F22547*memoria!$B$44/(G22547*12*memoria!$B$47)","v":{"$error":"#DIV/0!"}},{"$f":"F22547/(G22547*12*memoria!$B$47)","v":{"$error":"#DIV/0!"}}]
[null,null,null,null,null,null,null,{"$f":"F22553*memoria!$B$44/(G22553*12*memoria!$B$47)","v":{"$error":"#DIV/0!"}},{"$f":"F22553/(G22553*12*memoria!$B$47)","v":{"$error":"#DIV/0!"}}]
[null,null,null,null,null,null,null,{"$f":"F22563*memoria!$B$44/(G22563*12*memoria!$B$47)","v":{"$error":"#DIV/0!"}},{"$f":"F22563/(G22563*12*memoria!$B$47)","v":{"$error":"#DIV/0!"}}]
[null,null,null,null,null,null,null,{"$f":"F22574*memoria!$B$44/(G22574*12*memoria!$B$47)","v":{"$error":"#DIV/0!"}},{"$f":"F22574/(G22574*12*memoria!$B$47)","v":{"$error":"#DIV/0!"}}]
[null,null,null,null,null,null,null,{"$f":"F22591*memoria!$B$44/(G22591*12*memoria!$B$47)","v":{"$error":"#DIV/0!"}},{"$f":"F22591/(G22591*12*memoria!$B$47)","v":{"$error":"#DIV/0!"}}]
[null,null,null,null,null,null,null,{"$f":"F22597*memoria!$B$44/(G22597*12*memoria!$B$47)","v":{"$error":"#DIV/0!"}},{"$f":"F22597/(G22597*12*memoria!$B$47)","v":{"$error":"#DIV/0!"}}]
[null,null,null,null,null,null,null,{"$f":"F22615*memoria!$B$44/(G22615*12*memoria!$B$47)","v":{"$error":"#DIV/0!"}},{"$f":"F22615/(G22615*12*memoria!$B$47)","v":{"$error":"#DIV/0!"}}]
[null,null,null,null,null,null,null,{"$f":"F22625*memoria!$B$44/(G22625*12*memoria!$B$47)","v":{"$error":"#DIV/0!"}},{"$f":"F22625/(G22625*12*memoria!$B$47)","v":{"$error":"#DIV/0!"}}]
[null,null,null,null,null,null,null,{"$f":"F22631*memoria!$B$44/(G22631*12*memoria!$B$47)","v":{"$error":"#DIV/0!"}},{"$f":"F22631/(G22631*12*memoria!$B$47)","v":{"$error":"#DIV/0!"}}]
[null,null,null,null,null,null,null,{"$f":"F22648*memoria!$B$44/(G22648*12*memoria!$B$47)","v":{"$error":"#DIV/0!"}},{"$f":"F22648/(G22648*12*memoria!$B$47)","v":{"$error":"#DIV/0!"}}]
[null,null,null,null,null,null,null,{"$f":"F22656*memoria!$B$44/(G22656*12*memoria!$B$47)","v":{"$error":"#DIV/0!"}},{"$f":"F22656/(G22656*12*memoria!$B$47)","v":{"$error":"#DIV/0!"}}]
[null,null,null,null,null,null,null,{"$f":"F22665*memoria!$B$44/(G22665*12*memoria!$B$47)","v":{"$error":"#DIV/0!"}},{"$f":"F22665/(G22665*12*memoria!$B$47)","v":{"$error":"#DIV/0!"}}]
[null,null,null,null,null,null,null,{"$f":"F22675*memoria!$B$44/(G22675*12*memoria!$B$47)","v":{"$error":"#DIV/0!"}},{"$f":"F22675/(G22675*12*memoria!$B$47)","v":{"$error":"#DIV/0!"}}]
[null,null,null,null,null,null,null,{"$f":"F22692*memoria!$B$44/(G22692*12*memoria!$B$47)","v":{"$error":"#DIV/0!"}},{"$f":"F22692/(G22692*12*memoria!$B$47)","v":{"$error":"#DIV/0!"}}]
[null,null,null,null,null,null,null,{"$f":"F22705*memoria!$B$44/(G22705*12*memoria!$B$47)","v":{"$error":"#DIV/0!"}},{"$f":"F22705/(G22705*12*memoria!$B$47)","v":{"$error":"#DIV/0!"}}]
[null,null,null,null,null,null,null,{"$f":"F22709*memoria!$B$44/(G22709*12*memoria!$B$47)","v":{"$error":"#DIV/0!"}},{"$f":"F22709/(G22709*12*memoria!$B$47)","v":{"$error":"#DIV/0!"}}]
[null,null,null,null,null,null,null,{"$f":"F22726*memoria!$B$44/(G22726*12*memoria!$B$47)","v":{"$error":"#DIV/0!"}},{"$f":"F22726/(G22726*12*memoria!$B$47)","v":{"$error":"#DIV/0!"}}]
[null,null,null,null,null,null,null,{"$f":"F22738*memoria!$B$44/(G22738*12*memoria!$B$47)","v":{"$error":"#DIV/0!"}},{"$f":"F22738/(G22738*12*memoria!$B$47)","v":{"$error":"#DIV/0!"}}]
[null,null,null,null,null,null,null,{"$f":"F22743*memoria!$B$44/(G22743*12*memoria!$B$47)","v":{"$error":"#DIV/0!"}},{"$f":"F22743/(G22743*12*memoria!$B$47)","v":{"$error":"#DIV/0!"}}]
[null,null,null,null,null,null,null,{"$f":"F22760*memoria!$B$44/(G22760*12*memoria!$B$47)","v":{"$error":"#DIV/0!"}},{"$f":"F22760/(G22760*12*memoria!$B$47)","v":{"$error":"#DIV/0!"}}]
[null,null,null,null,null,null,null,{"$f":"F22770*memoria!$B$44/(G22770*12*memoria!$B$47)","v":{"$error":"#DIV/0!"}},{"$f":"F22770/(G22770*12*memoria!$B$47)","v":{"$error":"#DIV/0!"}}]
[null,null,null,null,null,null,null,{"$f":"F22787*memoria!$B$44/(G22787*12*memoria!$B$47)","v":{"$error":"#DIV/0!"}},{"$f":"F22787/(G22787*12*memoria!$B$47)","v":{"$error":"#DIV/0!"}}]
[null,null,null,null,null,null,null,{"$f":"F22794*memoria!$B$44/(G22794*12*memoria!$B$47)","v":{"$error":"#DIV/0!"}},{"$f":"F22794/(G22794*12*memoria!$B$47)","v":{"$error":"#DIV/0!"}}]
[null,null,null,null,null,null,null,{"$f":"F22804*memoria!$B$44/(G22804*12*memoria!$B$47)","v":{"$error":"#DIV/0!"}},{"$f":"F22804/(G22804*12*memoria!$B$47)","v":{"$error":"#DIV/0!"}}]
[null,null,null,null,null,null,null,{"$f":"F22816*memoria!$B$44/(G22816*12*memoria!$B$47)","v":{"$error":"#DIV/0!"}},{"$f":"F22816/(G22816*12*memoria!$B$47)","v":{"$error":"#DIV/0!"}}]
[null,null,null,null,null,null,null,{"$f":"F22832*memoria!$B$44/(G22832*12*memoria!$B$47)","v":{"$error":"#DIV/0!"}},{"$f":"F22832/(G22832*12*memoria!$B$47)","v":{"$error":"#DIV/0!"}}]
[null,null,null,null,null,null,null,{"$f":"F22838*memoria!$B$44/(G22838*12*memoria!$B$47)","v":{"$error":"#DIV/0!"}},{"$f":"F22838/(G22838*12*memoria!$B$47)","v":{"$error":"#DIV/0!"}}]
[null,null,null,null,null,null,null,{"$f":"F22844*memoria!$B$44/(G22844*12*memoria!$B$47)","v":{"$error":"#DIV/0!"}},{"$f":"F22844/(G22844*12*memoria!$B$47)","v":{"$error":"#DIV/0!"}}]
[null,null,null,null,null,null,null,{"$f":"F22857*memoria!$B$44/(G22857*12*memoria!$B$47)","v":{"$error":"#DIV/0!"}},{"$f":"F22857/(G22857*12*memoria!$B$47)","v":{"$error":"#DIV/0!"}}]
[null,null,null,null,null,null,null,{"$f":"F22872*memoria!$B$44/(G22872*12*memoria!$B$47)","v":{"$error":"#DIV/0!"}},{"$f":"F22872/(G22872*12*memoria!$B$47)","v":{"$error":"#DIV/0!"}}]
[null,null,null,null,null,null,null,{"$f":"F22882*memoria!$B$44/(G22882*12*memoria!$B$47)","v":{"$error":"#DIV/0!"}},{"$f":"F22882/(G22882*12*memoria!$B$47)","v":{"$error":"#DIV/0!"}}]
[null,null,null,null,null,null,null,{"$f":"F22899*memoria!$B$44/(G22899*12*memoria!$B$47)","v":{"$error":"#DIV/0!"}},{"$f":"F22899/(G22899*12*memoria!$B$47)","v":{"$error":"#DIV/0!"}}]
[null,null,null,null,null,null,null,{"$f":"F22906*memoria!$B$44/(G22906*12*memoria!$B$47)","v":{"$error":"#DIV/0!"}},{"$f":"F22906/(G22906*12*memoria!$B$47)","v":{"$error":"#DIV/0!"}}]
[null,null,null,null,null,null,null,{"$f":"F22916*memoria!$B$44/(G22916*12*memoria!$B$47)","v":{"$error":"#DIV/0!"}},{"$f":"F22916/(G22916*12*memoria!$B$47)","v":{"$error":"#DIV/0!"}}]
[null,null,null,null,null,null,null,{"$f":"F22933*memoria!$B$44/(G22933*12*memoria!$B$47)","v":{"$error":"#DIV/0!"}},{"$f":"F22933/(G22933*12*memoria!$B$47)","v":{"$error":"#DIV/0!"}}]
[null,null,null,null,null,null,null,{"$f":"F22935*memoria!$B$44/(G22935*12*memoria!$B$47)","v":{"$error":"#DIV/0!"}},{"$f":"F22935/(G22935*12*memoria!$B$47)","v":{"$error":"#DIV/0!"}}]
[null,null,null,null,null,null,null,{"$f":"F22950*memoria!$B$44/(G22950*12*memoria!$B$47)","v":{"$error":"#DIV/0!"}},{"$f":"F22950/(G22950*12*memoria!$B$47)","v":{"$error":"#DIV/0!"}}]
[null,null,null,null,null,null,null,{"$f":"F22967*memoria!$B$44/(G22967*12*memoria!$B$47)","v":{"$error":"#DIV/0!"}},{"$f":"F22967/(G22967*12*memoria!$B$47)","v":{"$error":"#DIV/0!"}}]
[null,null,null,null,null,null,null,{"$f":"F22977*memoria!$B$44/(G22977*12*memoria!$B$47)","v":{"$error":"#DIV/0!"}},{"$f":"F22977/(G22977*12*memoria!$B$47)","v":{"$error":"#DIV/0!"}}]
[null,null,null,null,null,null,null,{"$f":"F22988*memoria!$B$44/(G22988*12*memoria!$B$47)","v":{"$error":"#DIV/0!"}},{"$f":"F22988/(G22988*12*memoria!$B$47)","v":{"$error":"#DIV/0!"}}]
[null,null,null,null,null,null,null,{"$f":"F23001*memoria!$B$44/(G23001*12*memoria!$B$47)","v":{"$error":"#DIV/0!"}},{"$f":"F23001/(G23001*12*memoria!$B$47)","v":{"$error":"#DIV/0!"}}]
[null,null,null,null,null,null,null,{"$f":"F23011*memoria!$B$44/(G23011*12*memoria!$B$47)","v":{"$error":"#DIV/0!"}},{"$f":"F23011/(G23011*12*memoria!$B$47)","v":{"$error":"#DIV/0!"}}]
[null,null,null,null,null,null,null,{"$f":"F23017*memoria!$B$44/(G23017*12*memoria!$B$47)","v":{"$error":"#DIV/0!"}},{"$f":"F23017/(G23017*12*memoria!$B$47)","v":{"$error":"#DIV/0!"}}]
[null,null,null,null,null,null,null,{"$f":"F23035*memoria!$B$44/(G23035*12*memoria!$B$47)","v":{"$error":"#DIV/0!"}},{"$f":"F23035/(G23035*12*memoria!$B$47)","v":{"$error":"#DIV/0!"}}]
[null,null,null,null,null,null,null,{"$f":"F23045*memoria!$B$44/(G23045*12*memoria!$B$47)","v":{"$error":"#DIV/0!"}},{"$f":"F23045/(G23045*12*memoria!$B$47)","v":{"$error":"#DIV/0!"}}]
[null,null,null,null,null,null,null,{"$f":"F23051*memoria!$B$44/(G23051*12*memoria!$B$47)","v":{"$error":"#DIV/0!"}},{"$f":"F23051/(G23051*12*memoria!$B$47)","v":{"$error":"#DIV/0!"}}]
[null,null,null,null,null,null,null,{"$f":"F23058*memoria!$B$44/(G23058*12*memoria!$B$47)","v":{"$error":"#DIV/0!"}},{"$f":"F23058/(G23058*12*memoria!$B$47)","v":{"$error":"#DIV/0!"}}]
[null,null,null,null,null,null,null,{"$f":"F23079*memoria!$B$44/(G23079*12*memoria!$B$47)","v":{"$error":"#DIV/0!"}},{"$f":"F23079/(G23079*12*memoria!$B$47)","v":{"$error":"#DIV/0!"}}]
[null,null,null,null,null,null,null,{"$f":"F23085*memoria!$B$44/(G23085*12*memoria!$B$47)","v":{"$error":"#DIV/0!"}},{"$f":"F23085/(G23085*12*memoria!$B$47)","v":{"$error":"#DIV/0!"}}]
[null,null,null,null,null,null,null,{"$f":"F23099*memoria!$B$44/(G23099*12*memoria!$B$47)","v":{"$error":"#DIV/0!"}},{"$f":"F23099/(G23099*12*memoria!$B$47)","v":{"$error":"#DIV/0!"}}]
[null,null,null,null,null,null,null,{"$f":"F23113*memoria!$B$44/(G23113*12*memoria!$B$47)","v":{"$error":"#DIV/0!"}},{"$f":"F23113/(G23113*12*memoria!$B$47)","v":{"$error":"#DIV/0!"}}]
[null,null,null,null,null,null,null,{"$f":"F23123*memoria!$B$44/(G23123*12*memoria!$B$47)","v":{"$error":"#DIV/0!"}},{"$f":"F23123/(G23123*12*memoria!$B$47)","v":{"$error":"#DIV/0!"}}]
[null,null,null,null,null,null,null,{"$f":"F23129*memoria!$B$44/(G23129*12*memoria!$B$47)","v":{"$error":"#DIV/0!"}},{"$f":"F23129/(G23129*12*memoria!$B$47)","v":{"$error":"#DIV/0!"}}]
[null,null,null,null,null,null,null,{"$f":"F23148*memoria!$B$44/(G23148*12*memoria!$B$47)","v":{"$error":"#DIV/0!"}},{"$f":"F23148/(G23148*12*memoria!$B$47)","v":{"$error":"#DIV/0!"}}]
[null,null,null,null,null,null,null,{"$f":"F23157*memoria!$B$44/(G23157*12*memoria!$B$47)","v":{"$error":"#DIV/0!"}},{"$f":"F23157/(G23157*12*memoria!$B$47)","v":{"$error":"#DIV/0!"}}]
[null,null,null,null,null,null,null,{"$f":"F23163*memoria!$B$44/(G23163*12*memoria!$B$47)","v":{"$error":"#DIV/0!"}},{"$f":"F23163/(G23163*12*memoria!$B$47)","v":{"$error":"#DIV/0!"}}]
[null,null,null,null,null,null,null,{"$f":"F23180*memoria!$B$44/(G23180*12*memoria!$B$47)","v":{"$error":"#DIV/0!"}},{"$f":"F23180/(G23180*12*memoria!$B$47)","v":{"$error":"#DIV/0!"}}]
[null,null,null,null,null,null,null,{"$f":"F23189*memoria!$B$44/(G23189*12*memoria!$B$47)","v":{"$error":"#DIV/0!"}},{"$f":"F23189/(G23189*12*memoria!$B$47)","v":{"$error":"#DIV/0!"}}]
[null,null,null,null,null,null,null,{"$f":"F23197*memoria!$B$44/(G23197*12*memoria!$B$47)","v":{"$error":"#DIV/0!"}},{"$f":"F23197/(G23197*12*memoria!$B$47)","v":{"$error":"#DIV/0!"}}]
[null,null,null,null,null,null,null,{"$f":"F23207*memoria!$B$44/(G23207*12*memoria!$B$47)","v":{"$error":"#DIV/0!"}},{"$f":"F23207/(G23207*12*memoria!$B$47)","v":{"$error":"#DIV/0!"}}]
[null,null,null,null,null,null,null,{"$f":"F23218*memoria!$B$44/(G23218*12*memoria!$B$47)","v":{"$error":"#DIV/0!"}},{"$f":"F23218/(G23218*12*memoria!$B$47)","v":{"$error":"#DIV/0!"}}]
[null,null,null,null,null,null,null,{"$f":"F23231*memoria!$B$44/(G23231*12*memoria!$B$47)","v":{"$error":"#DIV/0!"}},{"$f":"F23231/(G23231*12*memoria!$B$47)","v":{"$error":"#DIV/0!"}}]
[null,null,null,null,null,null,null,{"$f":"F23241*memoria!$B$44/(G23241*12*memoria!$B$47)","v":{"$error":"#DIV/0!"}},{"$f":"F23241/(G23241*12*memoria!$B$47)","v":{"$error":"#DIV/0!"}}]
[null,null,null,null,null,null,null,{"$f":"F23258*memoria!$B$44/(G23258*12*memoria!$B$47)","v":{"$error":"#DIV/0!"}},{"$f":"F23258/(G23258*12*memoria!$B$47)","v":{"$error":"#DIV/0!"}}]
[null,null,null,null,null,null,null,{"$f":"F23271*memoria!$B$44/(G23271*12*memoria!$B$47)","v":{"$error":"#DIV/0!"}},{"$f":"F23271/(G23271*12*memoria!$B$47)","v":{"$error":"#DIV/0!"}}]
[null,null,null,null,null,null,null,{"$f":"F23275*memoria!$B$44/(G23275*12*memoria!$B$47)","v":{"$error":"#DIV/0!"}},{"$f":"F23275/(G23275*12*memoria!$B$47)","v":{"$error":"#DIV/0!"}}]
[null,null,null,null,null,null,null,{"$f":"F23292*memoria!$B$44/(G23292*12*memoria!$B$47)","v":{"$error":"#DIV/0!"}},{"$f":"F23292/(G23292*12*memoria!$B$47)","v":{"$error":"#DIV/0!"}}]
[null,null,null,null,null,null,null,{"$f":"F23300*memoria!$B$44/(G23300*12*memoria!$B$47)","v":{"$error":"#DIV/0!"}},{"$f":"F23300/(G23300*12*memoria!$B$47)","v":{"$error":"#DIV/0!"}}]
[null,null,null,null,null,null,null,{"$f":"F23309*memoria!$B$44/(G23309*12*memoria!$B$47)","v":{"$error":"#DIV/0!"}},{"$f":"F23309/(G23309*12*memoria!$B$47)","v":{"$error":"#DIV/0!"}}]
[null,null,null,null,null,null,null,{"$f":"F23326*memoria!$B$44/(G23326*12*memoria!$B$47)","v":{"$error":"#DIV/0!"}},{"$f":"F23326/(G23326*12*memoria!$B$47)","v":{"$error":"#DIV/0!"}}]
[null,null,null,null,null,null,null,{"$f":"F23336*memoria!$B$44/(G23336*12*memoria!$B$47)","v":{"$error":"#DIV/0!"}},{"$f":"F23336/(G23336*12*memoria!$B$47)","v":{"$error":"#DIV/0!"}}]
[null,null,null,null,null,null,null,{"$f":"F23349*memoria!$B$44/(G23349*12*memoria!$B$47)","v":{"$error":"#DIV/0!"}},{"$f":"F23349/(G23349*12*memoria!$B$47)","v":{"$error":"#DIV/0!"}}]
[null,null,null,null,null,null,null,{"$f":"F23353*memoria!$B$44/(G23353*12*memoria!$B$47)","v":{"$error":"#DIV/0!"}},{"$f":"F23353/(G23353*12*memoria!$B$47)","v":{"$error":"#DIV/0!"}}]
[null,null,null,null,null,null,null,{"$f":"F23370*memoria!$B$44/(G23370*12*memoria!$B$47)","v":{"$error":"#DIV/0!"}},{"$f":"F23370/(G23370*12*memoria!$B$47)","v":{"$error":"#DIV/0!"}}]
[null,null,null,null,null,null,null,{"$f":"F23376*memoria!$B$44/(G23376*12*memoria!$B$47)","v":{"$error":"#DIV/0!"}},{"$f":"F23376/(G23376*12*memoria!$B$47)","v":{"$error":"#DIV/0!"}}]
[null,null,null,null,null,null,null,{"$f":"F23390*memoria!$B$44/(G23390*12*memoria!$B$47)","v":{"$error":"#DIV/0!"}},{"$f":"F23390/(G23390*12*memoria!$B$47)","v":{"$error":"#DIV/0!"}}]
[null,null,null,null,null,null,null,{"$f":"F23404*memoria!$B$44/(G23404*12*memoria!$B$47)","v":{"$error":"#DIV/0!"}},{"$f":"F23404/(G23404*12*memoria!$B$47)","v":{"$error":"#DIV/0!"}}]
[null,null,null,null,null,null,null,{"$f":"F23410*memoria!$B$44/(G23410*12*memoria!$B$47)","v":{"$error":"#DIV/0!"}},{"$f":"F23410/(G23410*12*memoria!$B$47)","v":{"$error":"#DIV/0!"}}]
[null,null,null,null,null,null,null,{"$f":"F23419*memoria!$B$44/(G23419*12*memoria!$B$47)","v":{"$error":"#DIV/0!"}},{"$f":"F23419/(G23419*12*memoria!$B$47)","v":{"$error":"#DIV/0!"}}]
[null,null,null,null,null,null,null,{"$f":"F23438*memoria!$B$44/(G23438*12*memoria!$B$47)","v":{"$error":"#DIV/0!"}},{"$f":"F23438/(G23438*12*memoria!$B$47)","v":{"$error":"#DIV/0!"}}]
[null,null,null,null,null,null,null,{"$f":"F23448*memoria!$B$44/(G23448*12*memoria!$B$47)","v":{"$error":"#DIV/0!"}},{"$f":"F23448/(G23448*12*memoria!$B$47)","v":{"$error":"#DIV/0!"}}]
[null,null,null,null,null,null,null,{"$f":"F23454*memoria!$B$44/(G23454*12*memoria!$B$47)","v":{"$error":"#DIV/0!"}},{"$f":"F23454/(G23454*12*memoria!$B$47)","v":{"$error":"#DIV/0!"}}]
[null,null,null,null,null,null,null,{"$f":"F23468*memoria!$B$44/(G23468*12*memoria!$B$47)","v":{"$error":"#DIV/0!"}},{"$f":"F23468/(G23468*12*memoria!$B$47)","v":{"$error":"#DIV/0!"}}]
[null,null,null,null,null,null,null,{"$f":"F23482*memoria!$B$44/(G23482*12*memoria!$B$47)","v":{"$error":"#DIV/0!"}},{"$f":"F23482/(G23482*12*memoria!$B$47)","v":{"$error":"#DIV/0!"}}]
[null,null,null,null,null,null,null,{"$f":"F23488*memoria!$B$44/(G23488*12*memoria!$B$47)","v":{"$error":"#DIV/0!"}},{"$f":"F23488/(G23488*12*memoria!$B$47)","v":{"$error":"#DIV/0!"}}]
[null,null,null,null,null,null,null,{"$f":"F23501*memoria!$B$44/(G23501*12*memoria!$B$47)","v":{"$error":"#DIV/0!"}},{"$f":"F23501/(G23501*12*memoria!$B$47)","v":{"$error":"#DIV/0!"}}]
[null,null,null,null,null,null,null,{"$f":"F23516*memoria!$B$44/(G23516*12*memoria!$B$47)","v":{"$error":"#DIV/0!"}},{"$f":"F23516/(G23516*12*memoria!$B$47)","v":{"$error":"#DIV/0!"}}]
[null,null,null,null,null,null,null,{"$f":"F23522*memoria!$B$44/(G23522*12*memoria!$B$47)","v":{"$error":"#DIV/0!"}},{"$f":"F23522/(G23522*12*memoria!$B$47)","v":{"$error":"#DIV/0!"}}]
[null,null,null,null,null,null,null,{"$f":"F23532*memoria!$B$44/(G23532*12*memoria!$B$47)","v":{"$error":"#DIV/0!"}},{"$f":"F23532/(G23532*12*memoria!$B$47)","v":{"$error":"#DIV/0!"}}]
[null,null,null,null,null,null,null,{"$f":"F23550*memoria!$B$44/(G23550*12*memoria!$B$47)","v":{"$error":"#DIV/0!"}},{"$f":"F23550/(G23550*12*memoria!$B$47)","v":{"$error":"#DIV/0!"}}]
[null,null,null,null,null,null,null,{"$f":"F23556*memoria!$B$44/(G23556*12*memoria!$B$47)","v":{"$error":"#DIV/0!"}},{"$f":"F23556/(G23556*12*memoria!$B$47)","v":{"$error":"#DIV/0!"}}]
[null,null,null,null,null,null,null,{"$f":"F23566*memoria!$B$44/(G23566*12*memoria!$B$47)","v":{"$error":"#DIV/0!"}},{"$f":"F23566/(G23566*12*memoria!$B$47)","v":{"$error":"#DIV/0!"}}]
[null,null,null,null,null,null,null,{"$f":"F23579*memoria!$B$44/(G23579*12*memoria!$B$47)","v":{"$error":"#DIV/0!"}},{"$f":"F23579/(G23579*12*memoria!$B$47)","v":{"$error":"#DIV/0!"}}]
[null,null,null,null,null,null,null,{"$f":"F23594*memoria!$B$44/(G23594*12*memoria!$B$47)","v":{"$error":"#DIV/0!"}},{"$f":"F23594/(G23594*12*memoria!$B$47)","v":{"$error":"#DIV/0!"}}]
[null,null,null,null,null,null,null,{"$f":"F23600*memoria!$B$44/(G23600*12*memoria!$B$47)","v":{"$error":"#DIV/0!"}},{"$f":"F23600/(G23600*12*memoria!$B$47)","v":{"$error":"#DIV/0!"}}]
[null,null,null,null,null,null,null,{"$f":"F23617*memoria!$B$44/(G23617*12*memoria!$B$47)","v":{"$error":"#DIV/0!"}},{"$f":"F23617/(G23617*12*memoria!$B$47)","v":{"$error":"#DIV/0!"}}]
[null,null,null,null,null,null,null,{"$f":"F23632*memoria!$B$44/(G23632*12*memoria!$B$47)","v":{"$error":"#DIV/0!"}},{"$f":"F23632/(G23632*12*memoria!$B$47)","v":{"$error":"#DIV/0!"}}]
[null,null,null,null,null,null,null,{"$f":"F23634*memoria!$B$44/(G23634*12*memoria!$B$47)","v":{"$error":"#DIV/0!"}},{"$f":"F23634/(G23634*12*memoria!$B$47)","v":{"$error":"#DIV/0!"}}]
[null,null,null,null,null,null,null,{"$f":"F23651*memoria!$B$44/(G23651*12*memoria!$B$47)","v":{"$error":"#DIV/0!"}},{"$f":"F23651/(G23651*12*memoria!$B$47)","v":{"$error":"#DIV/0!"}}]
[null,null,null,null,null,null,null,{"$f":"F23661*memoria!$B$44/(G23661*12*memoria!$B$47)","v":{"$error":"#DIV/0!"}},{"$f":"F23661/(G23661*12*memoria!$B$47)","v":{"$error":"#DIV/0!"}}]
[null,null,null,null,null,null,null,{"$f":"F23669*memoria!$B$44/(G23669*12*memoria!$B$47)","v":{"$error":"#DIV/0!"}},{"$f":"F23669/(G23669*12*memoria!$B$47)","v":{"$error":"#DIV/0!"}}]
[null,null,null,null,null,null,null,{"$f":"F23689*memoria!$B$44/(G23689*12*memoria!$B$47)","v":{"$error":"#DIV/0!"}},{"$f":"F23689/(G23689*12*memoria!$B$47)","v":{"$error":"#DIV/0!"}}]
[null,null,null,null,null,null,null,{"$f":"F23695*memoria!$B$44/(G23695*12*memoria!$B$47)","v":{"$error":"#DIV/0!"}},{"$f":"F23695/(G23695*12*memoria!$B$47)","v":{"$error":"#DIV/0!"}}]
[null,null,null,null,null,null,null,{"$f":"F23710*memoria!$B$44/(G23710*12*memoria!$B$47)","v":{"$error":"#DIV/0!"}},{"$f":"F23710/(G23710*12*memoria!$B$47)","v":{"$error":"#DIV/0!"}}]
[null,null,null,null,null,null,null,{"$f":"F23723*memoria!$B$44/(G23723*12*memoria!$B$47)","v":{"$error":"#DIV/0!"}},{"$f":"F23723/(G23723*12*memoria!$B$47)","v":{"$error":"#DIV/0!"}}]
[null,null,null,null,null,null,null,{"$f":"F23729*memoria!$B$44/(G23729*12*memoria!$B$47)","v":{"$error":"#DIV/0!"}},{"$f":"F23729/(G23729*12*memoria!$B$47)","v":{"$error":"#DIV/0!"}}]
[null,null,null,null,null,null,null,{"$f":"F23739*memoria!$B$44/(G23739*12*memoria!$B$47)","v":{"$error":"#DIV/0!"}},{"$f":"F23739/(G23739*12*memoria!$B$47)","v":{"$error":"#DIV/0!"}}]
[null,null,null,null,null,null,null,{"$f":"F23751*memoria!$B$44/(G23751*12*memoria!$B$47)","v":{"$error":"#DIV/0!"}},{"$f":"F23751/(G23751*12*memoria!$B$47)","v":{"$error":"#DIV/0!"}}]
[null,null,null,null,null,null,null,{"$f":"F23763*memoria!$B$44/(G23763*12*memoria!$B$47)","v":{"$error":"#DIV/0!"}},{"$f":"F23763/(G23763*12*memoria!$B$47)","v":{"$error":"#DIV/0!"}}]
[null,null,null,null,null,null,null,{"$f":"F23773*memoria!$B$44/(G23773*12*memoria!$B$47)","v":{"$error":"#DIV/0!"}},{"$f":"F23773/(G23773*12*memoria!$B$47)","v":{"$error":"#DIV/0!"}}]
[null,null,null,null,null,null,null,{"$f":"F23780*memoria!$B$44/(G23780*12*memoria!$B$47)","v":{"$error":"#DIV/0!"}},{"$f":"F23780/(G23780*12*memoria!$B$47)","v":{"$error":"#DIV/0!"}}]
[null,null,null,null,null,null,null,{"$f":"F23797*memoria!$B$44/(G23797*12*memoria!$B$47)","v":{"$error":"#DIV/0!"}},{"$f":"F23797/(G23797*12*memoria!$B$47)","v":{"$error":"#DIV/0!"}}]
[null,null,null,null,null,null,null,{"$f":"F23807*memoria!$B$44/(G23807*12*memoria!$B$47)","v":{"$error":"#DIV/0!"}},{"$f":"F23807/(G23807*12*memoria!$B$47)","v":{"$error":"#DIV/0!"}}]
[null,null,null,null,null,null,null,{"$f":"F23824*memoria!$B$44/(G23824*12*memoria!$B$47)","v":{"$error":"#DIV/0!"}},{"$f":"F23824/(G23824*12*memoria!$B$47)","v":{"$error":"#DIV/0!"}}]
[null,null,null,null,null,null,null,{"$f":"F23833*memoria!$B$44/(G23833*12*memoria!$B$47)","v":{"$error":"#DIV/0!"}},{"$f":"F23833/(G23833*12*memoria!$B$47)","v":{"$error":"#DIV/0!"}}]
[null,null,null,null,null,null,null,{"$f":"F23841*memoria!$B$44/(G23841*12*memoria!$B$47)","v":{"$error":"#DIV/0!"}},{"$f":"F23841/(G23841*12*memoria!$B$47)","v":{"$error":"#DIV/0!"}}]
[null,null,null,null,null,null,null,{"$f":"F23858*memoria!$B$44/(G23858*12*memoria!$B$47)","v":{"$error":"#DIV/0!"}},{"$f":"F23858/(G23858*12*memoria!$B$47)","v":{"$error":"#DIV/0!"}}]
[null,null,null,null,null,null,null,{"$f":"F23868*memoria!$B$44/(G23868*12*memoria!$B$47)","v":{"$error":"#DIV/0!"}},{"$f":"F23868/(G23868*12*memoria!$B$47)","v":{"$error":"#DIV/0!"}}]
[null,null,null,null,null,null,null,{"$f":"F23870*memoria!$B$44/(G23870*12*memoria!$B$47)","v":{"$error":"#DIV/0!"}},{"$f":"F23870/(G23870*12*memoria!$B$47)","v":{"$error":"#DIV/0!"}}]
[null,null,null,null,null,null,null,{"$f":"F23885*memoria!$B$44/(G23885*12*memoria!$B$47)","v":{"$error":"#DIV/0!"}},{"$f":"F23885/(G23885*12*memoria!$B$47)","v":{"$error":"#DIV/0!"}}]
[null,null,null,null,null,null,null,{"$f":"F23902*memoria!$B$44/(G23902*12*memoria!$B$47)","v":{"$error":"#DIV/0!"}},{"$f":"F23902/(G23902*12*memoria!$B$47)","v":{"$error":"#DIV/0!"}}]
[null,null,null,null,null,null,null,{"$f":"F23911*memoria!$B$44/(G23911*12*memoria!$B$47)","v":{"$error":"#DIV/0!"}},{"$f":"F23911/(G23911*12*memoria!$B$47)","v":{"$error":"#DIV/0!"}}]
[null,null,null,null,null,null,null,{"$f":"F23919*memoria!$B$44/(G23919*12*memoria!$B$47)","v":{"$error":"#DIV/0!"}},{"$f":"F23919/(G23919*12*memoria!$B$47)","v":{"$error":"#DIV/0!"}}]
[null,null,null,null,null,null,null,{"$f":"F23936*memoria!$B$44/(G23936*12*memoria!$B$47)","v":{"$error":"#DIV/0!"}},{"$f":"F23936/(G23936*12*memoria!$B$47)","v":{"$error":"#DIV/0!"}}]
[null,null,null,null,null,null,null,{"$f":"F23942*memoria!$B$44/(G23942*12*memoria!$B$47)","v":{"$error":"#DIV/0!"}},{"$f":"F23942/(G23942*12*memoria!$B$47)","v":{"$error":"#DIV/0!"}}]
[null,null,null,null,null,null,null,{"$f":"F23952*memoria!$B$44/(G23952*12*memoria!$B$47)","v":{"$error":"#DIV/0!"}},{"$f":"F23952/(G23952*12*memoria!$B$47)","v":{"$error":"#DIV/0!"}}]
[null,null,null,null,null,null,null,{"$f":"F23970*memoria!$B$44/(G23970*12*memoria!$B$47)","v":{"$error":"#DIV/0!"}},{"$f":"F23970/(G23970*12*memoria!$B$47)","v":{"$error":"#DIV/0!"}}]
[null,null,null,null,null,null,null,{"$f":"F23980*memoria!$B$44/(G23980*12*memoria!$B$47)","v":{"$error":"#DIV/0!"}},{"$f":"F23980/(G23980*12*memoria!$B$47)","v":{"$error":"#DIV/0!"}}]
[null,null,null,null,null,null,null,{"$f":"F23993*memoria!$B$44/(G23993*12*memoria!$B$47)","v":{"$error":"#DIV/0!"}},{"$f":"F23993/(G23993*12*memoria!$B$47)","v":{"$error":"#DIV/0!"}}]
[null,null,null,null,null,null,null,{"$f":"F24004*memoria!$B$44/(G24004*12*memoria!$B$47)","v":{"$error":"#DIV/0!"}},{"$f":"F24004/(G24004*12*memoria!$B$47)","v":{"$error":"#DIV/0!"}}]
[null,null,null,null,null,null,null,{"$f":"F24014*memoria!$B$44/(G24014*12*memoria!$B$47)","v":{"$error":"#DIV/0!"}},{"$f":"F24014/(G24014*12*memoria!$B$47)","v":{"$error":"#DIV/0!"}}]
[null,null,null,null,null,null,null,{"$f":"F24020*memoria!$B$44/(G24020*12*memoria!$B$47)","v":{"$error":"#DIV/0!"}},{"$f":"F24020/(G24020*12*memoria!$B$47)","v":{"$error":"#DIV/0!"}}]
[null,null,null,null,null,null,null,{"$f":"F24030*memoria!$B$44/(G24030*12*memoria!$B$47)","v":{"$error":"#DIV/0!"}},{"$f":"F24030/(G24030*12*memoria!$B$47)","v":{"$error":"#DIV/0!"}}]
[null,null,null,null,null,null,null,{"$f":"F24048*memoria!$B$44/(G24048*12*memoria!$B$47)","v":{"$error":"#DIV/0!"}},{"$f":"F24048/(G24048*12*memoria!$B$47)","v":{"$error":"#DIV/0!"}}]
[null,null,null,null,null,null,null,{"$f":"F24054*memoria!$B$44/(G24054*12*memoria!$B$47)","v":{"$error":"#DIV/0!"}},{"$f":"F24054/(G24054*12*memoria!$B$47)","v":{"$error":"#DIV/0!"}}]
[null,null,null,null,null,null,null,{"$f":"F24063*memoria!$B$44/(G24063*12*memoria!$B$47)","v":{"$error":"#DIV/0!"}},{"$f":"F24063/(G24063*12*memoria!$B$47)","v":{"$error":"#DIV/0!"}}]
[null,null,null,null,null,null,null,{"$f":"F24082*memoria!$B$44/(G24082*12*memoria!$B$47)","v":{"$error":"#DIV/0!"}},{"$f":"F24082/(G24082*12*memoria!$B$47)","v":{"$error":"#DIV/0!"}}]
[null,null,null,null,null,null,null,{"$f":"F24088*memoria!$B$44/(G24088*12*memoria!$B$47)","v":{"$error":"#DIV/0!"}},{"$f":"F24088/(G24088*12*memoria!$B$47)","v":{"$error":"#DIV/0!"}}]
[null,null,null,null,null,null,null,{"$f":"F24098*memoria!$B$44/(G24098*12*memoria!$B$47)","v":{"$error":"#DIV/0!"}},{"$f":"F24098/(G24098*12*memoria!$B$47)","v":{"$error":"#DIV/0!"}}]
[null,null,null,null,null,null,null,{"$f":"F24112*memoria!$B$44/(G24112*12*memoria!$B$47)","v":{"$error":"#DIV/0!"}},{"$f":"F24112/(G24112*12*memoria!$B$47)","v":{"$error":"#DIV/0!"}}]
[null,null,null,null,null,null,null,{"$f":"F24126*memoria!$B$44/(G24126*12*memoria!$B$47)","v":{"$error":"#DIV/0!"}},{"$f":"F24126/(G24126*12*memoria!$B$47)","v":{"$error":"#DIV/0!"}}]
[null,null,null,null,null,null,null,{"$f":"F24132*memoria!$B$44/(G24132*12*memoria!$B$47)","v":{"$error":"#DIV/0!"}},{"$f":"F24132/(G24132*12*memoria!$B$47)","v":{"$error":"#DIV/0!"}}]
[null,null,null,null,null,null,null,{"$f":"F24149*memoria!$B$44/(G24149*12*memoria!$B$47)","v":{"$error":"#DIV/0!"}},{"$f":"F24149/(G24149*12*memoria!$B$47)","v":{"$error":"#DIV/0!"}}]
[null,null,null,null,null,null,null,{"$f":"F24153*memoria!$B$44/(G24153*12*memoria!$B$47)","v":{"$error":"#DIV/0!"}},{"$f":"F24153/(G24153*12*memoria!$B$47)","v":{"$error":"#DIV/0!"}}]
[null,null,null,null,null,null,null,{"$f":"F24166*memoria!$B$44/(G24166*12*memoria!$B$47)","v":{"$error":"#DIV/0!"}},{"$f":"F24166/(G24166*12*memoria!$B$47)","v":{"$error":"#DIV/0!"}}]
[null,null,null,null,null,null,null,{"$f":"F24183*memoria!$B$44/(G24183*12*memoria!$B$47)","v":{"$error":"#DIV/0!"}},{"$f":"F24183/(G24183*12*memoria!$B$47)","v":{"$error":"#DIV/0!"}}]
[null,null,null,null,null,null,null,{"$f":"F24194*memoria!$B$44/(G24194*12*memoria!$B$47)","v":{"$error":"#DIV/0!"}},{"$f":"F24194/(G24194*12*memoria!$B$47)","v":{"$error":"#DIV/0!"}}]
[null,null,null,null,null,null,null,{"$f":"F24200*memoria!$B$44/(G24200*12*memoria!$B$47)","v":{"$error":"#DIV/0!"}},{"$f":"F24200/(G24200*12*memoria!$B$47)","v":{"$error":"#DIV/0!"}}]
[null,null,null,null,null,null,null,{"$f":"F24210*memoria!$B$44/(G24210*12*memoria!$B$47)","v":{"$error":"#DIV/0!"}},{"$f":"F24210/(G24210*12*memoria!$B$47)","v":{"$error":"#DIV/0!"}}]
[null,null,null,null,null,null,null,{"$f":"F24227*memoria!$B$44/(G24227*12*memoria!$B$47)","v":{"$error":"#DIV/0!"}},{"$f":"F24227/(G24227*12*memoria!$B$47)","v":{"$error":"#DIV/0!"}}]
[null,null,null,null,null,null,null,{"$f":"F24231*memoria!$B$44/(G24231*12*memoria!$B$47)","v":{"$error":"#DIV/0!"}},{"$f":"F24231/(G24231*12*memoria!$B$47)","v":{"$error":"#DIV/0!"}}]
[null,null,null,null,null,null,null,{"$f":"F24244*memoria!$B$44/(G24244*12*memoria!$B$47)","v":{"$error":"#DIV/0!"}},{"$f":"F24244/(G24244*12*memoria!$B$47)","v":{"$error":"#DIV/0!"}}]
[null,null,null,null,null,null,null,{"$f":"F24261*memoria!$B$44/(G24261*12*memoria!$B$47)","v":{"$error":"#DIV/0!"}},{"$f":"F24261/(G24261*12*memoria!$B$47)","v":{"$error":"#DIV/0!"}}]
[null,null,null,null,null,null,null,{"$f":"F24276*memoria!$B$44/(G24276*12*memoria!$B$47)","v":{"$error":"#DIV/0!"}},{"$f":"F24276/(G24276*12*memoria!$B$47)","v":{"$error":"#DIV/0!"}}]
[null,null,null,null,null,null,null,{"$f":"F24278*memoria!$B$44/(G24278*12*memoria!$B$47)","v":{"$error":"#DIV/0!"}},{"$f":"F24278/(G24278*12*memoria!$B$47)","v":{"$error":"#DIV/0!"}}]
[null,null,null,null,null,null,null,{"$f":"F24295*memoria!$B$44/(G24295*12*memoria!$B$47)","v":{"$error":"#DIV/0!"}},{"$f":"F24295/(G24295*12*memoria!$B$47)","v":{"$error":"#DIV/0!"}}]
[null,null,null,null,null,null,null,{"$f":"F24305*memoria!$B$44/(G24305*12*memoria!$B$47)","v":{"$error":"#DIV/0!"}},{"$f":"F24305/(G24305*12*memoria!$B$47)","v":{"$error":"#DIV/0!"}}]
[null,null,null,null,null,null,null,{"$f":"F24313*memoria!$B$44/(G24313*12*memoria!$B$47)","v":{"$error":"#DIV/0!"}},{"$f":"F24313/(G24313*12*memoria!$B$47)","v":{"$error":"#DIV/0!"}}]
[null,null,null,null,null,null,null,{"$f":"F24329*memoria!$B$44/(G24329*12*memoria!$B$47)","v":{"$error":"#DIV/0!"}},{"$f":"F24329/(G24329*12*memoria!$B$47)","v":{"$error":"#DIV/0!"}}]
[null,null,null,null,null,null,null,{"$f":"F24339*memoria!$B$44/(G24339*12*memoria!$B$47)","v":{"$error":"#DIV/0!"}},{"$f":"F24339/(G24339*12*memoria!$B$47)","v":{"$error":"#DIV/0!"}}]
[null,null,null,null,null,null,null,{"$f":"F24345*memoria!$B$44/(G24345*12*memoria!$B$47)","v":{"$error":"#DIV/0!"}},{"$f":"F24345/(G24345*12*memoria!$B$47)","v":{"$error":"#DIV/0!"}}]
[null,null,null,null,null,null,null,{"$f":"F24366*memoria!$B$44/(G24366*12*memoria!$B$47)","v":{"$error":"#DIV/0!"}},{"$f":"F24366/(G24366*12*memoria!$B$47)","v":{"$error":"#DIV/0!"}}]
[null,null,null,null,null,null,null,{"$f":"F24373*memoria!$B$44/(G24373*12*memoria!$B$47)","v":{"$error":"#DIV/0!"}},{"$f":"F24373/(G24373*12*memoria!$B$47)","v":{"$error":"#DIV/0!"}}]
[null,null,null,null,null,null,null,{"$f":"F24379*memoria!$B$44/(G24379*12*memoria!$B$47)","v":{"$error":"#DIV/0!"}},{"$f":"F24379/(G24379*12*memoria!$B$47)","v":{"$error":"#DIV/0!"}}]
[null,null,null,null,null,null,null,{"$f":"F24395*memoria!$B$44/(G24395*12*memoria!$B$47)","v":{"$error":"#DIV/0!"}},{"$f":"F24395/(G24395*12*memoria!$B$47)","v":{"$error":"#DIV/0!"}}]
[null,null,null,null,null,null,null,{"$f":"F24407*memoria!$B$44/(G24407*12*memoria!$B$47)","v":{"$error":"#DIV/0!"}},{"$f":"F24407/(G24407*12*memoria!$B$47)","v":{"$error":"#DIV/0!"}}]
[null,null,null,null,null,null,null,{"$f":"F24413*memoria!$B$44/(G24413*12*memoria!$B$47)","v":{"$error":"#DIV/0!"}},{"$f":"F24413/(G24413*12*memoria!$B$47)","v":{"$error":"#DIV/0!"}}]
[null,null,null,null,null,null,null,{"$f":"F24423*memoria!$B$44/(G24423*12*memoria!$B$47)","v":{"$error":"#DIV/0!"}},{"$f":"F24423/(G24423*12*memoria!$B$47)","v":{"$error":"#DIV/0!"}}]
[null,null,null,null,null,null,null,{"$f":"F24444*memoria!$B$44/(G24444*12*memoria!$B$47)","v":{"$error":"#DIV/0!"}},{"$f":"F24444/(G24444*12*memoria!$B$47)","v":{"$error":"#DIV/0!"}}]
[null,null,null,null,null,null,null,{"$f":"F24451*memoria!$B$44/(G24451*12*memoria!$B$47)","v":{"$error":"#DIV/0!"}},{"$f":"F24451/(G24451*12*memoria!$B$47)","v":{"$error":"#DIV/0!"}}]
[null,null,null,null,null,null,null,{"$f":"F24457*memoria!$B$44/(G24457*12*memoria!$B$47)","v":{"$error":"#DIV/0!"}},{"$f":"F24457/(G24457*12*memoria!$B$47)","v":{"$error":"#DIV/0!"}}]
[null,null,null,null,null,null,null,{"$f":"F24473*memoria!$B$44/(G24473*12*memoria!$B$47)","v":{"$error":"#DIV/0!"}},{"$f":"F24473/(G24473*12*memoria!$B$47)","v":{"$error":"#DIV/0!"}}]
[null,null,null,null,null,null,null,{"$f":"F24485*memoria!$B$44/(G24485*12*memoria!$B$47)","v":{"$error":"#DIV/0!"}},{"$f":"F24485/(G24485*12*memoria!$B$47)","v":{"$error":"#DIV/0!"}}]
[null,null,null,null,null,null,null,{"$f":"F24491*memoria!$B$44/(G24491*12*memoria!$B$47)","v":{"$error":"#DIV/0!"}},{"$f":"F24491/(G24491*12*memoria!$B$47)","v":{"$error":"#DIV/0!"}}]
[null,null,null,null,null,null,null,{"$f":"F24512*memoria!$B$44/(G24512*12*memoria!$B$47)","v":{"$error":"#DIV/0!"}},{"$f":"F24512/(G24512*12*memoria!$B$47)","v":{"$error":"#DIV/0!"}}]
[null,null,null,null,null,null,null,{"$f":"F24514*memoria!$B$44/(G24514*12*memoria!$B$47)","v":{"$error":"#DIV/0!"}},{"$f":"F24514/(G24514*12*memoria!$B$47)","v":{"$error":"#DIV/0!"}}]
[null,null,null,null,null,null,null,{"$f":"F24525*memoria!$B$44/(G24525*12*memoria!$B$47)","v":{"$error":"#DIV/0!"}},{"$f":"F24525/(G24525*12*memoria!$B$47)","v":{"$error":"#DIV/0!"}}]
[null,null,null,null,null,null,null,{"$f":"F24546*memoria!$B$44/(G24546*12*memoria!$B$47)","v":{"$error":"#DIV/0!"}},{"$f":"F24546/(G24546*12*memoria!$B$47)","v":{"$error":"#DIV/0!"}}]
[null,null,null,null,null,null,null,{"$f":"F24555*memoria!$B$44/(G24555*12*memoria!$B$47)","v":{"$error":"#DIV/0!"}},{"$f":"F24555/(G24555*12*memoria!$B$47)","v":{"$error":"#DIV/0!"}}]
[null,null,null,null,null,null,null,{"$f":"F24559*memoria!$B$44/(G24559*12*memoria!$B$47)","v":{"$error":"#DIV/0!"}},{"$f":"F24559/(G24559*12*memoria!$B$47)","v":{"$error":"#DIV/0!"}}]
[null,null,null,null,null,null,null,{"$f":"F24560*memoria!$B$44/(G24560*12*memoria!$B$47)","v":{"$error":"#DIV/0!"}},{"$f":"F24560/(G24560*12*memoria!$B$47)","v":{"$error":"#DIV/0!"}}]
[null,null,null,null,null,null,null,{"$f":"F24561*memoria!$B$44/(G24561*12*memoria!$B$47)","v":{"$error":"#DIV/0!"}},{"$f":"F24561/(G24561*12*memoria!$B$47)","v":{"$error":"#DIV/0!"}}]
[null,null,null,null,null,null,null,{"$f":"F24562*memoria!$B$44/(G24562*12*memoria!$B$47)","v":{"$error":"#DIV/0!"}},{"$f":"F24562/(G24562*12*memoria!$B$47)","v":{"$error":"#DIV/0!"}}]
[null,null,null,null,null,null,null,{"$f":"F24563*memoria!$B$44/(G24563*12*memoria!$B$47)","v":{"$error":"#DIV/0!"}},{"$f":"F24563/(G24563*12*memoria!$B$47)","v":{"$error":"#DIV/0!"}}]
[null,null,null,null,null,null,null,{"$f":"F24564*memoria!$B$44/(G24564*12*memoria!$B$47)","v":{"$error":"#DIV/0!"}},{"$f":"F24564/(G24564*12*memoria!$B$47)","v":{"$error":"#DIV/0!"}}]
[null,null,null,null,null,null,null,{"$f":"F24565*memoria!$B$44/(G24565*12*memoria!$B$47)","v":{"$error":"#DIV/0!"}},{"$f":"F24565/(G24565*12*memoria!$B$47)","v":{"$error":"#DIV/0!"}}]
[null,null,null,null,null,null,null,{"$f":"F24566*memoria!$B$44/(G24566*12*memoria!$B$47)","v":{"$error":"#DIV/0!"}},{"$f":"F24566/(G24566*12*memoria!$B$47)","v":{"$error":"#DIV/0!"}}]
[null,null,null,null,null,null,null,{"$f":"F24567*memoria!$B$44/(G24567*12*memoria!$B$47)","v":{"$error":"#DIV/0!"}},{"$f":"F24567/(G24567*12*memoria!$B$47)","v":{"$error":"#DIV/0!"}}]
[null,null,null,null,null,null,null,{"$f":"F24568*memoria!$B$44/(G24568*12*memoria!$B$47)","v":{"$error":"#DIV/0!"}},{"$f":"F24568/(G24568*12*memoria!$B$47)","v":{"$error":"#DIV/0!"}}]
[null,null,null,null,null,null,null,{"$f":"F24569*memoria!$B$44/(G24569*12*memoria!$B$47)","v":{"$error":"#DIV/0!"}},{"$f":"F24569/(G24569*12*memoria!$B$47)","v":{"$error":"#DIV/0!"}}]
[null,null,null,null,null,null,null,{"$f":"F24570*memoria!$B$44/(G24570*12*memoria!$B$47)","v":{"$error":"#DIV/0!"}},{"$f":"F24570/(G24570*12*memoria!$B$47)","v":{"$error":"#DIV/0!"}}]
[null,null,null,null,null,null,null,{"$f":"F24571*memoria!$B$44/(G24571*12*memoria!$B$47)","v":{"$error":"#DIV/0!"}},{"$f":"F24571/(G24571*12*memoria!$B$47)","v":{"$error":"#DIV/0!"}}]
[null,null,null,null,null,null,null,{"$f":"F24572*memoria!$B$44/(G24572*12*memoria!$B$47)","v":{"$error":"#DIV/0!"}},{"$f":"F24572/(G24572*12*memoria!$B$47)","v":{"$error":"#DIV/0!"}}]
[null,null,null,null,null,null,null,{"$f":"F24573*memoria!$B$44/(G24573*12*memoria!$B$47)","v":{"$error":"#DIV/0!"}},{"$f":"F24573/(G24573*12*memoria!$B$47)","v":{"$error":"#DIV/0!"}}]
[null,null,null,null,null,null,null,{"$f":"F24574*memoria!$B$44/(G24574*12*memoria!$B$47)","v":{"$error":"#DIV/0!"}},{"$f":"F24574/(G24574*12*memoria!$B$47)","v":{"$error":"#DIV/0!"}}]
[null,null,null,null,null,null,null,{"$f":"F24575*memoria!$B$44/(G24575*12*memoria!$B$47)","v":{"$error":"#DIV/0!"}},{"$f":"F24575/(G24575*12*memoria!$B$47)","v":{"$error":"#DIV/0!"}}]
[null,null,null,null,null,null,null,{"$f":"F24576*memoria!$B$44/(G24576*12*memoria!$B$47)","v":{"$error":"#DIV/0!"}},{"$f":"F24576/(G24576*12*memoria!$B$47)","v":{"$error":"#DIV/0!"}}]
[null,null,null,null,null,null,null,{"$f":"F24577*memoria!$B$44/(G24577*12*memoria!$B$47)","v":{"$error":"#DIV/0!"}},{"$f":"F24577/(G24577*12*memoria!$B$47)","v":{"$error":"#DIV/0!"}}]
[null,null,null,null,null,null,null,{"$f":"F24578*memoria!$B$44/(G24578*12*memoria!$B$47)","v":{"$error":"#DIV/0!"}},{"$f":"F24578/(G24578*12*memoria!$B$47)","v":{"$error":"#DIV/0!"}}]
[null,null,null,null,null,null,null,{"$f":"F24579*memoria!$B$44/(G24579*12*memoria!$B$47)","v":{"$error":"#DIV/0!"}},{"$f":"F24579/(G24579*12*memoria!$B$47)","v":{"$error":"#DIV/0!"}}]
[null,null,null,null,null,null,null,{"$f":"F24580*memoria!$B$44/(G24580*12*memoria!$B$47)","v":{"$error":"#DIV/0!"}},{"$f":"F24580/(G24580*12*memoria!$B$47)","v":{"$error":"#DIV/0!"}}]
[null,null,null,null,null,null,null,{"$f":"F24581*memoria!$B$44/(G24581*12*memoria!$B$47)","v":{"$error":"#DIV/0!"}},{"$f":"F24581/(G24581*12*memoria!$B$47)","v":{"$error":"#DIV/0!"}}]
[null,null,null,null,null,null,null,{"$f":"F24582*memoria!$B$44/(G24582*12*memoria!$B$47)","v":{"$error":"#DIV/0!"}},{"$f":"F24582/(G24582*12*memoria!$B$47)","v":{"$error":"#DIV/0!"}}]
[null,null,null,null,null,null,null,{"$f":"F24583*memoria!$B$44/(G24583*12*memoria!$B$47)","v":{"$error":"#DIV/0!"}},{"$f":"F24583/(G24583*12*memoria!$B$47)","v":{"$error":"#DIV/0!"}}]
[null,null,null,null,null,null,null,{"$f":"F24584*memoria!$B$44/(G24584*12*memoria!$B$47)","v":{"$error":"#DIV/0!"}},{"$f":"F24584/(G24584*12*memoria!$B$47)","v":{"$error":"#DIV/0!"}}]
[null,null,null,null,null,null,null,{"$f":"F24585*memoria!$B$44/(G24585*12*memoria!$B$47)","v":{"$error":"#DIV/0!"}},{"$f":"F24585/(G24585*12*memoria!$B$47)","v":{"$error":"#DIV/0!"}}]
[null,null,null,null,null,null,null,{"$f":"F24586*memoria!$B$44/(G24586*12*memoria!$B$47)","v":{"$error":"#DIV/0!"}},{"$f":"F24586/(G24586*12*memoria!$B$47)","v":{"$error":"#DIV/0!"}}]
[null,null,null,null,null,null,null,{"$f":"F24587*memoria!$B$44/(G24587*12*memoria!$B$47)","v":{"$error":"#DIV/0!"}},{"$f":"F24587/(G24587*12*memoria!$B$47)","v":{"$error":"#DIV/0!"}}]
[null,null,null,null,null,null,null,{"$f":"F24588*memoria!$B$44/(G24588*12*memoria!$B$47)","v":{"$error":"#DIV/0!"}},{"$f":"F24588/(G24588*12*memoria!$B$47)","v":{"$error":"#DIV/0!"}}]
[null,null,null,null,null,null,null,{"$f":"F24589*memoria!$B$44/(G24589*12*memoria!$B$47)","v":{"$error":"#DIV/0!"}},{"$f":"F24589/(G24589*12*memoria!$B$47)","v":{"$error":"#DIV/0!"}}]
[null,null,null,null,null,null,null,{"$f":"F24590*memoria!$B$44/(G24590*12*memoria!$B$47)","v":{"$error":"#DIV/0!"}},{"$f":"F24590/(G24590*12*memoria!$B$47)","v":{"$error":"#DIV/0!"}}]
[null,null,null,null,null,null,null,{"$f":"F24591*memoria!$B$44/(G24591*12*memoria!$B$47)","v":{"$error":"#DIV/0!"}},{"$f":"F24591/(G24591*12*memoria!$B$47)","v":{"$error":"#DIV/0!"}}]
[null,null,null,null,null,null,null,{"$f":"F24592*memoria!$B$44/(G24592*12*memoria!$B$47)","v":{"$error":"#DIV/0!"}},{"$f":"F24592/(G24592*12*memoria!$B$47)","v":{"$error":"#DIV/0!"}}]
[null,null,null,null,null,null,null,{"$f":"F24593*memoria!$B$44/(G24593*12*memoria!$B$47)","v":{"$error":"#DIV/0!"}},{"$f":"F24593/(G24593*12*memoria!$B$47)","v":{"$error":"#DIV/0!"}}]
[null,null,null,null,null,null,null,{"$f":"F24594*memoria!$B$44/(G24594*12*memoria!$B$47)","v":{"$error":"#DIV/0!"}},{"$f":"F24594/(G24594*12*memoria!$B$47)","v":{"$error":"#DIV/0!"}}]
[null,null,null,null,null,null,null,{"$f":"F24595*memoria!$B$44/(G24595*12*memoria!$B$47)","v":{"$error":"#DIV/0!"}},{"$f":"F24595/(G24595*12*memoria!$B$47)","v":{"$error":"#DIV/0!"}}]
[null,null,null,null,null,null,null,{"$f":"F24596*memoria!$B$44/(G24596*12*memoria!$B$47)","v":{"$error":"#DIV/0!"}},{"$f":"F24596/(G24596*12*memoria!$B$47)","v":{"$error":"#DIV/0!"}}]
[null,null,null,null,null,null,null,{"$f":"F24597*memoria!$B$44/(G24597*12*memoria!$B$47)","v":{"$error":"#DIV/0!"}},{"$f":"F24597/(G24597*12*memoria!$B$47)","v":{"$error":"#DIV/0!"}}]
[null,null,null,null,null,null,null,{"$f":"F24598*memoria!$B$44/(G24598*12*memoria!$B$47)","v":{"$error":"#DIV/0!"}},{"$f":"F24598/(G24598*12*memoria!$B$47)","v":{"$error":"#DIV/0!"}}]
[null,null,null,null,null,null,null,{"$f":"F24599*memoria!$B$44/(G24599*12*memoria!$B$47)","v":{"$error":"#DIV/0!"}},{"$f":"F24599/(G24599*12*memoria!$B$47)","v":{"$error":"#DIV/0!"}}]
[null,null,null,null,null,null,null,{"$f":"F24600*memoria!$B$44/(G24600*12*memoria!$B$47)","v":{"$error":"#DIV/0!"}},{"$f":"F24600/(G24600*12*memoria!$B$47)","v":{"$error":"#DIV/0!"}}]
[null,null,null,null,null,null,null,{"$f":"F24601*memoria!$B$44/(G24601*12*memoria!$B$47)","v":{"$error":"#DIV/0!"}},{"$f":"F24601/(G24601*12*memoria!$B$47)","v":{"$error":"#DIV/0!"}}]
[null,null,null,null,null,null,null,{"$f":"F24602*memoria!$B$44/(G24602*12*memoria!$B$47)","v":{"$error":"#DIV/0!"}},{"$f":"F24602/(G24602*12*memoria!$B$47)","v":{"$error":"#DIV/0!"}}]
[null,null,null,null,null,null,null,{"$f":"F24603*memoria!$B$44/(G24603*12*memoria!$B$47)","v":{"$error":"#DIV/0!"}},{"$f":"F24603/(G24603*12*memoria!$B$47)","v":{"$error":"#DIV/0!"}}]
[null,null,null,null,null,null,null,{"$f":"F24604*memoria!$B$44/(G24604*12*memoria!$B$47)","v":{"$error":"#DIV/0!"}},{"$f":"F24604/(G24604*12*memoria!$B$47)","v":{"$error":"#DIV/0!"}}]
[null,null,null,null,null,null,null,{"$f":"F24605*memoria!$B$44/(G24605*12*memoria!$B$47)","v":{"$error":"#DIV/0!"}},{"$f":"F24605/(G24605*12*memoria!$B$47)","v":{"$error":"#DIV/0!"}}]
[null,null,null,null,null,null,null,{"$f":"F24606*memoria!$B$44/(G24606*12*memoria!$B$47)","v":{"$error":"#DIV/0!"}},{"$f":"F24606/(G24606*12*memoria!$B$47)","v":{"$error":"#DIV/0!"}}]
[null,null,null,null,null,null,null,{"$f":"F24607*memoria!$B$44/(G24607*12*memoria!$B$47)","v":{"$error":"#DIV/0!"}},{"$f":"F24607/(G24607*12*memoria!$B$47)","v":{"$error":"#DIV/0!"}}]
[null,null,null,null,null,null,null,{"$f":"F24608*memoria!$B$44/(G24608*12*memoria!$B$47)","v":{"$error":"#DIV/0!"}},{"$f":"F24608/(G24608*12*memoria!$B$47)","v":{"$error":"#DIV/0!"}}]
[null,null,null,null,null,null,null,{"$f":"F24609*memoria!$B$44/(G24609*12*memoria!$B$47)","v":{"$error":"#DIV/0!"}},{"$f":"F24609/(G24609*12*memoria!$B$47)","v":{"$error":"#DIV/0!"}}]
[null,null,null,null,null,null,null,{"$f":"F24610*memoria!$B$44/(G24610*12*memoria!$B$47)","v":{"$error":"#DIV/0!"}},{"$f":"F24610/(G24610*12*memoria!$B$47)","v":{"$error":"#DIV/0!"}}]
[null,null,null,null,null,null,null,{"$f":"F24611*memoria!$B$44/(G24611*12*memoria!$B$47)","v":{"$error":"#DIV/0!"}},{"$f":"F24611/(G24611*12*memoria!$B$47)","v":{"$error":"#DIV/0!"}}]
[null,null,null,null,null,null,null,{"$f":"F24612*memoria!$B$44/(G24612*12*memoria!$B$47)","v":{"$error":"#DIV/0!"}},{"$f":"F24612/(G24612*12*memoria!$B$47)","v":{"$error":"#DIV/0!"}}]
[null,null,null,null,null,null,null,{"$f":"F24613*memoria!$B$44/(G24613*12*memoria!$B$47)","v":{"$error":"#DIV/0!"}},{"$f":"F24613/(G24613*12*memoria!$B$47)","v":{"$error":"#DIV/0!"}}]
[null,null,null,null,null,null,null,{"$f":"F24614*memoria!$B$44/(G24614*12*memoria!$B$47)","v":{"$error":"#DIV/0!"}},{"$f":"F24614/(G24614*12*memoria!$B$47)","v":{"$error":"#DIV/0!"}}]
[null,null,null,null,null,null,null,{"$f":"F24615*memoria!$B$44/(G24615*12*memoria!$B$47)","v":{"$error":"#DIV/0!"}},{"$f":"F24615/(G24615*12*memoria!$B$47)","v":{"$error":"#DIV/0!"}}]
[null,null,null,null,null,null,null,{"$f":"F24616*memoria!$B$44/(G24616*12*memoria!$B$47)","v":{"$error":"#DIV/0!"}},{"$f":"F24616/(G24616*12*memoria!$B$47)","v":{"$error":"#DIV/0!"}}]
[null,null,null,null,null,null,null,{"$f":"F24617*memoria!$B$44/(G24617*12*memoria!$B$47)","v":{"$error":"#DIV/0!"}},{"$f":"F24617/(G24617*12*memoria!$B$47)","v":{"$error":"#DIV/0!"}}]
[null,null,null,null,null,null,null,{"$f":"F24618*memoria!$B$44/(G24618*12*memoria!$B$47)","v":{"$error":"#DIV/0!"}},{"$f":"F24618/(G24618*12*memoria!$B$47)","v":{"$error":"#DIV/0!"}}]
[null,null,null,null,null,null,null,{"$f":"F24619*memoria!$B$44/(G24619*12*memoria!$B$47)","v":{"$error":"#DIV/0!"}},{"$f":"F24619/(G24619*12*memoria!$B$47)","v":{"$error":"#DIV/0!"}}]
[null,null,null,null,null,null,null,{"$f":"F24620*memoria!$B$44/(G24620*12*memoria!$B$47)","v":{"$error":"#DIV/0!"}},{"$f":"F24620/(G24620*12*memoria!$B$47)","v":{"$error":"#DIV/0!"}}]
[null,null,null,null,null,null,null,{"$f":"F24621*memoria!$B$44/(G24621*12*memoria!$B$47)","v":{"$error":"#DIV/0!"}},{"$f":"F24621/(G24621*12*memoria!$B$47)","v":{"$error":"#DIV/0!"}}]
[null,null,null,null,null,null,null,{"$f":"F24622*memoria!$B$44/(G24622*12*memoria!$B$47)","v":{"$error":"#DIV/0!"}},{"$f":"F24622/(G24622*12*memoria!$B$47)","v":{"$error":"#DIV/0!"}}]
[null,null,null,null,null,null,null,{"$f":"F24623*memoria!$B$44/(G24623*12*memoria!$B$47)","v":{"$error":"#DIV/0!"}},{"$f":"F24623/(G24623*12*memoria!$B$47)","v":{"$error":"#DIV/0!"}}]
[null,null,null,null,null,null,null,{"$f":"F24624*memoria!$B$44/(G24624*12*memoria!$B$47)","v":{"$error":"#DIV/0!"}},{"$f":"F24624/(G24624*12*memoria!$B$47)","v":{"$error":"#DIV/0!"}}]
[null,null,null,null,null,null,null,{"$f":"F24625*memoria!$B$44/(G24625*12*memoria!$B$47)","v":{"$error":"#DIV/0!"}},{"$f":"F24625/(G24625*12*memoria!$B$47)","v":{"$error":"#DIV/0!"}}]
[null,null,null,null,null,null,null,{"$f":"F24626*memoria!$B$44/(G24626*12*memoria!$B$47)","v":{"$error":"#DIV/0!"}},{"$f":"F24626/(G24626*12*memoria!$B$47)","v":{"$error":"#DIV/0!"}}]
[null,null,null,null,null,null,null,{"$f":"F24627*memoria!$B$44/(G24627*12*memoria!$B$47)","v":{"$error":"#DIV/0!"}},{"$f":"F24627/(G24627*12*memoria!$B$47)","v":{"$error":"#DIV/0!"}}]
[null,null,null,null,null,null,null,{"$f":"F24628*memoria!$B$44/(G24628*12*memoria!$B$47)","v":{"$error":"#DIV/0!"}},{"$f":"F24628/(G24628*12*memoria!$B$47)","v":{"$error":"#DIV/0!"}}]
[null,null,null,null,null,null,null,{"$f":"F24629*memoria!$B$44/(G24629*12*memoria!$B$47)","v":{"$error":"#DIV/0!"}},{"$f":"F24629/(G24629*12*memoria!$B$47)","v":{"$error":"#DIV/0!"}}]
[null,null,null,null,null,null,null,{"$f":"F24630*memoria!$B$44/(G24630*12*memoria!$B$47)","v":{"$error":"#DIV/0!"}},{"$f":"F24630/(G24630*12*memoria!$B$47)","v":{"$error":"#DIV/0!"}}]
[null,null,null,null,null,null,null,{"$f":"F24631*memoria!$B$44/(G24631*12*memoria!$B$47)","v":{"$error":"#DIV/0!"}},{"$f":"F24631/(G24631*12*memoria!$B$47)","v":{"$error":"#DIV/0!"}}]
[null,null,null,null,null,null,null,{"$f":"F24632*memoria!$B$44/(G24632*12*memoria!$B$47)","v":{"$error":"#DIV/0!"}},{"$f":"F24632/(G24632*12*memoria!$B$47)","v":{"$error":"#DIV/0!"}}]
[null,null,null,null,null,null,null,{"$f":"F24633*memoria!$B$44/(G24633*12*memoria!$B$47)","v":{"$error":"#DIV/0!"}},{"$f":"F24633/(G24633*12*memoria!$B$47)","v":{"$error":"#DIV/0!"}}]
[null,null,null,null,null,null,null,{"$f":"F24634*memoria!$B$44/(G24634*12*memoria!$B$47)","v":{"$error":"#DIV/0!"}},{"$f":"F24634/(G24634*12*memoria!$B$47)","v":{"$error":"#DIV/0!"}}]
[null,null,null,null,null,null,null,{"$f":"F24635*memoria!$B$44/(G24635*12*memoria!$B$47)","v":{"$error":"#DIV/0!"}},{"$f":"F24635/(G24635*12*memoria!$B$47)","v":{"$error":"#DIV/0!"}}]
[null,null,null,null,null,null,null,{"$f":"F24636*memoria!$B$44/(G24636*12*memoria!$B$47)","v":{"$error":"#DIV/0!"}},{"$f":"F24636/(G24636*12*memoria!$B$47)","v":{"$error":"#DIV/0!"}}]
[null,null,null,null,null,null,null,{"$f":"F24637*memoria!$B$44/(G24637*12*memoria!$B$47)","v":{"$error":"#DIV/0!"}},{"$f":"F24637/(G24637*12*memoria!$B$47)","v":{"$error":"#DIV/0!"}}]
[null,null,null,null,null,null,null,{"$f":"F24638*memoria!$B$44/(G24638*12*memoria!$B$47)","v":{"$error":"#DIV/0!"}},{"$f":"F24638/(G24638*12*memoria!$B$47)","v":{"$error":"#DIV/0!"}}]
[null,null,null,null,null,null,null,{"$f":"F24639*memoria!$B$44/(G24639*12*memoria!$B$47)","v":{"$error":"#DIV/0!"}},{"$f":"F24639/(G24639*12*memoria!$B$47)","v":{"$error":"#DIV/0!"}}]
[null,null,null,null,null,null,null,{"$f":"F24640*memoria!$B$44/(G24640*12*memoria!$B$47)","v":{"$error":"#DIV/0!"}},{"$f":"F24640/(G24640*12*memoria!$B$47)","v":{"$error":"#DIV/0!"}}]
[null,null,null,null,null,null,null,{"$f":"F24641*memoria!$B$44/(G24641*12*memoria!$B$47)","v":{"$error":"#DIV/0!"}},{"$f":"F24641/(G24641*12*memoria!$B$47)","v":{"$error":"#DIV/0!"}}]
[null,null,null,null,null,null,null,{"$f":"F24642*memoria!$B$44/(G24642*12*memoria!$B$47)","v":{"$error":"#DIV/0!"}},{"$f":"F24642/(G24642*12*memoria!$B$47)","v":{"$error":"#DIV/0!"}}]
[null,null,null,null,null,null,null,{"$f":"F24643*memoria!$B$44/(G24643*12*memoria!$B$47)","v":{"$error":"#DIV/0!"}},{"$f":"F24643/(G24643*12*memoria!$B$47)","v":{"$error":"#DIV/0!"}}]
[null,null,null,null,null,null,null,{"$f":"F24644*memoria!$B$44/(G24644*12*memoria!$B$47)","v":{"$error":"#DIV/0!"}},{"$f":"F24644/(G24644*12*memoria!$B$47)","v":{"$error":"#DIV/0!"}}]
[null,null,null,null,null,null,null,{"$f":"F24645*memoria!$B$44/(G24645*12*memoria!$B$47)","v":{"$error":"#DIV/0!"}},{"$f":"F24645/(G24645*12*memoria!$B$47)","v":{"$error":"#DIV/0!"}}]
[null,null,null,null,null,null,null,{"$f":"F24646*memoria!$B$44/(G24646*12*memoria!$B$47)","v":{"$error":"#DIV/0!"}},{"$f":"F24646/(G24646*12*memoria!$B$47)","v":{"$error":"#DIV/0!"}}]
[null,null,null,null,null,null,null,{"$f":"F24647*memoria!$B$44/(G24647*12*memoria!$B$47)","v":{"$error":"#DIV/0!"}},{"$f":"F24647/(G24647*12*memoria!$B$47)","v":{"$error":"#DIV/0!"}}]
[null,null,null,null,null,null,null,{"$f":"F24648*memoria!$B$44/(G24648*12*memoria!$B$47)","v":{"$error":"#DIV/0!"}},{"$f":"F24648/(G24648*12*memoria!$B$47)","v":{"$error":"#DIV/0!"}}]
[null,null,null,null,null,null,null,{"$f":"F24649*memoria!$B$44/(G24649*12*memoria!$B$47)","v":{"$error":"#DIV/0!"}},{"$f":"F24649/(G24649*12*memoria!$B$47)","v":{"$error":"#DIV/0!"}}]
[null,null,null,null,null,null,null,{"$f":"F24650*memoria!$B$44/(G24650*12*memoria!$B$47)","v":{"$error":"#DIV/0!"}},{"$f":"F24650/(G24650*12*memoria!$B$47)","v":{"$error":"#DIV/0!"}}]
[null,null,null,null,null,null,null,{"$f":"F24651*memoria!$B$44/(G24651*12*memoria!$B$47)","v":{"$error":"#DIV/0!"}},{"$f":"F24651/(G24651*12*memoria!$B$47)","v":{"$error":"#DIV/0!"}}]
[null,null,null,null,null,null,null,{"$f":"F24652*memoria!$B$44/(G24652*12*memoria!$B$47)","v":{"$error":"#DIV/0!"}},{"$f":"F24652/(G24652*12*memoria!$B$47)","v":{"$error":"#DIV/0!"}}]
[null,null,null,null,null,null,null,{"$f":"F24653*memoria!$B$44/(G24653*12*memoria!$B$47)","v":{"$error":"#DIV/0!"}},{"$f":"F24653/(G24653*12*memoria!$B$47)","v":{"$error":"#DIV/0!"}}]
[null,null,null,null,null,null,null,{"$f":"F24654*memoria!$B$44/(G24654*12*memoria!$B$47)","v":{"$error":"#DIV/0!"}},{"$f":"F24654/(G24654*12*memoria!$B$47)","v":{"$error":"#DIV/0!"}}]
[null,null,null,null,null,null,null,{"$f":"F24655*memoria!$B$44/(G24655*12*memoria!$B$47)","v":{"$error":"#DIV/0!"}},{"$f":"F24655/(G24655*12*memoria!$B$47)","v":{"$error":"#DIV/0!"}}]
[null,null,null,null,null,null,null,{"$f":"F24656*memoria!$B$44/(G24656*12*memoria!$B$47)","v":{"$error":"#DIV/0!"}},{"$f":"F24656/(G24656*12*memoria!$B$47)","v":{"$error":"#DIV/0!"}}]
[null,null,null,null,null,null,null,{"$f":"F24657*memoria!$B$44/(G24657*12*memoria!$B$47)","v":{"$error":"#DIV/0!"}},{"$f":"F24657/(G24657*12*memoria!$B$47)","v":{"$error":"#DIV/0!"}}]
[null,null,null,null,null,null,null,{"$f":"F24658*memoria!$B$44/(G24658*12*memoria!$B$47)","v":{"$error":"#DIV/0!"}},{"$f":"F24658/(G24658*12*memoria!$B$47)","v":{"$error":"#DIV/0!"}}]
[null,null,null,null,null,null,null,{"$f":"F24659*memoria!$B$44/(G24659*12*memoria!$B$47)","v":{"$error":"#DIV/0!"}},{"$f":"F24659/(G24659*12*memoria!$B$47)","v":{"$error":"#DIV/0!"}}]
[null,null,null,null,null,null,null,{"$f":"F24660*memoria!$B$44/(G24660*12*memoria!$B$47)","v":{"$error":"#DIV/0!"}},{"$f":"F24660/(G24660*12*memoria!$B$47)","v":{"$error":"#DIV/0!"}}]
[null,null,null,null,null,null,null,{"$f":"F24661*memoria!$B$44/(G24661*12*memoria!$B$47)","v":{"$error":"#DIV/0!"}},{"$f":"F24661/(G24661*12*memoria!$B$47)","v":{"$error":"#DIV/0!"}}]
[null,null,null,null,null,null,null,{"$f":"F24662*memoria!$B$44/(G24662*12*memoria!$B$47)","v":{"$error":"#DIV/0!"}},{"$f":"F24662/(G24662*12*memoria!$B$47)","v":{"$error":"#DIV/0!"}}]
[null,null,null,null,null,null,null,{"$f":"F24663*memoria!$B$44/(G24663*12*memoria!$B$47)","v":{"$error":"#DIV/0!"}},{"$f":"F24663/(G24663*12*memoria!$B$47)","v":{"$error":"#DIV/0!"}}]
[null,null,null,null,null,null,null,{"$f":"F24664*memoria!$B$44/(G24664*12*memoria!$B$47)","v":{"$error":"#DIV/0!"}},{"$f":"F24664/(G24664*12*memoria!$B$47)","v":{"$error":"#DIV/0!"}}]
[null,null,null,null,null,null,null,{"$f":"F24665*memoria!$B$44/(G24665*12*memoria!$B$47)","v":{"$error":"#DIV/0!"}},{"$f":"F24665/(G24665*12*memoria!$B$47)","v":{"$error":"#DIV/0!"}}]
[null,null,null,null,null,null,null,{"$f":"F24666*memoria!$B$44/(G24666*12*memoria!$B$47)","v":{"$error":"#DIV/0!"}},{"$f":"F24666/(G24666*12*memoria!$B$47)","v":{"$error":"#DIV/0!"}}]
[null,null,null,null,null,null,null,{"$f":"F24667*memoria!$B$44/(G24667*12*memoria!$B$47)","v":{"$error":"#DIV/0!"}},{"$f":"F24667/(G24667*12*memoria!$B$47)","v":{"$error":"#DIV/0!"}}]
[null,null,null,null,null,null,null,{"$f":"F24668*memoria!$B$44/(G24668*12*memoria!$B$47)","v":{"$error":"#DIV/0!"}},{"$f":"F24668/(G24668*12*memoria!$B$47)","v":{"$error":"#DIV/0!"}}]
[null,null,null,null,null,null,null,{"$f":"F24669*memoria!$B$44/(G24669*12*memoria!$B$47)","v":{"$error":"#DIV/0!"}},{"$f":"F24669/(G24669*12*memoria!$B$47)","v":{"$error":"#DIV/0!"}}]
[null,null,null,null,null,null,null,{"$f":"F24670*memoria!$B$44/(G24670*12*memoria!$B$47)","v":{"$error":"#DIV/0!"}},{"$f":"F24670/(G24670*12*memoria!$B$47)","v":{"$error":"#DIV/0!"}}]
[null,null,null,null,null,null,null,{"$f":"F24671*memoria!$B$44/(G24671*12*memoria!$B$47)","v":{"$error":"#DIV/0!"}},{"$f":"F24671/(G24671*12*memoria!$B$47)","v":{"$error":"#DIV/0!"}}]
[null,null,null,null,null,null,null,{"$f":"F24672*memoria!$B$44/(G24672*12*memoria!$B$47)","v":{"$error":"#DIV/0!"}},{"$f":"F24672/(G24672*12*memoria!$B$47)","v":{"$error":"#DIV/0!"}}]
[null,null,null,null,null,null,null,{"$f":"F24673*memoria!$B$44/(G24673*12*memoria!$B$47)","v":{"$error":"#DIV/0!"}},{"$f":"F24673/(G24673*12*memoria!$B$47)","v":{"$error":"#DIV/0!"}}]
[null,null,null,null,null,null,null,{"$f":"F24674*memoria!$B$44/(G24674*12*memoria!$B$47)","v":{"$error":"#DIV/0!"}},{"$f":"F24674/(G24674*12*memoria!$B$47)","v":{"$error":"#DIV/0!"}}]
[null,null,null,null,null,null,null,{"$f":"F24675*memoria!$B$44/(G24675*12*memoria!$B$47)","v":{"$error":"#DIV/0!"}},{"$f":"F24675/(G24675*12*memoria!$B$47)","v":{"$error":"#DIV/0!"}}]
[null,null,null,null,null,null,null,{"$f":"F24676*memoria!$B$44/(G24676*12*memoria!$B$47)","v":{"$error":"#DIV/0!"}},{"$f":"F24676/(G24676*12*memoria!$B$47)","v":{"$error":"#DIV/0!"}}]
[null,null,null,null,null,null,null,{"$f":"F24677*memoria!$B$44/(G24677*12*memoria!$B$47)","v":{"$error":"#DIV/0!"}},{"$f":"F24677/(G24677*12*memoria!$B$47)","v":{"$error":"#DIV/0!"}}]
[null,null,null,null,null,null,null,{"$f":"F24678*memoria!$B$44/(G24678*12*memoria!$B$47)","v":{"$error":"#DIV/0!"}},{"$f":"F24678/(G24678*12*memoria!$B$47)","v":{"$error":"#DIV/0!"}}]
[null,null,null,null,null,null,null,{"$f":"F24679*memoria!$B$44/(G24679*12*memoria!$B$47)","v":{"$error":"#DIV/0!"}},{"$f":"F24679/(G24679*12*memoria!$B$47)","v":{"$error":"#DIV/0!"}}]
[null,null,null,null,null,null,null,{"$f":"F24680*memoria!$B$44/(G24680*12*memoria!$B$47)","v":{"$error":"#DIV/0!"}},{"$f":"F24680/(G24680*12*memoria!$B$47)","v":{"$error":"#DIV/0!"}}]
[null,null,null,null,null,null,null,{"$f":"F24681*memoria!$B$44/(G24681*12*memoria!$B$47)","v":{"$error":"#DIV/0!"}},{"$f":"F24681/(G24681*12*memoria!$B$47)","v":{"$error":"#DIV/0!"}}]
[null,null,null,null,null,null,null,{"$f":"F24682*memoria!$B$44/(G24682*12*memoria!$B$47)","v":{"$error":"#DIV/0!"}},{"$f":"F24682/(G24682*12*memoria!$B$47)","v":{"$error":"#DIV/0!"}}]
[null,null,null,null,null,null,null,{"$f":"F24683*memoria!$B$44/(G24683*12*memoria!$B$47)","v":{"$error":"#DIV/0!"}},{"$f":"F24683/(G24683*12*memoria!$B$47)","v":{"$error":"#DIV/0!"}}]
[null,null,null,null,null,null,null,{"$f":"F24684*memoria!$B$44/(G24684*12*memoria!$B$47)","v":{"$error":"#DIV/0!"}},{"$f":"F24684/(G24684*12*memoria!$B$47)","v":{"$error":"#DIV/0!"}}]
[null,null,null,null,null,null,null,{"$f":"F24685*memoria!$B$44/(G24685*12*memoria!$B$47)","v":{"$error":"#DIV/0!"}},{"$f":"F24685/(G24685*12*memoria!$B$47)","v":{"$error":"#DIV/0!"}}]
[null,null,null,null,null,null,null,{"$f":"F24686*memoria!$B$44/(G24686*12*memoria!$B$47)","v":{"$error":"#DIV/0!"}},{"$f":"F24686/(G24686*12*memoria!$B$47)","v":{"$error":"#DIV/0!"}}]
[null,null,null,null,null,null,null,{"$f":"F24687*memoria!$B$44/(G24687*12*memoria!$B$47)","v":{"$error":"#DIV/0!"}},{"$f":"F24687/(G24687*12*memoria!$B$47)","v":{"$error":"#DIV/0!"}}]
[null,null,null,null,null,null,null,{"$f":"F24688*memoria!$B$44/(G24688*12*memoria!$B$47)","v":{"$error":"#DIV/0!"}},{"$f":"F24688/(G24688*12*memoria!$B$47)","v":{"$error":"#DIV/0!"}}]
[null,null,null,null,null,null,null,{"$f":"F24689*memoria!$B$44/(G24689*12*memoria!$B$47)","v":{"$error":"#DIV/0!"}},{"$f":"F24689/(G24689*12*memoria!$B$47)","v":{"$error":"#DIV/0!"}}]
[null,null,null,null,null,null,null,{"$f":"F24690*memoria!$B$44/(G24690*12*memoria!$B$47)","v":{"$error":"#DIV/0!"}},{"$f":"F24690/(G24690*12*memoria!$B$47)","v":{"$error":"#DIV/0!"}}]
[null,null,null,null,null,null,null,{"$f":"F24691*memoria!$B$44/(G24691*12*memoria!$B$47)","v":{"$error":"#DIV/0!"}},{"$f":"F24691/(G24691*12*memoria!$B$47)","v":{"$error":"#DIV/0!"}}]
[null,null,null,null,null,null,null,{"$f":"F24692*memoria!$B$44/(G24692*12*memoria!$B$47)","v":{"$error":"#DIV/0!"}},{"$f":"F24692/(G24692*12*memoria!$B$47)","v":{"$error":"#DIV/0!"}}]
[null,null,null,null,null,null,null,{"$f":"F24693*memoria!$B$44/(G24693*12*memoria!$B$47)","v":{"$error":"#DIV/0!"}},{"$f":"F24693/(G24693*12*memoria!$B$47)","v":{"$error":"#DIV/0!"}}]
[null,null,null,null,null,null,null,{"$f":"F24694*memoria!$B$44/(G24694*12*memoria!$B$47)","v":{"$error":"#DIV/0!"}},{"$f":"F24694/(G24694*12*memoria!$B$47)","v":{"$error":"#DIV/0!"}}]
[null,null,null,null,null,null,null,{"$f":"F24695*memoria!$B$44/(G24695*12*memoria!$B$47)","v":{"$error":"#DIV/0!"}},{"$f":"F24695/(G24695*12*memoria!$B$47)","v":{"$error":"#DIV/0!"}}]
[null,null,null,null,null,null,null,{"$f":"F24696*memoria!$B$44/(G24696*12*memoria!$B$47)","v":{"$error":"#DIV/0!"}},{"$f":"F24696/(G24696*12*memoria!$B$47)","v":{"$error":"#DIV/0!"}}]
[null,null,null,null,null,null,null,{"$f":"F24697*memoria!$B$44/(G24697*12*memoria!$B$47)","v":{"$error":"#DIV/0!"}},{"$f":"F24697/(G24697*12*memoria!$B$47)","v":{"$error":"#DIV/0!"}}]
[null,null,null,null,null,null,null,{"$f":"F24698*memoria!$B$44/(G24698*12*memoria!$B$47)","v":{"$error":"#DIV/0!"}},{"$f":"F24698/(G24698*12*memoria!$B$47)","v":{"$error":"#DIV/0!"}}]
[null,null,null,null,null,null,null,{"$f":"F24699*memoria!$B$44/(G24699*12*memoria!$B$47)","v":{"$error":"#DIV/0!"}},{"$f":"F24699/(G24699*12*memoria!$B$47)","v":{"$error":"#DIV/0!"}}]
[null,null,null,null,null,null,null,{"$f":"F24700*memoria!$B$44/(G24700*12*memoria!$B$47)","v":{"$error":"#DIV/0!"}},{"$f":"F24700/(G24700*12*memoria!$B$47)","v":{"$error":"#DIV/0!"}}]
[null,null,null,null,null,null,null,{"$f":"F24701*memoria!$B$44/(G24701*12*memoria!$B$47)","v":{"$error":"#DIV/0!"}},{"$f":"F24701/(G24701*12*memoria!$B$47)","v":{"$error":"#DIV/0!"}}]
[null,null,null,null,null,null,null,{"$f":"F24702*memoria!$B$44/(G24702*12*memoria!$B$47)","v":{"$error":"#DIV/0!"}},{"$f":"F24702/(G24702*12*memoria!$B$47)","v":{"$error":"#DIV/0!"}}]
[null,null,null,null,null,null,null,{"$f":"F24703*memoria!$B$44/(G24703*12*memoria!$B$47)","v":{"$error":"#DIV/0!"}},{"$f":"F24703/(G24703*12*memoria!$B$47)","v":{"$error":"#DIV/0!"}}]
[null,null,null,null,null,null,null,{"$f":"F24704*memoria!$B$44/(G24704*12*memoria!$B$47)","v":{"$error":"#DIV/0!"}},{"$f":"F24704/(G24704*12*memoria!$B$47)","v":{"$error":"#DIV/0!"}}]
[null,null,null,null,null,null,null,{"$f":"F24705*memoria!$B$44/(G24705*12*memoria!$B$47)","v":{"$error":"#DIV/0!"}},{"$f":"F24705/(G24705*12*memoria!$B$47)","v":{"$error":"#DIV/0!"}}]
[null,null,null,null,null,null,null,{"$f":"F24706*memoria!$B$44/(G24706*12*memoria!$B$47)","v":{"$error":"#DIV/0!"}},{"$f":"F24706/(G24706*12*memoria!$B$47)","v":{"$error":"#DIV/0!"}}]
[null,null,null,null,null,null,null,{"$f":"F24707*memoria!$B$44/(G24707*12*memoria!$B$47)","v":{"$error":"#DIV/0!"}},{"$f":"F24707/(G24707*12*memoria!$B$47)","v":{"$error":"#DIV/0!"}}]
[null,null,null,null,null,null,null,{"$f":"F24708*memoria!$B$44/(G24708*12*memoria!$B$47)","v":{"$error":"#DIV/0!"}},{"$f":"F24708/(G24708*12*memoria!$B$47)","v":{"$error":"#DIV/0!"}}]
[null,null,null,null,null,null,null,{"$f":"F24709*memoria!$B$44/(G24709*12*memoria!$B$47)","v":{"$error":"#DIV/0!"}},{"$f":"F24709/(G24709*12*memoria!$B$47)","v":{"$error":"#DIV/0!"}}]
[null,null,null,null,null,null,null,{"$f":"F24710*memoria!$B$44/(G24710*12*memoria!$B$47)","v":{"$error":"#DIV/0!"}},{"$f":"F24710/(G24710*12*memoria!$B$47)","v":{"$error":"#DIV/0!"}}]
[null,null,null,null,null,null,null,{"$f":"F24711*memoria!$B$44/(G24711*12*memoria!$B$47)","v":{"$error":"#DIV/0!"}},{"$f":"F24711/(G24711*12*memoria!$B$47)","v":{"$error":"#DIV/0!"}}]
[null,null,null,null,null,null,null,{"$f":"F24712*memoria!$B$44/(G24712*12*memoria!$B$47)","v":{"$error":"#DIV/0!"}},{"$f":"F24712/(G24712*12*memoria!$B$47)","v":{"$error":"#DIV/0!"}}]
[null,null,null,null,null,null,null,{"$f":"F24713*memoria!$B$44/(G24713*12*memoria!$B$47)","v":{"$error":"#DIV/0!"}},{"$f":"F24713/(G24713*12*memoria!$B$47)","v":{"$error":"#DIV/0!"}}]
[null,null,null,null,null,null,null,{"$f":"F24714*memoria!$B$44/(G24714*12*memoria!$B$47)","v":{"$error":"#DIV/0!"}},{"$f":"F24714/(G24714*12*memoria!$B$47)","v":{"$error":"#DIV/0!"}}]
[null,null,null,null,null,null,null,{"$f":"F24715*memoria!$B$44/(G24715*12*memoria!$B$47)","v":{"$error":"#DIV/0!"}},{"$f":"F24715/(G24715*12*memoria!$B$47)","v":{"$error":"#DIV/0!"}}]
[null,null,null,null,null,null,null,{"$f":"F24716*memoria!$B$44/(G24716*12*memoria!$B$47)","v":{"$error":"#DIV/0!"}},{"$f":"F24716/(G24716*12*memoria!$B$47)","v":{"$error":"#DIV/0!"}}]
[null,null,null,null,null,null,null,{"$f":"F24717*memoria!$B$44/(G24717*12*memoria!$B$47)","v":{"$error":"#DIV/0!"}},{"$f":"F24717/(G24717*12*memoria!$B$47)","v":{"$error":"#DIV/0!"}}]
[null,null,null,null,null,null,null,{"$f":"F24718*memoria!$B$44/(G24718*12*memoria!$B$47)","v":{"$error":"#DIV/0!"}},{"$f":"F24718/(G24718*12*memoria!$B$47)","v":{"$error":"#DIV/0!"}}]
[null,null,null,null,null,null,null,{"$f":"F24719*memoria!$B$44/(G24719*12*memoria!$B$47)","v":{"$error":"#DIV/0!"}},{"$f":"F24719/(G24719*12*memoria!$B$47)","v":{"$error":"#DIV/0!"}}]
[null,null,null,null,null,null,null,{"$f":"F24720*memoria!$B$44/(G24720*12*memoria!$B$47)","v":{"$error":"#DIV/0!"}},{"$f":"F24720/(G24720*12*memoria!$B$47)","v":{"$error":"#DIV/0!"}}]
[null,null,null,null,null,null,null,{"$f":"F24721*memoria!$B$44/(G24721*12*memoria!$B$47)","v":{"$error":"#DIV/0!"}},{"$f":"F24721/(G24721*12*memoria!$B$47)","v":{"$error":"#DIV/0!"}}]
[null,null,null,null,null,null,null,{"$f":"F24722*memoria!$B$44/(G24722*12*memoria!$B$47)","v":{"$error":"#DIV/0!"}},{"$f":"F24722/(G24722*12*memoria!$B$47)","v":{"$error":"#DIV/0!"}}]
[null,null,null,null,null,null,null,{"$f":"F24723*memoria!$B$44/(G24723*12*memoria!$B$47)","v":{"$error":"#DIV/0!"}},{"$f":"F24723/(G24723*12*memoria!$B$47)","v":{"$error":"#DIV/0!"}}]
[null,null,null,null,null,null,null,{"$f":"F24724*memoria!$B$44/(G24724*12*memoria!$B$47)","v":{"$error":"#DIV/0!"}},{"$f":"F24724/(G24724*12*memoria!$B$47)","v":{"$error":"#DIV/0!"}}]
[null,null,null,null,null,null,null,{"$f":"F24725*memoria!$B$44/(G24725*12*memoria!$B$47)","v":{"$error":"#DIV/0!"}},{"$f":"F24725/(G24725*12*memoria!$B$47)","v":{"$error":"#DIV/0!"}}]
[null,null,null,null,null,null,null,{"$f":"F24726*memoria!$B$44/(G24726*12*memoria!$B$47)","v":{"$error":"#DIV/0!"}},{"$f":"F24726/(G24726*12*memoria!$B$47)","v":{"$error":"#DIV/0!"}}]
[null,null,null,null,null,null,null,{"$f":"F24727*memoria!$B$44/(G24727*12*memoria!$B$47)","v":{"$error":"#DIV/0!"}},{"$f":"F24727/(G24727*12*memoria!$B$47)","v":{"$error":"#DIV/0!"}}]
[null,null,null,null,null,null,null,{"$f":"F24728*memoria!$B$44/(G24728*12*memoria!$B$47)","v":{"$error":"#DIV/0!"}},{"$f":"F24728/(G24728*12*memoria!$B$47)","v":{"$error":"#DIV/0!"}}]
[null,null,null,null,null,null,null,{"$f":"F24729*memoria!$B$44/(G24729*12*memoria!$B$47)","v":{"$error":"#DIV/0!"}},{"$f":"F24729/(G24729*12*memoria!$B$47)","v":{"$error":"#DIV/0!"}}]
[null,null,null,null,null,null,null,{"$f":"F24730*memoria!$B$44/(G24730*12*memoria!$B$47)","v":{"$error":"#DIV/0!"}},{"$f":"F24730/(G24730*12*memoria!$B$47)","v":{"$error":"#DIV/0!"}}]
[null,null,null,null,null,null,null,{"$f":"F24731*memoria!$B$44/(G24731*12*memoria!$B$47)","v":{"$error":"#DIV/0!"}},{"$f":"F24731/(G24731*12*memoria!$B$47)","v":{"$error":"#DIV/0!"}}]
[null,null,null,null,null,null,null,{"$f":"F24732*memoria!$B$44/(G24732*12*memoria!$B$47)","v":{"$error":"#DIV/0!"}},{"$f":"F24732/(G24732*12*memoria!$B$47)","v":{"$error":"#DIV/0!"}}]
[null,null,null,null,null,null,null,{"$f":"F24733*memoria!$B$44/(G24733*12*memoria!$B$47)","v":{"$error":"#DIV/0!"}},{"$f":"F24733/(G24733*12*memoria!$B$47)","v":{"$error":"#DIV/0!"}}]
[null,null,null,null,null,null,null,{"$f":"F24734*memoria!$B$44/(G24734*12*memoria!$B$47)","v":{"$error":"#DIV/0!"}},{"$f":"F24734/(G24734*12*memoria!$B$47)","v":{"$error":"#DIV/0!"}}]
[null,null,null,null,null,null,null,{"$f":"F24735*memoria!$B$44/(G24735*12*memoria!$B$47)","v":{"$error":"#DIV/0!"}},{"$f":"F24735/(G24735*12*memoria!$B$47)","v":{"$error":"#DIV/0!"}}]
[null,null,null,null,null,null,null,{"$f":"F24736*memoria!$B$44/(G24736*12*memoria!$B$47)","v":{"$error":"#DIV/0!"}},{"$f":"F24736/(G24736*12*memoria!$B$47)","v":{"$error":"#DIV/0!"}}]
[null,null,null,null,null,null,null,{"$f":"F24737*memoria!$B$44/(G24737*12*memoria!$B$47)","v":{"$error":"#DIV/0!"}},{"$f":"F24737/(G24737*12*memoria!$B$47)","v":{"$error":"#DIV/0!"}}]
[null,null,null,null,null,null,null,{"$f":"F24738*memoria!$B$44/(G24738*12*memoria!$B$47)","v":{"$error":"#DIV/0!"}},{"$f":"F24738/(G24738*12*memoria!$B$47)","v":{"$error":"#DIV/0!"}}]
[null,null,null,null,null,null,null,{"$f":"F24739*memoria!$B$44/(G24739*12*memoria!$B$47)","v":{"$error":"#DIV/0!"}},{"$f":"F24739/(G24739*12*memoria!$B$47)","v":{"$error":"#DIV/0!"}}]
[null,null,null,null,null,null,null,{"$f":"F24740*memoria!$B$44/(G24740*12*memoria!$B$47)","v":{"$error":"#DIV/0!"}},{"$f":"F24740/(G24740*12*memoria!$B$47)","v":{"$error":"#DIV/0!"}}]
[null,null,null,null,null,null,null,{"$f":"F24741*memoria!$B$44/(G24741*12*memoria!$B$47)","v":{"$error":"#DIV/0!"}},{"$f":"F24741/(G24741*12*memoria!$B$47)","v":{"$error":"#DIV/0!"}}]
[null,null,null,null,null,null,null,{"$f":"F24742*memoria!$B$44/(G24742*12*memoria!$B$47)","v":{"$error":"#DIV/0!"}},{"$f":"F24742/(G24742*12*memoria!$B$47)","v":{"$error":"#DIV/0!"}}]
[null,null,null,null,null,null,null,{"$f":"F24743*memoria!$B$44/(G24743*12*memoria!$B$47)","v":{"$error":"#DIV/0!"}},{"$f":"F24743/(G24743*12*memoria!$B$47)","v":{"$error":"#DIV/0!"}}]
[null,null,null,null,null,null,null,{"$f":"F24744*memoria!$B$44/(G24744*12*memoria!$B$47)","v":{"$error":"#DIV/0!"}},{"$f":"F24744/(G24744*12*memoria!$B$47)","v":{"$error":"#DIV/0!"}}]
[null,null,null,null,null,null,null,{"$f":"F24745*memoria!$B$44/(G24745*12*memoria!$B$47)","v":{"$error":"#DIV/0!"}},{"$f":"F24745/(G24745*12*memoria!$B$47)","v":{"$error":"#DIV/0!"}}]
[null,null,null,null,null,null,null,{"$f":"F24746*memoria!$B$44/(G24746*12*memoria!$B$47)","v":{"$error":"#DIV/0!"}},{"$f":"F24746/(G24746*12*memoria!$B$47)","v":{"$error":"#DIV/0!"}}]
[null,null,null,null,null,null,null,{"$f":"F24747*memoria!$B$44/(G24747*12*memoria!$B$47)","v":{"$error":"#DIV/0!"}},{"$f":"F24747/(G24747*12*memoria!$B$47)","v":{"$error":"#DIV/0!"}}]
[null,null,null,null,null,null,null,{"$f":"F24748*memoria!$B$44/(G24748*12*memoria!$B$47)","v":{"$error":"#DIV/0!"}},{"$f":"F24748/(G24748*12*memoria!$B$47)","v":{"$error":"#DIV/0!"}}]
[null,null,null,null,null,null,null,{"$f":"F24749*memoria!$B$44/(G24749*12*memoria!$B$47)","v":{"$error":"#DIV/0!"}},{"$f":"F24749/(G24749*12*memoria!$B$47)","v":{"$error":"#DIV/0!"}}]
[null,null,null,null,null,null,null,{"$f":"F24750*memoria!$B$44/(G24750*12*memoria!$B$47)","v":{"$error":"#DIV/0!"}},{"$f":"F24750/(G24750*12*memoria!$B$47)","v":{"$error":"#DIV/0!"}}]
[null,null,null,null,null,null,null,{"$f":"F24751*memoria!$B$44/(G24751*12*memoria!$B$47)","v":{"$error":"#DIV/0!"}},{"$f":"F24751/(G24751*12*memoria!$B$47)","v":{"$error":"#DIV/0!"}}]
[null,null,null,null,null,null,null,{"$f":"F24752*memoria!$B$44/(G24752*12*memoria!$B$47)","v":{"$error":"#DIV/0!"}},{"$f":"F24752/(G24752*12*memoria!$B$47)","v":{"$error":"#DIV/0!"}}]
[null,null,null,null,null,null,null,{"$f":"F24753*memoria!$B$44/(G24753*12*memoria!$B$47)","v":{"$error":"#DIV/0!"}},{"$f":"F24753/(G24753*12*memoria!$B$47)","v":{"$error":"#DIV/0!"}}]
[null,null,null,null,null,null,null,{"$f":"F24754*memoria!$B$44/(G24754*12*memoria!$B$47)","v":{"$error":"#DIV/0!"}},{"$f":"F24754/(G24754*12*memoria!$B$47)","v":{"$error":"#DIV/0!"}}]
[null,null,null,null,null,null,null,{"$f":"F24755*memoria!$B$44/(G24755*12*memoria!$B$47)","v":{"$error":"#DIV/0!"}},{"$f":"F24755/(G24755*12*memoria!$B$47)","v":{"$error":"#DIV/0!"}}]
[null,null,null,null,null,null,null,{"$f":"F24756*memoria!$B$44/(G24756*12*memoria!$B$47)","v":{"$error":"#DIV/0!"}},{"$f":"F24756/(G24756*12*memoria!$B$47)","v":{"$error":"#DIV/0!"}}]
[null,null,null,null,null,null,null,{"$f":"F24757*memoria!$B$44/(G24757*12*memoria!$B$47)","v":{"$error":"#DIV/0!"}},{"$f":"F24757/(G24757*12*memoria!$B$47)","v":{"$error":"#DIV/0!"}}]
[null,null,null,null,null,null,null,{"$f":"F24758*memoria!$B$44/(G24758*12*memoria!$B$47)","v":{"$error":"#DIV/0!"}},{"$f":"F24758/(G24758*12*memoria!$B$47)","v":{"$error":"#DIV/0!"}}]
[null,null,null,null,null,null,null,{"$f":"F24759*memoria!$B$44/(G24759*12*memoria!$B$47)","v":{"$error":"#DIV/0!"}},{"$f":"F24759/(G24759*12*memoria!$B$47)","v":{"$error":"#DIV/0!"}}]
[null,null,null,null,null,null,null,{"$f":"F24760*memoria!$B$44/(G24760*12*memoria!$B$47)","v":{"$error":"#DIV/0!"}},{"$f":"F24760/(G24760*12*memoria!$B$47)","v":{"$error":"#DIV/0!"}}]
[null,null,null,null,null,null,null,{"$f":"F24761*memoria!$B$44/(G24761*12*memoria!$B$47)","v":{"$error":"#DIV/0!"}},{"$f":"F24761/(G24761*12*memoria!$B$47)","v":{"$error":"#DIV/0!"}}]
[null,null,null,null,null,null,null,{"$f":"F24762*memoria!$B$44/(G24762*12*memoria!$B$47)","v":{"$error":"#DIV/0!"}},{"$f":"F24762/(G24762*12*memoria!$B$47)","v":{"$error":"#DIV/0!"}}]
[null,null,null,null,null,null,null,{"$f":"F24763*memoria!$B$44/(G24763*12*memoria!$B$47)","v":{"$error":"#DIV/0!"}},{"$f":"F24763/(G24763*12*memoria!$B$47)","v":{"$error":"#DIV/0!"}}]
[null,null,null,null,null,null,null,{"$f":"F24764*memoria!$B$44/(G24764*12*memoria!$B$47)","v":{"$error":"#DIV/0!"}},{"$f":"F24764/(G24764*12*memoria!$B$47)","v":{"$error":"#DIV/0!"}}]
[null,null,null,null,null,null,null,{"$f":"F24765*memoria!$B$44/(G24765*12*memoria!$B$47)","v":{"$error":"#DIV/0!"}},{"$f":"F24765/(G24765*12*memoria!$B$47)","v":{"$error":"#DIV/0!"}}]
[null,null,null,null,null,null,null,{"$f":"F24766*memoria!$B$44/(G24766*12*memoria!$B$47)","v":{"$error":"#DIV/0!"}},{"$f":"F24766/(G24766*12*memoria!$B$47)","v":{"$error":"#DIV/0!"}}]
[null,null,null,null,null,null,null,{"$f":"F24767*memoria!$B$44/(G24767*12*memoria!$B$47)","v":{"$error":"#DIV/0!"}},{"$f":"F24767/(G24767*12*memoria!$B$47)","v":{"$error":"#DIV/0!"}}]
[null,null,null,null,null,null,null,{"$f":"F24768*memoria!$B$44/(G24768*12*memoria!$B$47)","v":{"$error":"#DIV/0!"}},{"$f":"F24768/(G24768*12*memoria!$B$47)","v":{"$error":"#DIV/0!"}}]
[null,null,null,null,null,null,null,{"$f":"F24769*memoria!$B$44/(G24769*12*memoria!$B$47)","v":{"$error":"#DIV/0!"}},{"$f":"F24769/(G24769*12*memoria!$B$47)","v":{"$error":"#DIV/0!"}}]
[null,null,null,null,null,null,null,{"$f":"F24770*memoria!$B$44/(G24770*12*memoria!$B$47)","v":{"$error":"#DIV/0!"}},{"$f":"F24770/(G24770*12*memoria!$B$47)","v":{"$error":"#DIV/0!"}}]
[null,null,null,null,null,null,null,{"$f":"F24771*memoria!$B$44/(G24771*12*memoria!$B$47)","v":{"$error":"#DIV/0!"}},{"$f":"F24771/(G24771*12*memoria!$B$47)","v":{"$error":"#DIV/0!"}}]
[null,null,null,null,null,null,null,{"$f":"F24772*memoria!$B$44/(G24772*12*memoria!$B$47)","v":{"$error":"#DIV/0!"}},{"$f":"F24772/(G24772*12*memoria!$B$47)","v":{"$error":"#DIV/0!"}}]
[null,null,null,null,null,null,null,{"$f":"F24773*memoria!$B$44/(G24773*12*memoria!$B$47)","v":{"$error":"#DIV/0!"}},{"$f":"F24773/(G24773*12*memoria!$B$47)","v":{"$error":"#DIV/0!"}}]
[null,null,null,null,null,null,null,{"$f":"F24774*memoria!$B$44/(G24774*12*memoria!$B$47)","v":{"$error":"#DIV/0!"}},{"$f":"F24774/(G24774*12*memoria!$B$47)","v":{"$error":"#DIV/0!"}}]
[null,null,null,null,null,null,null,{"$f":"F24775*memoria!$B$44/(G24775*12*memoria!$B$47)","v":{"$error":"#DIV/0!"}},{"$f":"F24775/(G24775*12*memoria!$B$47)","v":{"$error":"#DIV/0!"}}]
[null,null,null,null,null,null,null,{"$f":"F24776*memoria!$B$44/(G24776*12*memoria!$B$47)","v":{"$error":"#DIV/0!"}},{"$f":"F24776/(G24776*12*memoria!$B$47)","v":{"$error":"#DIV/0!"}}]
[null,null,null,null,null,null,null,{"$f":"F24777*memoria!$B$44/(G24777*12*memoria!$B$47)","v":{"$error":"#DIV/0!"}},{"$f":"F24777/(G24777*12*memoria!$B$47)","v":{"$error":"#DIV/0!"}}]
[null,null,null,null,null,null,null,{"$f":"F24778*memoria!$B$44/(G24778*12*memoria!$B$47)","v":{"$error":"#DIV/0!"}},{"$f":"F24778/(G24778*12*memoria!$B$47)","v":{"$error":"#DIV/0!"}}]
[null,null,null,null,null,null,null,{"$f":"F24779*memoria!$B$44/(G24779*12*memoria!$B$47)","v":{"$error":"#DIV/0!"}},{"$f":"F24779/(G24779*12*memoria!$B$47)","v":{"$error":"#DIV/0!"}}]
[null,null,null,null,null,null,null,{"$f":"F24780*memoria!$B$44/(G24780*12*memoria!$B$47)","v":{"$error":"#DIV/0!"}},{"$f":"F24780/(G24780*12*memoria!$B$47)","v":{"$error":"#DIV/0!"}}]
[null,null,null,null,null,null,null,{"$f":"F24781*memoria!$B$44/(G24781*12*memoria!$B$47)","v":{"$error":"#DIV/0!"}},{"$f":"F24781/(G24781*12*memoria!$B$47)","v":{"$error":"#DIV/0!"}}]
[null,null,null,null,null,null,null,{"$f":"F24782*memoria!$B$44/(G24782*12*memoria!$B$47)","v":{"$error":"#DIV/0!"}},{"$f":"F24782/(G24782*12*memoria!$B$47)","v":{"$error":"#DIV/0!"}}]
[null,null,null,null,null,null,null,{"$f":"F24783*memoria!$B$44/(G24783*12*memoria!$B$47)","v":{"$error":"#DIV/0!"}},{"$f":"F24783/(G24783*12*memoria!$B$47)","v":{"$error":"#DIV/0!"}}]
[null,null,null,null,null,null,null,{"$f":"F24784*memoria!$B$44/(G24784*12*memoria!$B$47)","v":{"$error":"#DIV/0!"}},{"$f":"F24784/(G24784*12*memoria!$B$47)","v":{"$error":"#DIV/0!"}}]
[null,null,null,null,null,null,null,{"$f":"F24785*memoria!$B$44/(G24785*12*memoria!$B$47)","v":{"$error":"#DIV/0!"}},{"$f":"F24785/(G24785*12*memoria!$B$47)","v":{"$error":"#DIV/0!"}}]
[null,null,null,null,null,null,null,{"$f":"F24786*memoria!$B$44/(G24786*12*memoria!$B$47)","v":{"$error":"#DIV/0!"}},{"$f":"F24786/(G24786*12*memoria!$B$47)","v":{"$error":"#DIV/0!"}}]
[null,null,null,null,null,null,null,{"$f":"F24787*memoria!$B$44/(G24787*12*memoria!$B$47)","v":{"$error":"#DIV/0!"}},{"$f":"F24787/(G24787*12*memoria!$B$47)","v":{"$error":"#DIV/0!"}}]
[null,null,null,null,null,null,null,{"$f":"F24788*memoria!$B$44/(G24788*12*memoria!$B$47)","v":{"$error":"#DIV/0!"}},{"$f":"F24788/(G24788*12*memoria!$B$47)","v":{"$error":"#DIV/0!"}}]
[null,null,null,null,null,null,null,{"$f":"F24789*memoria!$B$44/(G24789*12*memoria!$B$47)","v":{"$error":"#DIV/0!"}},{"$f":"F24789/(G24789*12*memoria!$B$47)","v":{"$error":"#DIV/0!"}}]
[null,null,null,null,null,null,null,{"$f":"F24790*memoria!$B$44/(G24790*12*memoria!$B$47)","v":{"$error":"#DIV/0!"}},{"$f":"F24790/(G24790*12*memoria!$B$47)","v":{"$error":"#DIV/0!"}}]
[null,null,null,null,null,null,null,{"$f":"F24791*memoria!$B$44/(G24791*12*memoria!$B$47)","v":{"$error":"#DIV/0!"}},{"$f":"F24791/(G24791*12*memoria!$B$47)","v":{"$error":"#DIV/0!"}}]
[null,null,null,null,null,null,null,{"$f":"F24792*memoria!$B$44/(G24792*12*memoria!$B$47)","v":{"$error":"#DIV/0!"}},{"$f":"F24792/(G24792*12*memoria!$B$47)","v":{"$error":"#DIV/0!"}}]
[null,null,null,null,null,null,null,{"$f":"F24793*memoria!$B$44/(G24793*12*memoria!$B$47)","v":{"$error":"#DIV/0!"}},{"$f":"F24793/(G24793*12*memoria!$B$47)","v":{"$error":"#DIV/0!"}}]
[null,null,null,null,null,null,null,{"$f":"F24794*memoria!$B$44/(G24794*12*memoria!$B$47)","v":{"$error":"#DIV/0!"}},{"$f":"F24794/(G24794*12*memoria!$B$47)","v":{"$error":"#DIV/0!"}}]
[null,null,null,null,null,null,null,{"$f":"F24795*memoria!$B$44/(G24795*12*memoria!$B$47)","v":{"$error":"#DIV/0!"}},{"$f":"F24795/(G24795*12*memoria!$B$47)","v":{"$error":"#DIV/0!"}}]
[null,null,null,null,null,null,null,{"$f":"F24796*memoria!$B$44/(G24796*12*memoria!$B$47)","v":{"$error":"#DIV/0!"}},{"$f":"F24796/(G24796*12*memoria!$B$47)","v":{"$error":"#DIV/0!"}}]
[null,null,null,null,null,null,null,{"$f":"F24797*memoria!$B$44/(G24797*12*memoria!$B$47)","v":{"$error":"#DIV/0!"}},{"$f":"F24797/(G24797*12*memoria!$B$47)","v":{"$error":"#DIV/0!"}}]
[null,null,null,null,null,null,null,{"$f":"F24798*memoria!$B$44/(G24798*12*memoria!$B$47)","v":{"$error":"#DIV/0!"}},{"$f":"F24798/(G24798*12*memoria!$B$47)","v":{"$error":"#DIV/0!"}}]
[null,null,null,null,null,null,null,{"$f":"F24799*memoria!$B$44/(G24799*12*memoria!$B$47)","v":{"$error":"#DIV/0!"}},{"$f":"F24799/(G24799*12*memoria!$B$47)","v":{"$error":"#DIV/0!"}}]
[null,null,null,null,null,null,null,{"$f":"F24800*memoria!$B$44/(G24800*12*memoria!$B$47)","v":{"$error":"#DIV/0!"}},{"$f":"F24800/(G24800*12*memoria!$B$47)","v":{"$error":"#DIV/0!"}}]
[null,null,null,null,null,null,null,{"$f":"F24801*memoria!$B$44/(G24801*12*memoria!$B$47)","v":{"$error":"#DIV/0!"}},{"$f":"F24801/(G24801*12*memoria!$B$47)","v":{"$error":"#DIV/0!"}}]
[null,null,null,null,null,null,null,{"$f":"F24802*memoria!$B$44/(G24802*12*memoria!$B$47)","v":{"$error":"#DIV/0!"}},{"$f":"F24802/(G24802*12*memoria!$B$47)","v":{"$error":"#DIV/0!"}}]
[null,null,null,null,null,null,null,{"$f":"F24803*memoria!$B$44/(G24803*12*memoria!$B$47)","v":{"$error":"#DIV/0!"}},{"$f":"F24803/(G24803*12*memoria!$B$47)","v":{"$error":"#DIV/0!"}}]
[null,null,null,null,null,null,null,{"$f":"F24804*memoria!$B$44/(G24804*12*memoria!$B$47)","v":{"$error":"#DIV/0!"}},{"$f":"F24804/(G24804*12*memoria!$B$47)","v":{"$error":"#DIV/0!"}}]
[null,null,null,null,null,null,null,{"$f":"F24805*memoria!$B$44/(G24805*12*memoria!$B$47)","v":{"$error":"#DIV/0!"}},{"$f":"F24805/(G24805*12*memoria!$B$47)","v":{"$error":"#DIV/0!"}}]
[null,null,null,null,null,null,null,{"$f":"F24806*memoria!$B$44/(G24806*12*memoria!$B$47)","v":{"$error":"#DIV/0!"}},{"$f":"F24806/(G24806*12*memoria!$B$47)","v":{"$error":"#DIV/0!"}}]
[null,null,null,null,null,null,null,{"$f":"F24807*memoria!$B$44/(G24807*12*memoria!$B$47)","v":{"$error":"#DIV/0!"}},{"$f":"F24807/(G24807*12*memoria!$B$47)","v":{"$error":"#DIV/0!"}}]
[null,null,null,null,null,null,null,{"$f":"F24808*memoria!$B$44/(G24808*12*memoria!$B$47)","v":{"$error":"#DIV/0!"}},{"$f":"F24808/(G24808*12*memoria!$B$47)","v":{"$error":"#DIV/0!"}}]
[null,null,null,null,null,null,null,{"$f":"F24809*memoria!$B$44/(G24809*12*memoria!$B$47)","v":{"$error":"#DIV/0!"}},{"$f":"F24809/(G24809*12*memoria!$B$47)","v":{"$error":"#DIV/0!"}}]
[null,null,null,null,null,null,null,{"$f":"F24810*memoria!$B$44/(G24810*12*memoria!$B$47)","v":{"$error":"#DIV/0!"}},{"$f":"F24810/(G24810*12*memoria!$B$47)","v":{"$error":"#DIV/0!"}}]
[null,null,null,null,null,null,null,{"$f":"F24811*memoria!$B$44/(G24811*12*memoria!$B$47)","v":{"$error":"#DIV/0!"}},{"$f":"F24811/(G24811*12*memoria!$B$47)","v":{"$error":"#DIV/0!"}}]
[null,null,null,null,null,null,null,{"$f":"F24812*memoria!$B$44/(G24812*12*memoria!$B$47)","v":{"$error":"#DIV/0!"}},{"$f":"F24812/(G24812*12*memoria!$B$47)","v":{"$error":"#DIV/0!"}}]
[null,null,null,null,null,null,null,{"$f":"F24813*memoria!$B$44/(G24813*12*memoria!$B$47)","v":{"$error":"#DIV/0!"}},{"$f":"F24813/(G24813*12*memoria!$B$47)","v":{"$error":"#DIV/0!"}}]
[null,null,null,null,null,null,null,{"$f":"F24814*memoria!$B$44/(G24814*12*memoria!$B$47)","v":{"$error":"#DIV/0!"}},{"$f":"F24814/(G24814*12*memoria!$B$47)","v":{"$error":"#DIV/0!"}}]
[null,null,null,null,null,null,null,{"$f":"F24815*memoria!$B$44/(G24815*12*memoria!$B$47)","v":{"$error":"#DIV/0!"}},{"$f":"F24815/(G24815*12*memoria!$B$47)","v":{"$error":"#DIV/0!"}}]
[null,null,null,null,null,null,null,{"$f":"F24816*memoria!$B$44/(G24816*12*memoria!$B$47)","v":{"$error":"#DIV/0!"}},{"$f":"F24816/(G24816*12*memoria!$B$47)","v":{"$error":"#DIV/0!"}}]
[null,null,null,null,null,null,null,{"$f":"F24817*memoria!$B$44/(G24817*12*memoria!$B$47)","v":{"$error":"#DIV/0!"}},{"$f":"F24817/(G24817*12*memoria!$B$47)","v":{"$error":"#DIV/0!"}}]
[null,null,null,null,null,null,null,{"$f":"F24818*memoria!$B$44/(G24818*12*memoria!$B$47)","v":{"$error":"#DIV/0!"}},{"$f":"F24818/(G24818*12*memoria!$B$47)","v":{"$error":"#DIV/0!"}}]
[null,null,null,null,null,null,null,{"$f":"F24819*memoria!$B$44/(G24819*12*memoria!$B$47)","v":{"$error":"#DIV/0!"}},{"$f":"F24819/(G24819*12*memoria!$B$47)","v":{"$error":"#DIV/0!"}}]
[null,null,null,null,null,null,null,{"$f":"F24820*memoria!$B$44/(G24820*12*memoria!$B$47)","v":{"$error":"#DIV/0!"}},{"$f":"F24820/(G24820*12*memoria!$B$47)","v":{"$error":"#DIV/0!"}}]
[null,null,null,null,null,null,null,{"$f":"F24821*memoria!$B$44/(G24821*12*memoria!$B$47)","v":{"$error":"#DIV/0!"}},{"$f":"F24821/(G24821*12*memoria!$B$47)","v":{"$error":"#DIV/0!"}}]
[null,null,null,null,null,null,null,{"$f":"F24822*memoria!$B$44/(G24822*12*memoria!$B$47)","v":{"$error":"#DIV/0!"}},{"$f":"F24822/(G24822*12*memoria!$B$47)","v":{"$error":"#DIV/0!"}}]
[null,null,null,null,null,null,null,{"$f":"F24823*memoria!$B$44/(G24823*12*memoria!$B$47)","v":{"$error":"#DIV/0!"}},{"$f":"F24823/(G24823*12*memoria!$B$47)","v":{"$error":"#DIV/0!"}}]
[null,null,null,null,null,null,null,{"$f":"F24824*memoria!$B$44/(G24824*12*memoria!$B$47)","v":{"$error":"#DIV/0!"}},{"$f":"F24824/(G24824*12*memoria!$B$47)","v":{"$error":"#DIV/0!"}}]
[null,null,null,null,null,null,null,{"$f":"F24825*memoria!$B$44/(G24825*12*memoria!$B$47)","v":{"$error":"#DIV/0!"}},{"$f":"F24825/(G24825*12*memoria!$B$47)","v":{"$error":"#DIV/0!"}}]
[null,null,null,null,null,null,null,{"$f":"F24826*memoria!$B$44/(G24826*12*memoria!$B$47)","v":{"$error":"#DIV/0!"}},{"$f":"F24826/(G24826*12*memoria!$B$47)","v":{"$error":"#DIV/0!"}}]
[null,null,null,null,null,null,null,{"$f":"F24827*memoria!$B$44/(G24827*12*memoria!$B$47)","v":{"$error":"#DIV/0!"}},{"$f":"F24827/(G24827*12*memoria!$B$47)","v":{"$error":"#DIV/0!"}}]
[null,null,null,null,null,null,null,{"$f":"F24828*memoria!$B$44/(G24828*12*memoria!$B$47)","v":{"$error":"#DIV/0!"}},{"$f":"F24828/(G24828*12*memoria!$B$47)","v":{"$error":"#DIV/0!"}}]
[null,null,null,null,null,null,null,{"$f":"F24829*memoria!$B$44/(G24829*12*memoria!$B$47)","v":{"$error":"#DIV/0!"}},{"$f":"F24829/(G24829*12*memoria!$B$47)","v":{"$error":"#DIV/0!"}}]
[null,null,null,null,null,null,null,{"$f":"F24830*memoria!$B$44/(G24830*12*memoria!$B$47)","v":{"$error":"#DIV/0!"}},{"$f":"F24830/(G24830*12*memoria!$B$47)","v":{"$error":"#DIV/0!"}}]
[null,null,null,null,null,null,null,{"$f":"F24831*memoria!$B$44/(G24831*12*memoria!$B$47)","v":{"$error":"#DIV/0!"}},{"$f":"F24831/(G24831*12*memoria!$B$47)","v":{"$error":"#DIV/0!"}}]
[null,null,null,null,null,null,null,{"$f":"F24832*memoria!$B$44/(G24832*12*memoria!$B$47)","v":{"$error":"#DIV/0!"}},{"$f":"F24832/(G24832*12*memoria!$B$47)","v":{"$error":"#DIV/0!"}}]
[null,null,null,null,null,null,null,{"$f":"F24833*memoria!$B$44/(G24833*12*memoria!$B$47)","v":{"$error":"#DIV/0!"}},{"$f":"F24833/(G24833*12*memoria!$B$47)","v":{"$error":"#DIV/0!"}}]
[null,null,null,null,null,null,null,{"$f":"F24834*memoria!$B$44/(G24834*12*memoria!$B$47)","v":{"$error":"#DIV/0!"}},{"$f":"F24834/(G24834*12*memoria!$B$47)","v":{"$error":"#DIV/0!"}}]
[null,null,null,null,null,null,null,{"$f":"F24835*memoria!$B$44/(G24835*12*memoria!$B$47)","v":{"$error":"#DIV/0!"}},{"$f":"F24835/(G24835*12*memoria!$B$47)","v":{"$error":"#DIV/0!"}}]
[null,null,null,null,null,null,null,{"$f":"F24836*memoria!$B$44/(G24836*12*memoria!$B$47)","v":{"$error":"#DIV/0!"}},{"$f":"F24836/(G24836*12*memoria!$B$47)","v":{"$error":"#DIV/0!"}}]
[null,null,null,null,null,null,null,{"$f":"F24837*memoria!$B$44/(G24837*12*memoria!$B$47)","v":{"$error":"#DIV/0!"}},{"$f":"F24837/(G24837*12*memoria!$B$47)","v":{"$error":"#DIV/0!"}}]
[null,null,null,null,null,null,null,{"$f":"F24838*memoria!$B$44/(G24838*12*memoria!$B$47)","v":{"$error":"#DIV/0!"}},{"$f":"F24838/(G24838*12*memoria!$B$47)","v":{"$error":"#DIV/0!"}}]
[null,null,null,null,null,null,null,{"$f":"F24839*memoria!$B$44/(G24839*12*memoria!$B$47)","v":{"$error":"#DIV/0!"}},{"$f":"F24839/(G24839*12*memoria!$B$47)","v":{"$error":"#DIV/0!"}}]
[null,null,null,null,null,null,null,{"$f":"F24840*memoria!$B$44/(G24840*12*memoria!$B$47)","v":{"$error":"#DIV/0!"}},{"$f":"F24840/(G24840*12*memoria!$B$47)","v":{"$error":"#DIV/0!"}}]
[null,null,null,null,null,null,null,{"$f":"F24841*memoria!$B$44/(G24841*12*memoria!$B$47)","v":{"$error":"#DIV/0!"}},{"$f":"F24841/(G24841*12*memoria!$B$47)","v":{"$error":"#DIV/0!"}}]
[null,null,null,null,null,null,null,{"$f":"F24842*memoria!$B$44/(G24842*12*memoria!$B$47)","v":{"$error":"#DIV/0!"}},{"$f":"F24842/(G24842*12*memoria!$B$47)","v":{"$error":"#DIV/0!"}}]
[null,null,null,null,null,null,null,{"$f":"F24843*memoria!$B$44/(G24843*12*memoria!$B$47)","v":{"$error":"#DIV/0!"}},{"$f":"F24843/(G24843*12*memoria!$B$47)","v":{"$error":"#DIV/0!"}}]
[null,null,null,null,null,null,null,{"$f":"F24844*memoria!$B$44/(G24844*12*memoria!$B$47)","v":{"$error":"#DIV/0!"}},{"$f":"F24844/(G24844*12*memoria!$B$47)","v":{"$error":"#DIV/0!"}}]
[null,null,null,null,null,null,null,{"$f":"F24845*memoria!$B$44/(G24845*12*memoria!$B$47)","v":{"$error":"#DIV/0!"}},{"$f":"F24845/(G24845*12*memoria!$B$47)","v":{"$error":"#DIV/0!"}}]
[null,null,null,null,null,null,null,{"$f":"F24846*memoria!$B$44/(G24846*12*memoria!$B$47)","v":{"$error":"#DIV/0!"}},{"$f":"F24846/(G24846*12*memoria!$B$47)","v":{"$error":"#DIV/0!"}}]
[null,null,null,null,null,null,null,{"$f":"F24847*memoria!$B$44/(G24847*12*memoria!$B$47)","v":{"$error":"#DIV/0!"}},{"$f":"F24847/(G24847*12*memoria!$B$47)","v":{"$error":"#DIV/0!"}}]
[null,null,null,null,null,null,null,{"$f":"F24848*memoria!$B$44/(G24848*12*memoria!$B$47)","v":{"$error":"#DIV/0!"}},{"$f":"F24848/(G24848*12*memoria!$B$47)","v":{"$error":"#DIV/0!"}}]
[null,null,null,null,null,null,null,{"$f":"F24849*memoria!$B$44/(G24849*12*memoria!$B$47)","v":{"$error":"#DIV/0!"}},{"$f":"F24849/(G24849*12*memoria!$B$47)","v":{"$error":"#DIV/0!"}}]
[null,null,null,null,null,null,null,{"$f":"F24850*memoria!$B$44/(G24850*12*memoria!$B$47)","v":{"$error":"#DIV/0!"}},{"$f":"F24850/(G24850*12*memoria!$B$47)","v":{"$error":"#DIV/0!"}}]
[null,null,null,null,null,null,null,{"$f":"F24851*memoria!$B$44/(G24851*12*memoria!$B$47)","v":{"$error":"#DIV/0!"}},{"$f":"F24851/(G24851*12*memoria!$B$47)","v":{"$error":"#DIV/0!"}}]
[null,null,null,null,null,null,null,{"$f":"F24852*memoria!$B$44/(G24852*12*memoria!$B$47)","v":{"$error":"#DIV/0!"}},{"$f":"F24852/(G24852*12*memoria!$B$47)","v":{"$error":"#DIV/0!"}}]
[null,null,null,null,null,null,null,{"$f":"F24853*memoria!$B$44/(G24853*12*memoria!$B$47)","v":{"$error":"#DIV/0!"}},{"$f":"F24853/(G24853*12*memoria!$B$47)","v":{"$error":"#DIV/0!"}}]
[null,null,null,null,null,null,null,{"$f":"F24854*memoria!$B$44/(G24854*12*memoria!$B$47)","v":{"$error":"#DIV/0!"}},{"$f":"F24854/(G24854*12*memoria!$B$47)","v":{"$error":"#DIV/0!"}}]
[null,null,null,null,null,null,null,{"$f":"F24855*memoria!$B$44/(G24855*12*memoria!$B$47)","v":{"$error":"#DIV/0!"}},{"$f":"F24855/(G24855*12*memoria!$B$47)","v":{"$error":"#DIV/0!"}}]
[null,null,null,null,null,null,null,{"$f":"F24856*memoria!$B$44/(G24856*12*memoria!$B$47)","v":{"$error":"#DIV/0!"}},{"$f":"F24856/(G24856*12*memoria!$B$47)","v":{"$error":"#DIV/0!"}}]
[null,null,null,null,null,null,null,{"$f":"F24857*memoria!$B$44/(G24857*12*memoria!$B$47)","v":{"$error":"#DIV/0!"}},{"$f":"F24857/(G24857*12*memoria!$B$47)","v":{"$error":"#DIV/0!"}}]
[null,null,null,null,null,null,null,{"$f":"F24858*memoria!$B$44/(G24858*12*memoria!$B$47)","v":{"$error":"#DIV/0!"}},{"$f":"F24858/(G24858*12*memoria!$B$47)","v":{"$error":"#DIV/0!"}}]
[null,null,null,null,null,null,null,{"$f":"F24859*memoria!$B$44/(G24859*12*memoria!$B$47)","v":{"$error":"#DIV/0!"}},{"$f":"F24859/(G24859*12*memoria!$B$47)","v":{"$error":"#DIV/0!"}}]
[null,null,null,null,null,null,null,{"$f":"F24860*memoria!$B$44/(G24860*12*memoria!$B$47)","v":{"$error":"#DIV/0!"}},{"$f":"F24860/(G24860*12*memoria!$B$47)","v":{"$error":"#DIV/0!"}}]
[null,null,null,null,null,null,null,{"$f":"F24861*memoria!$B$44/(G24861*12*memoria!$B$47)","v":{"$error":"#DIV/0!"}},{"$f":"F24861/(G24861*12*memoria!$B$47)","v":{"$error":"#DIV/0!"}}]
[null,null,null,null,null,null,null,{"$f":"F24862*memoria!$B$44/(G24862*12*memoria!$B$47)","v":{"$error":"#DIV/0!"}},{"$f":"F24862/(G24862*12*memoria!$B$47)","v":{"$error":"#DIV/0!"}}]
[null,null,null,null,null,null,null,{"$f":"F24863*memoria!$B$44/(G24863*12*memoria!$B$47)","v":{"$error":"#DIV/0!"}},{"$f":"F24863/(G24863*12*memoria!$B$47)","v":{"$error":"#DIV/0!"}}]
[null,null,null,null,null,null,null,{"$f":"F24864*memoria!$B$44/(G24864*12*memoria!$B$47)","v":{"$error":"#DIV/0!"}},{"$f":"F24864/(G24864*12*memoria!$B$47)","v":{"$error":"#DIV/0!"}}]
[null,null,null,null,null,null,null,{"$f":"F24865*memoria!$B$44/(G24865*12*memoria!$B$47)","v":{"$error":"#DIV/0!"}},{"$f":"F24865/(G24865*12*memoria!$B$47)","v":{"$error":"#DIV/0!"}}]
[null,null,null,null,null,null,null,{"$f":"F24866*memoria!$B$44/(G24866*12*memoria!$B$47)","v":{"$error":"#DIV/0!"}},{"$f":"F24866/(G24866*12*memoria!$B$47)","v":{"$error":"#DIV/0!"}}]
[null,null,null,null,null,null,null,{"$f":"F24867*memoria!$B$44/(G24867*12*memoria!$B$47)","v":{"$error":"#DIV/0!"}},{"$f":"F24867/(G24867*12*memoria!$B$47)","v":{"$error":"#DIV/0!"}}]
[null,null,null,null,null,null,null,{"$f":"F24868*memoria!$B$44/(G24868*12*memoria!$B$47)","v":{"$error":"#DIV/0!"}},{"$f":"F24868/(G24868*12*memoria!$B$47)","v":{"$error":"#DIV/0!"}}]
[null,null,null,null,null,null,null,{"$f":"F24869*memoria!$B$44/(G24869*12*memoria!$B$47)","v":{"$error":"#DIV/0!"}},{"$f":"F24869/(G24869*12*memoria!$B$47)","v":{"$error":"#DIV/0!"}}]
[null,null,null,null,null,null,null,{"$f":"F24870*memoria!$B$44/(G24870*12*memoria!$B$47)","v":{"$error":"#DIV/0!"}},{"$f":"F24870/(G24870*12*memoria!$B$47)","v":{"$error":"#DIV/0!"}}]
[null,null,null,null,null,null,null,{"$f":"F24871*memoria!$B$44/(G24871*12*memoria!$B$47)","v":{"$error":"#DIV/0!"}},{"$f":"F24871/(G24871*12*memoria!$B$47)","v":{"$error":"#DIV/0!"}}]
[null,null,null,null,null,null,null,{"$f":"F24872*memoria!$B$44/(G24872*12*memoria!$B$47)","v":{"$error":"#DIV/0!"}},{"$f":"F24872/(G24872*12*memoria!$B$47)","v":{"$error":"#DIV/0!"}}]
[null,null,null,null,null,null,null,{"$f":"F24873*memoria!$B$44/(G24873*12*memoria!$B$47)","v":{"$error":"#DIV/0!"}},{"$f":"F24873/(G24873*12*memoria!$B$47)","v":{"$error":"#DIV/0!"}}]
[null,null,null,null,null,null,null,{"$f":"F24874*memoria!$B$44/(G24874*12*memoria!$B$47)","v":{"$error":"#DIV/0!"}},{"$f":"F24874/(G24874*12*memoria!$B$47)","v":{"$error":"#DIV/0!"}}]
[null,null,null,null,null,null,null,{"$f":"F24875*memoria!$B$44/(G24875*12*memoria!$B$47)","v":{"$error":"#DIV/0!"}},{"$f":"F24875/(G24875*12*memoria!$B$47)","v":{"$error":"#DIV/0!"}}]
[null,null,null,null,null,null,null,{"$f":"F24876*memoria!$B$44/(G24876*12*memoria!$B$47)","v":{"$error":"#DIV/0!"}},{"$f":"F24876/(G24876*12*memoria!$B$47)","v":{"$error":"#DIV/0!"}}]
[null,null,null,null,null,null,null,{"$f":"F24877*memoria!$B$44/(G24877*12*memoria!$B$47)","v":{"$error":"#DIV/0!"}},{"$f":"F24877/(G24877*12*memoria!$B$47)","v":{"$error":"#DIV/0!"}}]
[null,null,null,null,null,null,null,{"$f":"F24878*memoria!$B$44/(G24878*12*memoria!$B$47)","v":{"$error":"#DIV/0!"}},{"$f":"F24878/(G24878*12*memoria!$B$47)","v":{"$error":"#DIV/0!"}}]
[null,null,null,null,null,null,null,{"$f":"F24879*memoria!$B$44/(G24879*12*memoria!$B$47)","v":{"$error":"#DIV/0!"}},{"$f":"F24879/(G24879*12*memoria!$B$47)","v":{"$error":"#DIV/0!"}}]
[null,null,null,null,null,null,null,{"$f":"F24880*memoria!$B$44/(G24880*12*memoria!$B$47)","v":{"$error":"#DIV/0!"}},{"$f":"F24880/(G24880*12*memoria!$B$47)","v":{"$error":"#DIV/0!"}}]
[null,null,null,null,null,null,null,{"$f":"F24881*memoria!$B$44/(G24881*12*memoria!$B$47)","v":{"$error":"#DIV/0!"}},{"$f":"F24881/(G24881*12*memoria!$B$47)","v":{"$error":"#DIV/0!"}}]
[null,null,null,null,null,null,null,{"$f":"F24882*memoria!$B$44/(G24882*12*memoria!$B$47)","v":{"$error":"#DIV/0!"}},{"$f":"F24882/(G24882*12*memoria!$B$47)","v":{"$error":"#DIV/0!"}}]
[null,null,null,null,null,null,null,{"$f":"F24883*memoria!$B$44/(G24883*12*memoria!$B$47)","v":{"$error":"#DIV/0!"}},{"$f":"F24883/(G24883*12*memoria!$B$47)","v":{"$error":"#DIV/0!"}}]
[null,null,null,null,null,null,null,{"$f":"F24884*memoria!$B$44/(G24884*12*memoria!$B$47)","v":{"$error":"#DIV/0!"}},{"$f":"F24884/(G24884*12*memoria!$B$47)","v":{"$error":"#DIV/0!"}}]
[null,null,null,null,null,null,null,{"$f":"F24885*memoria!$B$44/(G24885*12*memoria!$B$47)","v":{"$error":"#DIV/0!"}},{"$f":"F24885/(G24885*12*memoria!$B$47)","v":{"$error":"#DIV/0!"}}]
[null,null,null,null,null,null,null,{"$f":"F24886*memoria!$B$44/(G24886*12*memoria!$B$47)","v":{"$error":"#DIV/0!"}},{"$f":"F24886/(G24886*12*memoria!$B$47)","v":{"$error":"#DIV/0!"}}]
[null,null,null,null,null,null,null,{"$f":"F24887*memoria!$B$44/(G24887*12*memoria!$B$47)","v":{"$error":"#DIV/0!"}},{"$f":"F24887/(G24887*12*memoria!$B$47)","v":{"$error":"#DIV/0!"}}]
[null,null,null,null,null,null,null,{"$f":"F24888*memoria!$B$44/(G24888*12*memoria!$B$47)","v":{"$error":"#DIV/0!"}},{"$f":"F24888/(G24888*12*memoria!$B$47)","v":{"$error":"#DIV/0!"}}]
[null,null,null,null,null,null,null,{"$f":"F24889*memoria!$B$44/(G24889*12*memoria!$B$47)","v":{"$error":"#DIV/0!"}},{"$f":"F24889/(G24889*12*memoria!$B$47)","v":{"$error":"#DIV/0!"}}]
[null,null,null,null,null,null,null,{"$f":"F24890*memoria!$B$44/(G24890*12*memoria!$B$47)","v":{"$error":"#DIV/0!"}},{"$f":"F24890/(G24890*12*memoria!$B$47)","v":{"$error":"#DIV/0!"}}]
[null,null,null,null,null,null,null,{"$f":"F24891*memoria!$B$44/(G24891*12*memoria!$B$47)","v":{"$error":"#DIV/0!"}},{"$f":"F24891/(G24891*12*memoria!$B$47)","v":{"$error":"#DIV/0!"}}]
[null,null,null,null,null,null,null,{"$f":"F24892*memoria!$B$44/(G24892*12*memoria!$B$47)","v":{"$error":"#DIV/0!"}},{"$f":"F24892/(G24892*12*memoria!$B$47)","v":{"$error":"#DIV/0!"}}]
[null,null,null,null,null,null,null,{"$f":"F24893*memoria!$B$44/(G24893*12*memoria!$B$47)","v":{"$error":"#DIV/0!"}},{"$f":"F24893/(G24893*12*memoria!$B$47)","v":{"$error":"#DIV/0!"}}]
[null,null,null,null,null,null,null,{"$f":"F24894*memoria!$B$44/(G24894*12*memoria!$B$47)","v":{"$error":"#DIV/0!"}},{"$f":"F24894/(G24894*12*memoria!$B$47)","v":{"$error":"#DIV/0!"}}]
[null,null,null,null,null,null,null,{"$f":"F24895*memoria!$B$44/(G24895*12*memoria!$B$47)","v":{"$error":"#DIV/0!"}},{"$f":"F24895/(G24895*12*memoria!$B$47)","v":{"$error":"#DIV/0!"}}]
[null,null,null,null,null,null,null,{"$f":"F24896*memoria!$B$44/(G24896*12*memoria!$B$47)","v":{"$error":"#DIV/0!"}},{"$f":"F24896/(G24896*12*memoria!$B$47)","v":{"$error":"#DIV/0!"}}]
[null,null,null,null,null,null,null,{"$f":"F24897*memoria!$B$44/(G24897*12*memoria!$B$47)","v":{"$error":"#DIV/0!"}},{"$f":"F24897/(G24897*12*memoria!$B$47)","v":{"$error":"#DIV/0!"}}]
[null,null,null,null,null,null,null,{"$f":"F24898*memoria!$B$44/(G24898*12*memoria!$B$47)","v":{"$error":"#DIV/0!"}},{"$f":"F24898/(G24898*12*memoria!$B$47)","v":{"$error":"#DIV/0!"}}]
[null,null,null,null,null,null,null,{"$f":"F24899*memoria!$B$44/(G24899*12*memoria!$B$47)","v":{"$error":"#DIV/0!"}},{"$f":"F24899/(G24899*12*memoria!$B$47)","v":{"$error":"#DIV/0!"}}]
[null,null,null,null,null,null,null,{"$f":"F24900*memoria!$B$44/(G24900*12*memoria!$B$47)","v":{"$error":"#DIV/0!"}},{"$f":"F24900/(G24900*12*memoria!$B$47)","v":{"$error":"#DIV/0!"}}]
[null,null,null,null,null,null,null,{"$f":"F24901*memoria!$B$44/(G24901*12*memoria!$B$47)","v":{"$error":"#DIV/0!"}},{"$f":"F24901/(G24901*12*memoria!$B$47)","v":{"$error":"#DIV/0!"}}]
[null,null,null,null,null,null,null,{"$f":"F24902*memoria!$B$44/(G24902*12*memoria!$B$47)","v":{"$error":"#DIV/0!"}},{"$f":"F24902/(G24902*12*memoria!$B$47)","v":{"$error":"#DIV/0!"}}]
[null,null,null,null,null,null,null,{"$f":"F24903*memoria!$B$44/(G24903*12*memoria!$B$47)","v":{"$error":"#DIV/0!"}},{"$f":"F24903/(G24903*12*memoria!$B$47)","v":{"$error":"#DIV/0!"}}]
[null,null,null,null,null,null,null,{"$f":"F24904*memoria!$B$44/(G24904*12*memoria!$B$47)","v":{"$error":"#DIV/0!"}},{"$f":"F24904/(G24904*12*memoria!$B$47)","v":{"$error":"#DIV/0!"}}]
[null,null,null,null,null,null,null,{"$f":"F24905*memoria!$B$44/(G24905*12*memoria!$B$47)","v":{"$error":"#DIV/0!"}},{"$f":"F24905/(G24905*12*memoria!$B$47)","v":{"$error":"#DIV/0!"}}]
[null,null,null,null,null,null,null,{"$f":"F24906*memoria!$B$44/(G24906*12*memoria!$B$47)","v":{"$error":"#DIV/0!"}},{"$f":"F24906/(G24906*12*memoria!$B$47)","v":{"$error":"#DIV/0!"}}]
[null,null,null,null,null,null,null,{"$f":"F24907*memoria!$B$44/(G24907*12*memoria!$B$47)","v":{"$error":"#DIV/0!"}},{"$f":"F24907/(G24907*12*memoria!$B$47)","v":{"$error":"#DIV/0!"}}]
[null,null,null,null,null,null,null,{"$f":"F24908*memoria!$B$44/(G24908*12*memoria!$B$47)","v":{"$error":"#DIV/0!"}},{"$f":"F24908/(G24908*12*memoria!$B$47)","v":{"$error":"#DIV/0!"}}]
[null,null,null,null,null,null,null,{"$f":"F24909*memoria!$B$44/(G24909*12*memoria!$B$47)","v":{"$error":"#DIV/0!"}},{"$f":"F24909/(G24909*12*memoria!$B$47)","v":{"$error":"#DIV/0!"}}]
[null,null,null,null,null,null,null,{"$f":"F24910*memoria!$B$44/(G24910*12*memoria!$B$47)","v":{"$error":"#DIV/0!"}},{"$f":"F24910/(G24910*12*memoria!$B$47)","v":{"$error":"#DIV/0!"}}]
[null,null,null,null,null,null,null,{"$f":"F24911*memoria!$B$44/(G24911*12*memoria!$B$47)","v":{"$error":"#DIV/0!"}},{"$f":"F24911/(G24911*12*memoria!$B$47)","v":{"$error":"#DIV/0!"}}]
[null,null,null,null,null,null,null,{"$f":"F24912*memoria!$B$44/(G24912*12*memoria!$B$47)","v":{"$error":"#DIV/0!"}},{"$f":"F24912/(G24912*12*memoria!$B$47)","v":{"$error":"#DIV/0!"}}]
[null,null,null,null,null,null,null,{"$f":"F24913*memoria!$B$44/(G24913*12*memoria!$B$47)","v":{"$error":"#DIV/0!"}},{"$f":"F24913/(G24913*12*memoria!$B$47)","v":{"$error":"#DIV/0!"}}]
[null,null,null,null,null,null,null,{"$f":"F24914*memoria!$B$44/(G24914*12*memoria!$B$47)","v":{"$error":"#DIV/0!"}},{"$f":"F24914/(G24914*12*memoria!$B$47)","v":{"$error":"#DIV/0!"}}]
[null,null,null,null,null,null,null,{"$f":"F24915*memoria!$B$44/(G24915*12*memoria!$B$47)","v":{"$error":"#DIV/0!"}},{"$f":"F24915/(G24915*12*memoria!$B$47)","v":{"$error":"#DIV/0!"}}]
[null,null,null,null,null,null,null,{"$f":"F24916*memoria!$B$44/(G24916*12*memoria!$B$47)","v":{"$error":"#DIV/0!"}},{"$f":"F24916/(G24916*12*memoria!$B$47)","v":{"$error":"#DIV/0!"}}]
[null,null,null,null,null,null,null,{"$f":"F24917*memoria!$B$44/(G24917*12*memoria!$B$47)","v":{"$error":"#DIV/0!"}},{"$f":"F24917/(G24917*12*memoria!$B$47)","v":{"$error":"#DIV/0!"}}]
[null,null,null,null,null,null,null,{"$f":"F24918*memoria!$B$44/(G24918*12*memoria!$B$47)","v":{"$error":"#DIV/0!"}},{"$f":"F24918/(G24918*12*memoria!$B$47)","v":{"$error":"#DIV/0!"}}]
[null,null,null,null,null,null,null,{"$f":"F24919*memoria!$B$44/(G24919*12*memoria!$B$47)","v":{"$error":"#DIV/0!"}},{"$f":"F24919/(G24919*12*memoria!$B$47)","v":{"$error":"#DIV/0!"}}]
[null,null,null,null,null,null,null,{"$f":"F24920*memoria!$B$44/(G24920*12*memoria!$B$47)","v":{"$error":"#DIV/0!"}},{"$f":"F24920/(G24920*12*memoria!$B$47)","v":{"$error":"#DIV/0!"}}]
[null,null,null,null,null,null,null,{"$f":"F24921*memoria!$B$44/(G24921*12*memoria!$B$47)","v":{"$error":"#DIV/0!"}},{"$f":"F24921/(G24921*12*memoria!$B$47)","v":{"$error":"#DIV/0!"}}]
[null,null,null,null,null,null,null,{"$f":"F24922*memoria!$B$44/(G24922*12*memoria!$B$47)","v":{"$error":"#DIV/0!"}},{"$f":"F24922/(G24922*12*memoria!$B$47)","v":{"$error":"#DIV/0!"}}]
[null,null,null,null,null,null,null,{"$f":"F24923*memoria!$B$44/(G24923*12*memoria!$B$47)","v":{"$error":"#DIV/0!"}},{"$f":"F24923/(G24923*12*memoria!$B$47)","v":{"$error":"#DIV/0!"}}]
[null,null,null,null,null,null,null,{"$f":"F24924*memoria!$B$44/(G24924*12*memoria!$B$47)","v":{"$error":"#DIV/0!"}},{"$f":"F24924/(G24924*12*memoria!$B$47)","v":{"$error":"#DIV/0!"}}]
[null,null,null,null,null,null,null,{"$f":"F24925*memoria!$B$44/(G24925*12*memoria!$B$47)","v":{"$error":"#DIV/0!"}},{"$f":"F24925/(G24925*12*memoria!$B$47)","v":{"$error":"#DIV/0!"}}]
[null,null,null,null,null,null,null,{"$f":"F24926*memoria!$B$44/(G24926*12*memoria!$B$47)","v":{"$error":"#DIV/0!"}},{"$f":"F24926/(G24926*12*memoria!$B$47)","v":{"$error":"#DIV/0!"}}]
[null,null,null,null,null,null,null,{"$f":"F24927*memoria!$B$44/(G24927*12*memoria!$B$47)","v":{"$error":"#DIV/0!"}},{"$f":"F24927/(G24927*12*memoria!$B$47)","v":{"$error":"#DIV/0!"}}]
[null,null,null,null,null,null,null,{"$f":"F24928*memoria!$B$44/(G24928*12*memoria!$B$47)","v":{"$error":"#DIV/0!"}},{"$f":"F24928/(G24928*12*memoria!$B$47)","v":{"$error":"#DIV/0!"}}]
[null,null,null,null,null,null,null,{"$f":"F24929*memoria!$B$44/(G24929*12*memoria!$B$47)","v":{"$error":"#DIV/0!"}},{"$f":"F24929/(G24929*12*memoria!$B$47)","v":{"$error":"#DIV/0!"}}]
[null,null,null,null,null,null,null,{"$f":"F24930*memoria!$B$44/(G24930*12*memoria!$B$47)","v":{"$error":"#DIV/0!"}},{"$f":"F24930/(G24930*12*memoria!$B$47)","v":{"$error":"#DIV/0!"}}]
[null,null,null,null,null,null,null,{"$f":"F24931*memoria!$B$44/(G24931*12*memoria!$B$47)","v":{"$error":"#DIV/0!"}},{"$f":"F24931/(G24931*12*memoria!$B$47)","v":{"$error":"#DIV/0!"}}]
[null,null,null,null,null,null,null,{"$f":"F24932*memoria!$B$44/(G24932*12*memoria!$B$47)","v":{"$error":"#DIV/0!"}},{"$f":"F24932/(G24932*12*memoria!$B$47)","v":{"$error":"#DIV/0!"}}]
[null,null,null,null,null,null,null,{"$f":"F24933*memoria!$B$44/(G24933*12*memoria!$B$47)","v":{"$error":"#DIV/0!"}},{"$f":"F24933/(G24933*12*memoria!$B$47)","v":{"$error":"#DIV/0!"}}]
[null,null,null,null,null,null,null,{"$f":"F24934*memoria!$B$44/(G24934*12*memoria!$B$47)","v":{"$error":"#DIV/0!"}},{"$f":"F24934/(G24934*12*memoria!$B$47)","v":{"$error":"#DIV/0!"}}]
[null,null,null,null,null,null,null,{"$f":"F24935*memoria!$B$44/(G24935*12*memoria!$B$47)","v":{"$error":"#DIV/0!"}},{"$f":"F24935/(G24935*12*memoria!$B$47)","v":{"$error":"#DIV/0!"}}]
[null,null,null,null,null,null,null,{"$f":"F24936*memoria!$B$44/(G24936*12*memoria!$B$47)","v":{"$error":"#DIV/0!"}},{"$f":"F24936/(G24936*12*memoria!$B$47)","v":{"$error":"#DIV/0!"}}]
[null,null,null,null,null,null,null,{"$f":"F24937*memoria!$B$44/(G24937*12*memoria!$B$47)","v":{"$error":"#DIV/0!"}},{"$f":"F24937/(G24937*12*memoria!$B$47)","v":{"$error":"#DIV/0!"}}]
[null,null,null,null,null,null,null,{"$f":"F24938*memoria!$B$44/(G24938*12*memoria!$B$47)","v":{"$error":"#DIV/0!"}},{"$f":"F24938/(G24938*12*memoria!$B$47)","v":{"$error":"#DIV/0!"}}]
[null,null,null,null,null,null,null,{"$f":"F24939*memoria!$B$44/(G24939*12*memoria!$B$47)","v":{"$error":"#DIV/0!"}},{"$f":"F24939/(G24939*12*memoria!$B$47)","v":{"$error":"#DIV/0!"}}]
[null,null,null,null,null,null,null,{"$f":"F24940*memoria!$B$44/(G24940*12*memoria!$B$47)","v":{"$error":"#DIV/0!"}},{"$f":"F24940/(G24940*12*memoria!$B$47)","v":{"$error":"#DIV/0!"}}]
[null,null,null,null,null,null,null,{"$f":"F24941*memoria!$B$44/(G24941*12*memoria!$B$47)","v":{"$error":"#DIV/0!"}},{"$f":"F24941/(G24941*12*memoria!$B$47)","v":{"$error":"#DIV/0!"}}]
[null,null,null,null,null,null,null,{"$f":"F24942*memoria!$B$44/(G24942*12*memoria!$B$47)","v":{"$error":"#DIV/0!"}},{"$f":"F24942/(G24942*12*memoria!$B$47)","v":{"$error":"#DIV/0!"}}]
[null,null,null,null,null,null,null,{"$f":"F24943*memoria!$B$44/(G24943*12*memoria!$B$47)","v":{"$error":"#DIV/0!"}},{"$f":"F24943/(G24943*12*memoria!$B$47)","v":{"$error":"#DIV/0!"}}]
[null,null,null,null,null,null,null,{"$f":"F24944*memoria!$B$44/(G24944*12*memoria!$B$47)","v":{"$error":"#DIV/0!"}},{"$f":"F24944/(G24944*12*memoria!$B$47)","v":{"$error":"#DIV/0!"}}]
[null,null,null,null,null,null,null,{"$f":"F24945*memoria!$B$44/(G24945*12*memoria!$B$47)","v":{"$error":"#DIV/0!"}},{"$f":"F24945/(G24945*12*memoria!$B$47)","v":{"$error":"#DIV/0!"}}]
[null,null,null,null,null,null,null,{"$f":"F24946*memoria!$B$44/(G24946*12*memoria!$B$47)","v":{"$error":"#DIV/0!"}},{"$f":"F24946/(G24946*12*memoria!$B$47)","v":{"$error":"#DIV/0!"}}]
[null,null,null,null,null,null,null,{"$f":"F24947*memoria!$B$44/(G24947*12*memoria!$B$47)","v":{"$error":"#DIV/0!"}},{"$f":"F24947/(G24947*12*memoria!$B$47)","v":{"$error":"#DIV/0!"}}]
[null,null,null,null,null,null,null,{"$f":"F24948*memoria!$B$44/(G24948*12*memoria!$B$47)","v":{"$error":"#DIV/0!"}},{"$f":"F24948/(G24948*12*memoria!$B$47)","v":{"$error":"#DIV/0!"}}]
[null,null,null,null,null,null,null,{"$f":"F24949*memoria!$B$44/(G24949*12*memoria!$B$47)","v":{"$error":"#DIV/0!"}},{"$f":"F24949/(G24949*12*memoria!$B$47)","v":{"$error":"#DIV/0!"}}]
[null,null,null,null,null,null,null,{"$f":"F24950*memoria!$B$44/(G24950*12*memoria!$B$47)","v":{"$error":"#DIV/0!"}},{"$f":"F24950/(G24950*12*memoria!$B$47)","v":{"$error":"#DIV/0!"}}]
[null,null,null,null,null,null,null,{"$f":"F24951*memoria!$B$44/(G24951*12*memoria!$B$47)","v":{"$error":"#DIV/0!"}},{"$f":"F24951/(G24951*12*memoria!$B$47)","v":{"$error":"#DIV/0!"}}]
[null,null,null,null,null,null,null,{"$f":"F24952*memoria!$B$44/(G24952*12*memoria!$B$47)","v":{"$error":"#DIV/0!"}},{"$f":"F24952/(G24952*12*memoria!$B$47)","v":{"$error":"#DIV/0!"}}]
[null,null,null,null,null,null,null,{"$f":"F24953*memoria!$B$44/(G24953*12*memoria!$B$47)","v":{"$error":"#DIV/0!"}},{"$f":"F24953/(G24953*12*memoria!$B$47)","v":{"$error":"#DIV/0!"}}]
[null,null,null,null,null,null,null,{"$f":"F24954*memoria!$B$44/(G24954*12*memoria!$B$47)","v":{"$error":"#DIV/0!"}},{"$f":"F24954/(G24954*12*memoria!$B$47)","v":{"$error":"#DIV/0!"}}]
[null,null,null,null,null,null,null,{"$f":"F24955*memoria!$B$44/(G24955*12*memoria!$B$47)","v":{"$error":"#DIV/0!"}},{"$f":"F24955/(G24955*12*memoria!$B$47)","v":{"$error":"#DIV/0!"}}]
[null,null,null,null,null,null,null,{"$f":"F24956*memoria!$B$44/(G24956*12*memoria!$B$47)","v":{"$error":"#DIV/0!"}},{"$f":"F24956/(G24956*12*memoria!$B$47)","v":{"$error":"#DIV/0!"}}]
[null,null,null,null,null,null,null,{"$f":"F24957*memoria!$B$44/(G24957*12*memoria!$B$47)","v":{"$error":"#DIV/0!"}},{"$f":"F24957/(G24957*12*memoria!$B$47)","v":{"$error":"#DIV/0!"}}]
[null,null,null,null,null,null,null,{"$f":"F24958*memoria!$B$44/(G24958*12*memoria!$B$47)","v":{"$error":"#DIV/0!"}},{"$f":"F24958/(G24958*12*memoria!$B$47)","v":{"$error":"#DIV/0!"}}]
[null,null,null,null,null,null,null,{"$f":"F24959*memoria!$B$44/(G24959*12*memoria!$B$47)","v":{"$error":"#DIV/0!"}},{"$f":"F24959/(G24959*12*memoria!$B$47)","v":{"$error":"#DIV/0!"}}]
[null,null,null,null,null,null,null,{"$f":"F24960*memoria!$B$44/(G24960*12*memoria!$B$47)","v":{"$error":"#DIV/0!"}},{"$f":"F24960/(G24960*12*memoria!$B$47)","v":{"$error":"#DIV/0!"}}]
[null,null,null,null,null,null,null,{"$f":"F24961*memoria!$B$44/(G24961*12*memoria!$B$47)","v":{"$error":"#DIV/0!"}},{"$f":"F24961/(G24961*12*memoria!$B$47)","v":{"$error":"#DIV/0!"}}]
[null,null,null,null,null,null,null,{"$f":"F24962*memoria!$B$44/(G24962*12*memoria!$B$47)","v":{"$error":"#DIV/0!"}},{"$f":"F24962/(G24962*12*memoria!$B$47)","v":{"$error":"#DIV/0!"}}]
[null,null,null,null,null,null,null,{"$f":"F24963*memoria!$B$44/(G24963*12*memoria!$B$47)","v":{"$error":"#DIV/0!"}},{"$f":"F24963/(G24963*12*memoria!$B$47)","v":{"$error":"#DIV/0!"}}]
[null,null,null,null,null,null,null,{"$f":"F24964*memoria!$B$44/(G24964*12*memoria!$B$47)","v":{"$error":"#DIV/0!"}},{"$f":"F24964/(G24964*12*memoria!$B$47)","v":{"$error":"#DIV/0!"}}]
[null,null,null,null,null,null,null,{"$f":"F24965*memoria!$B$44/(G24965*12*memoria!$B$47)","v":{"$error":"#DIV/0!"}},{"$f":"F24965/(G24965*12*memoria!$B$47)","v":{"$error":"#DIV/0!"}}]
[null,null,null,null,null,null,null,{"$f":"F24966*memoria!$B$44/(G24966*12*memoria!$B$47)","v":{"$error":"#DIV/0!"}},{"$f":"F24966/(G24966*12*memoria!$B$47)","v":{"$error":"#DIV/0!"}}]
[null,null,null,null,null,null,null,{"$f":"F24967*memoria!$B$44/(G24967*12*memoria!$B$47)","v":{"$error":"#DIV/0!"}},{"$f":"F24967/(G24967*12*memoria!$B$47)","v":{"$error":"#DIV/0!"}}]
[null,null,null,null,null,null,null,{"$f":"F24968*memoria!$B$44/(G24968*12*memoria!$B$47)","v":{"$error":"#DIV/0!"}},{"$f":"F24968/(G24968*12*memoria!$B$47)","v":{"$error":"#DIV/0!"}}]
[null,null,null,null,null,null,null,{"$f":"F24969*memoria!$B$44/(G24969*12*memoria!$B$47)","v":{"$error":"#DIV/0!"}},{"$f":"F24969/(G24969*12*memoria!$B$47)","v":{"$error":"#DIV/0!"}}]
[null,null,null,null,null,null,null,{"$f":"F24970*memoria!$B$44/(G24970*12*memoria!$B$47)","v":{"$error":"#DIV/0!"}},{"$f":"F24970/(G24970*12*memoria!$B$47)","v":{"$error":"#DIV/0!"}}]
[null,null,null,null,null,null,null,{"$f":"F24971*memoria!$B$44/(G24971*12*memoria!$B$47)","v":{"$error":"#DIV/0!"}},{"$f":"F24971/(G24971*12*memoria!$B$47)","v":{"$error":"#DIV/0!"}}]
[null,null,null,null,null,null,null,{"$f":"F24972*memoria!$B$44/(G24972*12*memoria!$B$47)","v":{"$error":"#DIV/0!"}},{"$f":"F24972/(G24972*12*memoria!$B$47)","v":{"$error":"#DIV/0!"}}]
[null,null,null,null,null,null,null,{"$f":"F24973*memoria!$B$44/(G24973*12*memoria!$B$47)","v":{"$error":"#DIV/0!"}},{"$f":"F24973/(G24973*12*memoria!$B$47)","v":{"$error":"#DIV/0!"}}]
[null,null,null,null,null,null,null,{"$f":"F24974*memoria!$B$44/(G24974*12*memoria!$B$47)","v":{"$error":"#DIV/0!"}},{"$f":"F24974/(G24974*12*memoria!$B$47)","v":{"$error":"#DIV/0!"}}]
[null,null,null,null,null,null,null,{"$f":"F24975*memoria!$B$44/(G24975*12*memoria!$B$47)","v":{"$error":"#DIV/0!"}},{"$f":"F24975/(G24975*12*memoria!$B$47)","v":{"$error":"#DIV/0!"}}]
[null,null,null,null,null,null,null,{"$f":"F24976*memoria!$B$44/(G24976*12*memoria!$B$47)","v":{"$error":"#DIV/0!"}},{"$f":"F24976/(G24976*12*memoria!$B$47)","v":{"$error":"#DIV/0!"}}]
[null,null,null,null,null,null,null,{"$f":"F24977*memoria!$B$44/(G24977*12*memoria!$B$47)","v":{"$error":"#DIV/0!"}},{"$f":"F24977/(G24977*12*memoria!$B$47)","v":{"$error":"#DIV/0!"}}]
[null,null,null,null,null,null,null,{"$f":"F24978*memoria!$B$44/(G24978*12*memoria!$B$47)","v":{"$error":"#DIV/0!"}},{"$f":"F24978/(G24978*12*memoria!$B$47)","v":{"$error":"#DIV/0!"}}]
[null,null,null,null,null,null,null,{"$f":"F24979*memoria!$B$44/(G24979*12*memoria!$B$47)","v":{"$error":"#DIV/0!"}},{"$f":"F24979/(G24979*12*memoria!$B$47)","v":{"$error":"#DIV/0!"}}]
[null,null,null,null,null,null,null,{"$f":"F24980*memoria!$B$44/(G24980*12*memoria!$B$47)","v":{"$error":"#DIV/0!"}},{"$f":"F24980/(G24980*12*memoria!$B$47)","v":{"$error":"#DIV/0!"}}]
[null,null,null,null,null,null,null,{"$f":"F24981*memoria!$B$44/(G24981*12*memoria!$B$47)","v":{"$error":"#DIV/0!"}},{"$f":"F24981/(G24981*12*memoria!$B$47)","v":{"$error":"#DIV/0!"}}]
[null,null,null,null,null,null,null,{"$f":"F24982*memoria!$B$44/(G24982*12*memoria!$B$47)","v":{"$error":"#DIV/0!"}},{"$f":"F24982/(G24982*12*memoria!$B$47)","v":{"$error":"#DIV/0!"}}]
[null,null,null,null,null,null,null,{"$f":"F24983*memoria!$B$44/(G24983*12*memoria!$B$47)","v":{"$error":"#DIV/0!"}},{"$f":"F24983/(G24983*12*memoria!$B$47)","v":{"$error":"#DIV/0!"}}]
[null,null,null,null,null,null,null,{"$f":"F24984*memoria!$B$44/(G24984*12*memoria!$B$47)","v":{"$error":"#DIV/0!"}},{"$f":"F24984/(G24984*12*memoria!$B$47)","v":{"$error":"#DIV/0!"}}]
[null,null,null,null,null,null,null,{"$f":"F24985*memoria!$B$44/(G24985*12*memoria!$B$47)","v":{"$error":"#DIV/0!"}},{"$f":"F24985/(G24985*12*memoria!$B$47)","v":{"$error":"#DIV/0!"}}]
[null,null,null,null,null,null,null,{"$f":"F24986*memoria!$B$44/(G24986*12*memoria!$B$47)","v":{"$error":"#DIV/0!"}},{"$f":"F24986/(G24986*12*memoria!$B$47)","v":{"$error":"#DIV/0!"}}]
[null,null,null,null,null,null,null,{"$f":"F24987*memoria!$B$44/(G24987*12*memoria!$B$47)","v":{"$error":"#DIV/0!"}},{"$f":"F24987/(G24987*12*memoria!$B$47)","v":{"$error":"#DIV/0!"}}]
[null,null,null,null,null,null,null,{"$f":"F24988*memoria!$B$44/(G24988*12*memoria!$B$47)","v":{"$error":"#DIV/0!"}},{"$f":"F24988/(G24988*12*memoria!$B$47)","v":{"$error":"#DIV/0!"}}]
[null,null,null,null,null,null,null,{"$f":"F24989*memoria!$B$44/(G24989*12*memoria!$B$47)","v":{"$error":"#DIV/0!"}},{"$f":"F24989/(G24989*12*memoria!$B$47)","v":{"$error":"#DIV/0!"}}]
[null,null,null,null,null,null,null,{"$f":"F24990*memoria!$B$44/(G24990*12*memoria!$B$47)","v":{"$error":"#DIV/0!"}},{"$f":"F24990/(G24990*12*memoria!$B$47)","v":{"$error":"#DIV/0!"}}]
[null,null,null,null,null,null,null,{"$f":"F24991*memoria!$B$44/(G24991*12*memoria!$B$47)","v":{"$error":"#DIV/0!"}},{"$f":"F24991/(G24991*12*memoria!$B$47)","v":{"$error":"#DIV/0!"}}]
[null,null,null,null,null,null,null,{"$f":"F24992*memoria!$B$44/(G24992*12*memoria!$B$47)","v":{"$error":"#DIV/0!"}},{"$f":"F24992/(G24992*12*memoria!$B$47)","v":{"$error":"#DIV/0!"}}]
[null,null,null,null,null,null,null,{"$f":"F24993*memoria!$B$44/(G24993*12*memoria!$B$47)","v":{"$error":"#DIV/0!"}},{"$f":"F24993/(G24993*12*memoria!$B$47)","v":{"$error":"#DIV/0!"}}]
[null,null,null,null,null,null,null,{"$f":"F24994*memoria!$B$44/(G24994*12*memoria!$B$47)","v":{"$error":"#DIV/0!"}},{"$f":"F24994/(G24994*12*memoria!$B$47)","v":{"$error":"#DIV/0!"}}]
[null,null,null,null,null,null,null,{"$f":"F24995*memoria!$B$44/(G24995*12*memoria!$B$47)","v":{"$error":"#DIV/0!"}},{"$f":"F24995/(G24995*12*memoria!$B$47)","v":{"$error":"#DIV/0!"}}]
[null,null,null,null,null,null,null,{"$f":"F24996*memoria!$B$44/(G24996*12*memoria!$B$47)","v":{"$error":"#DIV/0!"}},{"$f":"F24996/(G24996*12*memoria!$B$47)","v":{"$error":"#DIV/0!"}}]
[null,null,null,null,null,null,null,{"$f":"F24997*memoria!$B$44/(G24997*12*memoria!$B$47)","v":{"$error":"#DIV/0!"}},{"$f":"F24997/(G24997*12*memoria!$B$47)","v":{"$error":"#DIV/0!"}}]
[null,null,null,null,null,null,null,{"$f":"F24998*memoria!$B$44/(G24998*12*memoria!$B$47)","v":{"$error":"#DIV/0!"}},{"$f":"F24998/(G24998*12*memoria!$B$47)","v":{"$error":"#DIV/0!"}}]
[null,null,null,null,null,null,null,{"$f":"F24999*memoria!$B$44/(G24999*12*memoria!$B$47)","v":{"$error":"#DIV/0!"}},{"$f":"F24999/(G24999*12*memoria!$B$47)","v":{"$error":"#DIV/0!"}}]
[null,null,null,null,null,null,null,{"$f":"F25000*memoria!$B$44/(G25000*12*memoria!$B$47)","v":{"$error":"#DIV/0!"}},{"$f":"F25000/(G25000*12*memoria!$B$47)","v":{"$error":"#DIV/0!"}}]
[null,null,null,null,null,null,null,{"$f":"F25001*memoria!$B$44/(G25001*12*memoria!$B$47)","v":{"$error":"#DIV/0!"}},{"$f":"F25001/(G25001*12*memoria!$B$47)","v":{"$error":"#DIV/0!"}}]
[null,null,null,null,null,null,null,{"$f":"F25002*memoria!$B$44/(G25002*12*memoria!$B$47)","v":{"$error":"#DIV/0!"}},{"$f":"F25002/(G25002*12*memoria!$B$47)","v":{"$error":"#DIV/0!"}}]
[null,null,null,null,null,null,null,{"$f":"F25003*memoria!$B$44/(G25003*12*memoria!$B$47)","v":{"$error":"#DIV/0!"}},{"$f":"F25003/(G25003*12*memoria!$B$47)","v":{"$error":"#DIV/0!"}}]
[null,null,null,null,null,null,null,{"$f":"F25004*memoria!$B$44/(G25004*12*memoria!$B$47)","v":{"$error":"#DIV/0!"}},{"$f":"F25004/(G25004*12*memoria!$B$47)","v":{"$error":"#DIV/0!"}}]
[null,null,null,null,null,null,null,{"$f":"F25005*memoria!$B$44/(G25005*12*memoria!$B$47)","v":{"$error":"#DIV/0!"}},{"$f":"F25005/(G25005*12*memoria!$B$47)","v":{"$error":"#DIV/0!"}}]
[null,null,null,null,null,null,null,{"$f":"F25006*memoria!$B$44/(G25006*12*memoria!$B$47)","v":{"$error":"#DIV/0!"}},{"$f":"F25006/(G25006*12*memoria!$B$47)","v":{"$error":"#DIV/0!"}}]
[null,null,null,null,null,null,null,{"$f":"F25007*memoria!$B$44/(G25007*12*memoria!$B$47)","v":{"$error":"#DIV/0!"}},{"$f":"F25007/(G25007*12*memoria!$B$47)","v":{"$error":"#DIV/0!"}}]
[null,null,null,null,null,null,null,{"$f":"F25008*memoria!$B$44/(G25008*12*memoria!$B$47)","v":{"$error":"#DIV/0!"}},{"$f":"F25008/(G25008*12*memoria!$B$47)","v":{"$error":"#DIV/0!"}}]
[null,null,null,null,null,null,null,{"$f":"F25009*memoria!$B$44/(G25009*12*memoria!$B$47)","v":{"$error":"#DIV/0!"}},{"$f":"F25009/(G25009*12*memoria!$B$47)","v":{"$error":"#DIV/0!"}}]
[null,null,null,null,null,null,null,{"$f":"F25010*memoria!$B$44/(G25010*12*memoria!$B$47)","v":{"$error":"#DIV/0!"}},{"$f":"F25010/(G25010*12*memoria!$B$47)","v":{"$error":"#DIV/0!"}}]
[null,null,null,null,null,null,null,{"$f":"F25011*memoria!$B$44/(G25011*12*memoria!$B$47)","v":{"$error":"#DIV/0!"}},{"$f":"F25011/(G25011*12*memoria!$B$47)","v":{"$error":"#DIV/0!"}}]
[null,null,null,null,null,null,null,{"$f":"F25012*memoria!$B$44/(G25012*12*memoria!$B$47)","v":{"$error":"#DIV/0!"}},{"$f":"F25012/(G25012*12*memoria!$B$47)","v":{"$error":"#DIV/0!"}}]
[null,null,null,null,null,null,null,{"$f":"F25013*memoria!$B$44/(G25013*12*memoria!$B$47)","v":{"$error":"#DIV/0!"}},{"$f":"F25013/(G25013*12*memoria!$B$47)","v":{"$error":"#DIV/0!"}}]
[null,null,null,null,null,null,null,{"$f":"F25014*memoria!$B$44/(G25014*12*memoria!$B$47)","v":{"$error":"#DIV/0!"}},{"$f":"F25014/(G25014*12*memoria!$B$47)","v":{"$error":"#DIV/0!"}}]
[null,null,null,null,null,null,null,{"$f":"F25015*memoria!$B$44/(G25015*12*memoria!$B$47)","v":{"$error":"#DIV/0!"}},{"$f":"F25015/(G25015*12*memoria!$B$47)","v":{"$error":"#DIV/0!"}}]
[null,null,null,null,null,null,null,{"$f":"F25016*memoria!$B$44/(G25016*12*memoria!$B$47)","v":{"$error":"#DIV/0!"}},{"$f":"F25016/(G25016*12*memoria!$B$47)","v":{"$error":"#DIV/0!"}}]
[null,null,null,null,null,null,null,{"$f":"F25017*memoria!$B$44/(G25017*12*memoria!$B$47)","v":{"$error":"#DIV/0!"}},{"$f":"F25017/(G25017*12*memoria!$B$47)","v":{"$error":"#DIV/0!"}}]
[null,null,null,null,null,null,null,{"$f":"F25018*memoria!$B$44/(G25018*12*memoria!$B$47)","v":{"$error":"#DIV/0!"}},{"$f":"F25018/(G25018*12*memoria!$B$47)","v":{"$error":"#DIV/0!"}}]
[null,null,null,null,null,null,null,{"$f":"F25019*memoria!$B$44/(G25019*12*memoria!$B$47)","v":{"$error":"#DIV/0!"}},{"$f":"F25019/(G25019*12*memoria!$B$47)","v":{"$error":"#DIV/0!"}}]
[null,null,null,null,null,null,null,{"$f":"F25020*memoria!$B$44/(G25020*12*memoria!$B$47)","v":{"$error":"#DIV/0!"}},{"$f":"F25020/(G25020*12*memoria!$B$47)","v":{"$error":"#DIV/0!"}}]
[null,null,null,null,null,null,null,{"$f":"F25021*memoria!$B$44/(G25021*12*memoria!$B$47)","v":{"$error":"#DIV/0!"}},{"$f":"F25021/(G25021*12*memoria!$B$47)","v":{"$error":"#DIV/0!"}}]
[null,null,null,null,null,null,null,{"$f":"F25022*memoria!$B$44/(G25022*12*memoria!$B$47)","v":{"$error":"#DIV/0!"}},{"$f":"F25022/(G25022*12*memoria!$B$47)","v":{"$error":"#DIV/0!"}}]
[null,null,null,null,null,null,null,{"$f":"F25023*memoria!$B$44/(G25023*12*memoria!$B$47)","v":{"$error":"#DIV/0!"}},{"$f":"F25023/(G25023*12*memoria!$B$47)","v":{"$error":"#DIV/0!"}}]
[null,null,null,null,null,null,null,{"$f":"F25024*memoria!$B$44/(G25024*12*memoria!$B$47)","v":{"$error":"#DIV/0!"}},{"$f":"F25024/(G25024*12*memoria!$B$47)","v":{"$error":"#DIV/0!"}}]
[null,null,null,null,null,null,null,{"$f":"F25025*memoria!$B$44/(G25025*12*memoria!$B$47)","v":{"$error":"#DIV/0!"}},{"$f":"F25025/(G25025*12*memoria!$B$47)","v":{"$error":"#DIV/0!"}}]
[null,null,null,null,null,null,null,{"$f":"F25026*memoria!$B$44/(G25026*12*memoria!$B$47)","v":{"$error":"#DIV/0!"}},{"$f":"F25026/(G25026*12*memoria!$B$47)","v":{"$error":"#DIV/0!"}}]
[null,null,null,null,null,null,null,{"$f":"F25027*memoria!$B$44/(G25027*12*memoria!$B$47)","v":{"$error":"#DIV/0!"}},{"$f":"F25027/(G25027*12*memoria!$B$47)","v":{"$error":"#DIV/0!"}}]
[null,null,null,null,null,null,null,{"$f":"F25028*memoria!$B$44/(G25028*12*memoria!$B$47)","v":{"$error":"#DIV/0!"}},{"$f":"F25028/(G25028*12*memoria!$B$47)","v":{"$error":"#DIV/0!"}}]
[null,null,null,null,null,null,null,{"$f":"F25029*memoria!$B$44/(G25029*12*memoria!$B$47)","v":{"$error":"#DIV/0!"}},{"$f":"F25029/(G25029*12*memoria!$B$47)","v":{"$error":"#DIV/0!"}}]
[null,null,null,null,null,null,null,{"$f":"F25030*memoria!$B$44/(G25030*12*memoria!$B$47)","v":{"$error":"#DIV/0!"}},{"$f":"F25030/(G25030*12*memoria!$B$47)","v":{"$error":"#DIV/0!"}}]
[null,null,null,null,null,null,null,{"$f":"F25031*memoria!$B$44/(G25031*12*memoria!$B$47)","v":{"$error":"#DIV/0!"}},{"$f":"F25031/(G25031*12*memoria!$B$47)","v":{"$error":"#DIV/0!"}}]
[null,null,null,null,null,null,null,{"$f":"F25032*memoria!$B$44/(G25032*12*memoria!$B$47)","v":{"$error":"#DIV/0!"}},{"$f":"F25032/(G25032*12*memoria!$B$47)","v":{"$error":"#DIV/0!"}}]
[null,null,null,null,null,null,null,{"$f":"F25033*memoria!$B$44/(G25033*12*memoria!$B$47)","v":{"$error":"#DIV/0!"}},{"$f":"F25033/(G25033*12*memoria!$B$47)","v":{"$error":"#DIV/0!"}}]
[null,null,null,null,null,null,null,{"$f":"F25034*memoria!$B$44/(G25034*12*memoria!$B$47)","v":{"$error":"#DIV/0!"}},{"$f":"F25034/(G25034*12*memoria!$B$47)","v":{"$error":"#DIV/0!"}}]
[null,null,null,null,null,null,null,{"$f":"F25035*memoria!$B$44/(G25035*12*memoria!$B$47)","v":{"$error":"#DIV/0!"}},{"$f":"F25035/(G25035*12*memoria!$B$47)","v":{"$error":"#DIV/0!"}}]
[null,null,null,null,null,null,null,{"$f":"F25036*memoria!$B$44/(G25036*12*memoria!$B$47)","v":{"$error":"#DIV/0!"}},{"$f":"F25036/(G25036*12*memoria!$B$47)","v":{"$error":"#DIV/0!"}}]
[null,null,null,null,null,null,null,{"$f":"F25037*memoria!$B$44/(G25037*12*memoria!$B$47)","v":{"$error":"#DIV/0!"}},{"$f":"F25037/(G25037*12*memoria!$B$47)","v":{"$error":"#DIV/0!"}}]
[null,null,null,null,null,null,null,{"$f":"F25038*memoria!$B$44/(G25038*12*memoria!$B$47)","v":{"$error":"#DIV/0!"}},{"$f":"F25038/(G25038*12*memoria!$B$47)","v":{"$error":"#DIV/0!"}}]
[null,null,null,null,null,null,null,{"$f":"F25039*memoria!$B$44/(G25039*12*memoria!$B$47)","v":{"$error":"#DIV/0!"}},{"$f":"F25039/(G25039*12*memoria!$B$47)","v":{"$error":"#DIV/0!"}}]
[null,null,null,null,null,null,null,{"$f":"F25040*memoria!$B$44/(G25040*12*memoria!$B$47)","v":{"$error":"#DIV/0!"}},{"$f":"F25040/(G25040*12*memoria!$B$47)","v":{"$error":"#DIV/0!"}}]
[null,null,null,null,null,null,null,{"$f":"F25041*memoria!$B$44/(G25041*12*memoria!$B$47)","v":{"$error":"#DIV/0!"}},{"$f":"F25041/(G25041*12*memoria!$B$47)","v":{"$error":"#DIV/0!"}}]
[null,null,null,null,null,null,null,{"$f":"F25042*memoria!$B$44/(G25042*12*memoria!$B$47)","v":{"$error":"#DIV/0!"}},{"$f":"F25042/(G25042*12*memoria!$B$47)","v":{"$error":"#DIV/0!"}}]
[null,null,null,null,null,null,null,{"$f":"F25043*memoria!$B$44/(G25043*12*memoria!$B$47)","v":{"$error":"#DIV/0!"}},{"$f":"F25043/(G25043*12*memoria!$B$47)","v":{"$error":"#DIV/0!"}}]
[null,null,null,null,null,null,null,{"$f":"F25044*memoria!$B$44/(G25044*12*memoria!$B$47)","v":{"$error":"#DIV/0!"}},{"$f":"F25044/(G25044*12*memoria!$B$47)","v":{"$error":"#DIV/0!"}}]
[null,null,null,null,null,null,null,{"$f":"F25045*memoria!$B$44/(G25045*12*memoria!$B$47)","v":{"$error":"#DIV/0!"}},{"$f":"F25045/(G25045*12*memoria!$B$47)","v":{"$error":"#DIV/0!"}}]
[null,null,null,null,null,null,null,{"$f":"F25046*memoria!$B$44/(G25046*12*memoria!$B$47)","v":{"$error":"#DIV/0!"}},{"$f":"F25046/(G25046*12*memoria!$B$47)","v":{"$error":"#DIV/0!"}}]
[null,null,null,null,null,null,null,{"$f":"F25047*memoria!$B$44/(G25047*12*memoria!$B$47)","v":{"$error":"#DIV/0!"}},{"$f":"F25047/(G25047*12*memoria!$B$47)","v":{"$error":"#DIV/0!"}}]
[null,null,null,null,null,null,null,{"$f":"F25048*memoria!$B$44/(G25048*12*memoria!$B$47)","v":{"$error":"#DIV/0!"}},{"$f":"F25048/(G25048*12*memoria!$B$47)","v":{"$error":"#DIV/0!"}}]
[null,null,null,null,null,null,null,{"$f":"F25049*memoria!$B$44/(G25049*12*memoria!$B$47)","v":{"$error":"#DIV/0!"}},{"$f":"F25049/(G25049*12*memoria!$B$47)","v":{"$error":"#DIV/0!"}}]
[null,null,null,null,null,null,null,{"$f":"F25050*memoria!$B$44/(G25050*12*memoria!$B$47)","v":{"$error":"#DIV/0!"}},{"$f":"F25050/(G25050*12*memoria!$B$47)","v":{"$error":"#DIV/0!"}}]
[null,null,null,null,null,null,null,{"$f":"F25051*memoria!$B$44/(G25051*12*memoria!$B$47)","v":{"$error":"#DIV/0!"}},{"$f":"F25051/(G25051*12*memoria!$B$47)","v":{"$error":"#DIV/0!"}}]
[null,null,null,null,null,null,null,{"$f":"F25052*memoria!$B$44/(G25052*12*memoria!$B$47)","v":{"$error":"#DIV/0!"}},{"$f":"F25052/(G25052*12*memoria!$B$47)","v":{"$error":"#DIV/0!"}}]
[null,null,null,null,null,null,null,{"$f":"F25053*memoria!$B$44/(G25053*12*memoria!$B$47)","v":{"$error":"#DIV/0!"}},{"$f":"F25053/(G25053*12*memoria!$B$47)","v":{"$error":"#DIV/0!"}}]
[null,null,null,null,null,null,null,{"$f":"F25054*memoria!$B$44/(G25054*12*memoria!$B$47)","v":{"$error":"#DIV/0!"}},{"$f":"F25054/(G25054*12*memoria!$B$47)","v":{"$error":"#DIV/0!"}}]
[null,null,null,null,null,null,null,{"$f":"F25055*memoria!$B$44/(G25055*12*memoria!$B$47)","v":{"$error":"#DIV/0!"}},{"$f":"F25055/(G25055*12*memoria!$B$47)","v":{"$error":"#DIV/0!"}}]
[null,null,null,null,null,null,null,{"$f":"F25056*memoria!$B$44/(G25056*12*memoria!$B$47)","v":{"$error":"#DIV/0!"}},{"$f":"F25056/(G25056*12*memoria!$B$47)","v":{"$error":"#DIV/0!"}}]
[null,null,null,null,null,null,null,{"$f":"F25057*memoria!$B$44/(G25057*12*memoria!$B$47)","v":{"$error":"#DIV/0!"}},{"$f":"F25057/(G25057*12*memoria!$B$47)","v":{"$error":"#DIV/0!"}}]
[null,null,null,null,null,null,null,{"$f":"F25058*memoria!$B$44/(G25058*12*memoria!$B$47)","v":{"$error":"#DIV/0!"}},{"$f":"F25058/(G25058*12*memoria!$B$47)","v":{"$error":"#DIV/0!"}}]

{"sheet":"logs","index":3,"n_rows":2,"n_cols":25,"rows_kept":2,"cut":false,"hidden":false,"merged":[[0,24,1,24],[0,23,1,23],[0,0,0,2],[0,10,0,13],[0,14,0,16],[0,18,0,21],[0,22,1,22],[0,3,0,6],[0,7,0,9]]}
["Dados do Projeto",null,null,"Responsável ",null,null,null,"Prazo",null,null,"Apoio",null,null,null,"Espaço fisíco",null,null,"Infraestrutura","Equipamentos",null,null,null,"Total","Tipo","Abatimento"]
["Observações","Nome","número","Nome","RF","Departamento","Campus","Novo","Início","Fim","administrativo","TI","Laboratorial e outros","Total","Salas e anfiteatros","Laboratórios","total","total","insumos","manutenção","depreciação","total"]

{"sheet":"auxiliar","index":4,"n_rows":10,"n_cols":2,"rows_kept":10,"cut":false,"hidden":false,"merged":[]}
["Medição e controle",15]
["Comunicação",10]
["Médicos e odontológicos",15]
["Esportes",10]
["Industriais",20]
["Informática",5]
["Ferramentas",10]
["Máquinas",10]
["Marítimos",15]
["Proteção e segurança",10]

{"sheet":"eventos","index":5,"n_rows":45,"n_cols":14,"rows_kept":45,"cut":false,"hidden":false,"merged":[[1,8,2,13],[12,1,12,5],[15,1,15,4],[1,2,2,5],[3,1,3,5],[9,4,9,5],[4,1,4,5],[7,1,7,4],[9,1,9,3],[10,2,10,3],[10,4,10,5],[43,3,43,5],[20,1,20,4],[25,1,25,4],[31,1,31,4],[33,1,33,5],[38,1,38,4],[39,1,40,5]]}
[]
[null,null,"Planilha de Ressarcimento                                     Eventos",null,null,null,null,null,"                Descrição dos equipamentos"]
[]
[null,"Dados do Evento",null,null,null,null,null,null,"Equipamento","horas/dia","insumo","manutenção","depreciação","Total"]
[null,"Evento: a",null,null,null,null,null,null,null,null,null,null,null,{"$f":"SUM(K5:M5)","v":0}]
[null,"Número: a",null,null,null,null,null,null,null,null,null,null,null,{"$f":"SUM(K6:M6)","v":0}]
[null,"Campus: Osasco",null,null,null,null,null,null,null,null,null,null,null,{"$f":"SUM(K7:M7)","v":0}]
[null,null,null,null,null,null,null,null,null,null,null,null,null,0]
[null,null,null,null,null,null,null,null,null,null,null,null,null,0]
[null,"Responsável: a",null,null,"RF: a",null,null,null,null,null,null,null,null,0]
[null,"Vigência: 01/01/2001  à  01/02/2001",null,null,null,null,null,null,null,null,null,null,null,0]
[null,null,null,null,null,null,null,null,null,null,null,null,null,0]
[null,"Grupo de Despesas",null,null,null,null,null,null,null,null,null,null,null,0]
[null,"1. Apoio","Unidade","Vr. unitário","Qtd/dia","Valor",null,null,null,null,null,null,null,0]
[null,"1.1 administrativo","hora",{"$f":"memoria!B11","v":"16,67"},5,{"$f":"D15*E15","v":83.350000000000009},null,null,null,null,null,null,null,0]
[null,"Subtotal grupo 1 (diário)",null,null,null,{"$f":"SUM(F15:F15)","v":83.350000000000009},null,null,null,null,null,null,null,0]
[null,null,null,null,null,null,null,null,null,null,null,null,null,0]
[null,"2. Espaço Físico","Unidade","Vr. unitário","Qtd","Valor",null,null,null,null,null,null,null,0]
[null,"Sala de aula, auditório e anfiteatros","m²",0.96499999999999997,50,{"$f":"D19*E19","v":48.25},null,null,null,null,null,null,null,0]
[null,"Laboratórios ","m²",0.96499999999999997,null,{"$f":"D20*E20","v":0},null,null,null,null,null,null,null,0]
[null,"Subtotal grupo 2 (diário)",null,null,null,{"$f":"F19+F20","v":48.25},null,null,null,null,null,null,null,0]
[null,null,null,null,null,null,null,null,null,null,null,null,null,0]
[null,"3.Infraestrutura","Unidade","Vr. unitário","Qtd","Valor",null,null,null,null,null,null,null,0]
[null,"Custo operacional m²","m²",{"$f":"(memoria!B28)/30","v":0.60066666666666668},{"$f":"E19+E20","v":50},{"$f":"D24*E24","v":30.033333333333335},null,null,null,null,null,null,null,0]
[null,"Custo de depreciação m²","m²",{"$f":"(memoria!B36)/30","v":0.71066666666666667},{"$f":"E19+E20","v":50},{"$f":"D25*E25","v":35.533333333333331},null,null,null,null,null,null,null,0]
[null,"Subtotal grupo 3 (diário)",null,null,null,{"$f":"F24+F25","v":65.566666666666663},null,null,null,null,null,null,null,0]
[null,null,null,null,null,null,null,null,null,null,null,null,null,0]
[null,"4. Equipamentos","Unidade",null,null,"Valor total",null,null,null,null,null,null,null,0]
[null,"4.1 insumos ou matéria prima","consumo/dia",null,null,{"$f":"K41","v":0},null,null,null,null,null,null,null,0]
[null,"4.2 manutenção operacional","R$/dia",null,null,{"$f":"L41","v":0},null,null,null,null,null,null,null,0]
[null,"4.3 depreciação","R$/dia",null,null,{"$f":"M41","v":0},null,null,null,null,null,null,null,0]
[null,"Subtotal grupo 4 (diário) ",null,null,null,{"$f":"SUM(F29:F31)","v":0},null,null,null,null,null,null,null,0]
[null,null,null,null,null,null,null,null,null,null,null,null,null,0]
[null,"Ressarcimento",null,null,null,null,null,null,null,null,null,null,null,0]
[null,"Abatimento:",null,null,null,0.3,null,null,null,null,null,null,null,0]
[null,"Total diário (R$/dia) : ",null,null,null,{"$f":"F16+F21+F26+F32","v":197.16666666666669},null,null,null,null,null,null,null,0]
[null,"Total diário com abatimento (R$/dia) : ",null,null,null,{"$f":"(1-F35)*F36","v":138.01666666666668},null,null,null,null,null,null,null,0]
[null,"Quantidade de dias : ",null,null,null,30,null,null,null,null,null,null,null,0]
[null,"Valor Total de Ressarcimento do Evento",null,null,null,{"$f":"F37*F38","v":4140.5},null,null,null,null,null,null,null,0]
[null,"Observações: ",null,null,null,null,null,null,null,null,null,null,null,0]
[null,null,null,null,null,null,null,null,"Total",null,{"$f":"SUM(K5:K40)","v":0},{"$f":"SUM(L5:L40)","v":0},0,0]
[]
[null,null,null,null,null,null,null,null,"Observações: "]
[null,"_______________________________",null,"Osasco, 14 de agosto de 2017."]
[null,"Diretor administrativo"]